{"text_format":"1","workbook":"xlsx","n_sheets":15,"sheets":["Data","Test Session","Free Practise","Quali","Session (1)","Session (2)","Session (3)","Simulation","Setup","Messbericht","IBN","Testprogramm","Joblist","Competitors","DropDowns"],"not_rendered":{"charts":0,"images":10,"macros":1,"external_links":2,"defined_names":50,"comments":3,"pivot_tables":0},"unopened":[],"bounds":{"document_bytes":16777216,"sheet_cells":100000,"rows_first":2000,"rows_last":500,"rows_between":2000,"halvings":0,"cell_chars":16384,"cell_head_chars":4096},"cells_cut":0,"cells_raw":0,"read":"whole","date_system":"1900"}

{"sheet":"Data","index":0,"n_rows":17,"n_cols":7,"rows_kept":17,"cut":false,"hidden":false,"merged":[]}
[]
[null,"xD Technologies GmbH"]
[null,"Runsheet GT3 V4.1 free"]
[]
[]
[]
[]
[null,"Event",null,null,"Engineer","Engineer 1"]
[null,null,null,null,"Data Engineer","Data Eng. 1"]
[null,null,null,null,"Techn. Leitung","Mechanic 1"]
[null,"Marke",null,null,"#1 Mechanic","Mechanic 1"]
[null,"Model"]
[null,"Chassis #",null,null,"Driver ID 1","Driver1","DR1"]
[null,"Start # ",null,null,"Driver ID 2","Driver2","DR2"]
[null,null,null,null,"Driver ID 3","Driver3","DR3"]
[null,"Short Lap",3200,null,"Driver ID 4","Driver4","DR4"]
[null,"Regular Lap",3200,null,"Driver ID 5","Driver5","DR5"]

{"sheet":"Test Session","index":1,"n_rows":113,"n_cols":36,"rows_kept":113,"cut":false,"hidden":false,"merged":[[6,12,6,15],[7,12,7,15],[9,1,9,2],[11,1,11,12],[11,15,12,15],[9,12,9,15],[11,16,11,19],[11,20,11,31],[11,32,11,35],[12,9,12,12],[1,16,9,28],[4,9,4,10],[8,1,8,2],[1,6,4,8],[1,9,1,15],[2,9,2,10],[3,9,3,10],[5,1,5,2],[5,4,9,4],[5,9,5,10],[6,1,6,2],[6,9,6,10],[7,1,7,2],[3,12,3,15],[4,12,4,15],[5,12,5,15],[19,9,19,12],[20,9,20,12],[21,9,21,12],[22,9,22,12],[23,9,23,12],[24,9,24,12],[13,9,13,12],[14,9,14,12],[15,9,15,12],[16,9,16,12],[17,9,17,12],[18,9,18,12],[31,9,31,12],[32,9,32,12],[33,9,33,12],[34,9,34,12],[35,9,35,12],[36,9,36,12],[25,9,25,12],[26,9,26,12],[27,9,27,12],[28,9,28,12],[29,9,29,12],[30,9,30,12],[43,9,43,12],[44,9,44,12],[45,9,45,12],[46,9,46,12],[47,9,47,12],[48,9,48,12],[37,9,37,12],[38,9,38,12],[39,9,39,12],[40,9,40,12],[41,9,41,12],[42,9,42,12],[55,9,55,12],[56,9,56,12],[57,9,57,12],[58,9,58,12],[59,9,59,12],[60,9,60,12],[49,9,49,12],[50,9,50,12],[51,9,51,12],[52,9,52,12],[53,9,53,12],[54,9,54,12],[67,9,67,12],[68,9,68,12],[69,9,69,12],[70,9,70,12],[71,9,71,12],[72,9,72,12],[61,9,61,12],[62,9,62,12],[63,9,63,12],[64,9,64,12],[65,9,65,12],[66,9,66,12],[79,9,79,12],[80,9,80,12],[81,9,81,12],[82,9,82,12],[83,9,83,12],[84,9,84,12],[73,9,73,12],[74,9,74,12],[75,9,75,12],[76,9,76,12],[77,9,77,12],[78,9,78,12],[91,9,91,12],[92,9,92,12],[93,9,93,12],[94,9,94,12],[95,9,95,12],[96,9,96,12],[85,9,85,12],[86,9,86,12],[87,9,87,12],[88,9,88,12],[89,9,89,12],[90,9,90,12],[114,9,114,11],[103,9,103,12],[104,9,104,12],[105,9,105,12],[106,9,106,12],[107,9,107,12],[108,9,108,12],[97,9,97,12],[98,9,98,12],[99,9,99,12],[100,9,100,12],[101,9,101,12],[102,9,102,12],[127,9,127,11],[128,9,128,11],[5,5,5,8],[6,5,6,8],[7,5,7,8],[9,5,9,8],[8,5,8,8],[121,9,121,11],[122,9,122,11],[123,9,123,11],[124,9,124,11],[125,9,125,11],[126,9,126,11],[115,9,115,11],[116,9,116,11],[117,9,117,11],[118,9,118,11],[119,9,119,11],[120,9,120,11],[109,9,109,12],[110,9,110,12],[111,9,111,12],[112,9,112,12],[113,9,113,11]]}
[]
[null,null,null,null,null,null,"xD Technologies GmbH\nSenckenberganlage 24\n60325 Frankfurt / Main",null,null,"Circuit Layout"]
[null,null,null,null,null,null,null,null,null,"Name:",null,null,"Comments:"]
[null,null,null,null,null,null,null,null,null,"Length:",null,{"$f":"Data!C17","v":3200}]
[null,null,null,null,null,null,null,null,null,"Fuel / lap",null,13]
[null,"Event",null,{"$f":"Data!C8","v":0},"Drivers",{"$f":"Data!F13","v":"Driver1"},null,null,null,"Fuel in",null,60]
[null,"Date",null,null,null,{"$f":"Data!F14","v":"Driver2"},null,null,null,"Track Cond."]
[null,"Session",null,null,null,{"$f":"Data!F15","v":"Driver3"},null,null,null,"Weather Cond."]
[null,null,null,null,null,{"$f":"Data!F16","v":"Driver4"}]
[null,"Session duration [u:mm]",null,4.1666666666666664E-2,null,{"$f":"Data!F17","v":"Driver5"}]
[]
[null,"SESSION",null,null,null,null,null,null,null,null,null,null,null,null,null,"SETUP NR."," Tyre pressures",null,null,null,"Tyre temperatures",null,null,null,null,null,null,null,null,null,null,null,"Brake temperatures"]
[null,"Lap","Laptime [m:ss.000]","Driver","Fuel","Fuel IN","Pit Stop","Tyres","Time left","Comment",null,null,null,"Aantal KM",null,null,"LF","RF","LR","RR","LF O","LF M","LF I","RF 0","RF M","RF I","LR O","LR M","LR I","RR 0","RR M","RR I","LF","RF","LR","RR"]
[null,1,null,null,{"$f":"L6-FuelLap","v":47},null,null,null,{"$f":"$D$10-IF(C14=0,0,C14)-G14","v":4.1666666666666664E-2},null,null,null,null,{"$f":"IF(C14>0,($L$4*B14)/1000,0)","v":0}]
[null,2,null,null,{"$f":"E14-FuelLap+F14","v":34},null,null,null,{"$f":"I14-C15-G15","v":4.1666666666666664E-2},null,null,null,null,{"$f":"IF(C15>0,($L$4*B15)/1000,0)","v":0}]
[null,3,null,null,21,null,null,null,{"$f":"I15-C16-G16","v":4.1666666666666664E-2},null,null,null,null,0]
[null,4,null,null,8,null,null,null,4.1666666666666664E-2,null,null,null,null,0]
[null,5,null,null,-5,null,null,null,4.1666666666666664E-2,null,null,null,null,0]
[null,6,null,null,-18,null,null,null,4.1666666666666664E-2,null,null,null,null,0]
[null,7,null,null,-31,null,null,null,4.1666666666666664E-2,null,null,null,null,0]
[null,8,null,null,-44,null,null,null,4.1666666666666664E-2,null,null,null,null,0]
[null,9,null,null,-57,null,null,null,4.1666666666666664E-2,null,null,null,null,0]
[null,10,null,null,-70,null,null,null,4.1666666666666664E-2,null,null,null,null,0]
[null,11,null,null,-83,null,null,null,4.1666666666666664E-2,null,null,null,null,0]
[null,12,null,null,-96,null,null,null,4.1666666666666664E-2,null,null,null,null,0]
[null,13,null,null,-109,null,null,null,4.1666666666666664E-2,null,null,null,null,0]
[null,14,null,null,-122,null,null,null,4.1666666666666664E-2,null,null,null,null,0]
[null,15,null,null,-135,null,null,null,4.1666666666666664E-2,null,null,null,null,0]
[null,16,null,null,-148,null,null,null,4.1666666666666664E-2,null,null,null,null,0]
[null,17,null,null,-161,null,null,null,4.1666666666666664E-2,null,null,null,null,0]
[null,18,null,null,-174,null,null,null,4.1666666666666664E-2,null,null,null,null,0]
[null,19,null,null,-187,null,null,null,4.1666666666666664E-2,null,null,null,null,0]
[null,20,null,null,-200,null,null,null,4.1666666666666664E-2,null,null,null,null,0]
[null,21,null,null,-213,null,null,null,4.1666666666666664E-2,null,null,null,null,0]
[null,22,null,null,-226,null,null,null,4.1666666666666664E-2,null,null,null,null,0]
[null,23,null,null,-239,null,null,null,4.1666666666666664E-2,null,null,null,null,0]
[null,24,null,null,-252,null,null,null,4.1666666666666664E-2,null,null,null,null,0]
[null,25,null,null,-265,null,null,null,4.1666666666666664E-2,null,null,null,null,0]
[null,26,null,null,-278,null,null,null,4.1666666666666664E-2,null,null,null,null,0]
[null,27,null,null,-291,null,null,null,4.1666666666666664E-2,null,null,null,null,0]
[null,28,null,null,-304,null,null,null,4.1666666666666664E-2,null,null,null,null,0]
[null,29,null,null,-317,null,null,null,4.1666666666666664E-2,null,null,null,null,0]
[null,30,null,null,-330,null,null,null,4.1666666666666664E-2,null,null,null,null,0]
[null,31,null,null,-343,null,null,null,4.1666666666666664E-2,null,null,null,null,0]
[null,32,null,null,-356,null,null,null,4.1666666666666664E-2,null,null,null,null,0]
[null,33,null,null,-369,null,null,null,4.1666666666666664E-2,null,null,null,null,0]
[null,34,null,null,{"$f":"E46-FuelLap+F46","v":-382},null,null,null,4.1666666666666664E-2,null,null,null,null,0]
[null,35,null,null,-395,null,null,null,4.1666666666666664E-2,null,null,null,null,0]
[null,36,null,null,-408,null,null,null,4.1666666666666664E-2,null,null,null,null,0]
[null,37,null,null,-421,null,null,null,4.1666666666666664E-2,null,null,null,null,0]
[null,38,null,null,-434,null,null,null,4.1666666666666664E-2,null,null,null,null,0]
[null,39,null,null,-447,null,null,null,4.1666666666666664E-2,null,null,null,null,0]
[null,40,null,null,-460,null,null,null,4.1666666666666664E-2,null,null,null,null,0]
[null,41,null,null,-473,null,null,null,4.1666666666666664E-2,null,null,null,null,0]
[null,42,null,null,-486,null,null,null,4.1666666666666664E-2,null,null,null,null,0]
[null,43,null,null,-499,null,null,null,4.1666666666666664E-2,null,null,null,null,0]
[null,44,null,null,-512,null,null,null,4.1666666666666664E-2,null,null,null,null,0]
[null,45,null,null,-525,null,null,null,4.1666666666666664E-2,null,null,null,null,0]
[null,46,null,null,-538,null,null,null,4.1666666666666664E-2,null,null,null,null,0]
[null,47,null,null,-551,null,null,null,4.1666666666666664E-2,null,null,null,null,0]
[null,48,null,null,-564,null,null,null,4.1666666666666664E-2,null,null,null,null,0]
[null,49,null,null,-577,null,null,null,4.1666666666666664E-2,null,null,null,null,0]
[null,50,null,null,-590,null,null,null,4.1666666666666664E-2,null,null,null,null,0]
[null,51,null,null,-603,null,null,null,4.1666666666666664E-2,null,null,null,null,0]
[null,52,null,null,-616,null,null,null,4.1666666666666664E-2,null,null,null,null,0]
[null,53,null,null,-629,null,null,null,4.1666666666666664E-2,null,null,null,null,0]
[null,54,null,null,-642,null,null,null,4.1666666666666664E-2,null,null,null,null,0]
[null,55,null,null,-655,null,null,null,4.1666666666666664E-2,null,null,null,null,0]
[null,56,null,null,-668,null,null,null,4.1666666666666664E-2,null,null,null,null,0]
[null,57,null,null,-681,null,null,null,4.1666666666666664E-2,null,null,null,null,0]
[null,58,null,null,-694,null,null,null,4.1666666666666664E-2,null,null,null,null,0]
[null,59,null,null,-707,null,null,null,4.1666666666666664E-2,null,null,null,null,0]
[null,60,null,null,-720,null,null,null,4.1666666666666664E-2,null,null,null,null,0]
[null,61,null,null,-733,null,null,null,4.1666666666666664E-2,null,null,null,null,0]
[null,62,null,null,-746,null,null,null,4.1666666666666664E-2,null,null,null,null,0]
[null,63,null,null,-759,null,null,null,4.1666666666666664E-2,null,null,null,null,0]
[null,64,null,null,-772,null,null,null,4.1666666666666664E-2,null,null,null,null,0]
[null,65,null,null,-785,null,null,null,4.1666666666666664E-2,null,null,null,null,0]
[null,66,null,null,{"$f":"E78-FuelLap+F78","v":-798},null,null,null,4.1666666666666664E-2,null,null,null,null,{"$f":"IF(C79>0,($L$4*B79)/1000,0)","v":0}]
[null,67,null,null,-811,null,null,null,{"$f":"I79-C80-G80","v":4.1666666666666664E-2},null,null,null,null,0]
[null,68,null,null,-824,null,null,null,4.1666666666666664E-2,null,null,null,null,0]
[null,69,null,null,-837,null,null,null,4.1666666666666664E-2,null,null,null,null,0]
[null,70,null,null,-850,null,null,null,4.1666666666666664E-2,null,null,null,null,0]
[null,71,null,null,-863,null,null,null,4.1666666666666664E-2,null,null,null,null,0]
[null,72,null,null,-876,null,null,null,4.1666666666666664E-2,null,null,null,null,0]
[null,73,null,null,-889,null,null,null,4.1666666666666664E-2,null,null,null,null,0]
[null,74,null,null,-902,null,null,null,4.1666666666666664E-2,null,null,null,null,0]
[null,75,null,null,-915,null,null,null,4.1666666666666664E-2,null,null,null,null,0]
[null,76,null,null,-928,null,null,null,4.1666666666666664E-2,null,null,null,null,0]
[null,77,null,null,-941,null,null,null,4.1666666666666664E-2,null,null,null,null,0]
[null,78,null,null,-954,null,null,null,4.1666666666666664E-2,null,null,null,null,0]
[null,79,null,null,-967,null,null,null,4.1666666666666664E-2,null,null,null,null,0]
[null,80,null,null,-980,null,null,null,4.1666666666666664E-2,null,null,null,null,0]
[null,81,null,null,-993,null,null,null,4.1666666666666664E-2,null,null,null,null,0]
[null,82,null,null,-1006,null,null,null,4.1666666666666664E-2,null,null,null,null,0]
[null,83,null,null,-1019,null,null,null,4.1666666666666664E-2,null,null,null,null,0]
[null,84,null,null,-1032,null,null,null,4.1666666666666664E-2,null,null,null,null,0]
[null,85,null,null,-1045,null,null,null,4.1666666666666664E-2,null,null,null,null,0]
[null,86,null,null,-1058,null,null,null,4.1666666666666664E-2,null,null,null,null,0]
[null,87,null,null,-1071,null,null,null,4.1666666666666664E-2,null,null,null,null,0]
[null,88,null,null,-1084,null,null,null,4.1666666666666664E-2,null,null,null,null,0]
[null,89,null,null,-1097,null,null,null,4.1666666666666664E-2,null,null,null,null,0]
[null,90,null,null,-1110,null,null,null,4.1666666666666664E-2,null,null,null,null,0]
[null,91,null,null,-1123,null,null,null,4.1666666666666664E-2,null,null,null,null,0]
[null,92,null,null,-1136,null,null,null,4.1666666666666664E-2,null,null,null,null,0]
[null,93,null,null,-1149,null,null,null,4.1666666666666664E-2,null,null,null,null,0]
[null,94,null,null,-1162,null,null,null,4.1666666666666664E-2,null,null,null,null,0]
[null,95,null,null,-1175,null,null,null,4.1666666666666664E-2,null,null,null,null,0]
[null,96,null,null,-1188,null,null,null,4.1666666666666664E-2,null,null,null,null,0]
[null,97,null,null,-1201,null,null,null,4.1666666666666664E-2,null,null,null,null,0]
[null,98,null,null,-1214,null,null,null,4.1666666666666664E-2,null,null,null,null,0]
[null,99,null,null,-1227,null,null,null,4.1666666666666664E-2,null,null,null,null,0]
[null,100,null,null,-1240,null,null,null,4.1666666666666664E-2,null,null,null,null,0]

{"sheet":"Free Practise","index":2,"n_rows":113,"n_cols":36,"rows_kept":113,"cut":false,"hidden":false,"merged":[[1,6,4,8],[1,9,1,15],[1,16,9,28],[2,9,2,10],[3,9,3,10],[3,12,3,15],[4,9,4,10],[4,12,4,15],[7,5,7,8],[7,12,7,15],[8,1,8,2],[8,5,8,8],[9,1,9,2],[9,5,9,8],[9,12,9,15],[11,1,11,12],[11,15,12,15],[5,1,5,2],[5,4,9,4],[5,5,5,8],[5,9,5,10],[5,12,5,15],[6,1,6,2],[6,5,6,8],[6,9,6,10],[6,12,6,15],[7,1,7,2],[15,9,15,12],[16,9,16,12],[17,9,17,12],[18,9,18,12],[19,9,19,12],[20,9,20,12],[11,16,11,19],[11,20,11,31],[11,32,11,35],[12,9,12,12],[13,9,13,12],[14,9,14,12],[27,9,27,12],[28,9,28,12],[29,9,29,12],[30,9,30,12],[31,9,31,12],[32,9,32,12],[21,9,21,12],[22,9,22,12],[23,9,23,12],[24,9,24,12],[25,9,25,12],[26,9,26,12],[39,9,39,12],[40,9,40,12],[41,9,41,12],[42,9,42,12],[43,9,43,12],[44,9,44,12],[33,9,33,12],[34,9,34,12],[35,9,35,12],[36,9,36,12],[37,9,37,12],[38,9,38,12],[51,9,51,12],[52,9,52,12],[53,9,53,12],[54,9,54,12],[55,9,55,12],[56,9,56,12],[45,9,45,12],[46,9,46,12],[47,9,47,12],[48,9,48,12],[49,9,49,12],[50,9,50,12],[63,9,63,12],[64,9,64,12],[65,9,65,12],[66,9,66,12],[67,9,67,12],[68,9,68,12],[57,9,57,12],[58,9,58,12],[59,9,59,12],[60,9,60,12],[61,9,61,12],[62,9,62,12],[75,9,75,12],[76,9,76,12],[77,9,77,12],[78,9,78,12],[79,9,79,12],[80,9,80,12],[69,9,69,12],[70,9,70,12],[71,9,71,12],[72,9,72,12],[73,9,73,12],[74,9,74,12],[87,9,87,12],[88,9,88,12],[89,9,89,12],[90,9,90,12],[91,9,91,12],[92,9,92,12],[81,9,81,12],[82,9,82,12],[83,9,83,12],[84,9,84,12],[85,9,85,12],[86,9,86,12],[99,9,99,12],[100,9,100,12],[101,9,101,12],[102,9,102,12],[103,9,103,12],[104,9,104,12],[93,9,93,12],[94,9,94,12],[95,9,95,12],[96,9,96,12],[97,9,97,12],[98,9,98,12],[111,9,111,12],[112,9,112,12],[113,9,113,11],[114,9,114,11],[115,9,115,11],[116,9,116,11],[105,9,105,12],[106,9,106,12],[107,9,107,12],[108,9,108,12],[109,9,109,12],[110,9,110,12],[123,9,123,11],[124,9,124,11],[125,9,125,11],[126,9,126,11],[127,9,127,11],[128,9,128,11],[117,9,117,11],[118,9,118,11],[119,9,119,11],[120,9,120,11],[121,9,121,11],[122,9,122,11]]}
[]
[null,null,null,null,null,null,"xD Technologies GmbH\nSenckenberganlage 24\n60325 Frankfurt / Main",null,null,"Circuit Layout"]
[null,null,null,null,null,null,null,null,null,"Name:",null,null,"Comments:"]
[null,null,null,null,null,null,null,null,null,"Length:",null,{"$f":"Data!C17","v":3200}]
[null,null,null,null,null,null,null,null,null,"Fuel / lap",null,13]
[null,"Event",null,{"$f":"Data!C8","v":0},"Drivers",{"$f":"Data!F13","v":"Driver1"},null,null,null,"Fuel in",null,60]
[null,"Date",null,null,null,{"$f":"Data!F14","v":"Driver2"},null,null,null,"Track Cond."]
[null,"Session",null,null,null,{"$f":"Data!F15","v":"Driver3"},null,null,null,"Weather Cond."]
[null,null,null,null,null,{"$f":"Data!F16","v":"Driver4"}]
[null,"Session duration [u:mm]",null,4.1666666666666664E-2,null,{"$f":"Data!F17","v":"Driver5"}]
[]
[null,"SESSION",null,null,null,null,null,null,null,null,null,null,null,null,null,"SETUP NR."," Tyre pressures",null,null,null,"Tyre temperatures",null,null,null,null,null,null,null,null,null,null,null,"Brake temperatures"]
[null,"Lap","Laptime [m:ss.000]","Driver","Fuel","Fuel IN","Pit Stop","Tyres","Time left","Comment",null,null,null,"Aantal KM",null,null,"LF","RF","LR","RR","LF O","LF M","LF I","RF 0","RF M","RF I","LR O","LR M","LR I","RR 0","RR M","RR I","LF","RF","LR","RR"]
[null,1,null,null,{"$f":"L6-FuelLap","v":47},null,null,null,{"$f":"$D$10-IF(C14=0,0,C14)-G14","v":4.1666666666666664E-2},null,null,null,null,{"$f":"IF(C14>0,($L$4*B14)/1000,0)","v":0}]
[null,2,null,null,{"$f":"E14-FuelLap+F14","v":34},null,null,null,{"$f":"I14-C15-G15","v":4.1666666666666664E-2},null,null,null,null,{"$f":"IF(C15>0,($L$4*B15)/1000,0)","v":0}]
[null,3,null,null,21,null,null,null,{"$f":"I15-C16-G16","v":4.1666666666666664E-2},null,null,null,null,0]
[null,4,null,null,8,null,null,null,4.1666666666666664E-2,null,null,null,null,0]
[null,5,null,null,-5,null,null,null,4.1666666666666664E-2,null,null,null,null,0]
[null,6,null,null,-18,null,null,null,4.1666666666666664E-2,null,null,null,null,0]
[null,7,null,null,-31,null,null,null,4.1666666666666664E-2,null,null,null,null,0]
[null,8,null,null,-44,null,null,null,4.1666666666666664E-2,null,null,null,null,0]
[null,9,null,null,-57,null,null,null,4.1666666666666664E-2,null,null,null,null,0]
[null,10,null,null,-70,null,null,null,4.1666666666666664E-2,null,null,null,null,0]
[null,11,null,null,-83,null,null,null,4.1666666666666664E-2,null,null,null,null,0]
[null,12,null,null,-96,null,null,null,4.1666666666666664E-2,null,null,null,null,0]
[null,13,null,null,-109,null,null,null,4.1666666666666664E-2,null,null,null,null,0]
[null,14,null,null,-122,null,null,null,4.1666666666666664E-2,null,null,null,null,0]
[null,15,null,null,-135,null,null,null,4.1666666666666664E-2,null,null,null,null,0]
[null,16,null,null,-148,null,null,null,4.1666666666666664E-2,null,null,null,null,0]
[null,17,null,null,-161,null,null,null,4.1666666666666664E-2,null,null,null,null,0]
[null,18,null,null,-174,null,null,null,4.1666666666666664E-2,null,null,null,null,0]
[null,19,null,null,-187,null,null,null,4.1666666666666664E-2,null,null,null,null,0]
[null,20,null,null,-200,null,null,null,4.1666666666666664E-2,null,null,null,null,0]
[null,21,null,null,-213,null,null,null,4.1666666666666664E-2,null,null,null,null,0]
[null,22,null,null,-226,null,null,null,4.1666666666666664E-2,null,null,null,null,0]
[null,23,null,null,-239,null,null,null,4.1666666666666664E-2,null,null,null,null,0]
[null,24,null,null,-252,null,null,null,4.1666666666666664E-2,null,null,null,null,0]
[null,25,null,null,-265,null,null,null,4.1666666666666664E-2,null,null,null,null,0]
[null,26,null,null,-278,null,null,null,4.1666666666666664E-2,null,null,null,null,0]
[null,27,null,null,-291,null,null,null,4.1666666666666664E-2,null,null,null,null,0]
[null,28,null,null,-304,null,null,null,4.1666666666666664E-2,null,null,null,null,0]
[null,29,null,null,-317,null,null,null,4.1666666666666664E-2,null,null,null,null,0]
[null,30,null,null,-330,null,null,null,4.1666666666666664E-2,null,null,null,null,0]
[null,31,null,null,-343,null,null,null,4.1666666666666664E-2,null,null,null,null,0]
[null,32,null,null,-356,null,null,null,4.1666666666666664E-2,null,null,null,null,0]
[null,33,null,null,-369,null,null,null,4.1666666666666664E-2,null,null,null,null,0]
[null,34,null,null,{"$f":"E46-FuelLap+F46","v":-382},null,null,null,4.1666666666666664E-2,null,null,null,null,0]
[null,35,null,null,-395,null,null,null,4.1666666666666664E-2,null,null,null,null,0]
[null,36,null,null,-408,null,null,null,4.1666666666666664E-2,null,null,null,null,0]
[null,37,null,null,-421,null,null,null,4.1666666666666664E-2,null,null,null,null,0]
[null,38,null,null,-434,null,null,null,4.1666666666666664E-2,null,null,null,null,0]
[null,39,null,null,-447,null,null,null,4.1666666666666664E-2,null,null,null,null,0]
[null,40,null,null,-460,null,null,null,4.1666666666666664E-2,null,null,null,null,0]
[null,41,null,null,-473,null,null,null,4.1666666666666664E-2,null,null,null,null,0]
[null,42,null,null,-486,null,null,null,4.1666666666666664E-2,null,null,null,null,0]
[null,43,null,null,-499,null,null,null,4.1666666666666664E-2,null,null,null,null,0]
[null,44,null,null,-512,null,null,null,4.1666666666666664E-2,null,null,null,null,0]
[null,45,null,null,-525,null,null,null,4.1666666666666664E-2,null,null,null,null,0]
[null,46,null,null,-538,null,null,null,4.1666666666666664E-2,null,null,null,null,0]
[null,47,null,null,-551,null,null,null,4.1666666666666664E-2,null,null,null,null,0]
[null,48,null,null,-564,null,null,null,4.1666666666666664E-2,null,null,null,null,0]
[null,49,null,null,-577,null,null,null,4.1666666666666664E-2,null,null,null,null,0]
[null,50,null,null,-590,null,null,null,4.1666666666666664E-2,null,null,null,null,0]
[null,51,null,null,-603,null,null,null,4.1666666666666664E-2,null,null,null,null,0]
[null,52,null,null,-616,null,null,null,4.1666666666666664E-2,null,null,null,null,0]
[null,53,null,null,-629,null,null,null,4.1666666666666664E-2,null,null,null,null,0]
[null,54,null,null,-642,null,null,null,4.1666666666666664E-2,null,null,null,null,0]
[null,55,null,null,-655,null,null,null,4.1666666666666664E-2,null,null,null,null,0]
[null,56,null,null,-668,null,null,null,4.1666666666666664E-2,null,null,null,null,0]
[null,57,null,null,-681,null,null,null,4.1666666666666664E-2,null,null,null,null,0]
[null,58,null,null,-694,null,null,null,4.1666666666666664E-2,null,null,null,null,0]
[null,59,null,null,-707,null,null,null,4.1666666666666664E-2,null,null,null,null,0]
[null,60,null,null,-720,null,null,null,4.1666666666666664E-2,null,null,null,null,0]
[null,61,null,null,-733,null,null,null,4.1666666666666664E-2,null,null,null,null,0]
[null,62,null,null,-746,null,null,null,4.1666666666666664E-2,null,null,null,null,0]
[null,63,null,null,-759,null,null,null,4.1666666666666664E-2,null,null,null,null,0]
[null,64,null,null,-772,null,null,null,4.1666666666666664E-2,null,null,null,null,0]
[null,65,null,null,-785,null,null,null,4.1666666666666664E-2,null,null,null,null,0]
[null,66,null,null,{"$f":"E78-FuelLap+F78","v":-798},null,null,null,4.1666666666666664E-2,null,null,null,null,{"$f":"IF(C79>0,($L$4*B79)/1000,0)","v":0}]
[null,67,null,null,-811,null,null,null,{"$f":"I79-C80-G80","v":4.1666666666666664E-2},null,null,null,null,0]
[null,68,null,null,-824,null,null,null,4.1666666666666664E-2,null,null,null,null,0]
[null,69,null,null,-837,null,null,null,4.1666666666666664E-2,null,null,null,null,0]
[null,70,null,null,-850,null,null,null,4.1666666666666664E-2,null,null,null,null,0]
[null,71,null,null,-863,null,null,null,4.1666666666666664E-2,null,null,null,null,0]
[null,72,null,null,-876,null,null,null,4.1666666666666664E-2,null,null,null,null,0]
[null,73,null,null,-889,null,null,null,4.1666666666666664E-2,null,null,null,null,0]
[null,74,null,null,-902,null,null,null,4.1666666666666664E-2,null,null,null,null,0]
[null,75,null,null,-915,null,null,null,4.1666666666666664E-2,null,null,null,null,0]
[null,76,null,null,-928,null,null,null,4.1666666666666664E-2,null,null,null,null,0]
[null,77,null,null,-941,null,null,null,4.1666666666666664E-2,null,null,null,null,0]
[null,78,null,null,-954,null,null,null,4.1666666666666664E-2,null,null,null,null,0]
[null,79,null,null,-967,null,null,null,4.1666666666666664E-2,null,null,null,null,0]
[null,80,null,null,-980,null,null,null,4.1666666666666664E-2,null,null,null,null,0]
[null,81,null,null,-993,null,null,null,4.1666666666666664E-2,null,null,null,null,0]
[null,82,null,null,-1006,null,null,null,4.1666666666666664E-2,null,null,null,null,0]
[null,83,null,null,-1019,null,null,null,4.1666666666666664E-2,null,null,null,null,0]
[null,84,null,null,-1032,null,null,null,4.1666666666666664E-2,null,null,null,null,0]
[null,85,null,null,-1045,null,null,null,4.1666666666666664E-2,null,null,null,null,0]
[null,86,null,null,-1058,null,null,null,4.1666666666666664E-2,null,null,null,null,0]
[null,87,null,null,-1071,null,null,null,4.1666666666666664E-2,null,null,null,null,0]
[null,88,null,null,-1084,null,null,null,4.1666666666666664E-2,null,null,null,null,0]
[null,89,null,null,-1097,null,null,null,4.1666666666666664E-2,null,null,null,null,0]
[null,90,null,null,-1110,null,null,null,4.1666666666666664E-2,null,null,null,null,0]
[null,91,null,null,-1123,null,null,null,4.1666666666666664E-2,null,null,null,null,0]
[null,92,null,null,-1136,null,null,null,4.1666666666666664E-2,null,null,null,null,0]
[null,93,null,null,-1149,null,null,null,4.1666666666666664E-2,null,null,null,null,0]
[null,94,null,null,-1162,null,null,null,4.1666666666666664E-2,null,null,null,null,0]
[null,95,null,null,-1175,null,null,null,4.1666666666666664E-2,null,null,null,null,0]
[null,96,null,null,-1188,null,null,null,4.1666666666666664E-2,null,null,null,null,0]
[null,97,null,null,-1201,null,null,null,4.1666666666666664E-2,null,null,null,null,0]
[null,98,null,null,-1214,null,null,null,4.1666666666666664E-2,null,null,null,null,0]
[null,99,null,null,-1227,null,null,null,4.1666666666666664E-2,null,null,null,null,0]
[null,100,null,null,-1240,null,null,null,4.1666666666666664E-2,null,null,null,null,0]

{"sheet":"Quali","index":3,"n_rows":113,"n_cols":36,"rows_kept":113,"cut":false,"hidden":false,"merged":[[1,6,4,8],[1,9,1,15],[1,16,9,28],[2,9,2,10],[3,9,3,10],[3,12,3,15],[4,9,4,10],[4,12,4,15],[7,5,7,8],[7,12,7,15],[8,1,8,2],[8,5,8,8],[9,1,9,2],[9,5,9,8],[9,12,9,15],[11,1,11,12],[11,15,12,15],[5,1,5,2],[5,4,9,4],[5,5,5,8],[5,9,5,10],[5,12,5,15],[6,1,6,2],[6,5,6,8],[6,9,6,10],[6,12,6,15],[7,1,7,2],[15,9,15,12],[16,9,16,12],[17,9,17,12],[18,9,18,12],[19,9,19,12],[20,9,20,12],[11,16,11,19],[11,20,11,31],[11,32,11,35],[12,9,12,12],[13,9,13,12],[14,9,14,12],[27,9,27,12],[28,9,28,12],[29,9,29,12],[30,9,30,12],[31,9,31,12],[32,9,32,12],[21,9,21,12],[22,9,22,12],[23,9,23,12],[24,9,24,12],[25,9,25,12],[26,9,26,12],[39,9,39,12],[40,9,40,12],[41,9,41,12],[42,9,42,12],[43,9,43,12],[44,9,44,12],[33,9,33,12],[34,9,34,12],[35,9,35,12],[36,9,36,12],[37,9,37,12],[38,9,38,12],[51,9,51,12],[52,9,52,12],[53,9,53,12],[54,9,54,12],[55,9,55,12],[56,9,56,12],[45,9,45,12],[46,9,46,12],[47,9,47,12],[48,9,48,12],[49,9,49,12],[50,9,50,12],[63,9,63,12],[64,9,64,12],[65,9,65,12],[66,9,66,12],[67,9,67,12],[68,9,68,12],[57,9,57,12],[58,9,58,12],[59,9,59,12],[60,9,60,12],[61,9,61,12],[62,9,62,12],[75,9,75,12],[76,9,76,12],[77,9,77,12],[78,9,78,12],[79,9,79,12],[80,9,80,12],[69,9,69,12],[70,9,70,12],[71,9,71,12],[72,9,72,12],[73,9,73,12],[74,9,74,12],[87,9,87,12],[88,9,88,12],[89,9,89,12],[90,9,90,12],[91,9,91,12],[92,9,92,12],[81,9,81,12],[82,9,82,12],[83,9,83,12],[84,9,84,12],[85,9,85,12],[86,9,86,12],[99,9,99,12],[100,9,100,12],[101,9,101,12],[102,9,102,12],[103,9,103,12],[104,9,104,12],[93,9,93,12],[94,9,94,12],[95,9,95,12],[96,9,96,12],[97,9,97,12],[98,9,98,12],[111,9,111,12],[112,9,112,12],[113,9,113,11],[114,9,114,11],[115,9,115,11],[116,9,116,11],[105,9,105,12],[106,9,106,12],[107,9,107,12],[108,9,108,12],[109,9,109,12],[110,9,110,12],[123,9,123,11],[124,9,124,11],[125,9,125,11],[126,9,126,11],[127,9,127,11],[128,9,128,11],[117,9,117,11],[118,9,118,11],[119,9,119,11],[120,9,120,11],[121,9,121,11],[122,9,122,11]]}
[]
[null,null,null,null,null,null,"xD Technologies GmbH\nSenckenberganlage 24\n60325 Frankfurt / Main",null,null,"Circuit Layout"]
[null,null,null,null,null,null,null,null,null,"Name:",null,null,"Comments:"]
[null,null,null,null,null,null,null,null,null,"Length:",null,{"$f":"Data!C17","v":3200}]
[null,null,null,null,null,null,null,null,null,"Fuel / lap",null,13]
[null,"Event",null,{"$f":"Data!C8","v":0},"Drivers",{"$f":"Data!F13","v":"Driver1"},null,null,null,"Fuel in",null,60]
[null,"Date",null,null,null,{"$f":"Data!F14","v":"Driver2"},null,null,null,"Track Cond."]
[null,"Session",null,null,null,{"$f":"Data!F15","v":"Driver3"},null,null,null,"Weather Cond."]
[null,null,null,null,null,{"$f":"Data!F16","v":"Driver4"}]
[null,"Session duration [u:mm]",null,4.1666666666666664E-2,null,{"$f":"Data!F17","v":"Driver5"}]
[]
[null,"SESSION",null,null,null,null,null,null,null,null,null,null,null,null,null,"SETUP NR."," Tyre pressures",null,null,null,"Tyre temperatures",null,null,null,null,null,null,null,null,null,null,null,"Brake temperatures"]
[null,"Lap","Laptime [m:ss.000]","Driver","Fuel","Fuel IN","Pit Stop","Tyres","Time left","Comment",null,null,null,"Aantal KM",null,null,"LF","RF","LR","RR","LF O","LF M","LF I","RF 0","RF M","RF I","LR O","LR M","LR I","RR 0","RR M","RR I","LF","RF","LR","RR"]
[null,1,null,null,{"$f":"L6-FuelLap","v":47},null,null,null,{"$f":"$D$10-IF(C14=0,0,C14)-G14","v":4.1666666666666664E-2},null,null,null,null,{"$f":"IF(C14>0,($L$4*B14)/1000,0)","v":0}]
[null,2,null,null,{"$f":"E14-FuelLap+F14","v":34},null,null,null,{"$f":"I14-C15-G15","v":4.1666666666666664E-2},null,null,null,null,{"$f":"IF(C15>0,($L$4*B15)/1000,0)","v":0}]
[null,3,null,null,21,null,null,null,{"$f":"I15-C16-G16","v":4.1666666666666664E-2},null,null,null,null,0]
[null,4,null,null,8,null,null,null,4.1666666666666664E-2,null,null,null,null,0]
[null,5,null,null,-5,null,null,null,4.1666666666666664E-2,null,null,null,null,0]
[null,6,null,null,-18,null,null,null,4.1666666666666664E-2,null,null,null,null,0]
[null,7,null,null,-31,null,null,null,4.1666666666666664E-2,null,null,null,null,0]
[null,8,null,null,-44,null,null,null,4.1666666666666664E-2,null,null,null,null,0]
[null,9,null,null,-57,null,null,null,4.1666666666666664E-2,null,null,null,null,0]
[null,10,null,null,-70,null,null,null,4.1666666666666664E-2,null,null,null,null,0]
[null,11,null,null,-83,null,null,null,4.1666666666666664E-2,null,null,null,null,0]
[null,12,null,null,-96,null,null,null,4.1666666666666664E-2,null,null,null,null,0]
[null,13,null,null,-109,null,null,null,4.1666666666666664E-2,null,null,null,null,0]
[null,14,null,null,-122,null,null,null,4.1666666666666664E-2,null,null,null,null,0]
[null,15,null,null,-135,null,null,null,4.1666666666666664E-2,null,null,null,null,0]
[null,16,null,null,-148,null,null,null,4.1666666666666664E-2,null,null,null,null,0]
[null,17,null,null,-161,null,null,null,4.1666666666666664E-2,null,null,null,null,0]
[null,18,null,null,-174,null,null,null,4.1666666666666664E-2,null,null,null,null,0]
[null,19,null,null,-187,null,null,null,4.1666666666666664E-2,null,null,null,null,0]
[null,20,null,null,-200,null,null,null,4.1666666666666664E-2,null,null,null,null,0]
[null,21,null,null,-213,null,null,null,4.1666666666666664E-2,null,null,null,null,0]
[null,22,null,null,-226,null,null,null,4.1666666666666664E-2,null,null,null,null,0]
[null,23,null,null,-239,null,null,null,4.1666666666666664E-2,null,null,null,null,0]
[null,24,null,null,-252,null,null,null,4.1666666666666664E-2,null,null,null,null,0]
[null,25,null,null,-265,null,null,null,4.1666666666666664E-2,null,null,null,null,0]
[null,26,null,null,-278,null,null,null,4.1666666666666664E-2,null,null,null,null,0]
[null,27,null,null,-291,null,null,null,4.1666666666666664E-2,null,null,null,null,0]
[null,28,null,null,-304,null,null,null,4.1666666666666664E-2,null,null,null,null,0]
[null,29,null,null,-317,null,null,null,4.1666666666666664E-2,null,null,null,null,0]
[null,30,null,null,-330,null,null,null,4.1666666666666664E-2,null,null,null,null,0]
[null,31,null,null,-343,null,null,null,4.1666666666666664E-2,null,null,null,null,0]
[null,32,null,null,-356,null,null,null,4.1666666666666664E-2,null,null,null,null,0]
[null,33,null,null,-369,null,null,null,4.1666666666666664E-2,null,null,null,null,0]
[null,34,null,null,{"$f":"E46-FuelLap+F46","v":-382},null,null,null,4.1666666666666664E-2,null,null,null,null,0]
[null,35,null,null,-395,null,null,null,4.1666666666666664E-2,null,null,null,null,0]
[null,36,null,null,-408,null,null,null,4.1666666666666664E-2,null,null,null,null,0]
[null,37,null,null,-421,null,null,null,4.1666666666666664E-2,null,null,null,null,0]
[null,38,null,null,-434,null,null,null,4.1666666666666664E-2,null,null,null,null,0]
[null,39,null,null,-447,null,null,null,4.1666666666666664E-2,null,null,null,null,0]
[null,40,null,null,-460,null,null,null,4.1666666666666664E-2,null,null,null,null,0]
[null,41,null,null,-473,null,null,null,4.1666666666666664E-2,null,null,null,null,0]
[null,42,null,null,-486,null,null,null,4.1666666666666664E-2,null,null,null,null,0]
[null,43,null,null,-499,null,null,null,4.1666666666666664E-2,null,null,null,null,0]
[null,44,null,null,-512,null,null,null,4.1666666666666664E-2,null,null,null,null,0]
[null,45,null,null,-525,null,null,null,4.1666666666666664E-2,null,null,null,null,0]
[null,46,null,null,-538,null,null,null,4.1666666666666664E-2,null,null,null,null,0]
[null,47,null,null,-551,null,null,null,4.1666666666666664E-2,null,null,null,null,0]
[null,48,null,null,-564,null,null,null,4.1666666666666664E-2,null,null,null,null,0]
[null,49,null,null,-577,null,null,null,4.1666666666666664E-2,null,null,null,null,0]
[null,50,null,null,-590,null,null,null,4.1666666666666664E-2,null,null,null,null,0]
[null,51,null,null,-603,null,null,null,4.1666666666666664E-2,null,null,null,null,0]
[null,52,null,null,-616,null,null,null,4.1666666666666664E-2,null,null,null,null,0]
[null,53,null,null,-629,null,null,null,4.1666666666666664E-2,null,null,null,null,0]
[null,54,null,null,-642,null,null,null,4.1666666666666664E-2,null,null,null,null,0]
[null,55,null,null,-655,null,null,null,4.1666666666666664E-2,null,null,null,null,0]
[null,56,null,null,-668,null,null,null,4.1666666666666664E-2,null,null,null,null,0]
[null,57,null,null,-681,null,null,null,4.1666666666666664E-2,null,null,null,null,0]
[null,58,null,null,-694,null,null,null,4.1666666666666664E-2,null,null,null,null,0]
[null,59,null,null,-707,null,null,null,4.1666666666666664E-2,null,null,null,null,0]
[null,60,null,null,-720,null,null,null,4.1666666666666664E-2,null,null,null,null,0]
[null,61,null,null,-733,null,null,null,4.1666666666666664E-2,null,null,null,null,0]
[null,62,null,null,-746,null,null,null,4.1666666666666664E-2,null,null,null,null,0]
[null,63,null,null,-759,null,null,null,4.1666666666666664E-2,null,null,null,null,0]
[null,64,null,null,-772,null,null,null,4.1666666666666664E-2,null,null,null,null,0]
[null,65,null,null,-785,null,null,null,4.1666666666666664E-2,null,null,null,null,0]
[null,66,null,null,{"$f":"E78-FuelLap+F78","v":-798},null,null,null,4.1666666666666664E-2,null,null,null,null,{"$f":"IF(C79>0,($L$4*B79)/1000,0)","v":0}]
[null,67,null,null,-811,null,null,null,{"$f":"I79-C80-G80","v":4.1666666666666664E-2},null,null,null,null,0]
[null,68,null,null,-824,null,null,null,4.1666666666666664E-2,null,null,null,null,0]
[null,69,null,null,-837,null,null,null,4.1666666666666664E-2,null,null,null,null,0]
[null,70,null,null,-850,null,null,null,4.1666666666666664E-2,null,null,null,null,0]
[null,71,null,null,-863,null,null,null,4.1666666666666664E-2,null,null,null,null,0]
[null,72,null,null,-876,null,null,null,4.1666666666666664E-2,null,null,null,null,0]
[null,73,null,null,-889,null,null,null,4.1666666666666664E-2,null,null,null,null,0]
[null,74,null,null,-902,null,null,null,4.1666666666666664E-2,null,null,null,null,0]
[null,75,null,null,-915,null,null,null,4.1666666666666664E-2,null,null,null,null,0]
[null,76,null,null,-928,null,null,null,4.1666666666666664E-2,null,null,null,null,0]
[null,77,null,null,-941,null,null,null,4.1666666666666664E-2,null,null,null,null,0]
[null,78,null,null,-954,null,null,null,4.1666666666666664E-2,null,null,null,null,0]
[null,79,null,null,-967,null,null,null,4.1666666666666664E-2,null,null,null,null,0]
[null,80,null,null,-980,null,null,null,4.1666666666666664E-2,null,null,null,null,0]
[null,81,null,null,-993,null,null,null,4.1666666666666664E-2,null,null,null,null,0]
[null,82,null,null,-1006,null,null,null,4.1666666666666664E-2,null,null,null,null,0]
[null,83,null,null,-1019,null,null,null,4.1666666666666664E-2,null,null,null,null,0]
[null,84,null,null,-1032,null,null,null,4.1666666666666664E-2,null,null,null,null,0]
[null,85,null,null,-1045,null,null,null,4.1666666666666664E-2,null,null,null,null,0]
[null,86,null,null,-1058,null,null,null,4.1666666666666664E-2,null,null,null,null,0]
[null,87,null,null,-1071,null,null,null,4.1666666666666664E-2,null,null,null,null,0]
[null,88,null,null,-1084,null,null,null,4.1666666666666664E-2,null,null,null,null,0]
[null,89,null,null,-1097,null,null,null,4.1666666666666664E-2,null,null,null,null,0]
[null,90,null,null,-1110,null,null,null,4.1666666666666664E-2,null,null,null,null,0]
[null,91,null,null,-1123,null,null,null,4.1666666666666664E-2,null,null,null,null,0]
[null,92,null,null,-1136,null,null,null,4.1666666666666664E-2,null,null,null,null,0]
[null,93,null,null,-1149,null,null,null,4.1666666666666664E-2,null,null,null,null,0]
[null,94,null,null,-1162,null,null,null,4.1666666666666664E-2,null,null,null,null,0]
[null,95,null,null,-1175,null,null,null,4.1666666666666664E-2,null,null,null,null,0]
[null,96,null,null,-1188,null,null,null,4.1666666666666664E-2,null,null,null,null,0]
[null,97,null,null,-1201,null,null,null,4.1666666666666664E-2,null,null,null,null,0]
[null,98,null,null,-1214,null,null,null,4.1666666666666664E-2,null,null,null,null,0]
[null,99,null,null,-1227,null,null,null,4.1666666666666664E-2,null,null,null,null,0]
[null,100,null,null,-1240,null,null,null,4.1666666666666664E-2,null,null,null,null,0]

{"sheet":"Session (1)","index":4,"n_rows":512,"n_cols":23,"rows_kept":512,"cut":false,"hidden":false,"merged":[[2,0,2,2],[1,0,1,2],[0,0,0,2],[6,10,6,11],[7,0,7,2],[6,0,6,2],[5,0,5,2],[4,0,4,2],[3,0,3,2],[0,3,0,8],[3,10,3,11],[2,10,2,11],[0,10,0,11],[1,10,1,11],[3,3,3,8],[5,10,5,11],[4,10,4,11],[7,10,7,11],[2,3,2,8],[1,3,1,8],[7,3,7,8],[6,3,6,8],[5,3,5,8],[4,3,4,8]]}
["Engineer",null,null,{"$f":"Data!F8","v":"Engineer 1"},null,null,null,null,null,"Event",{"$f":"Data!C8","v":0},null,null,null,"Date"]
["Data Engineer",null,null,{"$f":"Data!F9","v":"Data Eng. 1"},null,null,null,null,null,"Session",null,null,null,null,"Best Lap",null,{"$f":"MIN($J$11:$J$512)","v":"00:00:00"}]
["#1 Mechanic",null,null,{"$f":"Data!F11","v":"Mechanic 1"},null,null,null,null,null,"Short",{"$f":"Data!C16","v":3200},null,null,null,"Avg Lap",null,{"$f":"AVERAGE($J$11:$J$512)","v":{"$error":"#DIV/0!"}}]
["Driver ID 1",null,null,{"$f":"Data!F13","v":"Driver1"},null,null,null,null,null,"Regular",{"$f":"Data!C17","v":3200}]
["Driver ID 2",null,null,{"$f":"Data!F14","v":"Driver2"},null,null,null,null,null,"Tot. S Laps",{"$f":"COUNTIF(K11:K512,\"S\")","v":0}]
["Driver ID 3",null,null,{"$f":"Data!F15","v":"Driver3"},null,null,null,null,null,"Tot. R Laps",{"$f":"COUNTIF(K11:K512,\"R\")","v":1}]
["Driver ID 4",null,null,{"$f":"Data!F16","v":"Driver4"},null,null,null,null,null,"Tot. Milage",{"$f":"(K5*K3)+(K6*K4)/1000","v":3.2}]
["Driver ID 5",null,null,{"$f":"Data!F17","v":"Driver5"}]
[null,null,null,null,null,null,null,null,null,null,null,null,null,null,null,null,null,null,null,null,null,null,"FL"]
["Out","RL","OL","ID","Driver","Th. Lap Cons","Rest","TOD","Out / In","Lap Time","S / R ","Change","Comment",null,"Fuel in","th. Lap cons","F-TOTAL","Lap Cons","Rest","In this Lap?"]
[1,"Grid","Grid",null,{"$f":"IF(D11=\"Grid\",Simulation!$B$2,IF(D11=\"WU\",Simulation!$B$3,IF(D11=1,Simulation!$B$4,IF(D11=2,Simulation!$B$5,IF(D11=3,Simulation!$B$6,IF(D11=4,Simulation!$B$7,IF(D11=5,Simulation!$B$8)))))))","v":false},{"$f":"IF(D11=\"Grid\",Simulation!$C$2,IF(D11=\"WU\",Simulation!$C$3,IF(D11=1,Simulation!$C$4,IF(D11=2,Simulation!$C$5,IF(D11=3,Simulation!$C$6,IF(D11=4,Simulation!$C$7,IF(D11=5,Simulation!$C$8)))))))","v":false},null,null,null,null,"R",null,null,null,null,null,null,{"$f":"Q11","v":0},{"$f":"O11-R11","v":0},{"$f":"IF(S11<=F11,\"Inlap\",IF(S11<=2*F11,\"Call: In this lap!\",IF(S11<=3*F11,\"Show in but don't call!\",\"\")))","v":"Inlap"},null,null,{"$f":"IF(J11=$Q$2,\"FL\",\"\")","v":"FL"}]
[{"$f":"IF(O12>0,A11+1,A11)","v":1},1,1,null,{"$f":"IF(D12=\"Grid\",Simulation!$B$2,IF(D12=\"WU\",Simulation!$B$3,IF(D12=1,Simulation!$B$4,IF(D12=2,Simulation!$B$5,IF(D12=3,Simulation!$B$6,IF(D12=4,Simulation!$B$7,IF(D12=5,Simulation!$B$8)))))))","v":false},{"$f":"IF(D12=\"Grid\",Simulation!$C$2,IF(D12=\"WU\",Simulation!$C$3,IF(D12=1,Simulation!$C$4,IF(D12=2,Simulation!$C$5,IF(D12=3,Simulation!$C$6,IF(D12=4,Simulation!$C$7,IF(D12=5,Simulation!$C$8)))))))","v":false},{"$f":"G11+O11-P11","v":0},null,null,null,{"$f":"IF(J12<>0,K11,\"\")","v":""},null,null,null,null,{"$f":"IF(O12>0,Q12,Q12-Q11)","v":0},null,{"$f":"IF(O12>0,Q12,Q12-Q11)","v":0},{"$f":"IF(O12>0,O12+S11-Q12,S11-P12)","v":0},{"$f":"IF(S12<=F12,\"Inlap\",IF(S12<=2*F12,\"Call: In this lap!\",IF(S12<=3*F12,\"Show in but don't call!\",\"\")))","v":"Inlap"},null,null,{"$f":"IF(J12=$Q$2,\"FL\",\"\")","v":"FL"}]
[1,2,2,null,{"$f":"IF(D13=\"Grid\",Simulation!$B$2,IF(D13=\"WU\",Simulation!$B$3,IF(D13=1,Simulation!$B$4,IF(D13=2,Simulation!$B$5,IF(D13=3,Simulation!$B$6,IF(D13=4,Simulation!$B$7,IF(D13=5,Simulation!$B$8)))))))","v":false},{"$f":"IF(D13=\"Grid\",Simulation!$C$2,IF(D13=\"WU\",Simulation!$C$3,IF(D13=1,Simulation!$C$4,IF(D13=2,Simulation!$C$5,IF(D13=3,Simulation!$C$6,IF(D13=4,Simulation!$C$7,IF(D13=5,Simulation!$C$8)))))))","v":false},0,null,null,null,{"$f":"IF(J13<>0,K12,\"\")","v":""},null,null,null,null,0,null,0,0,"Inlap",null,null,"FL"]
[1,3,{"$f":"IF(O14=\"\",C13+1,\"1\")","v":3},null,{"$f":"IF(D14=\"Grid\",Simulation!$B$2,IF(D14=\"WU\",Simulation!$B$3,IF(D14=1,Simulation!$B$4,IF(D14=2,Simulation!$B$5,IF(D14=3,Simulation!$B$6,IF(D14=4,Simulation!$B$7,IF(D14=5,Simulation!$B$8)))))))","v":false},{"$f":"IF(D14=\"Grid\",Simulation!$C$2,IF(D14=\"WU\",Simulation!$C$3,IF(D14=1,Simulation!$C$4,IF(D14=2,Simulation!$C$5,IF(D14=3,Simulation!$C$6,IF(D14=4,Simulation!$C$7,IF(D14=5,Simulation!$C$8)))))))","v":false},0,null,null,null,"",null,null,null,null,0,null,0,0,"Inlap",null,null,"FL"]
[1,4,4,null,{"$f":"IF(D15=\"Grid\",Simulation!$B$2,IF(D15=\"WU\",Simulation!$B$3,IF(D15=1,Simulation!$B$4,IF(D15=2,Simulation!$B$5,IF(D15=3,Simulation!$B$6,IF(D15=4,Simulation!$B$7,IF(D15=5,Simulation!$B$8)))))))","v":false},{"$f":"IF(D15=\"Grid\",Simulation!$C$2,IF(D15=\"WU\",Simulation!$C$3,IF(D15=1,Simulation!$C$4,IF(D15=2,Simulation!$C$5,IF(D15=3,Simulation!$C$6,IF(D15=4,Simulation!$C$7,IF(D15=5,Simulation!$C$8)))))))","v":false},0,null,null,null,"",null,null,null,null,0,null,0,0,"Inlap",null,null,"FL"]
[1,5,5,null,{"$f":"IF(D16=\"Grid\",Simulation!$B$2,IF(D16=\"WU\",Simulation!$B$3,IF(D16=1,Simulation!$B$4,IF(D16=2,Simulation!$B$5,IF(D16=3,Simulation!$B$6,IF(D16=4,Simulation!$B$7,IF(D16=5,Simulation!$B$8)))))))","v":false},{"$f":"IF(D16=\"Grid\",Simulation!$C$2,IF(D16=\"WU\",Simulation!$C$3,IF(D16=1,Simulation!$C$4,IF(D16=2,Simulation!$C$5,IF(D16=3,Simulation!$C$6,IF(D16=4,Simulation!$C$7,IF(D16=5,Simulation!$C$8)))))))","v":false},0,null,null,null,"",null,null,null,null,0,null,0,0,"Inlap",null,null,"FL"]
[1,6,6,null,{"$f":"IF(D17=\"Grid\",Simulation!$B$2,IF(D17=\"WU\",Simulation!$B$3,IF(D17=1,Simulation!$B$4,IF(D17=2,Simulation!$B$5,IF(D17=3,Simulation!$B$6,IF(D17=4,Simulation!$B$7,IF(D17=5,Simulation!$B$8)))))))","v":false},{"$f":"IF(D17=\"Grid\",Simulation!$C$2,IF(D17=\"WU\",Simulation!$C$3,IF(D17=1,Simulation!$C$4,IF(D17=2,Simulation!$C$5,IF(D17=3,Simulation!$C$6,IF(D17=4,Simulation!$C$7,IF(D17=5,Simulation!$C$8)))))))","v":false},0,null,null,null,"",null,null,null,null,0,null,0,0,"Inlap",null,null,"FL"]
[1,7,7,null,{"$f":"IF(D18=\"Grid\",Simulation!$B$2,IF(D18=\"WU\",Simulation!$B$3,IF(D18=1,Simulation!$B$4,IF(D18=2,Simulation!$B$5,IF(D18=3,Simulation!$B$6,IF(D18=4,Simulation!$B$7,IF(D18=5,Simulation!$B$8)))))))","v":false},{"$f":"IF(D18=\"Grid\",Simulation!$C$2,IF(D18=\"WU\",Simulation!$C$3,IF(D18=1,Simulation!$C$4,IF(D18=2,Simulation!$C$5,IF(D18=3,Simulation!$C$6,IF(D18=4,Simulation!$C$7,IF(D18=5,Simulation!$C$8)))))))","v":false},0,null,null,null,"",null,null,null,null,0,null,0,0,"Inlap",null,null,"FL"]
[1,8,8,null,{"$f":"IF(D19=\"Grid\",Simulation!$B$2,IF(D19=\"WU\",Simulation!$B$3,IF(D19=1,Simulation!$B$4,IF(D19=2,Simulation!$B$5,IF(D19=3,Simulation!$B$6,IF(D19=4,Simulation!$B$7,IF(D19=5,Simulation!$B$8)))))))","v":false},{"$f":"IF(D19=\"Grid\",Simulation!$C$2,IF(D19=\"WU\",Simulation!$C$3,IF(D19=1,Simulation!$C$4,IF(D19=2,Simulation!$C$5,IF(D19=3,Simulation!$C$6,IF(D19=4,Simulation!$C$7,IF(D19=5,Simulation!$C$8)))))))","v":false},0,null,null,null,"",null,null,null,null,0,null,0,0,"Inlap",null,null,"FL"]
[1,9,9,null,{"$f":"IF(D20=\"Grid\",Simulation!$B$2,IF(D20=\"WU\",Simulation!$B$3,IF(D20=1,Simulation!$B$4,IF(D20=2,Simulation!$B$5,IF(D20=3,Simulation!$B$6,IF(D20=4,Simulation!$B$7,IF(D20=5,Simulation!$B$8)))))))","v":false},{"$f":"IF(D20=\"Grid\",Simulation!$C$2,IF(D20=\"WU\",Simulation!$C$3,IF(D20=1,Simulation!$C$4,IF(D20=2,Simulation!$C$5,IF(D20=3,Simulation!$C$6,IF(D20=4,Simulation!$C$7,IF(D20=5,Simulation!$C$8)))))))","v":false},0,null,null,null,"",null,null,null,null,0,null,0,0,"Inlap",null,null,"FL"]
[1,10,10,null,{"$f":"IF(D21=\"Grid\",Simulation!$B$2,IF(D21=\"WU\",Simulation!$B$3,IF(D21=1,Simulation!$B$4,IF(D21=2,Simulation!$B$5,IF(D21=3,Simulation!$B$6,IF(D21=4,Simulation!$B$7,IF(D21=5,Simulation!$B$8)))))))","v":false},{"$f":"IF(D21=\"Grid\",Simulation!$C$2,IF(D21=\"WU\",Simulation!$C$3,IF(D21=1,Simulation!$C$4,IF(D21=2,Simulation!$C$5,IF(D21=3,Simulation!$C$6,IF(D21=4,Simulation!$C$7,IF(D21=5,Simulation!$C$8)))))))","v":false},0,null,null,null,"",null,null,null,null,0,null,0,0,"Inlap",null,null,"FL"]
[1,11,11,null,{"$f":"IF(D22=\"Grid\",Simulation!$B$2,IF(D22=\"WU\",Simulation!$B$3,IF(D22=1,Simulation!$B$4,IF(D22=2,Simulation!$B$5,IF(D22=3,Simulation!$B$6,IF(D22=4,Simulation!$B$7,IF(D22=5,Simulation!$B$8)))))))","v":false},{"$f":"IF(D22=\"Grid\",Simulation!$C$2,IF(D22=\"WU\",Simulation!$C$3,IF(D22=1,Simulation!$C$4,IF(D22=2,Simulation!$C$5,IF(D22=3,Simulation!$C$6,IF(D22=4,Simulation!$C$7,IF(D22=5,Simulation!$C$8)))))))","v":false},0,null,null,null,"",null,null,null,null,0,null,0,0,"Inlap",null,null,"FL"]
[1,12,12,null,{"$f":"IF(D23=\"Grid\",Simulation!$B$2,IF(D23=\"WU\",Simulation!$B$3,IF(D23=1,Simulation!$B$4,IF(D23=2,Simulation!$B$5,IF(D23=3,Simulation!$B$6,IF(D23=4,Simulation!$B$7,IF(D23=5,Simulation!$B$8)))))))","v":false},{"$f":"IF(D23=\"Grid\",Simulation!$C$2,IF(D23=\"WU\",Simulation!$C$3,IF(D23=1,Simulation!$C$4,IF(D23=2,Simulation!$C$5,IF(D23=3,Simulation!$C$6,IF(D23=4,Simulation!$C$7,IF(D23=5,Simulation!$C$8)))))))","v":false},0,null,null,null,"",null,null,null,null,0,null,0,0,"Inlap",null,null,"FL"]
[1,13,13,null,{"$f":"IF(D24=\"Grid\",Simulation!$B$2,IF(D24=\"WU\",Simulation!$B$3,IF(D24=1,Simulation!$B$4,IF(D24=2,Simulation!$B$5,IF(D24=3,Simulation!$B$6,IF(D24=4,Simulation!$B$7,IF(D24=5,Simulation!$B$8)))))))","v":false},{"$f":"IF(D24=\"Grid\",Simulation!$C$2,IF(D24=\"WU\",Simulation!$C$3,IF(D24=1,Simulation!$C$4,IF(D24=2,Simulation!$C$5,IF(D24=3,Simulation!$C$6,IF(D24=4,Simulation!$C$7,IF(D24=5,Simulation!$C$8)))))))","v":false},0,null,null,null,"",null,null,null,null,0,null,0,0,"Inlap",null,null,"FL"]
[1,14,14,null,{"$f":"IF(D25=\"Grid\",Simulation!$B$2,IF(D25=\"WU\",Simulation!$B$3,IF(D25=1,Simulation!$B$4,IF(D25=2,Simulation!$B$5,IF(D25=3,Simulation!$B$6,IF(D25=4,Simulation!$B$7,IF(D25=5,Simulation!$B$8)))))))","v":false},{"$f":"IF(D25=\"Grid\",Simulation!$C$2,IF(D25=\"WU\",Simulation!$C$3,IF(D25=1,Simulation!$C$4,IF(D25=2,Simulation!$C$5,IF(D25=3,Simulation!$C$6,IF(D25=4,Simulation!$C$7,IF(D25=5,Simulation!$C$8)))))))","v":false},0,null,null,null,"",null,null,null,null,0,null,0,0,"Inlap",null,null,"FL"]
[1,15,15,null,{"$f":"IF(D26=\"Grid\",Simulation!$B$2,IF(D26=\"WU\",Simulation!$B$3,IF(D26=1,Simulation!$B$4,IF(D26=2,Simulation!$B$5,IF(D26=3,Simulation!$B$6,IF(D26=4,Simulation!$B$7,IF(D26=5,Simulation!$B$8)))))))","v":false},{"$f":"IF(D26=\"Grid\",Simulation!$C$2,IF(D26=\"WU\",Simulation!$C$3,IF(D26=1,Simulation!$C$4,IF(D26=2,Simulation!$C$5,IF(D26=3,Simulation!$C$6,IF(D26=4,Simulation!$C$7,IF(D26=5,Simulation!$C$8)))))))","v":false},0,null,null,null,"",null,null,null,null,0,null,0,0,"Inlap",null,null,"FL"]
[1,16,16,null,{"$f":"IF(D27=\"Grid\",Simulation!$B$2,IF(D27=\"WU\",Simulation!$B$3,IF(D27=1,Simulation!$B$4,IF(D27=2,Simulation!$B$5,IF(D27=3,Simulation!$B$6,IF(D27=4,Simulation!$B$7,IF(D27=5,Simulation!$B$8)))))))","v":false},{"$f":"IF(D27=\"Grid\",Simulation!$C$2,IF(D27=\"WU\",Simulation!$C$3,IF(D27=1,Simulation!$C$4,IF(D27=2,Simulation!$C$5,IF(D27=3,Simulation!$C$6,IF(D27=4,Simulation!$C$7,IF(D27=5,Simulation!$C$8)))))))","v":false},0,null,null,null,"",null,null,null,null,0,null,0,0,"Inlap",null,null,"FL"]
[1,17,17,null,{"$f":"IF(D28=\"Grid\",Simulation!$B$2,IF(D28=\"WU\",Simulation!$B$3,IF(D28=1,Simulation!$B$4,IF(D28=2,Simulation!$B$5,IF(D28=3,Simulation!$B$6,IF(D28=4,Simulation!$B$7,IF(D28=5,Simulation!$B$8)))))))","v":false},{"$f":"IF(D28=\"Grid\",Simulation!$C$2,IF(D28=\"WU\",Simulation!$C$3,IF(D28=1,Simulation!$C$4,IF(D28=2,Simulation!$C$5,IF(D28=3,Simulation!$C$6,IF(D28=4,Simulation!$C$7,IF(D28=5,Simulation!$C$8)))))))","v":false},0,null,null,null,"",null,null,null,null,0,null,0,0,"Inlap",null,null,"FL"]
[1,18,18,null,{"$f":"IF(D29=\"Grid\",Simulation!$B$2,IF(D29=\"WU\",Simulation!$B$3,IF(D29=1,Simulation!$B$4,IF(D29=2,Simulation!$B$5,IF(D29=3,Simulation!$B$6,IF(D29=4,Simulation!$B$7,IF(D29=5,Simulation!$B$8)))))))","v":false},{"$f":"IF(D29=\"Grid\",Simulation!$C$2,IF(D29=\"WU\",Simulation!$C$3,IF(D29=1,Simulation!$C$4,IF(D29=2,Simulation!$C$5,IF(D29=3,Simulation!$C$6,IF(D29=4,Simulation!$C$7,IF(D29=5,Simulation!$C$8)))))))","v":false},0,null,null,null,"",null,null,null,null,0,null,0,0,"Inlap",null,null,"FL"]
[1,19,19,null,{"$f":"IF(D30=\"Grid\",Simulation!$B$2,IF(D30=\"WU\",Simulation!$B$3,IF(D30=1,Simulation!$B$4,IF(D30=2,Simulation!$B$5,IF(D30=3,Simulation!$B$6,IF(D30=4,Simulation!$B$7,IF(D30=5,Simulation!$B$8)))))))","v":false},{"$f":"IF(D30=\"Grid\",Simulation!$C$2,IF(D30=\"WU\",Simulation!$C$3,IF(D30=1,Simulation!$C$4,IF(D30=2,Simulation!$C$5,IF(D30=3,Simulation!$C$6,IF(D30=4,Simulation!$C$7,IF(D30=5,Simulation!$C$8)))))))","v":false},0,null,null,null,"",null,null,null,null,0,null,0,0,"Inlap",null,null,"FL"]
[1,20,20,null,{"$f":"IF(D31=\"Grid\",Simulation!$B$2,IF(D31=\"WU\",Simulation!$B$3,IF(D31=1,Simulation!$B$4,IF(D31=2,Simulation!$B$5,IF(D31=3,Simulation!$B$6,IF(D31=4,Simulation!$B$7,IF(D31=5,Simulation!$B$8)))))))","v":false},{"$f":"IF(D31=\"Grid\",Simulation!$C$2,IF(D31=\"WU\",Simulation!$C$3,IF(D31=1,Simulation!$C$4,IF(D31=2,Simulation!$C$5,IF(D31=3,Simulation!$C$6,IF(D31=4,Simulation!$C$7,IF(D31=5,Simulation!$C$8)))))))","v":false},0,null,null,null,"",null,null,null,null,0,null,0,0,"Inlap",null,null,"FL"]
[1,21,21,null,{"$f":"IF(D32=\"Grid\",Simulation!$B$2,IF(D32=\"WU\",Simulation!$B$3,IF(D32=1,Simulation!$B$4,IF(D32=2,Simulation!$B$5,IF(D32=3,Simulation!$B$6,IF(D32=4,Simulation!$B$7,IF(D32=5,Simulation!$B$8)))))))","v":false},{"$f":"IF(D32=\"Grid\",Simulation!$C$2,IF(D32=\"WU\",Simulation!$C$3,IF(D32=1,Simulation!$C$4,IF(D32=2,Simulation!$C$5,IF(D32=3,Simulation!$C$6,IF(D32=4,Simulation!$C$7,IF(D32=5,Simulation!$C$8)))))))","v":false},0,null,null,null,"",null,null,null,null,0,null,0,0,"Inlap",null,null,"FL"]
[1,22,22,null,{"$f":"IF(D33=\"Grid\",Simulation!$B$2,IF(D33=\"WU\",Simulation!$B$3,IF(D33=1,Simulation!$B$4,IF(D33=2,Simulation!$B$5,IF(D33=3,Simulation!$B$6,IF(D33=4,Simulation!$B$7,IF(D33=5,Simulation!$B$8)))))))","v":false},{"$f":"IF(D33=\"Grid\",Simulation!$C$2,IF(D33=\"WU\",Simulation!$C$3,IF(D33=1,Simulation!$C$4,IF(D33=2,Simulation!$C$5,IF(D33=3,Simulation!$C$6,IF(D33=4,Simulation!$C$7,IF(D33=5,Simulation!$C$8)))))))","v":false},0,null,null,null,"",null,null,null,null,0,null,0,0,"Inlap",null,null,"FL"]
[1,23,23,null,{"$f":"IF(D34=\"Grid\",Simulation!$B$2,IF(D34=\"WU\",Simulation!$B$3,IF(D34=1,Simulation!$B$4,IF(D34=2,Simulation!$B$5,IF(D34=3,Simulation!$B$6,IF(D34=4,Simulation!$B$7,IF(D34=5,Simulation!$B$8)))))))","v":false},{"$f":"IF(D34=\"Grid\",Simulation!$C$2,IF(D34=\"WU\",Simulation!$C$3,IF(D34=1,Simulation!$C$4,IF(D34=2,Simulation!$C$5,IF(D34=3,Simulation!$C$6,IF(D34=4,Simulation!$C$7,IF(D34=5,Simulation!$C$8)))))))","v":false},0,null,null,null,"",null,null,null,null,0,null,0,0,"Inlap",null,null,"FL"]
[1,24,24,null,{"$f":"IF(D35=\"Grid\",Simulation!$B$2,IF(D35=\"WU\",Simulation!$B$3,IF(D35=1,Simulation!$B$4,IF(D35=2,Simulation!$B$5,IF(D35=3,Simulation!$B$6,IF(D35=4,Simulation!$B$7,IF(D35=5,Simulation!$B$8)))))))","v":false},{"$f":"IF(D35=\"Grid\",Simulation!$C$2,IF(D35=\"WU\",Simulation!$C$3,IF(D35=1,Simulation!$C$4,IF(D35=2,Simulation!$C$5,IF(D35=3,Simulation!$C$6,IF(D35=4,Simulation!$C$7,IF(D35=5,Simulation!$C$8)))))))","v":false},0,null,null,null,"",null,null,null,null,0,null,0,0,"Inlap",null,null,"FL"]
[1,25,25,null,{"$f":"IF(D36=\"Grid\",Simulation!$B$2,IF(D36=\"WU\",Simulation!$B$3,IF(D36=1,Simulation!$B$4,IF(D36=2,Simulation!$B$5,IF(D36=3,Simulation!$B$6,IF(D36=4,Simulation!$B$7,IF(D36=5,Simulation!$B$8)))))))","v":false},{"$f":"IF(D36=\"Grid\",Simulation!$C$2,IF(D36=\"WU\",Simulation!$C$3,IF(D36=1,Simulation!$C$4,IF(D36=2,Simulation!$C$5,IF(D36=3,Simulation!$C$6,IF(D36=4,Simulation!$C$7,IF(D36=5,Simulation!$C$8)))))))","v":false},0,null,null,null,"",null,null,null,null,0,null,0,0,"Inlap",null,null,"FL"]
[1,26,26,null,{"$f":"IF(D37=\"Grid\",Simulation!$B$2,IF(D37=\"WU\",Simulation!$B$3,IF(D37=1,Simulation!$B$4,IF(D37=2,Simulation!$B$5,IF(D37=3,Simulation!$B$6,IF(D37=4,Simulation!$B$7,IF(D37=5,Simulation!$B$8)))))))","v":false},{"$f":"IF(D37=\"Grid\",Simulation!$C$2,IF(D37=\"WU\",Simulation!$C$3,IF(D37=1,Simulation!$C$4,IF(D37=2,Simulation!$C$5,IF(D37=3,Simulation!$C$6,IF(D37=4,Simulation!$C$7,IF(D37=5,Simulation!$C$8)))))))","v":false},0,null,null,null,"",null,null,null,null,0,null,0,0,"Inlap",null,null,"FL"]
[1,27,27,null,{"$f":"IF(D38=\"Grid\",Simulation!$B$2,IF(D38=\"WU\",Simulation!$B$3,IF(D38=1,Simulation!$B$4,IF(D38=2,Simulation!$B$5,IF(D38=3,Simulation!$B$6,IF(D38=4,Simulation!$B$7,IF(D38=5,Simulation!$B$8)))))))","v":false},{"$f":"IF(D38=\"Grid\",Simulation!$C$2,IF(D38=\"WU\",Simulation!$C$3,IF(D38=1,Simulation!$C$4,IF(D38=2,Simulation!$C$5,IF(D38=3,Simulation!$C$6,IF(D38=4,Simulation!$C$7,IF(D38=5,Simulation!$C$8)))))))","v":false},0,null,null,null,"",null,null,null,null,0,null,0,0,"Inlap",null,null,"FL"]
[1,28,28,null,{"$f":"IF(D39=\"Grid\",Simulation!$B$2,IF(D39=\"WU\",Simulation!$B$3,IF(D39=1,Simulation!$B$4,IF(D39=2,Simulation!$B$5,IF(D39=3,Simulation!$B$6,IF(D39=4,Simulation!$B$7,IF(D39=5,Simulation!$B$8)))))))","v":false},{"$f":"IF(D39=\"Grid\",Simulation!$C$2,IF(D39=\"WU\",Simulation!$C$3,IF(D39=1,Simulation!$C$4,IF(D39=2,Simulation!$C$5,IF(D39=3,Simulation!$C$6,IF(D39=4,Simulation!$C$7,IF(D39=5,Simulation!$C$8)))))))","v":false},0,null,null,null,"",null,null,null,null,0,null,0,0,"Inlap",null,null,"FL"]
[1,29,29,null,{"$f":"IF(D40=\"Grid\",Simulation!$B$2,IF(D40=\"WU\",Simulation!$B$3,IF(D40=1,Simulation!$B$4,IF(D40=2,Simulation!$B$5,IF(D40=3,Simulation!$B$6,IF(D40=4,Simulation!$B$7,IF(D40=5,Simulation!$B$8)))))))","v":false},{"$f":"IF(D40=\"Grid\",Simulation!$C$2,IF(D40=\"WU\",Simulation!$C$3,IF(D40=1,Simulation!$C$4,IF(D40=2,Simulation!$C$5,IF(D40=3,Simulation!$C$6,IF(D40=4,Simulation!$C$7,IF(D40=5,Simulation!$C$8)))))))","v":false},0,null,null,null,"",null,null,null,null,0,null,0,0,"Inlap",null,null,"FL"]
[1,30,30,null,{"$f":"IF(D41=\"Grid\",Simulation!$B$2,IF(D41=\"WU\",Simulation!$B$3,IF(D41=1,Simulation!$B$4,IF(D41=2,Simulation!$B$5,IF(D41=3,Simulation!$B$6,IF(D41=4,Simulation!$B$7,IF(D41=5,Simulation!$B$8)))))))","v":false},{"$f":"IF(D41=\"Grid\",Simulation!$C$2,IF(D41=\"WU\",Simulation!$C$3,IF(D41=1,Simulation!$C$4,IF(D41=2,Simulation!$C$5,IF(D41=3,Simulation!$C$6,IF(D41=4,Simulation!$C$7,IF(D41=5,Simulation!$C$8)))))))","v":false},0,null,null,null,"",null,null,null,null,0,null,0,0,"Inlap",null,null,"FL"]
[1,31,31,null,{"$f":"IF(D42=\"Grid\",Simulation!$B$2,IF(D42=\"WU\",Simulation!$B$3,IF(D42=1,Simulation!$B$4,IF(D42=2,Simulation!$B$5,IF(D42=3,Simulation!$B$6,IF(D42=4,Simulation!$B$7,IF(D42=5,Simulation!$B$8)))))))","v":false},{"$f":"IF(D42=\"Grid\",Simulation!$C$2,IF(D42=\"WU\",Simulation!$C$3,IF(D42=1,Simulation!$C$4,IF(D42=2,Simulation!$C$5,IF(D42=3,Simulation!$C$6,IF(D42=4,Simulation!$C$7,IF(D42=5,Simulation!$C$8)))))))","v":false},0,null,null,null,"",null,null,null,null,0,null,0,0,"Inlap",null,null,"FL"]
[1,32,32,null,{"$f":"IF(D43=\"Grid\",Simulation!$B$2,IF(D43=\"WU\",Simulation!$B$3,IF(D43=1,Simulation!$B$4,IF(D43=2,Simulation!$B$5,IF(D43=3,Simulation!$B$6,IF(D43=4,Simulation!$B$7,IF(D43=5,Simulation!$B$8)))))))","v":false},{"$f":"IF(D43=\"Grid\",Simulation!$C$2,IF(D43=\"WU\",Simulation!$C$3,IF(D43=1,Simulation!$C$4,IF(D43=2,Simulation!$C$5,IF(D43=3,Simulation!$C$6,IF(D43=4,Simulation!$C$7,IF(D43=5,Simulation!$C$8)))))))","v":false},0,null,null,null,"",null,null,null,null,0,null,0,0,"Inlap",null,null,"FL"]
[1,33,33,null,{"$f":"IF(D44=\"Grid\",Simulation!$B$2,IF(D44=\"WU\",Simulation!$B$3,IF(D44=1,Simulation!$B$4,IF(D44=2,Simulation!$B$5,IF(D44=3,Simulation!$B$6,IF(D44=4,Simulation!$B$7,IF(D44=5,Simulation!$B$8)))))))","v":false},{"$f":"IF(D44=\"Grid\",Simulation!$C$2,IF(D44=\"WU\",Simulation!$C$3,IF(D44=1,Simulation!$C$4,IF(D44=2,Simulation!$C$5,IF(D44=3,Simulation!$C$6,IF(D44=4,Simulation!$C$7,IF(D44=5,Simulation!$C$8)))))))","v":false},0,null,null,null,"",null,null,null,null,0,null,0,0,"Inlap",null,null,"FL"]
[1,34,34,null,{"$f":"IF(D45=\"Grid\",Simulation!$B$2,IF(D45=\"WU\",Simulation!$B$3,IF(D45=1,Simulation!$B$4,IF(D45=2,Simulation!$B$5,IF(D45=3,Simulation!$B$6,IF(D45=4,Simulation!$B$7,IF(D45=5,Simulation!$B$8)))))))","v":false},{"$f":"IF(D45=\"Grid\",Simulation!$C$2,IF(D45=\"WU\",Simulation!$C$3,IF(D45=1,Simulation!$C$4,IF(D45=2,Simulation!$C$5,IF(D45=3,Simulation!$C$6,IF(D45=4,Simulation!$C$7,IF(D45=5,Simulation!$C$8)))))))","v":false},0,null,null,null,"",null,null,null,null,{"$f":"IF(O45>0,Q45,Q45-Q44)","v":0},null,{"$f":"IF(O45>0,Q45,Q45-Q44)","v":0},{"$f":"IF(O45>0,O45+S44-Q45,S44-P45)","v":0},"Inlap",null,null,"FL"]
[1,35,35,null,{"$f":"IF(D46=\"Grid\",Simulation!$B$2,IF(D46=\"WU\",Simulation!$B$3,IF(D46=1,Simulation!$B$4,IF(D46=2,Simulation!$B$5,IF(D46=3,Simulation!$B$6,IF(D46=4,Simulation!$B$7,IF(D46=5,Simulation!$B$8)))))))","v":false},{"$f":"IF(D46=\"Grid\",Simulation!$C$2,IF(D46=\"WU\",Simulation!$C$3,IF(D46=1,Simulation!$C$4,IF(D46=2,Simulation!$C$5,IF(D46=3,Simulation!$C$6,IF(D46=4,Simulation!$C$7,IF(D46=5,Simulation!$C$8)))))))","v":false},0,null,null,null,"",null,null,null,null,{"$f":"IF(O46>0,Q46,Q46-Q45)","v":0},null,{"$f":"IF(O46>0,Q46,Q46-Q45)","v":0},0,"Inlap",null,null,"FL"]
[1,36,36,null,{"$f":"IF(D47=\"Grid\",Simulation!$B$2,IF(D47=\"WU\",Simulation!$B$3,IF(D47=1,Simulation!$B$4,IF(D47=2,Simulation!$B$5,IF(D47=3,Simulation!$B$6,IF(D47=4,Simulation!$B$7,IF(D47=5,Simulation!$B$8)))))))","v":false},{"$f":"IF(D47=\"Grid\",Simulation!$C$2,IF(D47=\"WU\",Simulation!$C$3,IF(D47=1,Simulation!$C$4,IF(D47=2,Simulation!$C$5,IF(D47=3,Simulation!$C$6,IF(D47=4,Simulation!$C$7,IF(D47=5,Simulation!$C$8)))))))","v":false},0,null,null,null,"",null,null,null,null,0,null,0,0,"Inlap",null,null,"FL"]
[1,37,37,null,{"$f":"IF(D48=\"Grid\",Simulation!$B$2,IF(D48=\"WU\",Simulation!$B$3,IF(D48=1,Simulation!$B$4,IF(D48=2,Simulation!$B$5,IF(D48=3,Simulation!$B$6,IF(D48=4,Simulation!$B$7,IF(D48=5,Simulation!$B$8)))))))","v":false},{"$f":"IF(D48=\"Grid\",Simulation!$C$2,IF(D48=\"WU\",Simulation!$C$3,IF(D48=1,Simulation!$C$4,IF(D48=2,Simulation!$C$5,IF(D48=3,Simulation!$C$6,IF(D48=4,Simulation!$C$7,IF(D48=5,Simulation!$C$8)))))))","v":false},0,null,null,null,"",null,null,null,null,0,null,0,0,"Inlap",null,null,"FL"]
[1,38,38,null,{"$f":"IF(D49=\"Grid\",Simulation!$B$2,IF(D49=\"WU\",Simulation!$B$3,IF(D49=1,Simulation!$B$4,IF(D49=2,Simulation!$B$5,IF(D49=3,Simulation!$B$6,IF(D49=4,Simulation!$B$7,IF(D49=5,Simulation!$B$8)))))))","v":false},{"$f":"IF(D49=\"Grid\",Simulation!$C$2,IF(D49=\"WU\",Simulation!$C$3,IF(D49=1,Simulation!$C$4,IF(D49=2,Simulation!$C$5,IF(D49=3,Simulation!$C$6,IF(D49=4,Simulation!$C$7,IF(D49=5,Simulation!$C$8)))))))","v":false},0,null,null,null,"",null,null,null,null,0,null,0,0,"Inlap",null,null,"FL"]
[1,39,39,null,{"$f":"IF(D50=\"Grid\",Simulation!$B$2,IF(D50=\"WU\",Simulation!$B$3,IF(D50=1,Simulation!$B$4,IF(D50=2,Simulation!$B$5,IF(D50=3,Simulation!$B$6,IF(D50=4,Simulation!$B$7,IF(D50=5,Simulation!$B$8)))))))","v":false},{"$f":"IF(D50=\"Grid\",Simulation!$C$2,IF(D50=\"WU\",Simulation!$C$3,IF(D50=1,Simulation!$C$4,IF(D50=2,Simulation!$C$5,IF(D50=3,Simulation!$C$6,IF(D50=4,Simulation!$C$7,IF(D50=5,Simulation!$C$8)))))))","v":false},0,null,null,null,"",null,null,null,null,0,null,0,0,"Inlap",null,null,"FL"]
[1,40,40,null,{"$f":"IF(D51=\"Grid\",Simulation!$B$2,IF(D51=\"WU\",Simulation!$B$3,IF(D51=1,Simulation!$B$4,IF(D51=2,Simulation!$B$5,IF(D51=3,Simulation!$B$6,IF(D51=4,Simulation!$B$7,IF(D51=5,Simulation!$B$8)))))))","v":false},{"$f":"IF(D51=\"Grid\",Simulation!$C$2,IF(D51=\"WU\",Simulation!$C$3,IF(D51=1,Simulation!$C$4,IF(D51=2,Simulation!$C$5,IF(D51=3,Simulation!$C$6,IF(D51=4,Simulation!$C$7,IF(D51=5,Simulation!$C$8)))))))","v":false},0,null,null,null,"",null,null,null,null,0,null,0,0,"Inlap",null,null,"FL"]
[1,41,41,null,{"$f":"IF(D52=\"Grid\",Simulation!$B$2,IF(D52=\"WU\",Simulation!$B$3,IF(D52=1,Simulation!$B$4,IF(D52=2,Simulation!$B$5,IF(D52=3,Simulation!$B$6,IF(D52=4,Simulation!$B$7,IF(D52=5,Simulation!$B$8)))))))","v":false},{"$f":"IF(D52=\"Grid\",Simulation!$C$2,IF(D52=\"WU\",Simulation!$C$3,IF(D52=1,Simulation!$C$4,IF(D52=2,Simulation!$C$5,IF(D52=3,Simulation!$C$6,IF(D52=4,Simulation!$C$7,IF(D52=5,Simulation!$C$8)))))))","v":false},0,null,null,null,"",null,null,null,null,0,null,0,0,"Inlap",null,null,"FL"]
[1,42,42,null,{"$f":"IF(D53=\"Grid\",Simulation!$B$2,IF(D53=\"WU\",Simulation!$B$3,IF(D53=1,Simulation!$B$4,IF(D53=2,Simulation!$B$5,IF(D53=3,Simulation!$B$6,IF(D53=4,Simulation!$B$7,IF(D53=5,Simulation!$B$8)))))))","v":false},{"$f":"IF(D53=\"Grid\",Simulation!$C$2,IF(D53=\"WU\",Simulation!$C$3,IF(D53=1,Simulation!$C$4,IF(D53=2,Simulation!$C$5,IF(D53=3,Simulation!$C$6,IF(D53=4,Simulation!$C$7,IF(D53=5,Simulation!$C$8)))))))","v":false},0,null,null,null,"",null,null,null,null,0,null,{"$f":"IF(O53>0,Q53,Q53-Q52)","v":0},0,"Inlap",null,null,"FL"]
[1,43,43,null,{"$f":"IF(D54=\"Grid\",Simulation!$B$2,IF(D54=\"WU\",Simulation!$B$3,IF(D54=1,Simulation!$B$4,IF(D54=2,Simulation!$B$5,IF(D54=3,Simulation!$B$6,IF(D54=4,Simulation!$B$7,IF(D54=5,Simulation!$B$8)))))))","v":false},{"$f":"IF(D54=\"Grid\",Simulation!$C$2,IF(D54=\"WU\",Simulation!$C$3,IF(D54=1,Simulation!$C$4,IF(D54=2,Simulation!$C$5,IF(D54=3,Simulation!$C$6,IF(D54=4,Simulation!$C$7,IF(D54=5,Simulation!$C$8)))))))","v":false},0,null,null,null,"",null,null,null,null,0,null,0,0,"Inlap",null,null,"FL"]
[1,44,44,null,{"$f":"IF(D55=\"Grid\",Simulation!$B$2,IF(D55=\"WU\",Simulation!$B$3,IF(D55=1,Simulation!$B$4,IF(D55=2,Simulation!$B$5,IF(D55=3,Simulation!$B$6,IF(D55=4,Simulation!$B$7,IF(D55=5,Simulation!$B$8)))))))","v":false},{"$f":"IF(D55=\"Grid\",Simulation!$C$2,IF(D55=\"WU\",Simulation!$C$3,IF(D55=1,Simulation!$C$4,IF(D55=2,Simulation!$C$5,IF(D55=3,Simulation!$C$6,IF(D55=4,Simulation!$C$7,IF(D55=5,Simulation!$C$8)))))))","v":false},0,null,null,null,"",null,null,null,null,0,null,0,0,"Inlap",null,null,"FL"]
[1,45,45,null,{"$f":"IF(D56=\"Grid\",Simulation!$B$2,IF(D56=\"WU\",Simulation!$B$3,IF(D56=1,Simulation!$B$4,IF(D56=2,Simulation!$B$5,IF(D56=3,Simulation!$B$6,IF(D56=4,Simulation!$B$7,IF(D56=5,Simulation!$B$8)))))))","v":false},{"$f":"IF(D56=\"Grid\",Simulation!$C$2,IF(D56=\"WU\",Simulation!$C$3,IF(D56=1,Simulation!$C$4,IF(D56=2,Simulation!$C$5,IF(D56=3,Simulation!$C$6,IF(D56=4,Simulation!$C$7,IF(D56=5,Simulation!$C$8)))))))","v":false},0,null,null,null,"",null,null,null,null,0,null,0,0,"Inlap",null,null,"FL"]
[1,46,46,null,{"$f":"IF(D57=\"Grid\",Simulation!$B$2,IF(D57=\"WU\",Simulation!$B$3,IF(D57=1,Simulation!$B$4,IF(D57=2,Simulation!$B$5,IF(D57=3,Simulation!$B$6,IF(D57=4,Simulation!$B$7,IF(D57=5,Simulation!$B$8)))))))","v":false},{"$f":"IF(D57=\"Grid\",Simulation!$C$2,IF(D57=\"WU\",Simulation!$C$3,IF(D57=1,Simulation!$C$4,IF(D57=2,Simulation!$C$5,IF(D57=3,Simulation!$C$6,IF(D57=4,Simulation!$C$7,IF(D57=5,Simulation!$C$8)))))))","v":false},0,null,null,null,"",null,null,null,null,0,null,0,0,"Inlap",null,null,"FL"]
[1,47,47,null,{"$f":"IF(D58=\"Grid\",Simulation!$B$2,IF(D58=\"WU\",Simulation!$B$3,IF(D58=1,Simulation!$B$4,IF(D58=2,Simulation!$B$5,IF(D58=3,Simulation!$B$6,IF(D58=4,Simulation!$B$7,IF(D58=5,Simulation!$B$8)))))))","v":false},{"$f":"IF(D58=\"Grid\",Simulation!$C$2,IF(D58=\"WU\",Simulation!$C$3,IF(D58=1,Simulation!$C$4,IF(D58=2,Simulation!$C$5,IF(D58=3,Simulation!$C$6,IF(D58=4,Simulation!$C$7,IF(D58=5,Simulation!$C$8)))))))","v":false},0,null,null,null,"",null,null,null,null,0,null,0,0,"Inlap",null,null,"FL"]
[1,48,48,null,{"$f":"IF(D59=\"Grid\",Simulation!$B$2,IF(D59=\"WU\",Simulation!$B$3,IF(D59=1,Simulation!$B$4,IF(D59=2,Simulation!$B$5,IF(D59=3,Simulation!$B$6,IF(D59=4,Simulation!$B$7,IF(D59=5,Simulation!$B$8)))))))","v":false},{"$f":"IF(D59=\"Grid\",Simulation!$C$2,IF(D59=\"WU\",Simulation!$C$3,IF(D59=1,Simulation!$C$4,IF(D59=2,Simulation!$C$5,IF(D59=3,Simulation!$C$6,IF(D59=4,Simulation!$C$7,IF(D59=5,Simulation!$C$8)))))))","v":false},0,null,null,null,"",null,null,null,null,0,null,0,0,"Inlap",null,null,"FL"]
[1,49,49,null,{"$f":"IF(D60=\"Grid\",Simulation!$B$2,IF(D60=\"WU\",Simulation!$B$3,IF(D60=1,Simulation!$B$4,IF(D60=2,Simulation!$B$5,IF(D60=3,Simulation!$B$6,IF(D60=4,Simulation!$B$7,IF(D60=5,Simulation!$B$8)))))))","v":false},{"$f":"IF(D60=\"Grid\",Simulation!$C$2,IF(D60=\"WU\",Simulation!$C$3,IF(D60=1,Simulation!$C$4,IF(D60=2,Simulation!$C$5,IF(D60=3,Simulation!$C$6,IF(D60=4,Simulation!$C$7,IF(D60=5,Simulation!$C$8)))))))","v":false},0,null,null,null,"",null,null,null,null,0,null,0,0,"Inlap",null,null,"FL"]
[1,50,50,null,{"$f":"IF(D61=\"Grid\",Simulation!$B$2,IF(D61=\"WU\",Simulation!$B$3,IF(D61=1,Simulation!$B$4,IF(D61=2,Simulation!$B$5,IF(D61=3,Simulation!$B$6,IF(D61=4,Simulation!$B$7,IF(D61=5,Simulation!$B$8)))))))","v":false},{"$f":"IF(D61=\"Grid\",Simulation!$C$2,IF(D61=\"WU\",Simulation!$C$3,IF(D61=1,Simulation!$C$4,IF(D61=2,Simulation!$C$5,IF(D61=3,Simulation!$C$6,IF(D61=4,Simulation!$C$7,IF(D61=5,Simulation!$C$8)))))))","v":false},0,null,null,null,"",null,null,null,null,0,null,0,0,"Inlap",null,null,"FL"]
[1,51,51,null,{"$f":"IF(D62=\"Grid\",Simulation!$B$2,IF(D62=\"WU\",Simulation!$B$3,IF(D62=1,Simulation!$B$4,IF(D62=2,Simulation!$B$5,IF(D62=3,Simulation!$B$6,IF(D62=4,Simulation!$B$7,IF(D62=5,Simulation!$B$8)))))))","v":false},{"$f":"IF(D62=\"Grid\",Simulation!$C$2,IF(D62=\"WU\",Simulation!$C$3,IF(D62=1,Simulation!$C$4,IF(D62=2,Simulation!$C$5,IF(D62=3,Simulation!$C$6,IF(D62=4,Simulation!$C$7,IF(D62=5,Simulation!$C$8)))))))","v":false},0,null,null,null,"",null,null,null,null,0,null,0,0,"Inlap",null,null,"FL"]
[1,52,52,null,{"$f":"IF(D63=\"Grid\",Simulation!$B$2,IF(D63=\"WU\",Simulation!$B$3,IF(D63=1,Simulation!$B$4,IF(D63=2,Simulation!$B$5,IF(D63=3,Simulation!$B$6,IF(D63=4,Simulation!$B$7,IF(D63=5,Simulation!$B$8)))))))","v":false},{"$f":"IF(D63=\"Grid\",Simulation!$C$2,IF(D63=\"WU\",Simulation!$C$3,IF(D63=1,Simulation!$C$4,IF(D63=2,Simulation!$C$5,IF(D63=3,Simulation!$C$6,IF(D63=4,Simulation!$C$7,IF(D63=5,Simulation!$C$8)))))))","v":false},0,null,null,null,"",null,null,null,null,0,null,0,0,"Inlap",null,null,"FL"]
[1,53,53,null,{"$f":"IF(D64=\"Grid\",Simulation!$B$2,IF(D64=\"WU\",Simulation!$B$3,IF(D64=1,Simulation!$B$4,IF(D64=2,Simulation!$B$5,IF(D64=3,Simulation!$B$6,IF(D64=4,Simulation!$B$7,IF(D64=5,Simulation!$B$8)))))))","v":false},{"$f":"IF(D64=\"Grid\",Simulation!$C$2,IF(D64=\"WU\",Simulation!$C$3,IF(D64=1,Simulation!$C$4,IF(D64=2,Simulation!$C$5,IF(D64=3,Simulation!$C$6,IF(D64=4,Simulation!$C$7,IF(D64=5,Simulation!$C$8)))))))","v":false},0,null,null,null,"",null,null,null,null,0,null,0,0,"Inlap",null,null,"FL"]
[1,54,54,null,{"$f":"IF(D65=\"Grid\",Simulation!$B$2,IF(D65=\"WU\",Simulation!$B$3,IF(D65=1,Simulation!$B$4,IF(D65=2,Simulation!$B$5,IF(D65=3,Simulation!$B$6,IF(D65=4,Simulation!$B$7,IF(D65=5,Simulation!$B$8)))))))","v":false},{"$f":"IF(D65=\"Grid\",Simulation!$C$2,IF(D65=\"WU\",Simulation!$C$3,IF(D65=1,Simulation!$C$4,IF(D65=2,Simulation!$C$5,IF(D65=3,Simulation!$C$6,IF(D65=4,Simulation!$C$7,IF(D65=5,Simulation!$C$8)))))))","v":false},0,null,null,null,"",null,null,null,null,0,null,0,0,"Inlap",null,null,"FL"]
[1,55,55,null,{"$f":"IF(D66=\"Grid\",Simulation!$B$2,IF(D66=\"WU\",Simulation!$B$3,IF(D66=1,Simulation!$B$4,IF(D66=2,Simulation!$B$5,IF(D66=3,Simulation!$B$6,IF(D66=4,Simulation!$B$7,IF(D66=5,Simulation!$B$8)))))))","v":false},{"$f":"IF(D66=\"Grid\",Simulation!$C$2,IF(D66=\"WU\",Simulation!$C$3,IF(D66=1,Simulation!$C$4,IF(D66=2,Simulation!$C$5,IF(D66=3,Simulation!$C$6,IF(D66=4,Simulation!$C$7,IF(D66=5,Simulation!$C$8)))))))","v":false},0,null,null,null,"",null,null,null,null,0,null,0,0,"Inlap",null,null,"FL"]
[1,56,56,null,{"$f":"IF(D67=\"Grid\",Simulation!$B$2,IF(D67=\"WU\",Simulation!$B$3,IF(D67=1,Simulation!$B$4,IF(D67=2,Simulation!$B$5,IF(D67=3,Simulation!$B$6,IF(D67=4,Simulation!$B$7,IF(D67=5,Simulation!$B$8)))))))","v":false},{"$f":"IF(D67=\"Grid\",Simulation!$C$2,IF(D67=\"WU\",Simulation!$C$3,IF(D67=1,Simulation!$C$4,IF(D67=2,Simulation!$C$5,IF(D67=3,Simulation!$C$6,IF(D67=4,Simulation!$C$7,IF(D67=5,Simulation!$C$8)))))))","v":false},0,null,null,null,"",null,null,null,null,0,null,0,0,"Inlap",null,null,"FL"]
[1,57,57,null,{"$f":"IF(D68=\"Grid\",Simulation!$B$2,IF(D68=\"WU\",Simulation!$B$3,IF(D68=1,Simulation!$B$4,IF(D68=2,Simulation!$B$5,IF(D68=3,Simulation!$B$6,IF(D68=4,Simulation!$B$7,IF(D68=5,Simulation!$B$8)))))))","v":false},{"$f":"IF(D68=\"Grid\",Simulation!$C$2,IF(D68=\"WU\",Simulation!$C$3,IF(D68=1,Simulation!$C$4,IF(D68=2,Simulation!$C$5,IF(D68=3,Simulation!$C$6,IF(D68=4,Simulation!$C$7,IF(D68=5,Simulation!$C$8)))))))","v":false},0,null,null,null,"",null,null,null,null,0,null,0,0,"Inlap",null,null,"FL"]
[1,58,58,null,{"$f":"IF(D69=\"Grid\",Simulation!$B$2,IF(D69=\"WU\",Simulation!$B$3,IF(D69=1,Simulation!$B$4,IF(D69=2,Simulation!$B$5,IF(D69=3,Simulation!$B$6,IF(D69=4,Simulation!$B$7,IF(D69=5,Simulation!$B$8)))))))","v":false},{"$f":"IF(D69=\"Grid\",Simulation!$C$2,IF(D69=\"WU\",Simulation!$C$3,IF(D69=1,Simulation!$C$4,IF(D69=2,Simulation!$C$5,IF(D69=3,Simulation!$C$6,IF(D69=4,Simulation!$C$7,IF(D69=5,Simulation!$C$8)))))))","v":false},0,null,null,null,"",null,null,null,null,0,null,0,0,"Inlap",null,null,"FL"]
[1,59,59,null,{"$f":"IF(D70=\"Grid\",Simulation!$B$2,IF(D70=\"WU\",Simulation!$B$3,IF(D70=1,Simulation!$B$4,IF(D70=2,Simulation!$B$5,IF(D70=3,Simulation!$B$6,IF(D70=4,Simulation!$B$7,IF(D70=5,Simulation!$B$8)))))))","v":false},{"$f":"IF(D70=\"Grid\",Simulation!$C$2,IF(D70=\"WU\",Simulation!$C$3,IF(D70=1,Simulation!$C$4,IF(D70=2,Simulation!$C$5,IF(D70=3,Simulation!$C$6,IF(D70=4,Simulation!$C$7,IF(D70=5,Simulation!$C$8)))))))","v":false},0,null,null,null,"",null,null,null,null,0,null,0,0,"Inlap",null,null,"FL"]
[1,60,60,null,{"$f":"IF(D71=\"Grid\",Simulation!$B$2,IF(D71=\"WU\",Simulation!$B$3,IF(D71=1,Simulation!$B$4,IF(D71=2,Simulation!$B$5,IF(D71=3,Simulation!$B$6,IF(D71=4,Simulation!$B$7,IF(D71=5,Simulation!$B$8)))))))","v":false},{"$f":"IF(D71=\"Grid\",Simulation!$C$2,IF(D71=\"WU\",Simulation!$C$3,IF(D71=1,Simulation!$C$4,IF(D71=2,Simulation!$C$5,IF(D71=3,Simulation!$C$6,IF(D71=4,Simulation!$C$7,IF(D71=5,Simulation!$C$8)))))))","v":false},0,null,null,null,"",null,null,null,null,0,null,0,0,"Inlap",null,null,"FL"]
[1,61,61,null,{"$f":"IF(D72=\"Grid\",Simulation!$B$2,IF(D72=\"WU\",Simulation!$B$3,IF(D72=1,Simulation!$B$4,IF(D72=2,Simulation!$B$5,IF(D72=3,Simulation!$B$6,IF(D72=4,Simulation!$B$7,IF(D72=5,Simulation!$B$8)))))))","v":false},{"$f":"IF(D72=\"Grid\",Simulation!$C$2,IF(D72=\"WU\",Simulation!$C$3,IF(D72=1,Simulation!$C$4,IF(D72=2,Simulation!$C$5,IF(D72=3,Simulation!$C$6,IF(D72=4,Simulation!$C$7,IF(D72=5,Simulation!$C$8)))))))","v":false},0,null,null,null,"",null,null,null,null,0,null,0,0,"Inlap",null,null,"FL"]
[1,62,62,null,{"$f":"IF(D73=\"Grid\",Simulation!$B$2,IF(D73=\"WU\",Simulation!$B$3,IF(D73=1,Simulation!$B$4,IF(D73=2,Simulation!$B$5,IF(D73=3,Simulation!$B$6,IF(D73=4,Simulation!$B$7,IF(D73=5,Simulation!$B$8)))))))","v":false},{"$f":"IF(D73=\"Grid\",Simulation!$C$2,IF(D73=\"WU\",Simulation!$C$3,IF(D73=1,Simulation!$C$4,IF(D73=2,Simulation!$C$5,IF(D73=3,Simulation!$C$6,IF(D73=4,Simulation!$C$7,IF(D73=5,Simulation!$C$8)))))))","v":false},0,null,null,null,"",null,null,null,null,0,null,0,0,"Inlap",null,null,"FL"]
[1,63,63,null,{"$f":"IF(D74=\"Grid\",Simulation!$B$2,IF(D74=\"WU\",Simulation!$B$3,IF(D74=1,Simulation!$B$4,IF(D74=2,Simulation!$B$5,IF(D74=3,Simulation!$B$6,IF(D74=4,Simulation!$B$7,IF(D74=5,Simulation!$B$8)))))))","v":false},{"$f":"IF(D74=\"Grid\",Simulation!$C$2,IF(D74=\"WU\",Simulation!$C$3,IF(D74=1,Simulation!$C$4,IF(D74=2,Simulation!$C$5,IF(D74=3,Simulation!$C$6,IF(D74=4,Simulation!$C$7,IF(D74=5,Simulation!$C$8)))))))","v":false},0,null,null,null,"",null,null,null,null,0,null,0,0,"Inlap",null,null,"FL"]
[1,64,64,null,{"$f":"IF(D75=\"Grid\",Simulation!$B$2,IF(D75=\"WU\",Simulation!$B$3,IF(D75=1,Simulation!$B$4,IF(D75=2,Simulation!$B$5,IF(D75=3,Simulation!$B$6,IF(D75=4,Simulation!$B$7,IF(D75=5,Simulation!$B$8)))))))","v":false},{"$f":"IF(D75=\"Grid\",Simulation!$C$2,IF(D75=\"WU\",Simulation!$C$3,IF(D75=1,Simulation!$C$4,IF(D75=2,Simulation!$C$5,IF(D75=3,Simulation!$C$6,IF(D75=4,Simulation!$C$7,IF(D75=5,Simulation!$C$8)))))))","v":false},0,null,null,null,"",null,null,null,null,0,null,0,0,{"$f":"IF(S75<=F75,\"Inlap\",IF(S75<=2*F75,\"Call: In this lap!\",IF(S75<=3*F75,\"Show in but don't call!\",\"\")))","v":"Inlap"},null,null,"FL"]
[{"$f":"IF(O76>0,A75+1,A75)","v":1},65,65,null,{"$f":"IF(D76=\"Grid\",Simulation!$B$2,IF(D76=\"WU\",Simulation!$B$3,IF(D76=1,Simulation!$B$4,IF(D76=2,Simulation!$B$5,IF(D76=3,Simulation!$B$6,IF(D76=4,Simulation!$B$7,IF(D76=5,Simulation!$B$8)))))))","v":false},{"$f":"IF(D76=\"Grid\",Simulation!$C$2,IF(D76=\"WU\",Simulation!$C$3,IF(D76=1,Simulation!$C$4,IF(D76=2,Simulation!$C$5,IF(D76=3,Simulation!$C$6,IF(D76=4,Simulation!$C$7,IF(D76=5,Simulation!$C$8)))))))","v":false},{"$f":"G75+O75-P75","v":0},null,null,null,"",null,null,null,null,0,null,0,{"$f":"IF(O76>0,O76+S75-Q76,S75-P76)","v":0},"Inlap",null,null,{"$f":"IF(J76=$Q$2,\"FL\",\"\")","v":"FL"}]
[1,66,66,null,{"$f":"IF(D77=\"Grid\",Simulation!$B$2,IF(D77=\"WU\",Simulation!$B$3,IF(D77=1,Simulation!$B$4,IF(D77=2,Simulation!$B$5,IF(D77=3,Simulation!$B$6,IF(D77=4,Simulation!$B$7,IF(D77=5,Simulation!$B$8)))))))","v":false},{"$f":"IF(D77=\"Grid\",Simulation!$C$2,IF(D77=\"WU\",Simulation!$C$3,IF(D77=1,Simulation!$C$4,IF(D77=2,Simulation!$C$5,IF(D77=3,Simulation!$C$6,IF(D77=4,Simulation!$C$7,IF(D77=5,Simulation!$C$8)))))))","v":false},0,null,null,null,{"$f":"IF(J77<>0,K76,\"\")","v":""},null,null,null,null,0,null,0,0,"Inlap",null,null,"FL"]
[1,67,{"$f":"IF(O78=\"\",C77+1,\"1\")","v":67},null,{"$f":"IF(D78=\"Grid\",Simulation!$B$2,IF(D78=\"WU\",Simulation!$B$3,IF(D78=1,Simulation!$B$4,IF(D78=2,Simulation!$B$5,IF(D78=3,Simulation!$B$6,IF(D78=4,Simulation!$B$7,IF(D78=5,Simulation!$B$8)))))))","v":false},{"$f":"IF(D78=\"Grid\",Simulation!$C$2,IF(D78=\"WU\",Simulation!$C$3,IF(D78=1,Simulation!$C$4,IF(D78=2,Simulation!$C$5,IF(D78=3,Simulation!$C$6,IF(D78=4,Simulation!$C$7,IF(D78=5,Simulation!$C$8)))))))","v":false},0,null,null,null,"",null,null,null,null,0,null,0,0,"Inlap",null,null,"FL"]
[1,68,68,null,{"$f":"IF(D79=\"Grid\",Simulation!$B$2,IF(D79=\"WU\",Simulation!$B$3,IF(D79=1,Simulation!$B$4,IF(D79=2,Simulation!$B$5,IF(D79=3,Simulation!$B$6,IF(D79=4,Simulation!$B$7,IF(D79=5,Simulation!$B$8)))))))","v":false},{"$f":"IF(D79=\"Grid\",Simulation!$C$2,IF(D79=\"WU\",Simulation!$C$3,IF(D79=1,Simulation!$C$4,IF(D79=2,Simulation!$C$5,IF(D79=3,Simulation!$C$6,IF(D79=4,Simulation!$C$7,IF(D79=5,Simulation!$C$8)))))))","v":false},0,null,null,null,"",null,null,null,null,0,null,0,0,"Inlap",null,null,"FL"]
[1,69,69,null,{"$f":"IF(D80=\"Grid\",Simulation!$B$2,IF(D80=\"WU\",Simulation!$B$3,IF(D80=1,Simulation!$B$4,IF(D80=2,Simulation!$B$5,IF(D80=3,Simulation!$B$6,IF(D80=4,Simulation!$B$7,IF(D80=5,Simulation!$B$8)))))))","v":false},{"$f":"IF(D80=\"Grid\",Simulation!$C$2,IF(D80=\"WU\",Simulation!$C$3,IF(D80=1,Simulation!$C$4,IF(D80=2,Simulation!$C$5,IF(D80=3,Simulation!$C$6,IF(D80=4,Simulation!$C$7,IF(D80=5,Simulation!$C$8)))))))","v":false},0,null,null,null,"",null,null,null,null,0,null,0,0,"Inlap",null,null,"FL"]
[1,70,70,null,{"$f":"IF(D81=\"Grid\",Simulation!$B$2,IF(D81=\"WU\",Simulation!$B$3,IF(D81=1,Simulation!$B$4,IF(D81=2,Simulation!$B$5,IF(D81=3,Simulation!$B$6,IF(D81=4,Simulation!$B$7,IF(D81=5,Simulation!$B$8)))))))","v":false},{"$f":"IF(D81=\"Grid\",Simulation!$C$2,IF(D81=\"WU\",Simulation!$C$3,IF(D81=1,Simulation!$C$4,IF(D81=2,Simulation!$C$5,IF(D81=3,Simulation!$C$6,IF(D81=4,Simulation!$C$7,IF(D81=5,Simulation!$C$8)))))))","v":false},0,null,null,null,"",null,null,null,null,0,null,0,0,"Inlap",null,null,"FL"]
[1,71,71,null,{"$f":"IF(D82=\"Grid\",Simulation!$B$2,IF(D82=\"WU\",Simulation!$B$3,IF(D82=1,Simulation!$B$4,IF(D82=2,Simulation!$B$5,IF(D82=3,Simulation!$B$6,IF(D82=4,Simulation!$B$7,IF(D82=5,Simulation!$B$8)))))))","v":false},{"$f":"IF(D82=\"Grid\",Simulation!$C$2,IF(D82=\"WU\",Simulation!$C$3,IF(D82=1,Simulation!$C$4,IF(D82=2,Simulation!$C$5,IF(D82=3,Simulation!$C$6,IF(D82=4,Simulation!$C$7,IF(D82=5,Simulation!$C$8)))))))","v":false},0,null,null,null,"",null,null,null,null,0,null,0,0,"Inlap",null,null,"FL"]
[1,72,72,null,{"$f":"IF(D83=\"Grid\",Simulation!$B$2,IF(D83=\"WU\",Simulation!$B$3,IF(D83=1,Simulation!$B$4,IF(D83=2,Simulation!$B$5,IF(D83=3,Simulation!$B$6,IF(D83=4,Simulation!$B$7,IF(D83=5,Simulation!$B$8)))))))","v":false},{"$f":"IF(D83=\"Grid\",Simulation!$C$2,IF(D83=\"WU\",Simulation!$C$3,IF(D83=1,Simulation!$C$4,IF(D83=2,Simulation!$C$5,IF(D83=3,Simulation!$C$6,IF(D83=4,Simulation!$C$7,IF(D83=5,Simulation!$C$8)))))))","v":false},0,null,null,null,"",null,null,null,null,0,null,0,0,"Inlap",null,null,"FL"]
[1,73,73,null,{"$f":"IF(D84=\"Grid\",Simulation!$B$2,IF(D84=\"WU\",Simulation!$B$3,IF(D84=1,Simulation!$B$4,IF(D84=2,Simulation!$B$5,IF(D84=3,Simulation!$B$6,IF(D84=4,Simulation!$B$7,IF(D84=5,Simulation!$B$8)))))))","v":false},{"$f":"IF(D84=\"Grid\",Simulation!$C$2,IF(D84=\"WU\",Simulation!$C$3,IF(D84=1,Simulation!$C$4,IF(D84=2,Simulation!$C$5,IF(D84=3,Simulation!$C$6,IF(D84=4,Simulation!$C$7,IF(D84=5,Simulation!$C$8)))))))","v":false},0,null,null,null,"",null,null,null,null,0,null,0,0,"Inlap",null,null,"FL"]
[1,74,74,null,{"$f":"IF(D85=\"Grid\",Simulation!$B$2,IF(D85=\"WU\",Simulation!$B$3,IF(D85=1,Simulation!$B$4,IF(D85=2,Simulation!$B$5,IF(D85=3,Simulation!$B$6,IF(D85=4,Simulation!$B$7,IF(D85=5,Simulation!$B$8)))))))","v":false},{"$f":"IF(D85=\"Grid\",Simulation!$C$2,IF(D85=\"WU\",Simulation!$C$3,IF(D85=1,Simulation!$C$4,IF(D85=2,Simulation!$C$5,IF(D85=3,Simulation!$C$6,IF(D85=4,Simulation!$C$7,IF(D85=5,Simulation!$C$8)))))))","v":false},0,null,null,null,"",null,null,null,null,0,null,0,0,"Inlap",null,null,"FL"]
[1,75,75,null,{"$f":"IF(D86=\"Grid\",Simulation!$B$2,IF(D86=\"WU\",Simulation!$B$3,IF(D86=1,Simulation!$B$4,IF(D86=2,Simulation!$B$5,IF(D86=3,Simulation!$B$6,IF(D86=4,Simulation!$B$7,IF(D86=5,Simulation!$B$8)))))))","v":false},{"$f":"IF(D86=\"Grid\",Simulation!$C$2,IF(D86=\"WU\",Simulation!$C$3,IF(D86=1,Simulation!$C$4,IF(D86=2,Simulation!$C$5,IF(D86=3,Simulation!$C$6,IF(D86=4,Simulation!$C$7,IF(D86=5,Simulation!$C$8)))))))","v":false},0,null,null,null,"",null,null,null,null,0,null,0,0,"Inlap",null,null,"FL"]
[1,76,76,null,{"$f":"IF(D87=\"Grid\",Simulation!$B$2,IF(D87=\"WU\",Simulation!$B$3,IF(D87=1,Simulation!$B$4,IF(D87=2,Simulation!$B$5,IF(D87=3,Simulation!$B$6,IF(D87=4,Simulation!$B$7,IF(D87=5,Simulation!$B$8)))))))","v":false},{"$f":"IF(D87=\"Grid\",Simulation!$C$2,IF(D87=\"WU\",Simulation!$C$3,IF(D87=1,Simulation!$C$4,IF(D87=2,Simulation!$C$5,IF(D87=3,Simulation!$C$6,IF(D87=4,Simulation!$C$7,IF(D87=5,Simulation!$C$8)))))))","v":false},0,null,null,null,"",null,null,null,null,0,null,0,0,"Inlap",null,null,"FL"]
[1,77,77,null,{"$f":"IF(D88=\"Grid\",Simulation!$B$2,IF(D88=\"WU\",Simulation!$B$3,IF(D88=1,Simulation!$B$4,IF(D88=2,Simulation!$B$5,IF(D88=3,Simulation!$B$6,IF(D88=4,Simulation!$B$7,IF(D88=5,Simulation!$B$8)))))))","v":false},{"$f":"IF(D88=\"Grid\",Simulation!$C$2,IF(D88=\"WU\",Simulation!$C$3,IF(D88=1,Simulation!$C$4,IF(D88=2,Simulation!$C$5,IF(D88=3,Simulation!$C$6,IF(D88=4,Simulation!$C$7,IF(D88=5,Simulation!$C$8)))))))","v":false},0,null,null,null,"",null,null,null,null,0,null,0,0,"Inlap",null,null,"FL"]
[1,78,78,null,{"$f":"IF(D89=\"Grid\",Simulation!$B$2,IF(D89=\"WU\",Simulation!$B$3,IF(D89=1,Simulation!$B$4,IF(D89=2,Simulation!$B$5,IF(D89=3,Simulation!$B$6,IF(D89=4,Simulation!$B$7,IF(D89=5,Simulation!$B$8)))))))","v":false},{"$f":"IF(D89=\"Grid\",Simulation!$C$2,IF(D89=\"WU\",Simulation!$C$3,IF(D89=1,Simulation!$C$4,IF(D89=2,Simulation!$C$5,IF(D89=3,Simulation!$C$6,IF(D89=4,Simulation!$C$7,IF(D89=5,Simulation!$C$8)))))))","v":false},0,null,null,null,"",null,null,null,null,0,null,0,0,"Inlap",null,null,"FL"]
[1,79,79,null,{"$f":"IF(D90=\"Grid\",Simulation!$B$2,IF(D90=\"WU\",Simulation!$B$3,IF(D90=1,Simulation!$B$4,IF(D90=2,Simulation!$B$5,IF(D90=3,Simulation!$B$6,IF(D90=4,Simulation!$B$7,IF(D90=5,Simulation!$B$8)))))))","v":false},{"$f":"IF(D90=\"Grid\",Simulation!$C$2,IF(D90=\"WU\",Simulation!$C$3,IF(D90=1,Simulation!$C$4,IF(D90=2,Simulation!$C$5,IF(D90=3,Simulation!$C$6,IF(D90=4,Simulation!$C$7,IF(D90=5,Simulation!$C$8)))))))","v":false},0,null,null,null,"",null,null,null,null,0,null,0,0,"Inlap",null,null,"FL"]
[1,80,80,null,{"$f":"IF(D91=\"Grid\",Simulation!$B$2,IF(D91=\"WU\",Simulation!$B$3,IF(D91=1,Simulation!$B$4,IF(D91=2,Simulation!$B$5,IF(D91=3,Simulation!$B$6,IF(D91=4,Simulation!$B$7,IF(D91=5,Simulation!$B$8)))))))","v":false},{"$f":"IF(D91=\"Grid\",Simulation!$C$2,IF(D91=\"WU\",Simulation!$C$3,IF(D91=1,Simulation!$C$4,IF(D91=2,Simulation!$C$5,IF(D91=3,Simulation!$C$6,IF(D91=4,Simulation!$C$7,IF(D91=5,Simulation!$C$8)))))))","v":false},0,null,null,null,"",null,null,null,null,0,null,0,0,"Inlap",null,null,"FL"]
[1,81,81,null,{"$f":"IF(D92=\"Grid\",Simulation!$B$2,IF(D92=\"WU\",Simulation!$B$3,IF(D92=1,Simulation!$B$4,IF(D92=2,Simulation!$B$5,IF(D92=3,Simulation!$B$6,IF(D92=4,Simulation!$B$7,IF(D92=5,Simulation!$B$8)))))))","v":false},{"$f":"IF(D92=\"Grid\",Simulation!$C$2,IF(D92=\"WU\",Simulation!$C$3,IF(D92=1,Simulation!$C$4,IF(D92=2,Simulation!$C$5,IF(D92=3,Simulation!$C$6,IF(D92=4,Simulation!$C$7,IF(D92=5,Simulation!$C$8)))))))","v":false},0,null,null,null,"",null,null,null,null,0,null,0,0,"Inlap",null,null,"FL"]
[1,82,82,null,{"$f":"IF(D93=\"Grid\",Simulation!$B$2,IF(D93=\"WU\",Simulation!$B$3,IF(D93=1,Simulation!$B$4,IF(D93=2,Simulation!$B$5,IF(D93=3,Simulation!$B$6,IF(D93=4,Simulation!$B$7,IF(D93=5,Simulation!$B$8)))))))","v":false},{"$f":"IF(D93=\"Grid\",Simulation!$C$2,IF(D93=\"WU\",Simulation!$C$3,IF(D93=1,Simulation!$C$4,IF(D93=2,Simulation!$C$5,IF(D93=3,Simulation!$C$6,IF(D93=4,Simulation!$C$7,IF(D93=5,Simulation!$C$8)))))))","v":false},0,null,null,null,"",null,null,null,null,0,null,0,0,"Inlap",null,null,"FL"]
[1,83,83,null,{"$f":"IF(D94=\"Grid\",Simulation!$B$2,IF(D94=\"WU\",Simulation!$B$3,IF(D94=1,Simulation!$B$4,IF(D94=2,Simulation!$B$5,IF(D94=3,Simulation!$B$6,IF(D94=4,Simulation!$B$7,IF(D94=5,Simulation!$B$8)))))))","v":false},{"$f":"IF(D94=\"Grid\",Simulation!$C$2,IF(D94=\"WU\",Simulation!$C$3,IF(D94=1,Simulation!$C$4,IF(D94=2,Simulation!$C$5,IF(D94=3,Simulation!$C$6,IF(D94=4,Simulation!$C$7,IF(D94=5,Simulation!$C$8)))))))","v":false},0,null,null,null,"",null,null,null,null,0,null,0,0,"Inlap",null,null,"FL"]
[1,84,84,null,{"$f":"IF(D95=\"Grid\",Simulation!$B$2,IF(D95=\"WU\",Simulation!$B$3,IF(D95=1,Simulation!$B$4,IF(D95=2,Simulation!$B$5,IF(D95=3,Simulation!$B$6,IF(D95=4,Simulation!$B$7,IF(D95=5,Simulation!$B$8)))))))","v":false},{"$f":"IF(D95=\"Grid\",Simulation!$C$2,IF(D95=\"WU\",Simulation!$C$3,IF(D95=1,Simulation!$C$4,IF(D95=2,Simulation!$C$5,IF(D95=3,Simulation!$C$6,IF(D95=4,Simulation!$C$7,IF(D95=5,Simulation!$C$8)))))))","v":false},0,null,null,null,"",null,null,null,null,0,null,0,0,"Inlap",null,null,"FL"]
[1,85,85,null,{"$f":"IF(D96=\"Grid\",Simulation!$B$2,IF(D96=\"WU\",Simulation!$B$3,IF(D96=1,Simulation!$B$4,IF(D96=2,Simulation!$B$5,IF(D96=3,Simulation!$B$6,IF(D96=4,Simulation!$B$7,IF(D96=5,Simulation!$B$8)))))))","v":false},{"$f":"IF(D96=\"Grid\",Simulation!$C$2,IF(D96=\"WU\",Simulation!$C$3,IF(D96=1,Simulation!$C$4,IF(D96=2,Simulation!$C$5,IF(D96=3,Simulation!$C$6,IF(D96=4,Simulation!$C$7,IF(D96=5,Simulation!$C$8)))))))","v":false},0,null,null,null,"",null,null,null,null,0,null,0,0,"Inlap",null,null,"FL"]
[1,86,86,null,{"$f":"IF(D97=\"Grid\",Simulation!$B$2,IF(D97=\"WU\",Simulation!$B$3,IF(D97=1,Simulation!$B$4,IF(D97=2,Simulation!$B$5,IF(D97=3,Simulation!$B$6,IF(D97=4,Simulation!$B$7,IF(D97=5,Simulation!$B$8)))))))","v":false},{"$f":"IF(D97=\"Grid\",Simulation!$C$2,IF(D97=\"WU\",Simulation!$C$3,IF(D97=1,Simulation!$C$4,IF(D97=2,Simulation!$C$5,IF(D97=3,Simulation!$C$6,IF(D97=4,Simulation!$C$7,IF(D97=5,Simulation!$C$8)))))))","v":false},0,null,null,null,"",null,null,null,null,0,null,0,0,"Inlap",null,null,"FL"]
[1,87,87,null,{"$f":"IF(D98=\"Grid\",Simulation!$B$2,IF(D98=\"WU\",Simulation!$B$3,IF(D98=1,Simulation!$B$4,IF(D98=2,Simulation!$B$5,IF(D98=3,Simulation!$B$6,IF(D98=4,Simulation!$B$7,IF(D98=5,Simulation!$B$8)))))))","v":false},{"$f":"IF(D98=\"Grid\",Simulation!$C$2,IF(D98=\"WU\",Simulation!$C$3,IF(D98=1,Simulation!$C$4,IF(D98=2,Simulation!$C$5,IF(D98=3,Simulation!$C$6,IF(D98=4,Simulation!$C$7,IF(D98=5,Simulation!$C$8)))))))","v":false},0,null,null,null,"",null,null,null,null,0,null,0,0,"Inlap",null,null,"FL"]
[1,88,88,null,{"$f":"IF(D99=\"Grid\",Simulation!$B$2,IF(D99=\"WU\",Simulation!$B$3,IF(D99=1,Simulation!$B$4,IF(D99=2,Simulation!$B$5,IF(D99=3,Simulation!$B$6,IF(D99=4,Simulation!$B$7,IF(D99=5,Simulation!$B$8)))))))","v":false},{"$f":"IF(D99=\"Grid\",Simulation!$C$2,IF(D99=\"WU\",Simulation!$C$3,IF(D99=1,Simulation!$C$4,IF(D99=2,Simulation!$C$5,IF(D99=3,Simulation!$C$6,IF(D99=4,Simulation!$C$7,IF(D99=5,Simulation!$C$8)))))))","v":false},0,null,null,null,"",null,null,null,null,0,null,0,0,"Inlap",null,null,"FL"]
[1,89,89,null,{"$f":"IF(D100=\"Grid\",Simulation!$B$2,IF(D100=\"WU\",Simulation!$B$3,IF(D100=1,Simulation!$B$4,IF(D100=2,Simulation!$B$5,IF(D100=3,Simulation!$B$6,IF(D100=4,Simulation!$B$7,IF(D100=5,Simulation!$B$8)))))))","v":false},{"$f":"IF(D100=\"Grid\",Simulation!$C$2,IF(D100=\"WU\",Simulation!$C$3,IF(D100=1,Simulation!$C$4,IF(D100=2,Simulation!$C$5,IF(D100=3,Simulation!$C$6,IF(D100=4,Simulation!$C$7,IF(D100=5,Simulation!$C$8)))))))","v":false},0,null,null,null,"",null,null,null,null,0,null,0,0,"Inlap",null,null,"FL"]
[1,90,90,null,{"$f":"IF(D101=\"Grid\",Simulation!$B$2,IF(D101=\"WU\",Simulation!$B$3,IF(D101=1,Simulation!$B$4,IF(D101=2,Simulation!$B$5,IF(D101=3,Simulation!$B$6,IF(D101=4,Simulation!$B$7,IF(D101=5,Simulation!$B$8)))))))","v":false},{"$f":"IF(D101=\"Grid\",Simulation!$C$2,IF(D101=\"WU\",Simulation!$C$3,IF(D101=1,Simulation!$C$4,IF(D101=2,Simulation!$C$5,IF(D101=3,Simulation!$C$6,IF(D101=4,Simulation!$C$7,IF(D101=5,Simulation!$C$8)))))))","v":false},0,null,null,null,"",null,null,null,null,0,null,0,0,"Inlap",null,null,"FL"]
[1,91,91,null,{"$f":"IF(D102=\"Grid\",Simulation!$B$2,IF(D102=\"WU\",Simulation!$B$3,IF(D102=1,Simulation!$B$4,IF(D102=2,Simulation!$B$5,IF(D102=3,Simulation!$B$6,IF(D102=4,Simulation!$B$7,IF(D102=5,Simulation!$B$8)))))))","v":false},{"$f":"IF(D102=\"Grid\",Simulation!$C$2,IF(D102=\"WU\",Simulation!$C$3,IF(D102=1,Simulation!$C$4,IF(D102=2,Simulation!$C$5,IF(D102=3,Simulation!$C$6,IF(D102=4,Simulation!$C$7,IF(D102=5,Simulation!$C$8)))))))","v":false},0,null,null,null,"",null,null,null,null,0,null,0,0,"Inlap",null,null,"FL"]
[1,92,92,null,{"$f":"IF(D103=\"Grid\",Simulation!$B$2,IF(D103=\"WU\",Simulation!$B$3,IF(D103=1,Simulation!$B$4,IF(D103=2,Simulation!$B$5,IF(D103=3,Simulation!$B$6,IF(D103=4,Simulation!$B$7,IF(D103=5,Simulation!$B$8)))))))","v":false},{"$f":"IF(D103=\"Grid\",Simulation!$C$2,IF(D103=\"WU\",Simulation!$C$3,IF(D103=1,Simulation!$C$4,IF(D103=2,Simulation!$C$5,IF(D103=3,Simulation!$C$6,IF(D103=4,Simulation!$C$7,IF(D103=5,Simulation!$C$8)))))))","v":false},0,null,null,null,"",null,null,null,null,0,null,0,0,"Inlap",null,null,"FL"]
[1,93,93,null,{"$f":"IF(D104=\"Grid\",Simulation!$B$2,IF(D104=\"WU\",Simulation!$B$3,IF(D104=1,Simulation!$B$4,IF(D104=2,Simulation!$B$5,IF(D104=3,Simulation!$B$6,IF(D104=4,Simulation!$B$7,IF(D104=5,Simulation!$B$8)))))))","v":false},{"$f":"IF(D104=\"Grid\",Simulation!$C$2,IF(D104=\"WU\",Simulation!$C$3,IF(D104=1,Simulation!$C$4,IF(D104=2,Simulation!$C$5,IF(D104=3,Simulation!$C$6,IF(D104=4,Simulation!$C$7,IF(D104=5,Simulation!$C$8)))))))","v":false},0,null,null,null,"",null,null,null,null,0,null,0,0,"Inlap",null,null,"FL"]
[1,94,94,null,{"$f":"IF(D105=\"Grid\",Simulation!$B$2,IF(D105=\"WU\",Simulation!$B$3,IF(D105=1,Simulation!$B$4,IF(D105=2,Simulation!$B$5,IF(D105=3,Simulation!$B$6,IF(D105=4,Simulation!$B$7,IF(D105=5,Simulation!$B$8)))))))","v":false},{"$f":"IF(D105=\"Grid\",Simulation!$C$2,IF(D105=\"WU\",Simulation!$C$3,IF(D105=1,Simulation!$C$4,IF(D105=2,Simulation!$C$5,IF(D105=3,Simulation!$C$6,IF(D105=4,Simulation!$C$7,IF(D105=5,Simulation!$C$8)))))))","v":false},0,null,null,null,"",null,null,null,null,0,null,0,0,"Inlap",null,null,"FL"]
[1,95,95,null,{"$f":"IF(D106=\"Grid\",Simulation!$B$2,IF(D106=\"WU\",Simulation!$B$3,IF(D106=1,Simulation!$B$4,IF(D106=2,Simulation!$B$5,IF(D106=3,Simulation!$B$6,IF(D106=4,Simulation!$B$7,IF(D106=5,Simulation!$B$8)))))))","v":false},{"$f":"IF(D106=\"Grid\",Simulation!$C$2,IF(D106=\"WU\",Simulation!$C$3,IF(D106=1,Simulation!$C$4,IF(D106=2,Simulation!$C$5,IF(D106=3,Simulation!$C$6,IF(D106=4,Simulation!$C$7,IF(D106=5,Simulation!$C$8)))))))","v":false},0,null,null,null,"",null,null,null,null,0,null,0,0,"Inlap",null,null,"FL"]
[1,96,96,null,{"$f":"IF(D107=\"Grid\",Simulation!$B$2,IF(D107=\"WU\",Simulation!$B$3,IF(D107=1,Simulation!$B$4,IF(D107=2,Simulation!$B$5,IF(D107=3,Simulation!$B$6,IF(D107=4,Simulation!$B$7,IF(D107=5,Simulation!$B$8)))))))","v":false},{"$f":"IF(D107=\"Grid\",Simulation!$C$2,IF(D107=\"WU\",Simulation!$C$3,IF(D107=1,Simulation!$C$4,IF(D107=2,Simulation!$C$5,IF(D107=3,Simulation!$C$6,IF(D107=4,Simulation!$C$7,IF(D107=5,Simulation!$C$8)))))))","v":false},0,null,null,null,"",null,null,null,null,0,null,0,0,"Inlap",null,null,"FL"]
[1,97,97,null,{"$f":"IF(D108=\"Grid\",Simulation!$B$2,IF(D108=\"WU\",Simulation!$B$3,IF(D108=1,Simulation!$B$4,IF(D108=2,Simulation!$B$5,IF(D108=3,Simulation!$B$6,IF(D108=4,Simulation!$B$7,IF(D108=5,Simulation!$B$8)))))))","v":false},{"$f":"IF(D108=\"Grid\",Simulation!$C$2,IF(D108=\"WU\",Simulation!$C$3,IF(D108=1,Simulation!$C$4,IF(D108=2,Simulation!$C$5,IF(D108=3,Simulation!$C$6,IF(D108=4,Simulation!$C$7,IF(D108=5,Simulation!$C$8)))))))","v":false},0,null,null,null,"",null,null,null,null,0,null,0,0,"Inlap",null,null,"FL"]
[1,98,98,null,{"$f":"IF(D109=\"Grid\",Simulation!$B$2,IF(D109=\"WU\",Simulation!$B$3,IF(D109=1,Simulation!$B$4,IF(D109=2,Simulation!$B$5,IF(D109=3,Simulation!$B$6,IF(D109=4,Simulation!$B$7,IF(D109=5,Simulation!$B$8)))))))","v":false},{"$f":"IF(D109=\"Grid\",Simulation!$C$2,IF(D109=\"WU\",Simulation!$C$3,IF(D109=1,Simulation!$C$4,IF(D109=2,Simulation!$C$5,IF(D109=3,Simulation!$C$6,IF(D109=4,Simulation!$C$7,IF(D109=5,Simulation!$C$8)))))))","v":false},0,null,null,null,"",null,null,null,null,0,null,0,0,"Inlap",null,null,"FL"]
[1,99,99,null,{"$f":"IF(D110=\"Grid\",Simulation!$B$2,IF(D110=\"WU\",Simulation!$B$3,IF(D110=1,Simulation!$B$4,IF(D110=2,Simulation!$B$5,IF(D110=3,Simulation!$B$6,IF(D110=4,Simulation!$B$7,IF(D110=5,Simulation!$B$8)))))))","v":false},{"$f":"IF(D110=\"Grid\",Simulation!$C$2,IF(D110=\"WU\",Simulation!$C$3,IF(D110=1,Simulation!$C$4,IF(D110=2,Simulation!$C$5,IF(D110=3,Simulation!$C$6,IF(D110=4,Simulation!$C$7,IF(D110=5,Simulation!$C$8)))))))","v":false},0,null,null,null,"",null,null,null,null,{"$f":"IF(O110>0,Q110,Q110-Q109)","v":0},null,0,0,"Inlap",null,null,"FL"]
[1,100,100,null,{"$f":"IF(D111=\"Grid\",Simulation!$B$2,IF(D111=\"WU\",Simulation!$B$3,IF(D111=1,Simulation!$B$4,IF(D111=2,Simulation!$B$5,IF(D111=3,Simulation!$B$6,IF(D111=4,Simulation!$B$7,IF(D111=5,Simulation!$B$8)))))))","v":false},{"$f":"IF(D111=\"Grid\",Simulation!$C$2,IF(D111=\"WU\",Simulation!$C$3,IF(D111=1,Simulation!$C$4,IF(D111=2,Simulation!$C$5,IF(D111=3,Simulation!$C$6,IF(D111=4,Simulation!$C$7,IF(D111=5,Simulation!$C$8)))))))","v":false},0,null,null,null,"",null,null,null,null,0,null,0,0,"Inlap",null,null,"FL"]
[1,101,101,null,{"$f":"IF(D112=\"Grid\",Simulation!$B$2,IF(D112=\"WU\",Simulation!$B$3,IF(D112=1,Simulation!$B$4,IF(D112=2,Simulation!$B$5,IF(D112=3,Simulation!$B$6,IF(D112=4,Simulation!$B$7,IF(D112=5,Simulation!$B$8)))))))","v":false},{"$f":"IF(D112=\"Grid\",Simulation!$C$2,IF(D112=\"WU\",Simulation!$C$3,IF(D112=1,Simulation!$C$4,IF(D112=2,Simulation!$C$5,IF(D112=3,Simulation!$C$6,IF(D112=4,Simulation!$C$7,IF(D112=5,Simulation!$C$8)))))))","v":false},0,null,null,null,"",null,null,null,null,0,null,0,0,"Inlap",null,null,"FL"]
[1,102,102,null,{"$f":"IF(D113=\"Grid\",Simulation!$B$2,IF(D113=\"WU\",Simulation!$B$3,IF(D113=1,Simulation!$B$4,IF(D113=2,Simulation!$B$5,IF(D113=3,Simulation!$B$6,IF(D113=4,Simulation!$B$7,IF(D113=5,Simulation!$B$8)))))))","v":false},{"$f":"IF(D113=\"Grid\",Simulation!$C$2,IF(D113=\"WU\",Simulation!$C$3,IF(D113=1,Simulation!$C$4,IF(D113=2,Simulation!$C$5,IF(D113=3,Simulation!$C$6,IF(D113=4,Simulation!$C$7,IF(D113=5,Simulation!$C$8)))))))","v":false},0,null,null,null,"",null,null,null,null,0,null,0,0,"Inlap",null,null,"FL"]
[1,103,103,null,{"$f":"IF(D114=\"Grid\",Simulation!$B$2,IF(D114=\"WU\",Simulation!$B$3,IF(D114=1,Simulation!$B$4,IF(D114=2,Simulation!$B$5,IF(D114=3,Simulation!$B$6,IF(D114=4,Simulation!$B$7,IF(D114=5,Simulation!$B$8)))))))","v":false},{"$f":"IF(D114=\"Grid\",Simulation!$C$2,IF(D114=\"WU\",Simulation!$C$3,IF(D114=1,Simulation!$C$4,IF(D114=2,Simulation!$C$5,IF(D114=3,Simulation!$C$6,IF(D114=4,Simulation!$C$7,IF(D114=5,Simulation!$C$8)))))))","v":false},0,null,null,null,"",null,null,null,null,0,null,0,0,"Inlap",null,null,"FL"]
[1,104,104,null,{"$f":"IF(D115=\"Grid\",Simulation!$B$2,IF(D115=\"WU\",Simulation!$B$3,IF(D115=1,Simulation!$B$4,IF(D115=2,Simulation!$B$5,IF(D115=3,Simulation!$B$6,IF(D115=4,Simulation!$B$7,IF(D115=5,Simulation!$B$8)))))))","v":false},{"$f":"IF(D115=\"Grid\",Simulation!$C$2,IF(D115=\"WU\",Simulation!$C$3,IF(D115=1,Simulation!$C$4,IF(D115=2,Simulation!$C$5,IF(D115=3,Simulation!$C$6,IF(D115=4,Simulation!$C$7,IF(D115=5,Simulation!$C$8)))))))","v":false},0,null,null,null,"",null,null,null,null,0,null,0,0,"Inlap",null,null,"FL"]
[1,105,105,null,{"$f":"IF(D116=\"Grid\",Simulation!$B$2,IF(D116=\"WU\",Simulation!$B$3,IF(D116=1,Simulation!$B$4,IF(D116=2,Simulation!$B$5,IF(D116=3,Simulation!$B$6,IF(D116=4,Simulation!$B$7,IF(D116=5,Simulation!$B$8)))))))","v":false},{"$f":"IF(D116=\"Grid\",Simulation!$C$2,IF(D116=\"WU\",Simulation!$C$3,IF(D116=1,Simulation!$C$4,IF(D116=2,Simulation!$C$5,IF(D116=3,Simulation!$C$6,IF(D116=4,Simulation!$C$7,IF(D116=5,Simulation!$C$8)))))))","v":false},0,null,null,null,"",null,null,null,null,0,null,0,0,"Inlap",null,null,"FL"]
[1,106,106,null,{"$f":"IF(D117=\"Grid\",Simulation!$B$2,IF(D117=\"WU\",Simulation!$B$3,IF(D117=1,Simulation!$B$4,IF(D117=2,Simulation!$B$5,IF(D117=3,Simulation!$B$6,IF(D117=4,Simulation!$B$7,IF(D117=5,Simulation!$B$8)))))))","v":false},{"$f":"IF(D117=\"Grid\",Simulation!$C$2,IF(D117=\"WU\",Simulation!$C$3,IF(D117=1,Simulation!$C$4,IF(D117=2,Simulation!$C$5,IF(D117=3,Simulation!$C$6,IF(D117=4,Simulation!$C$7,IF(D117=5,Simulation!$C$8)))))))","v":false},0,null,null,null,"",null,null,null,null,0,null,{"$f":"IF(O117>0,Q117,Q117-Q116)","v":0},0,"Inlap",null,null,"FL"]
[1,107,107,null,{"$f":"IF(D118=\"Grid\",Simulation!$B$2,IF(D118=\"WU\",Simulation!$B$3,IF(D118=1,Simulation!$B$4,IF(D118=2,Simulation!$B$5,IF(D118=3,Simulation!$B$6,IF(D118=4,Simulation!$B$7,IF(D118=5,Simulation!$B$8)))))))","v":false},{"$f":"IF(D118=\"Grid\",Simulation!$C$2,IF(D118=\"WU\",Simulation!$C$3,IF(D118=1,Simulation!$C$4,IF(D118=2,Simulation!$C$5,IF(D118=3,Simulation!$C$6,IF(D118=4,Simulation!$C$7,IF(D118=5,Simulation!$C$8)))))))","v":false},0,null,null,null,"",null,null,null,null,0,null,0,0,"Inlap",null,null,"FL"]
[1,108,108,null,{"$f":"IF(D119=\"Grid\",Simulation!$B$2,IF(D119=\"WU\",Simulation!$B$3,IF(D119=1,Simulation!$B$4,IF(D119=2,Simulation!$B$5,IF(D119=3,Simulation!$B$6,IF(D119=4,Simulation!$B$7,IF(D119=5,Simulation!$B$8)))))))","v":false},{"$f":"IF(D119=\"Grid\",Simulation!$C$2,IF(D119=\"WU\",Simulation!$C$3,IF(D119=1,Simulation!$C$4,IF(D119=2,Simulation!$C$5,IF(D119=3,Simulation!$C$6,IF(D119=4,Simulation!$C$7,IF(D119=5,Simulation!$C$8)))))))","v":false},0,null,null,null,"",null,null,null,null,0,null,0,0,"Inlap",null,null,"FL"]
[1,109,109,null,{"$f":"IF(D120=\"Grid\",Simulation!$B$2,IF(D120=\"WU\",Simulation!$B$3,IF(D120=1,Simulation!$B$4,IF(D120=2,Simulation!$B$5,IF(D120=3,Simulation!$B$6,IF(D120=4,Simulation!$B$7,IF(D120=5,Simulation!$B$8)))))))","v":false},{"$f":"IF(D120=\"Grid\",Simulation!$C$2,IF(D120=\"WU\",Simulation!$C$3,IF(D120=1,Simulation!$C$4,IF(D120=2,Simulation!$C$5,IF(D120=3,Simulation!$C$6,IF(D120=4,Simulation!$C$7,IF(D120=5,Simulation!$C$8)))))))","v":false},0,null,null,null,"",null,null,null,null,0,null,0,0,"Inlap",null,null,"FL"]
[1,110,110,null,{"$f":"IF(D121=\"Grid\",Simulation!$B$2,IF(D121=\"WU\",Simulation!$B$3,IF(D121=1,Simulation!$B$4,IF(D121=2,Simulation!$B$5,IF(D121=3,Simulation!$B$6,IF(D121=4,Simulation!$B$7,IF(D121=5,Simulation!$B$8)))))))","v":false},{"$f":"IF(D121=\"Grid\",Simulation!$C$2,IF(D121=\"WU\",Simulation!$C$3,IF(D121=1,Simulation!$C$4,IF(D121=2,Simulation!$C$5,IF(D121=3,Simulation!$C$6,IF(D121=4,Simulation!$C$7,IF(D121=5,Simulation!$C$8)))))))","v":false},0,null,null,null,"",null,null,null,null,0,null,0,0,"Inlap",null,null,"FL"]
[1,111,111,null,{"$f":"IF(D122=\"Grid\",Simulation!$B$2,IF(D122=\"WU\",Simulation!$B$3,IF(D122=1,Simulation!$B$4,IF(D122=2,Simulation!$B$5,IF(D122=3,Simulation!$B$6,IF(D122=4,Simulation!$B$7,IF(D122=5,Simulation!$B$8)))))))","v":false},{"$f":"IF(D122=\"Grid\",Simulation!$C$2,IF(D122=\"WU\",Simulation!$C$3,IF(D122=1,Simulation!$C$4,IF(D122=2,Simulation!$C$5,IF(D122=3,Simulation!$C$6,IF(D122=4,Simulation!$C$7,IF(D122=5,Simulation!$C$8)))))))","v":false},0,null,null,null,"",null,null,null,null,0,null,0,0,"Inlap",null,null,"FL"]
[1,112,112,null,{"$f":"IF(D123=\"Grid\",Simulation!$B$2,IF(D123=\"WU\",Simulation!$B$3,IF(D123=1,Simulation!$B$4,IF(D123=2,Simulation!$B$5,IF(D123=3,Simulation!$B$6,IF(D123=4,Simulation!$B$7,IF(D123=5,Simulation!$B$8)))))))","v":false},{"$f":"IF(D123=\"Grid\",Simulation!$C$2,IF(D123=\"WU\",Simulation!$C$3,IF(D123=1,Simulation!$C$4,IF(D123=2,Simulation!$C$5,IF(D123=3,Simulation!$C$6,IF(D123=4,Simulation!$C$7,IF(D123=5,Simulation!$C$8)))))))","v":false},0,null,null,null,"",null,null,null,null,0,null,0,0,"Inlap",null,null,"FL"]
[1,113,113,null,{"$f":"IF(D124=\"Grid\",Simulation!$B$2,IF(D124=\"WU\",Simulation!$B$3,IF(D124=1,Simulation!$B$4,IF(D124=2,Simulation!$B$5,IF(D124=3,Simulation!$B$6,IF(D124=4,Simulation!$B$7,IF(D124=5,Simulation!$B$8)))))))","v":false},{"$f":"IF(D124=\"Grid\",Simulation!$C$2,IF(D124=\"WU\",Simulation!$C$3,IF(D124=1,Simulation!$C$4,IF(D124=2,Simulation!$C$5,IF(D124=3,Simulation!$C$6,IF(D124=4,Simulation!$C$7,IF(D124=5,Simulation!$C$8)))))))","v":false},0,null,null,null,"",null,null,null,null,0,null,0,0,"Inlap",null,null,"FL"]
[1,114,114,null,{"$f":"IF(D125=\"Grid\",Simulation!$B$2,IF(D125=\"WU\",Simulation!$B$3,IF(D125=1,Simulation!$B$4,IF(D125=2,Simulation!$B$5,IF(D125=3,Simulation!$B$6,IF(D125=4,Simulation!$B$7,IF(D125=5,Simulation!$B$8)))))))","v":false},{"$f":"IF(D125=\"Grid\",Simulation!$C$2,IF(D125=\"WU\",Simulation!$C$3,IF(D125=1,Simulation!$C$4,IF(D125=2,Simulation!$C$5,IF(D125=3,Simulation!$C$6,IF(D125=4,Simulation!$C$7,IF(D125=5,Simulation!$C$8)))))))","v":false},0,null,null,null,"",null,null,null,null,0,null,0,0,"Inlap",null,null,"FL"]
[1,115,115,null,{"$f":"IF(D126=\"Grid\",Simulation!$B$2,IF(D126=\"WU\",Simulation!$B$3,IF(D126=1,Simulation!$B$4,IF(D126=2,Simulation!$B$5,IF(D126=3,Simulation!$B$6,IF(D126=4,Simulation!$B$7,IF(D126=5,Simulation!$B$8)))))))","v":false},{"$f":"IF(D126=\"Grid\",Simulation!$C$2,IF(D126=\"WU\",Simulation!$C$3,IF(D126=1,Simulation!$C$4,IF(D126=2,Simulation!$C$5,IF(D126=3,Simulation!$C$6,IF(D126=4,Simulation!$C$7,IF(D126=5,Simulation!$C$8)))))))","v":false},0,null,null,null,"",null,null,null,null,0,null,0,0,"Inlap",null,null,"FL"]
[1,116,116,null,{"$f":"IF(D127=\"Grid\",Simulation!$B$2,IF(D127=\"WU\",Simulation!$B$3,IF(D127=1,Simulation!$B$4,IF(D127=2,Simulation!$B$5,IF(D127=3,Simulation!$B$6,IF(D127=4,Simulation!$B$7,IF(D127=5,Simulation!$B$8)))))))","v":false},{"$f":"IF(D127=\"Grid\",Simulation!$C$2,IF(D127=\"WU\",Simulation!$C$3,IF(D127=1,Simulation!$C$4,IF(D127=2,Simulation!$C$5,IF(D127=3,Simulation!$C$6,IF(D127=4,Simulation!$C$7,IF(D127=5,Simulation!$C$8)))))))","v":false},0,null,null,null,"",null,null,null,null,0,null,0,0,"Inlap",null,null,"FL"]
[1,117,117,null,{"$f":"IF(D128=\"Grid\",Simulation!$B$2,IF(D128=\"WU\",Simulation!$B$3,IF(D128=1,Simulation!$B$4,IF(D128=2,Simulation!$B$5,IF(D128=3,Simulation!$B$6,IF(D128=4,Simulation!$B$7,IF(D128=5,Simulation!$B$8)))))))","v":false},{"$f":"IF(D128=\"Grid\",Simulation!$C$2,IF(D128=\"WU\",Simulation!$C$3,IF(D128=1,Simulation!$C$4,IF(D128=2,Simulation!$C$5,IF(D128=3,Simulation!$C$6,IF(D128=4,Simulation!$C$7,IF(D128=5,Simulation!$C$8)))))))","v":false},0,null,null,null,"",null,null,null,null,0,null,0,0,"Inlap",null,null,"FL"]
[1,118,118,null,{"$f":"IF(D129=\"Grid\",Simulation!$B$2,IF(D129=\"WU\",Simulation!$B$3,IF(D129=1,Simulation!$B$4,IF(D129=2,Simulation!$B$5,IF(D129=3,Simulation!$B$6,IF(D129=4,Simulation!$B$7,IF(D129=5,Simulation!$B$8)))))))","v":false},{"$f":"IF(D129=\"Grid\",Simulation!$C$2,IF(D129=\"WU\",Simulation!$C$3,IF(D129=1,Simulation!$C$4,IF(D129=2,Simulation!$C$5,IF(D129=3,Simulation!$C$6,IF(D129=4,Simulation!$C$7,IF(D129=5,Simulation!$C$8)))))))","v":false},0,null,null,null,"",null,null,null,null,0,null,0,0,"Inlap",null,null,"FL"]
[1,119,119,null,{"$f":"IF(D130=\"Grid\",Simulation!$B$2,IF(D130=\"WU\",Simulation!$B$3,IF(D130=1,Simulation!$B$4,IF(D130=2,Simulation!$B$5,IF(D130=3,Simulation!$B$6,IF(D130=4,Simulation!$B$7,IF(D130=5,Simulation!$B$8)))))))","v":false},{"$f":"IF(D130=\"Grid\",Simulation!$C$2,IF(D130=\"WU\",Simulation!$C$3,IF(D130=1,Simulation!$C$4,IF(D130=2,Simulation!$C$5,IF(D130=3,Simulation!$C$6,IF(D130=4,Simulation!$C$7,IF(D130=5,Simulation!$C$8)))))))","v":false},0,null,null,null,"",null,null,null,null,0,null,0,0,"Inlap",null,null,"FL"]
[1,120,120,null,{"$f":"IF(D131=\"Grid\",Simulation!$B$2,IF(D131=\"WU\",Simulation!$B$3,IF(D131=1,Simulation!$B$4,IF(D131=2,Simulation!$B$5,IF(D131=3,Simulation!$B$6,IF(D131=4,Simulation!$B$7,IF(D131=5,Simulation!$B$8)))))))","v":false},{"$f":"IF(D131=\"Grid\",Simulation!$C$2,IF(D131=\"WU\",Simulation!$C$3,IF(D131=1,Simulation!$C$4,IF(D131=2,Simulation!$C$5,IF(D131=3,Simulation!$C$6,IF(D131=4,Simulation!$C$7,IF(D131=5,Simulation!$C$8)))))))","v":false},0,null,null,null,"",null,null,null,null,0,null,0,0,"Inlap",null,null,"FL"]
[1,121,121,null,{"$f":"IF(D132=\"Grid\",Simulation!$B$2,IF(D132=\"WU\",Simulation!$B$3,IF(D132=1,Simulation!$B$4,IF(D132=2,Simulation!$B$5,IF(D132=3,Simulation!$B$6,IF(D132=4,Simulation!$B$7,IF(D132=5,Simulation!$B$8)))))))","v":false},{"$f":"IF(D132=\"Grid\",Simulation!$C$2,IF(D132=\"WU\",Simulation!$C$3,IF(D132=1,Simulation!$C$4,IF(D132=2,Simulation!$C$5,IF(D132=3,Simulation!$C$6,IF(D132=4,Simulation!$C$7,IF(D132=5,Simulation!$C$8)))))))","v":false},0,null,null,null,"",null,null,null,null,0,null,0,0,"Inlap",null,null,"FL"]
[1,122,122,null,{"$f":"IF(D133=\"Grid\",Simulation!$B$2,IF(D133=\"WU\",Simulation!$B$3,IF(D133=1,Simulation!$B$4,IF(D133=2,Simulation!$B$5,IF(D133=3,Simulation!$B$6,IF(D133=4,Simulation!$B$7,IF(D133=5,Simulation!$B$8)))))))","v":false},{"$f":"IF(D133=\"Grid\",Simulation!$C$2,IF(D133=\"WU\",Simulation!$C$3,IF(D133=1,Simulation!$C$4,IF(D133=2,Simulation!$C$5,IF(D133=3,Simulation!$C$6,IF(D133=4,Simulation!$C$7,IF(D133=5,Simulation!$C$8)))))))","v":false},0,null,null,null,"",null,null,null,null,0,null,0,0,"Inlap",null,null,"FL"]
[1,123,123,null,{"$f":"IF(D134=\"Grid\",Simulation!$B$2,IF(D134=\"WU\",Simulation!$B$3,IF(D134=1,Simulation!$B$4,IF(D134=2,Simulation!$B$5,IF(D134=3,Simulation!$B$6,IF(D134=4,Simulation!$B$7,IF(D134=5,Simulation!$B$8)))))))","v":false},{"$f":"IF(D134=\"Grid\",Simulation!$C$2,IF(D134=\"WU\",Simulation!$C$3,IF(D134=1,Simulation!$C$4,IF(D134=2,Simulation!$C$5,IF(D134=3,Simulation!$C$6,IF(D134=4,Simulation!$C$7,IF(D134=5,Simulation!$C$8)))))))","v":false},0,null,null,null,"",null,null,null,null,0,null,0,0,"Inlap",null,null,"FL"]
[1,124,124,null,{"$f":"IF(D135=\"Grid\",Simulation!$B$2,IF(D135=\"WU\",Simulation!$B$3,IF(D135=1,Simulation!$B$4,IF(D135=2,Simulation!$B$5,IF(D135=3,Simulation!$B$6,IF(D135=4,Simulation!$B$7,IF(D135=5,Simulation!$B$8)))))))","v":false},{"$f":"IF(D135=\"Grid\",Simulation!$C$2,IF(D135=\"WU\",Simulation!$C$3,IF(D135=1,Simulation!$C$4,IF(D135=2,Simulation!$C$5,IF(D135=3,Simulation!$C$6,IF(D135=4,Simulation!$C$7,IF(D135=5,Simulation!$C$8)))))))","v":false},0,null,null,null,"",null,null,null,null,0,null,0,0,"Inlap",null,null,"FL"]
[1,125,125,null,{"$f":"IF(D136=\"Grid\",Simulation!$B$2,IF(D136=\"WU\",Simulation!$B$3,IF(D136=1,Simulation!$B$4,IF(D136=2,Simulation!$B$5,IF(D136=3,Simulation!$B$6,IF(D136=4,Simulation!$B$7,IF(D136=5,Simulation!$B$8)))))))","v":false},{"$f":"IF(D136=\"Grid\",Simulation!$C$2,IF(D136=\"WU\",Simulation!$C$3,IF(D136=1,Simulation!$C$4,IF(D136=2,Simulation!$C$5,IF(D136=3,Simulation!$C$6,IF(D136=4,Simulation!$C$7,IF(D136=5,Simulation!$C$8)))))))","v":false},0,null,null,null,"",null,null,null,null,0,null,0,0,"Inlap",null,null,"FL"]
[1,126,126,null,{"$f":"IF(D137=\"Grid\",Simulation!$B$2,IF(D137=\"WU\",Simulation!$B$3,IF(D137=1,Simulation!$B$4,IF(D137=2,Simulation!$B$5,IF(D137=3,Simulation!$B$6,IF(D137=4,Simulation!$B$7,IF(D137=5,Simulation!$B$8)))))))","v":false},{"$f":"IF(D137=\"Grid\",Simulation!$C$2,IF(D137=\"WU\",Simulation!$C$3,IF(D137=1,Simulation!$C$4,IF(D137=2,Simulation!$C$5,IF(D137=3,Simulation!$C$6,IF(D137=4,Simulation!$C$7,IF(D137=5,Simulation!$C$8)))))))","v":false},0,null,null,null,"",null,null,null,null,0,null,0,0,"Inlap",null,null,"FL"]
[1,127,127,null,{"$f":"IF(D138=\"Grid\",Simulation!$B$2,IF(D138=\"WU\",Simulation!$B$3,IF(D138=1,Simulation!$B$4,IF(D138=2,Simulation!$B$5,IF(D138=3,Simulation!$B$6,IF(D138=4,Simulation!$B$7,IF(D138=5,Simulation!$B$8)))))))","v":false},{"$f":"IF(D138=\"Grid\",Simulation!$C$2,IF(D138=\"WU\",Simulation!$C$3,IF(D138=1,Simulation!$C$4,IF(D138=2,Simulation!$C$5,IF(D138=3,Simulation!$C$6,IF(D138=4,Simulation!$C$7,IF(D138=5,Simulation!$C$8)))))))","v":false},0,null,null,null,"",null,null,null,null,0,null,0,0,"Inlap",null,null,"FL"]
[1,128,128,null,{"$f":"IF(D139=\"Grid\",Simulation!$B$2,IF(D139=\"WU\",Simulation!$B$3,IF(D139=1,Simulation!$B$4,IF(D139=2,Simulation!$B$5,IF(D139=3,Simulation!$B$6,IF(D139=4,Simulation!$B$7,IF(D139=5,Simulation!$B$8)))))))","v":false},{"$f":"IF(D139=\"Grid\",Simulation!$C$2,IF(D139=\"WU\",Simulation!$C$3,IF(D139=1,Simulation!$C$4,IF(D139=2,Simulation!$C$5,IF(D139=3,Simulation!$C$6,IF(D139=4,Simulation!$C$7,IF(D139=5,Simulation!$C$8)))))))","v":false},0,null,null,null,"",null,null,null,null,0,null,0,0,{"$f":"IF(S139<=F139,\"Inlap\",IF(S139<=2*F139,\"Call: In this lap!\",IF(S139<=3*F139,\"Show in but don't call!\",\"\")))","v":"Inlap"},null,null,"FL"]
[{"$f":"IF(O140>0,A139+1,A139)","v":1},129,129,null,{"$f":"IF(D140=\"Grid\",Simulation!$B$2,IF(D140=\"WU\",Simulation!$B$3,IF(D140=1,Simulation!$B$4,IF(D140=2,Simulation!$B$5,IF(D140=3,Simulation!$B$6,IF(D140=4,Simulation!$B$7,IF(D140=5,Simulation!$B$8)))))))","v":false},{"$f":"IF(D140=\"Grid\",Simulation!$C$2,IF(D140=\"WU\",Simulation!$C$3,IF(D140=1,Simulation!$C$4,IF(D140=2,Simulation!$C$5,IF(D140=3,Simulation!$C$6,IF(D140=4,Simulation!$C$7,IF(D140=5,Simulation!$C$8)))))))","v":false},{"$f":"G139+O139-P139","v":0},null,null,null,"",null,null,null,null,0,null,0,{"$f":"IF(O140>0,O140+S139-Q140,S139-P140)","v":0},"Inlap",null,null,{"$f":"IF(J140=$Q$2,\"FL\",\"\")","v":"FL"}]
[1,130,130,null,{"$f":"IF(D141=\"Grid\",Simulation!$B$2,IF(D141=\"WU\",Simulation!$B$3,IF(D141=1,Simulation!$B$4,IF(D141=2,Simulation!$B$5,IF(D141=3,Simulation!$B$6,IF(D141=4,Simulation!$B$7,IF(D141=5,Simulation!$B$8)))))))","v":false},{"$f":"IF(D141=\"Grid\",Simulation!$C$2,IF(D141=\"WU\",Simulation!$C$3,IF(D141=1,Simulation!$C$4,IF(D141=2,Simulation!$C$5,IF(D141=3,Simulation!$C$6,IF(D141=4,Simulation!$C$7,IF(D141=5,Simulation!$C$8)))))))","v":false},0,null,null,null,{"$f":"IF(J141<>0,K140,\"\")","v":""},null,null,null,null,0,null,0,0,"Inlap",null,null,"FL"]
[1,131,{"$f":"IF(O142=\"\",C141+1,\"1\")","v":131},null,{"$f":"IF(D142=\"Grid\",Simulation!$B$2,IF(D142=\"WU\",Simulation!$B$3,IF(D142=1,Simulation!$B$4,IF(D142=2,Simulation!$B$5,IF(D142=3,Simulation!$B$6,IF(D142=4,Simulation!$B$7,IF(D142=5,Simulation!$B$8)))))))","v":false},{"$f":"IF(D142=\"Grid\",Simulation!$C$2,IF(D142=\"WU\",Simulation!$C$3,IF(D142=1,Simulation!$C$4,IF(D142=2,Simulation!$C$5,IF(D142=3,Simulation!$C$6,IF(D142=4,Simulation!$C$7,IF(D142=5,Simulation!$C$8)))))))","v":false},0,null,null,null,"",null,null,null,null,0,null,0,0,"Inlap",null,null,"FL"]
[1,132,132,null,{"$f":"IF(D143=\"Grid\",Simulation!$B$2,IF(D143=\"WU\",Simulation!$B$3,IF(D143=1,Simulation!$B$4,IF(D143=2,Simulation!$B$5,IF(D143=3,Simulation!$B$6,IF(D143=4,Simulation!$B$7,IF(D143=5,Simulation!$B$8)))))))","v":false},{"$f":"IF(D143=\"Grid\",Simulation!$C$2,IF(D143=\"WU\",Simulation!$C$3,IF(D143=1,Simulation!$C$4,IF(D143=2,Simulation!$C$5,IF(D143=3,Simulation!$C$6,IF(D143=4,Simulation!$C$7,IF(D143=5,Simulation!$C$8)))))))","v":false},0,null,null,null,"",null,null,null,null,0,null,0,0,"Inlap",null,null,"FL"]
[1,133,133,null,{"$f":"IF(D144=\"Grid\",Simulation!$B$2,IF(D144=\"WU\",Simulation!$B$3,IF(D144=1,Simulation!$B$4,IF(D144=2,Simulation!$B$5,IF(D144=3,Simulation!$B$6,IF(D144=4,Simulation!$B$7,IF(D144=5,Simulation!$B$8)))))))","v":false},{"$f":"IF(D144=\"Grid\",Simulation!$C$2,IF(D144=\"WU\",Simulation!$C$3,IF(D144=1,Simulation!$C$4,IF(D144=2,Simulation!$C$5,IF(D144=3,Simulation!$C$6,IF(D144=4,Simulation!$C$7,IF(D144=5,Simulation!$C$8)))))))","v":false},0,null,null,null,"",null,null,null,null,0,null,0,0,"Inlap",null,null,"FL"]
[1,134,134,null,{"$f":"IF(D145=\"Grid\",Simulation!$B$2,IF(D145=\"WU\",Simulation!$B$3,IF(D145=1,Simulation!$B$4,IF(D145=2,Simulation!$B$5,IF(D145=3,Simulation!$B$6,IF(D145=4,Simulation!$B$7,IF(D145=5,Simulation!$B$8)))))))","v":false},{"$f":"IF(D145=\"Grid\",Simulation!$C$2,IF(D145=\"WU\",Simulation!$C$3,IF(D145=1,Simulation!$C$4,IF(D145=2,Simulation!$C$5,IF(D145=3,Simulation!$C$6,IF(D145=4,Simulation!$C$7,IF(D145=5,Simulation!$C$8)))))))","v":false},0,null,null,null,"",null,null,null,null,0,null,0,0,"Inlap",null,null,"FL"]
[1,135,135,null,{"$f":"IF(D146=\"Grid\",Simulation!$B$2,IF(D146=\"WU\",Simulation!$B$3,IF(D146=1,Simulation!$B$4,IF(D146=2,Simulation!$B$5,IF(D146=3,Simulation!$B$6,IF(D146=4,Simulation!$B$7,IF(D146=5,Simulation!$B$8)))))))","v":false},{"$f":"IF(D146=\"Grid\",Simulation!$C$2,IF(D146=\"WU\",Simulation!$C$3,IF(D146=1,Simulation!$C$4,IF(D146=2,Simulation!$C$5,IF(D146=3,Simulation!$C$6,IF(D146=4,Simulation!$C$7,IF(D146=5,Simulation!$C$8)))))))","v":false},0,null,null,null,"",null,null,null,null,0,null,0,0,"Inlap",null,null,"FL"]
[1,136,136,null,{"$f":"IF(D147=\"Grid\",Simulation!$B$2,IF(D147=\"WU\",Simulation!$B$3,IF(D147=1,Simulation!$B$4,IF(D147=2,Simulation!$B$5,IF(D147=3,Simulation!$B$6,IF(D147=4,Simulation!$B$7,IF(D147=5,Simulation!$B$8)))))))","v":false},{"$f":"IF(D147=\"Grid\",Simulation!$C$2,IF(D147=\"WU\",Simulation!$C$3,IF(D147=1,Simulation!$C$4,IF(D147=2,Simulation!$C$5,IF(D147=3,Simulation!$C$6,IF(D147=4,Simulation!$C$7,IF(D147=5,Simulation!$C$8)))))))","v":false},0,null,null,null,"",null,null,null,null,0,null,0,0,"Inlap",null,null,"FL"]
[1,137,137,null,{"$f":"IF(D148=\"Grid\",Simulation!$B$2,IF(D148=\"WU\",Simulation!$B$3,IF(D148=1,Simulation!$B$4,IF(D148=2,Simulation!$B$5,IF(D148=3,Simulation!$B$6,IF(D148=4,Simulation!$B$7,IF(D148=5,Simulation!$B$8)))))))","v":false},{"$f":"IF(D148=\"Grid\",Simulation!$C$2,IF(D148=\"WU\",Simulation!$C$3,IF(D148=1,Simulation!$C$4,IF(D148=2,Simulation!$C$5,IF(D148=3,Simulation!$C$6,IF(D148=4,Simulation!$C$7,IF(D148=5,Simulation!$C$8)))))))","v":false},0,null,null,null,"",null,null,null,null,0,null,0,0,"Inlap",null,null,"FL"]
[1,138,138,null,{"$f":"IF(D149=\"Grid\",Simulation!$B$2,IF(D149=\"WU\",Simulation!$B$3,IF(D149=1,Simulation!$B$4,IF(D149=2,Simulation!$B$5,IF(D149=3,Simulation!$B$6,IF(D149=4,Simulation!$B$7,IF(D149=5,Simulation!$B$8)))))))","v":false},{"$f":"IF(D149=\"Grid\",Simulation!$C$2,IF(D149=\"WU\",Simulation!$C$3,IF(D149=1,Simulation!$C$4,IF(D149=2,Simulation!$C$5,IF(D149=3,Simulation!$C$6,IF(D149=4,Simulation!$C$7,IF(D149=5,Simulation!$C$8)))))))","v":false},0,null,null,null,"",null,null,null,null,0,null,0,0,"Inlap",null,null,"FL"]
[1,139,139,null,{"$f":"IF(D150=\"Grid\",Simulation!$B$2,IF(D150=\"WU\",Simulation!$B$3,IF(D150=1,Simulation!$B$4,IF(D150=2,Simulation!$B$5,IF(D150=3,Simulation!$B$6,IF(D150=4,Simulation!$B$7,IF(D150=5,Simulation!$B$8)))))))","v":false},{"$f":"IF(D150=\"Grid\",Simulation!$C$2,IF(D150=\"WU\",Simulation!$C$3,IF(D150=1,Simulation!$C$4,IF(D150=2,Simulation!$C$5,IF(D150=3,Simulation!$C$6,IF(D150=4,Simulation!$C$7,IF(D150=5,Simulation!$C$8)))))))","v":false},0,null,null,null,"",null,null,null,null,0,null,0,0,"Inlap",null,null,"FL"]
[1,140,140,null,{"$f":"IF(D151=\"Grid\",Simulation!$B$2,IF(D151=\"WU\",Simulation!$B$3,IF(D151=1,Simulation!$B$4,IF(D151=2,Simulation!$B$5,IF(D151=3,Simulation!$B$6,IF(D151=4,Simulation!$B$7,IF(D151=5,Simulation!$B$8)))))))","v":false},{"$f":"IF(D151=\"Grid\",Simulation!$C$2,IF(D151=\"WU\",Simulation!$C$3,IF(D151=1,Simulation!$C$4,IF(D151=2,Simulation!$C$5,IF(D151=3,Simulation!$C$6,IF(D151=4,Simulation!$C$7,IF(D151=5,Simulation!$C$8)))))))","v":false},0,null,null,null,"",null,null,null,null,0,null,0,0,"Inlap",null,null,"FL"]
[1,141,141,null,{"$f":"IF(D152=\"Grid\",Simulation!$B$2,IF(D152=\"WU\",Simulation!$B$3,IF(D152=1,Simulation!$B$4,IF(D152=2,Simulation!$B$5,IF(D152=3,Simulation!$B$6,IF(D152=4,Simulation!$B$7,IF(D152=5,Simulation!$B$8)))))))","v":false},{"$f":"IF(D152=\"Grid\",Simulation!$C$2,IF(D152=\"WU\",Simulation!$C$3,IF(D152=1,Simulation!$C$4,IF(D152=2,Simulation!$C$5,IF(D152=3,Simulation!$C$6,IF(D152=4,Simulation!$C$7,IF(D152=5,Simulation!$C$8)))))))","v":false},0,null,null,null,"",null,null,null,null,0,null,0,0,"Inlap",null,null,"FL"]
[1,142,142,null,{"$f":"IF(D153=\"Grid\",Simulation!$B$2,IF(D153=\"WU\",Simulation!$B$3,IF(D153=1,Simulation!$B$4,IF(D153=2,Simulation!$B$5,IF(D153=3,Simulation!$B$6,IF(D153=4,Simulation!$B$7,IF(D153=5,Simulation!$B$8)))))))","v":false},{"$f":"IF(D153=\"Grid\",Simulation!$C$2,IF(D153=\"WU\",Simulation!$C$3,IF(D153=1,Simulation!$C$4,IF(D153=2,Simulation!$C$5,IF(D153=3,Simulation!$C$6,IF(D153=4,Simulation!$C$7,IF(D153=5,Simulation!$C$8)))))))","v":false},0,null,null,null,"",null,null,null,null,0,null,0,0,"Inlap",null,null,"FL"]
[1,143,143,null,{"$f":"IF(D154=\"Grid\",Simulation!$B$2,IF(D154=\"WU\",Simulation!$B$3,IF(D154=1,Simulation!$B$4,IF(D154=2,Simulation!$B$5,IF(D154=3,Simulation!$B$6,IF(D154=4,Simulation!$B$7,IF(D154=5,Simulation!$B$8)))))))","v":false},{"$f":"IF(D154=\"Grid\",Simulation!$C$2,IF(D154=\"WU\",Simulation!$C$3,IF(D154=1,Simulation!$C$4,IF(D154=2,Simulation!$C$5,IF(D154=3,Simulation!$C$6,IF(D154=4,Simulation!$C$7,IF(D154=5,Simulation!$C$8)))))))","v":false},0,null,null,null,"",null,null,null,null,0,null,0,0,"Inlap",null,null,"FL"]
[1,144,144,null,{"$f":"IF(D155=\"Grid\",Simulation!$B$2,IF(D155=\"WU\",Simulation!$B$3,IF(D155=1,Simulation!$B$4,IF(D155=2,Simulation!$B$5,IF(D155=3,Simulation!$B$6,IF(D155=4,Simulation!$B$7,IF(D155=5,Simulation!$B$8)))))))","v":false},{"$f":"IF(D155=\"Grid\",Simulation!$C$2,IF(D155=\"WU\",Simulation!$C$3,IF(D155=1,Simulation!$C$4,IF(D155=2,Simulation!$C$5,IF(D155=3,Simulation!$C$6,IF(D155=4,Simulation!$C$7,IF(D155=5,Simulation!$C$8)))))))","v":false},0,null,null,null,"",null,null,null,null,0,null,0,0,"Inlap",null,null,"FL"]
[1,145,145,null,{"$f":"IF(D156=\"Grid\",Simulation!$B$2,IF(D156=\"WU\",Simulation!$B$3,IF(D156=1,Simulation!$B$4,IF(D156=2,Simulation!$B$5,IF(D156=3,Simulation!$B$6,IF(D156=4,Simulation!$B$7,IF(D156=5,Simulation!$B$8)))))))","v":false},{"$f":"IF(D156=\"Grid\",Simulation!$C$2,IF(D156=\"WU\",Simulation!$C$3,IF(D156=1,Simulation!$C$4,IF(D156=2,Simulation!$C$5,IF(D156=3,Simulation!$C$6,IF(D156=4,Simulation!$C$7,IF(D156=5,Simulation!$C$8)))))))","v":false},0,null,null,null,"",null,null,null,null,0,null,0,0,"Inlap",null,null,"FL"]
[1,146,146,null,{"$f":"IF(D157=\"Grid\",Simulation!$B$2,IF(D157=\"WU\",Simulation!$B$3,IF(D157=1,Simulation!$B$4,IF(D157=2,Simulation!$B$5,IF(D157=3,Simulation!$B$6,IF(D157=4,Simulation!$B$7,IF(D157=5,Simulation!$B$8)))))))","v":false},{"$f":"IF(D157=\"Grid\",Simulation!$C$2,IF(D157=\"WU\",Simulation!$C$3,IF(D157=1,Simulation!$C$4,IF(D157=2,Simulation!$C$5,IF(D157=3,Simulation!$C$6,IF(D157=4,Simulation!$C$7,IF(D157=5,Simulation!$C$8)))))))","v":false},0,null,null,null,"",null,null,null,null,0,null,0,0,"Inlap",null,null,"FL"]
[1,147,147,null,{"$f":"IF(D158=\"Grid\",Simulation!$B$2,IF(D158=\"WU\",Simulation!$B$3,IF(D158=1,Simulation!$B$4,IF(D158=2,Simulation!$B$5,IF(D158=3,Simulation!$B$6,IF(D158=4,Simulation!$B$7,IF(D158=5,Simulation!$B$8)))))))","v":false},{"$f":"IF(D158=\"Grid\",Simulation!$C$2,IF(D158=\"WU\",Simulation!$C$3,IF(D158=1,Simulation!$C$4,IF(D158=2,Simulation!$C$5,IF(D158=3,Simulation!$C$6,IF(D158=4,Simulation!$C$7,IF(D158=5,Simulation!$C$8)))))))","v":false},0,null,null,null,"",null,null,null,null,0,null,0,0,"Inlap",null,null,"FL"]
[1,148,148,null,{"$f":"IF(D159=\"Grid\",Simulation!$B$2,IF(D159=\"WU\",Simulation!$B$3,IF(D159=1,Simulation!$B$4,IF(D159=2,Simulation!$B$5,IF(D159=3,Simulation!$B$6,IF(D159=4,Simulation!$B$7,IF(D159=5,Simulation!$B$8)))))))","v":false},{"$f":"IF(D159=\"Grid\",Simulation!$C$2,IF(D159=\"WU\",Simulation!$C$3,IF(D159=1,Simulation!$C$4,IF(D159=2,Simulation!$C$5,IF(D159=3,Simulation!$C$6,IF(D159=4,Simulation!$C$7,IF(D159=5,Simulation!$C$8)))))))","v":false},0,null,null,null,"",null,null,null,null,0,null,0,0,"Inlap",null,null,"FL"]
[1,149,149,null,{"$f":"IF(D160=\"Grid\",Simulation!$B$2,IF(D160=\"WU\",Simulation!$B$3,IF(D160=1,Simulation!$B$4,IF(D160=2,Simulation!$B$5,IF(D160=3,Simulation!$B$6,IF(D160=4,Simulation!$B$7,IF(D160=5,Simulation!$B$8)))))))","v":false},{"$f":"IF(D160=\"Grid\",Simulation!$C$2,IF(D160=\"WU\",Simulation!$C$3,IF(D160=1,Simulation!$C$4,IF(D160=2,Simulation!$C$5,IF(D160=3,Simulation!$C$6,IF(D160=4,Simulation!$C$7,IF(D160=5,Simulation!$C$8)))))))","v":false},0,null,null,null,"",null,null,null,null,0,null,0,0,"Inlap",null,null,"FL"]
[1,150,150,null,{"$f":"IF(D161=\"Grid\",Simulation!$B$2,IF(D161=\"WU\",Simulation!$B$3,IF(D161=1,Simulation!$B$4,IF(D161=2,Simulation!$B$5,IF(D161=3,Simulation!$B$6,IF(D161=4,Simulation!$B$7,IF(D161=5,Simulation!$B$8)))))))","v":false},{"$f":"IF(D161=\"Grid\",Simulation!$C$2,IF(D161=\"WU\",Simulation!$C$3,IF(D161=1,Simulation!$C$4,IF(D161=2,Simulation!$C$5,IF(D161=3,Simulation!$C$6,IF(D161=4,Simulation!$C$7,IF(D161=5,Simulation!$C$8)))))))","v":false},0,null,null,null,"",null,null,null,null,0,null,0,0,"Inlap",null,null,"FL"]
[1,151,151,null,{"$f":"IF(D162=\"Grid\",Simulation!$B$2,IF(D162=\"WU\",Simulation!$B$3,IF(D162=1,Simulation!$B$4,IF(D162=2,Simulation!$B$5,IF(D162=3,Simulation!$B$6,IF(D162=4,Simulation!$B$7,IF(D162=5,Simulation!$B$8)))))))","v":false},{"$f":"IF(D162=\"Grid\",Simulation!$C$2,IF(D162=\"WU\",Simulation!$C$3,IF(D162=1,Simulation!$C$4,IF(D162=2,Simulation!$C$5,IF(D162=3,Simulation!$C$6,IF(D162=4,Simulation!$C$7,IF(D162=5,Simulation!$C$8)))))))","v":false},0,null,null,null,"",null,null,null,null,0,null,0,0,"Inlap",null,null,"FL"]
[1,152,152,null,{"$f":"IF(D163=\"Grid\",Simulation!$B$2,IF(D163=\"WU\",Simulation!$B$3,IF(D163=1,Simulation!$B$4,IF(D163=2,Simulation!$B$5,IF(D163=3,Simulation!$B$6,IF(D163=4,Simulation!$B$7,IF(D163=5,Simulation!$B$8)))))))","v":false},{"$f":"IF(D163=\"Grid\",Simulation!$C$2,IF(D163=\"WU\",Simulation!$C$3,IF(D163=1,Simulation!$C$4,IF(D163=2,Simulation!$C$5,IF(D163=3,Simulation!$C$6,IF(D163=4,Simulation!$C$7,IF(D163=5,Simulation!$C$8)))))))","v":false},0,null,null,null,"",null,null,null,null,0,null,0,0,"Inlap",null,null,"FL"]
[1,153,153,null,{"$f":"IF(D164=\"Grid\",Simulation!$B$2,IF(D164=\"WU\",Simulation!$B$3,IF(D164=1,Simulation!$B$4,IF(D164=2,Simulation!$B$5,IF(D164=3,Simulation!$B$6,IF(D164=4,Simulation!$B$7,IF(D164=5,Simulation!$B$8)))))))","v":false},{"$f":"IF(D164=\"Grid\",Simulation!$C$2,IF(D164=\"WU\",Simulation!$C$3,IF(D164=1,Simulation!$C$4,IF(D164=2,Simulation!$C$5,IF(D164=3,Simulation!$C$6,IF(D164=4,Simulation!$C$7,IF(D164=5,Simulation!$C$8)))))))","v":false},0,null,null,null,"",null,null,null,null,0,null,0,0,"Inlap",null,null,"FL"]
[1,154,154,null,{"$f":"IF(D165=\"Grid\",Simulation!$B$2,IF(D165=\"WU\",Simulation!$B$3,IF(D165=1,Simulation!$B$4,IF(D165=2,Simulation!$B$5,IF(D165=3,Simulation!$B$6,IF(D165=4,Simulation!$B$7,IF(D165=5,Simulation!$B$8)))))))","v":false},{"$f":"IF(D165=\"Grid\",Simulation!$C$2,IF(D165=\"WU\",Simulation!$C$3,IF(D165=1,Simulation!$C$4,IF(D165=2,Simulation!$C$5,IF(D165=3,Simulation!$C$6,IF(D165=4,Simulation!$C$7,IF(D165=5,Simulation!$C$8)))))))","v":false},0,null,null,null,"",null,null,null,null,0,null,0,0,"Inlap",null,null,"FL"]
[1,155,155,null,{"$f":"IF(D166=\"Grid\",Simulation!$B$2,IF(D166=\"WU\",Simulation!$B$3,IF(D166=1,Simulation!$B$4,IF(D166=2,Simulation!$B$5,IF(D166=3,Simulation!$B$6,IF(D166=4,Simulation!$B$7,IF(D166=5,Simulation!$B$8)))))))","v":false},{"$f":"IF(D166=\"Grid\",Simulation!$C$2,IF(D166=\"WU\",Simulation!$C$3,IF(D166=1,Simulation!$C$4,IF(D166=2,Simulation!$C$5,IF(D166=3,Simulation!$C$6,IF(D166=4,Simulation!$C$7,IF(D166=5,Simulation!$C$8)))))))","v":false},0,null,null,null,"",null,null,null,null,0,null,0,0,"Inlap",null,null,"FL"]
[1,156,156,null,{"$f":"IF(D167=\"Grid\",Simulation!$B$2,IF(D167=\"WU\",Simulation!$B$3,IF(D167=1,Simulation!$B$4,IF(D167=2,Simulation!$B$5,IF(D167=3,Simulation!$B$6,IF(D167=4,Simulation!$B$7,IF(D167=5,Simulation!$B$8)))))))","v":false},{"$f":"IF(D167=\"Grid\",Simulation!$C$2,IF(D167=\"WU\",Simulation!$C$3,IF(D167=1,Simulation!$C$4,IF(D167=2,Simulation!$C$5,IF(D167=3,Simulation!$C$6,IF(D167=4,Simulation!$C$7,IF(D167=5,Simulation!$C$8)))))))","v":false},0,null,null,null,"",null,null,null,null,0,null,0,0,"Inlap",null,null,"FL"]
[1,157,157,null,{"$f":"IF(D168=\"Grid\",Simulation!$B$2,IF(D168=\"WU\",Simulation!$B$3,IF(D168=1,Simulation!$B$4,IF(D168=2,Simulation!$B$5,IF(D168=3,Simulation!$B$6,IF(D168=4,Simulation!$B$7,IF(D168=5,Simulation!$B$8)))))))","v":false},{"$f":"IF(D168=\"Grid\",Simulation!$C$2,IF(D168=\"WU\",Simulation!$C$3,IF(D168=1,Simulation!$C$4,IF(D168=2,Simulation!$C$5,IF(D168=3,Simulation!$C$6,IF(D168=4,Simulation!$C$7,IF(D168=5,Simulation!$C$8)))))))","v":false},0,null,null,null,"",null,null,null,null,0,null,0,0,"Inlap",null,null,"FL"]
[1,158,158,null,{"$f":"IF(D169=\"Grid\",Simulation!$B$2,IF(D169=\"WU\",Simulation!$B$3,IF(D169=1,Simulation!$B$4,IF(D169=2,Simulation!$B$5,IF(D169=3,Simulation!$B$6,IF(D169=4,Simulation!$B$7,IF(D169=5,Simulation!$B$8)))))))","v":false},{"$f":"IF(D169=\"Grid\",Simulation!$C$2,IF(D169=\"WU\",Simulation!$C$3,IF(D169=1,Simulation!$C$4,IF(D169=2,Simulation!$C$5,IF(D169=3,Simulation!$C$6,IF(D169=4,Simulation!$C$7,IF(D169=5,Simulation!$C$8)))))))","v":false},0,null,null,null,"",null,null,null,null,0,null,0,0,"Inlap",null,null,"FL"]
[1,159,159,null,{"$f":"IF(D170=\"Grid\",Simulation!$B$2,IF(D170=\"WU\",Simulation!$B$3,IF(D170=1,Simulation!$B$4,IF(D170=2,Simulation!$B$5,IF(D170=3,Simulation!$B$6,IF(D170=4,Simulation!$B$7,IF(D170=5,Simulation!$B$8)))))))","v":false},{"$f":"IF(D170=\"Grid\",Simulation!$C$2,IF(D170=\"WU\",Simulation!$C$3,IF(D170=1,Simulation!$C$4,IF(D170=2,Simulation!$C$5,IF(D170=3,Simulation!$C$6,IF(D170=4,Simulation!$C$7,IF(D170=5,Simulation!$C$8)))))))","v":false},0,null,null,null,"",null,null,null,null,0,null,0,0,"Inlap",null,null,"FL"]
[1,160,160,null,{"$f":"IF(D171=\"Grid\",Simulation!$B$2,IF(D171=\"WU\",Simulation!$B$3,IF(D171=1,Simulation!$B$4,IF(D171=2,Simulation!$B$5,IF(D171=3,Simulation!$B$6,IF(D171=4,Simulation!$B$7,IF(D171=5,Simulation!$B$8)))))))","v":false},{"$f":"IF(D171=\"Grid\",Simulation!$C$2,IF(D171=\"WU\",Simulation!$C$3,IF(D171=1,Simulation!$C$4,IF(D171=2,Simulation!$C$5,IF(D171=3,Simulation!$C$6,IF(D171=4,Simulation!$C$7,IF(D171=5,Simulation!$C$8)))))))","v":false},0,null,null,null,"",null,null,null,null,0,null,0,0,"Inlap",null,null,"FL"]
[1,161,161,null,{"$f":"IF(D172=\"Grid\",Simulation!$B$2,IF(D172=\"WU\",Simulation!$B$3,IF(D172=1,Simulation!$B$4,IF(D172=2,Simulation!$B$5,IF(D172=3,Simulation!$B$6,IF(D172=4,Simulation!$B$7,IF(D172=5,Simulation!$B$8)))))))","v":false},{"$f":"IF(D172=\"Grid\",Simulation!$C$2,IF(D172=\"WU\",Simulation!$C$3,IF(D172=1,Simulation!$C$4,IF(D172=2,Simulation!$C$5,IF(D172=3,Simulation!$C$6,IF(D172=4,Simulation!$C$7,IF(D172=5,Simulation!$C$8)))))))","v":false},0,null,null,null,"",null,null,null,null,0,null,0,0,"Inlap",null,null,"FL"]
[1,162,162,null,{"$f":"IF(D173=\"Grid\",Simulation!$B$2,IF(D173=\"WU\",Simulation!$B$3,IF(D173=1,Simulation!$B$4,IF(D173=2,Simulation!$B$5,IF(D173=3,Simulation!$B$6,IF(D173=4,Simulation!$B$7,IF(D173=5,Simulation!$B$8)))))))","v":false},{"$f":"IF(D173=\"Grid\",Simulation!$C$2,IF(D173=\"WU\",Simulation!$C$3,IF(D173=1,Simulation!$C$4,IF(D173=2,Simulation!$C$5,IF(D173=3,Simulation!$C$6,IF(D173=4,Simulation!$C$7,IF(D173=5,Simulation!$C$8)))))))","v":false},0,null,null,null,"",null,null,null,null,0,null,0,0,"Inlap",null,null,"FL"]
[1,163,163,null,{"$f":"IF(D174=\"Grid\",Simulation!$B$2,IF(D174=\"WU\",Simulation!$B$3,IF(D174=1,Simulation!$B$4,IF(D174=2,Simulation!$B$5,IF(D174=3,Simulation!$B$6,IF(D174=4,Simulation!$B$7,IF(D174=5,Simulation!$B$8)))))))","v":false},{"$f":"IF(D174=\"Grid\",Simulation!$C$2,IF(D174=\"WU\",Simulation!$C$3,IF(D174=1,Simulation!$C$4,IF(D174=2,Simulation!$C$5,IF(D174=3,Simulation!$C$6,IF(D174=4,Simulation!$C$7,IF(D174=5,Simulation!$C$8)))))))","v":false},0,null,null,null,"",null,null,null,null,{"$f":"IF(O174>0,Q174,Q174-Q173)","v":0},null,0,0,"Inlap",null,null,"FL"]
[1,164,164,null,{"$f":"IF(D175=\"Grid\",Simulation!$B$2,IF(D175=\"WU\",Simulation!$B$3,IF(D175=1,Simulation!$B$4,IF(D175=2,Simulation!$B$5,IF(D175=3,Simulation!$B$6,IF(D175=4,Simulation!$B$7,IF(D175=5,Simulation!$B$8)))))))","v":false},{"$f":"IF(D175=\"Grid\",Simulation!$C$2,IF(D175=\"WU\",Simulation!$C$3,IF(D175=1,Simulation!$C$4,IF(D175=2,Simulation!$C$5,IF(D175=3,Simulation!$C$6,IF(D175=4,Simulation!$C$7,IF(D175=5,Simulation!$C$8)))))))","v":false},0,null,null,null,"",null,null,null,null,0,null,0,0,"Inlap",null,null,"FL"]
[1,165,165,null,{"$f":"IF(D176=\"Grid\",Simulation!$B$2,IF(D176=\"WU\",Simulation!$B$3,IF(D176=1,Simulation!$B$4,IF(D176=2,Simulation!$B$5,IF(D176=3,Simulation!$B$6,IF(D176=4,Simulation!$B$7,IF(D176=5,Simulation!$B$8)))))))","v":false},{"$f":"IF(D176=\"Grid\",Simulation!$C$2,IF(D176=\"WU\",Simulation!$C$3,IF(D176=1,Simulation!$C$4,IF(D176=2,Simulation!$C$5,IF(D176=3,Simulation!$C$6,IF(D176=4,Simulation!$C$7,IF(D176=5,Simulation!$C$8)))))))","v":false},0,null,null,null,"",null,null,null,null,0,null,0,0,"Inlap",null,null,"FL"]
[1,166,166,null,{"$f":"IF(D177=\"Grid\",Simulation!$B$2,IF(D177=\"WU\",Simulation!$B$3,IF(D177=1,Simulation!$B$4,IF(D177=2,Simulation!$B$5,IF(D177=3,Simulation!$B$6,IF(D177=4,Simulation!$B$7,IF(D177=5,Simulation!$B$8)))))))","v":false},{"$f":"IF(D177=\"Grid\",Simulation!$C$2,IF(D177=\"WU\",Simulation!$C$3,IF(D177=1,Simulation!$C$4,IF(D177=2,Simulation!$C$5,IF(D177=3,Simulation!$C$6,IF(D177=4,Simulation!$C$7,IF(D177=5,Simulation!$C$8)))))))","v":false},0,null,null,null,"",null,null,null,null,0,null,0,0,"Inlap",null,null,"FL"]
[1,167,167,null,{"$f":"IF(D178=\"Grid\",Simulation!$B$2,IF(D178=\"WU\",Simulation!$B$3,IF(D178=1,Simulation!$B$4,IF(D178=2,Simulation!$B$5,IF(D178=3,Simulation!$B$6,IF(D178=4,Simulation!$B$7,IF(D178=5,Simulation!$B$8)))))))","v":false},{"$f":"IF(D178=\"Grid\",Simulation!$C$2,IF(D178=\"WU\",Simulation!$C$3,IF(D178=1,Simulation!$C$4,IF(D178=2,Simulation!$C$5,IF(D178=3,Simulation!$C$6,IF(D178=4,Simulation!$C$7,IF(D178=5,Simulation!$C$8)))))))","v":false},0,null,null,null,"",null,null,null,null,0,null,0,0,"Inlap",null,null,"FL"]
[1,168,168,null,{"$f":"IF(D179=\"Grid\",Simulation!$B$2,IF(D179=\"WU\",Simulation!$B$3,IF(D179=1,Simulation!$B$4,IF(D179=2,Simulation!$B$5,IF(D179=3,Simulation!$B$6,IF(D179=4,Simulation!$B$7,IF(D179=5,Simulation!$B$8)))))))","v":false},{"$f":"IF(D179=\"Grid\",Simulation!$C$2,IF(D179=\"WU\",Simulation!$C$3,IF(D179=1,Simulation!$C$4,IF(D179=2,Simulation!$C$5,IF(D179=3,Simulation!$C$6,IF(D179=4,Simulation!$C$7,IF(D179=5,Simulation!$C$8)))))))","v":false},0,null,null,null,"",null,null,null,null,0,null,0,0,"Inlap",null,null,"FL"]
[1,169,169,null,{"$f":"IF(D180=\"Grid\",Simulation!$B$2,IF(D180=\"WU\",Simulation!$B$3,IF(D180=1,Simulation!$B$4,IF(D180=2,Simulation!$B$5,IF(D180=3,Simulation!$B$6,IF(D180=4,Simulation!$B$7,IF(D180=5,Simulation!$B$8)))))))","v":false},{"$f":"IF(D180=\"Grid\",Simulation!$C$2,IF(D180=\"WU\",Simulation!$C$3,IF(D180=1,Simulation!$C$4,IF(D180=2,Simulation!$C$5,IF(D180=3,Simulation!$C$6,IF(D180=4,Simulation!$C$7,IF(D180=5,Simulation!$C$8)))))))","v":false},0,null,null,null,"",null,null,null,null,0,null,0,0,"Inlap",null,null,"FL"]
[1,170,170,null,{"$f":"IF(D181=\"Grid\",Simulation!$B$2,IF(D181=\"WU\",Simulation!$B$3,IF(D181=1,Simulation!$B$4,IF(D181=2,Simulation!$B$5,IF(D181=3,Simulation!$B$6,IF(D181=4,Simulation!$B$7,IF(D181=5,Simulation!$B$8)))))))","v":false},{"$f":"IF(D181=\"Grid\",Simulation!$C$2,IF(D181=\"WU\",Simulation!$C$3,IF(D181=1,Simulation!$C$4,IF(D181=2,Simulation!$C$5,IF(D181=3,Simulation!$C$6,IF(D181=4,Simulation!$C$7,IF(D181=5,Simulation!$C$8)))))))","v":false},0,null,null,null,"",null,null,null,null,0,null,{"$f":"IF(O181>0,Q181,Q181-Q180)","v":0},0,"Inlap",null,null,"FL"]
[1,171,171,null,{"$f":"IF(D182=\"Grid\",Simulation!$B$2,IF(D182=\"WU\",Simulation!$B$3,IF(D182=1,Simulation!$B$4,IF(D182=2,Simulation!$B$5,IF(D182=3,Simulation!$B$6,IF(D182=4,Simulation!$B$7,IF(D182=5,Simulation!$B$8)))))))","v":false},{"$f":"IF(D182=\"Grid\",Simulation!$C$2,IF(D182=\"WU\",Simulation!$C$3,IF(D182=1,Simulation!$C$4,IF(D182=2,Simulation!$C$5,IF(D182=3,Simulation!$C$6,IF(D182=4,Simulation!$C$7,IF(D182=5,Simulation!$C$8)))))))","v":false},0,null,null,null,"",null,null,null,null,0,null,0,0,"Inlap",null,null,"FL"]
[1,172,172,null,{"$f":"IF(D183=\"Grid\",Simulation!$B$2,IF(D183=\"WU\",Simulation!$B$3,IF(D183=1,Simulation!$B$4,IF(D183=2,Simulation!$B$5,IF(D183=3,Simulation!$B$6,IF(D183=4,Simulation!$B$7,IF(D183=5,Simulation!$B$8)))))))","v":false},{"$f":"IF(D183=\"Grid\",Simulation!$C$2,IF(D183=\"WU\",Simulation!$C$3,IF(D183=1,Simulation!$C$4,IF(D183=2,Simulation!$C$5,IF(D183=3,Simulation!$C$6,IF(D183=4,Simulation!$C$7,IF(D183=5,Simulation!$C$8)))))))","v":false},0,null,null,null,"",null,null,null,null,0,null,0,0,"Inlap",null,null,"FL"]
[1,173,173,null,{"$f":"IF(D184=\"Grid\",Simulation!$B$2,IF(D184=\"WU\",Simulation!$B$3,IF(D184=1,Simulation!$B$4,IF(D184=2,Simulation!$B$5,IF(D184=3,Simulation!$B$6,IF(D184=4,Simulation!$B$7,IF(D184=5,Simulation!$B$8)))))))","v":false},{"$f":"IF(D184=\"Grid\",Simulation!$C$2,IF(D184=\"WU\",Simulation!$C$3,IF(D184=1,Simulation!$C$4,IF(D184=2,Simulation!$C$5,IF(D184=3,Simulation!$C$6,IF(D184=4,Simulation!$C$7,IF(D184=5,Simulation!$C$8)))))))","v":false},0,null,null,null,"",null,null,null,null,0,null,0,0,"Inlap",null,null,"FL"]
[1,174,174,null,{"$f":"IF(D185=\"Grid\",Simulation!$B$2,IF(D185=\"WU\",Simulation!$B$3,IF(D185=1,Simulation!$B$4,IF(D185=2,Simulation!$B$5,IF(D185=3,Simulation!$B$6,IF(D185=4,Simulation!$B$7,IF(D185=5,Simulation!$B$8)))))))","v":false},{"$f":"IF(D185=\"Grid\",Simulation!$C$2,IF(D185=\"WU\",Simulation!$C$3,IF(D185=1,Simulation!$C$4,IF(D185=2,Simulation!$C$5,IF(D185=3,Simulation!$C$6,IF(D185=4,Simulation!$C$7,IF(D185=5,Simulation!$C$8)))))))","v":false},0,null,null,null,"",null,null,null,null,0,null,0,0,"Inlap",null,null,"FL"]
[1,175,175,null,{"$f":"IF(D186=\"Grid\",Simulation!$B$2,IF(D186=\"WU\",Simulation!$B$3,IF(D186=1,Simulation!$B$4,IF(D186=2,Simulation!$B$5,IF(D186=3,Simulation!$B$6,IF(D186=4,Simulation!$B$7,IF(D186=5,Simulation!$B$8)))))))","v":false},{"$f":"IF(D186=\"Grid\",Simulation!$C$2,IF(D186=\"WU\",Simulation!$C$3,IF(D186=1,Simulation!$C$4,IF(D186=2,Simulation!$C$5,IF(D186=3,Simulation!$C$6,IF(D186=4,Simulation!$C$7,IF(D186=5,Simulation!$C$8)))))))","v":false},0,null,null,null,"",null,null,null,null,0,null,0,0,"Inlap",null,null,"FL"]
[1,176,176,null,{"$f":"IF(D187=\"Grid\",Simulation!$B$2,IF(D187=\"WU\",Simulation!$B$3,IF(D187=1,Simulation!$B$4,IF(D187=2,Simulation!$B$5,IF(D187=3,Simulation!$B$6,IF(D187=4,Simulation!$B$7,IF(D187=5,Simulation!$B$8)))))))","v":false},{"$f":"IF(D187=\"Grid\",Simulation!$C$2,IF(D187=\"WU\",Simulation!$C$3,IF(D187=1,Simulation!$C$4,IF(D187=2,Simulation!$C$5,IF(D187=3,Simulation!$C$6,IF(D187=4,Simulation!$C$7,IF(D187=5,Simulation!$C$8)))))))","v":false},0,null,null,null,"",null,null,null,null,0,null,0,0,"Inlap",null,null,"FL"]
[1,177,177,null,{"$f":"IF(D188=\"Grid\",Simulation!$B$2,IF(D188=\"WU\",Simulation!$B$3,IF(D188=1,Simulation!$B$4,IF(D188=2,Simulation!$B$5,IF(D188=3,Simulation!$B$6,IF(D188=4,Simulation!$B$7,IF(D188=5,Simulation!$B$8)))))))","v":false},{"$f":"IF(D188=\"Grid\",Simulation!$C$2,IF(D188=\"WU\",Simulation!$C$3,IF(D188=1,Simulation!$C$4,IF(D188=2,Simulation!$C$5,IF(D188=3,Simulation!$C$6,IF(D188=4,Simulation!$C$7,IF(D188=5,Simulation!$C$8)))))))","v":false},0,null,null,null,"",null,null,null,null,0,null,0,0,"Inlap",null,null,"FL"]
[1,178,178,null,{"$f":"IF(D189=\"Grid\",Simulation!$B$2,IF(D189=\"WU\",Simulation!$B$3,IF(D189=1,Simulation!$B$4,IF(D189=2,Simulation!$B$5,IF(D189=3,Simulation!$B$6,IF(D189=4,Simulation!$B$7,IF(D189=5,Simulation!$B$8)))))))","v":false},{"$f":"IF(D189=\"Grid\",Simulation!$C$2,IF(D189=\"WU\",Simulation!$C$3,IF(D189=1,Simulation!$C$4,IF(D189=2,Simulation!$C$5,IF(D189=3,Simulation!$C$6,IF(D189=4,Simulation!$C$7,IF(D189=5,Simulation!$C$8)))))))","v":false},0,null,null,null,"",null,null,null,null,0,null,0,0,"Inlap",null,null,"FL"]
[1,179,179,null,{"$f":"IF(D190=\"Grid\",Simulation!$B$2,IF(D190=\"WU\",Simulation!$B$3,IF(D190=1,Simulation!$B$4,IF(D190=2,Simulation!$B$5,IF(D190=3,Simulation!$B$6,IF(D190=4,Simulation!$B$7,IF(D190=5,Simulation!$B$8)))))))","v":false},{"$f":"IF(D190=\"Grid\",Simulation!$C$2,IF(D190=\"WU\",Simulation!$C$3,IF(D190=1,Simulation!$C$4,IF(D190=2,Simulation!$C$5,IF(D190=3,Simulation!$C$6,IF(D190=4,Simulation!$C$7,IF(D190=5,Simulation!$C$8)))))))","v":false},0,null,null,null,"",null,null,null,null,0,null,0,0,"Inlap",null,null,"FL"]
[1,180,180,null,{"$f":"IF(D191=\"Grid\",Simulation!$B$2,IF(D191=\"WU\",Simulation!$B$3,IF(D191=1,Simulation!$B$4,IF(D191=2,Simulation!$B$5,IF(D191=3,Simulation!$B$6,IF(D191=4,Simulation!$B$7,IF(D191=5,Simulation!$B$8)))))))","v":false},{"$f":"IF(D191=\"Grid\",Simulation!$C$2,IF(D191=\"WU\",Simulation!$C$3,IF(D191=1,Simulation!$C$4,IF(D191=2,Simulation!$C$5,IF(D191=3,Simulation!$C$6,IF(D191=4,Simulation!$C$7,IF(D191=5,Simulation!$C$8)))))))","v":false},0,null,null,null,"",null,null,null,null,0,null,0,0,"Inlap",null,null,"FL"]
[1,181,181,null,{"$f":"IF(D192=\"Grid\",Simulation!$B$2,IF(D192=\"WU\",Simulation!$B$3,IF(D192=1,Simulation!$B$4,IF(D192=2,Simulation!$B$5,IF(D192=3,Simulation!$B$6,IF(D192=4,Simulation!$B$7,IF(D192=5,Simulation!$B$8)))))))","v":false},{"$f":"IF(D192=\"Grid\",Simulation!$C$2,IF(D192=\"WU\",Simulation!$C$3,IF(D192=1,Simulation!$C$4,IF(D192=2,Simulation!$C$5,IF(D192=3,Simulation!$C$6,IF(D192=4,Simulation!$C$7,IF(D192=5,Simulation!$C$8)))))))","v":false},0,null,null,null,"",null,null,null,null,0,null,0,0,"Inlap",null,null,"FL"]
[1,182,182,null,{"$f":"IF(D193=\"Grid\",Simulation!$B$2,IF(D193=\"WU\",Simulation!$B$3,IF(D193=1,Simulation!$B$4,IF(D193=2,Simulation!$B$5,IF(D193=3,Simulation!$B$6,IF(D193=4,Simulation!$B$7,IF(D193=5,Simulation!$B$8)))))))","v":false},{"$f":"IF(D193=\"Grid\",Simulation!$C$2,IF(D193=\"WU\",Simulation!$C$3,IF(D193=1,Simulation!$C$4,IF(D193=2,Simulation!$C$5,IF(D193=3,Simulation!$C$6,IF(D193=4,Simulation!$C$7,IF(D193=5,Simulation!$C$8)))))))","v":false},0,null,null,null,"",null,null,null,null,0,null,0,0,"Inlap",null,null,"FL"]
[1,183,183,null,{"$f":"IF(D194=\"Grid\",Simulation!$B$2,IF(D194=\"WU\",Simulation!$B$3,IF(D194=1,Simulation!$B$4,IF(D194=2,Simulation!$B$5,IF(D194=3,Simulation!$B$6,IF(D194=4,Simulation!$B$7,IF(D194=5,Simulation!$B$8)))))))","v":false},{"$f":"IF(D194=\"Grid\",Simulation!$C$2,IF(D194=\"WU\",Simulation!$C$3,IF(D194=1,Simulation!$C$4,IF(D194=2,Simulation!$C$5,IF(D194=3,Simulation!$C$6,IF(D194=4,Simulation!$C$7,IF(D194=5,Simulation!$C$8)))))))","v":false},0,null,null,null,"",null,null,null,null,0,null,0,0,"Inlap",null,null,"FL"]
[1,184,184,null,{"$f":"IF(D195=\"Grid\",Simulation!$B$2,IF(D195=\"WU\",Simulation!$B$3,IF(D195=1,Simulation!$B$4,IF(D195=2,Simulation!$B$5,IF(D195=3,Simulation!$B$6,IF(D195=4,Simulation!$B$7,IF(D195=5,Simulation!$B$8)))))))","v":false},{"$f":"IF(D195=\"Grid\",Simulation!$C$2,IF(D195=\"WU\",Simulation!$C$3,IF(D195=1,Simulation!$C$4,IF(D195=2,Simulation!$C$5,IF(D195=3,Simulation!$C$6,IF(D195=4,Simulation!$C$7,IF(D195=5,Simulation!$C$8)))))))","v":false},0,null,null,null,"",null,null,null,null,0,null,0,0,"Inlap",null,null,"FL"]
[1,185,185,null,{"$f":"IF(D196=\"Grid\",Simulation!$B$2,IF(D196=\"WU\",Simulation!$B$3,IF(D196=1,Simulation!$B$4,IF(D196=2,Simulation!$B$5,IF(D196=3,Simulation!$B$6,IF(D196=4,Simulation!$B$7,IF(D196=5,Simulation!$B$8)))))))","v":false},{"$f":"IF(D196=\"Grid\",Simulation!$C$2,IF(D196=\"WU\",Simulation!$C$3,IF(D196=1,Simulation!$C$4,IF(D196=2,Simulation!$C$5,IF(D196=3,Simulation!$C$6,IF(D196=4,Simulation!$C$7,IF(D196=5,Simulation!$C$8)))))))","v":false},0,null,null,null,"",null,null,null,null,0,null,0,0,"Inlap",null,null,"FL"]
[1,186,186,null,{"$f":"IF(D197=\"Grid\",Simulation!$B$2,IF(D197=\"WU\",Simulation!$B$3,IF(D197=1,Simulation!$B$4,IF(D197=2,Simulation!$B$5,IF(D197=3,Simulation!$B$6,IF(D197=4,Simulation!$B$7,IF(D197=5,Simulation!$B$8)))))))","v":false},{"$f":"IF(D197=\"Grid\",Simulation!$C$2,IF(D197=\"WU\",Simulation!$C$3,IF(D197=1,Simulation!$C$4,IF(D197=2,Simulation!$C$5,IF(D197=3,Simulation!$C$6,IF(D197=4,Simulation!$C$7,IF(D197=5,Simulation!$C$8)))))))","v":false},0,null,null,null,"",null,null,null,null,0,null,0,0,"Inlap",null,null,"FL"]
[1,187,187,null,{"$f":"IF(D198=\"Grid\",Simulation!$B$2,IF(D198=\"WU\",Simulation!$B$3,IF(D198=1,Simulation!$B$4,IF(D198=2,Simulation!$B$5,IF(D198=3,Simulation!$B$6,IF(D198=4,Simulation!$B$7,IF(D198=5,Simulation!$B$8)))))))","v":false},{"$f":"IF(D198=\"Grid\",Simulation!$C$2,IF(D198=\"WU\",Simulation!$C$3,IF(D198=1,Simulation!$C$4,IF(D198=2,Simulation!$C$5,IF(D198=3,Simulation!$C$6,IF(D198=4,Simulation!$C$7,IF(D198=5,Simulation!$C$8)))))))","v":false},0,null,null,null,"",null,null,null,null,0,null,0,0,"Inlap",null,null,"FL"]
[1,188,188,null,{"$f":"IF(D199=\"Grid\",Simulation!$B$2,IF(D199=\"WU\",Simulation!$B$3,IF(D199=1,Simulation!$B$4,IF(D199=2,Simulation!$B$5,IF(D199=3,Simulation!$B$6,IF(D199=4,Simulation!$B$7,IF(D199=5,Simulation!$B$8)))))))","v":false},{"$f":"IF(D199=\"Grid\",Simulation!$C$2,IF(D199=\"WU\",Simulation!$C$3,IF(D199=1,Simulation!$C$4,IF(D199=2,Simulation!$C$5,IF(D199=3,Simulation!$C$6,IF(D199=4,Simulation!$C$7,IF(D199=5,Simulation!$C$8)))))))","v":false},0,null,null,null,"",null,null,null,null,0,null,0,0,"Inlap",null,null,"FL"]
[1,189,189,null,{"$f":"IF(D200=\"Grid\",Simulation!$B$2,IF(D200=\"WU\",Simulation!$B$3,IF(D200=1,Simulation!$B$4,IF(D200=2,Simulation!$B$5,IF(D200=3,Simulation!$B$6,IF(D200=4,Simulation!$B$7,IF(D200=5,Simulation!$B$8)))))))","v":false},{"$f":"IF(D200=\"Grid\",Simulation!$C$2,IF(D200=\"WU\",Simulation!$C$3,IF(D200=1,Simulation!$C$4,IF(D200=2,Simulation!$C$5,IF(D200=3,Simulation!$C$6,IF(D200=4,Simulation!$C$7,IF(D200=5,Simulation!$C$8)))))))","v":false},0,null,null,null,"",null,null,null,null,0,null,0,0,"Inlap",null,null,"FL"]
[1,190,190,null,{"$f":"IF(D201=\"Grid\",Simulation!$B$2,IF(D201=\"WU\",Simulation!$B$3,IF(D201=1,Simulation!$B$4,IF(D201=2,Simulation!$B$5,IF(D201=3,Simulation!$B$6,IF(D201=4,Simulation!$B$7,IF(D201=5,Simulation!$B$8)))))))","v":false},{"$f":"IF(D201=\"Grid\",Simulation!$C$2,IF(D201=\"WU\",Simulation!$C$3,IF(D201=1,Simulation!$C$4,IF(D201=2,Simulation!$C$5,IF(D201=3,Simulation!$C$6,IF(D201=4,Simulation!$C$7,IF(D201=5,Simulation!$C$8)))))))","v":false},0,null,null,null,"",null,null,null,null,0,null,0,0,"Inlap",null,null,"FL"]
[1,191,191,null,{"$f":"IF(D202=\"Grid\",Simulation!$B$2,IF(D202=\"WU\",Simulation!$B$3,IF(D202=1,Simulation!$B$4,IF(D202=2,Simulation!$B$5,IF(D202=3,Simulation!$B$6,IF(D202=4,Simulation!$B$7,IF(D202=5,Simulation!$B$8)))))))","v":false},{"$f":"IF(D202=\"Grid\",Simulation!$C$2,IF(D202=\"WU\",Simulation!$C$3,IF(D202=1,Simulation!$C$4,IF(D202=2,Simulation!$C$5,IF(D202=3,Simulation!$C$6,IF(D202=4,Simulation!$C$7,IF(D202=5,Simulation!$C$8)))))))","v":false},0,null,null,null,"",null,null,null,null,0,null,0,0,"Inlap",null,null,"FL"]
[1,192,192,null,{"$f":"IF(D203=\"Grid\",Simulation!$B$2,IF(D203=\"WU\",Simulation!$B$3,IF(D203=1,Simulation!$B$4,IF(D203=2,Simulation!$B$5,IF(D203=3,Simulation!$B$6,IF(D203=4,Simulation!$B$7,IF(D203=5,Simulation!$B$8)))))))","v":false},{"$f":"IF(D203=\"Grid\",Simulation!$C$2,IF(D203=\"WU\",Simulation!$C$3,IF(D203=1,Simulation!$C$4,IF(D203=2,Simulation!$C$5,IF(D203=3,Simulation!$C$6,IF(D203=4,Simulation!$C$7,IF(D203=5,Simulation!$C$8)))))))","v":false},0,null,null,null,"",null,null,null,null,0,null,0,0,{"$f":"IF(S203<=F203,\"Inlap\",IF(S203<=2*F203,\"Call: In this lap!\",IF(S203<=3*F203,\"Show in but don't call!\",\"\")))","v":"Inlap"},null,null,"FL"]
[{"$f":"IF(O204>0,A203+1,A203)","v":1},193,193,null,{"$f":"IF(D204=\"Grid\",Simulation!$B$2,IF(D204=\"WU\",Simulation!$B$3,IF(D204=1,Simulation!$B$4,IF(D204=2,Simulation!$B$5,IF(D204=3,Simulation!$B$6,IF(D204=4,Simulation!$B$7,IF(D204=5,Simulation!$B$8)))))))","v":false},{"$f":"IF(D204=\"Grid\",Simulation!$C$2,IF(D204=\"WU\",Simulation!$C$3,IF(D204=1,Simulation!$C$4,IF(D204=2,Simulation!$C$5,IF(D204=3,Simulation!$C$6,IF(D204=4,Simulation!$C$7,IF(D204=5,Simulation!$C$8)))))))","v":false},{"$f":"G203+O203-P203","v":0},null,null,null,"",null,null,null,null,0,null,0,{"$f":"IF(O204>0,O204+S203-Q204,S203-P204)","v":0},"Inlap",null,null,{"$f":"IF(J204=$Q$2,\"FL\",\"\")","v":"FL"}]
[1,194,194,null,{"$f":"IF(D205=\"Grid\",Simulation!$B$2,IF(D205=\"WU\",Simulation!$B$3,IF(D205=1,Simulation!$B$4,IF(D205=2,Simulation!$B$5,IF(D205=3,Simulation!$B$6,IF(D205=4,Simulation!$B$7,IF(D205=5,Simulation!$B$8)))))))","v":false},{"$f":"IF(D205=\"Grid\",Simulation!$C$2,IF(D205=\"WU\",Simulation!$C$3,IF(D205=1,Simulation!$C$4,IF(D205=2,Simulation!$C$5,IF(D205=3,Simulation!$C$6,IF(D205=4,Simulation!$C$7,IF(D205=5,Simulation!$C$8)))))))","v":false},0,null,null,null,{"$f":"IF(J205<>0,K204,\"\")","v":""},null,null,null,null,0,null,0,0,"Inlap",null,null,"FL"]
[1,195,{"$f":"IF(O206=\"\",C205+1,\"1\")","v":195},null,{"$f":"IF(D206=\"Grid\",Simulation!$B$2,IF(D206=\"WU\",Simulation!$B$3,IF(D206=1,Simulation!$B$4,IF(D206=2,Simulation!$B$5,IF(D206=3,Simulation!$B$6,IF(D206=4,Simulation!$B$7,IF(D206=5,Simulation!$B$8)))))))","v":false},{"$f":"IF(D206=\"Grid\",Simulation!$C$2,IF(D206=\"WU\",Simulation!$C$3,IF(D206=1,Simulation!$C$4,IF(D206=2,Simulation!$C$5,IF(D206=3,Simulation!$C$6,IF(D206=4,Simulation!$C$7,IF(D206=5,Simulation!$C$8)))))))","v":false},0,null,null,null,"",null,null,null,null,0,null,0,0,"Inlap",null,null,"FL"]
[1,196,196,null,{"$f":"IF(D207=\"Grid\",Simulation!$B$2,IF(D207=\"WU\",Simulation!$B$3,IF(D207=1,Simulation!$B$4,IF(D207=2,Simulation!$B$5,IF(D207=3,Simulation!$B$6,IF(D207=4,Simulation!$B$7,IF(D207=5,Simulation!$B$8)))))))","v":false},{"$f":"IF(D207=\"Grid\",Simulation!$C$2,IF(D207=\"WU\",Simulation!$C$3,IF(D207=1,Simulation!$C$4,IF(D207=2,Simulation!$C$5,IF(D207=3,Simulation!$C$6,IF(D207=4,Simulation!$C$7,IF(D207=5,Simulation!$C$8)))))))","v":false},0,null,null,null,"",null,null,null,null,0,null,0,0,"Inlap",null,null,"FL"]
[1,197,197,null,{"$f":"IF(D208=\"Grid\",Simulation!$B$2,IF(D208=\"WU\",Simulation!$B$3,IF(D208=1,Simulation!$B$4,IF(D208=2,Simulation!$B$5,IF(D208=3,Simulation!$B$6,IF(D208=4,Simulation!$B$7,IF(D208=5,Simulation!$B$8)))))))","v":false},{"$f":"IF(D208=\"Grid\",Simulation!$C$2,IF(D208=\"WU\",Simulation!$C$3,IF(D208=1,Simulation!$C$4,IF(D208=2,Simulation!$C$5,IF(D208=3,Simulation!$C$6,IF(D208=4,Simulation!$C$7,IF(D208=5,Simulation!$C$8)))))))","v":false},0,null,null,null,"",null,null,null,null,0,null,0,0,"Inlap",null,null,"FL"]
[1,198,198,null,{"$f":"IF(D209=\"Grid\",Simulation!$B$2,IF(D209=\"WU\",Simulation!$B$3,IF(D209=1,Simulation!$B$4,IF(D209=2,Simulation!$B$5,IF(D209=3,Simulation!$B$6,IF(D209=4,Simulation!$B$7,IF(D209=5,Simulation!$B$8)))))))","v":false},{"$f":"IF(D209=\"Grid\",Simulation!$C$2,IF(D209=\"WU\",Simulation!$C$3,IF(D209=1,Simulation!$C$4,IF(D209=2,Simulation!$C$5,IF(D209=3,Simulation!$C$6,IF(D209=4,Simulation!$C$7,IF(D209=5,Simulation!$C$8)))))))","v":false},0,null,null,null,"",null,null,null,null,0,null,0,0,"Inlap",null,null,"FL"]
[1,199,199,null,{"$f":"IF(D210=\"Grid\",Simulation!$B$2,IF(D210=\"WU\",Simulation!$B$3,IF(D210=1,Simulation!$B$4,IF(D210=2,Simulation!$B$5,IF(D210=3,Simulation!$B$6,IF(D210=4,Simulation!$B$7,IF(D210=5,Simulation!$B$8)))))))","v":false},{"$f":"IF(D210=\"Grid\",Simulation!$C$2,IF(D210=\"WU\",Simulation!$C$3,IF(D210=1,Simulation!$C$4,IF(D210=2,Simulation!$C$5,IF(D210=3,Simulation!$C$6,IF(D210=4,Simulation!$C$7,IF(D210=5,Simulation!$C$8)))))))","v":false},0,null,null,null,"",null,null,null,null,0,null,0,0,"Inlap",null,null,"FL"]
[1,200,200,null,{"$f":"IF(D211=\"Grid\",Simulation!$B$2,IF(D211=\"WU\",Simulation!$B$3,IF(D211=1,Simulation!$B$4,IF(D211=2,Simulation!$B$5,IF(D211=3,Simulation!$B$6,IF(D211=4,Simulation!$B$7,IF(D211=5,Simulation!$B$8)))))))","v":false},{"$f":"IF(D211=\"Grid\",Simulation!$C$2,IF(D211=\"WU\",Simulation!$C$3,IF(D211=1,Simulation!$C$4,IF(D211=2,Simulation!$C$5,IF(D211=3,Simulation!$C$6,IF(D211=4,Simulation!$C$7,IF(D211=5,Simulation!$C$8)))))))","v":false},0,null,null,null,"",null,null,null,null,0,null,0,0,"Inlap",null,null,"FL"]
[1,201,201,null,{"$f":"IF(D212=\"Grid\",Simulation!$B$2,IF(D212=\"WU\",Simulation!$B$3,IF(D212=1,Simulation!$B$4,IF(D212=2,Simulation!$B$5,IF(D212=3,Simulation!$B$6,IF(D212=4,Simulation!$B$7,IF(D212=5,Simulation!$B$8)))))))","v":false},{"$f":"IF(D212=\"Grid\",Simulation!$C$2,IF(D212=\"WU\",Simulation!$C$3,IF(D212=1,Simulation!$C$4,IF(D212=2,Simulation!$C$5,IF(D212=3,Simulation!$C$6,IF(D212=4,Simulation!$C$7,IF(D212=5,Simulation!$C$8)))))))","v":false},0,null,null,null,"",null,null,null,null,0,null,0,0,"Inlap",null,null,"FL"]
[1,202,202,null,{"$f":"IF(D213=\"Grid\",Simulation!$B$2,IF(D213=\"WU\",Simulation!$B$3,IF(D213=1,Simulation!$B$4,IF(D213=2,Simulation!$B$5,IF(D213=3,Simulation!$B$6,IF(D213=4,Simulation!$B$7,IF(D213=5,Simulation!$B$8)))))))","v":false},{"$f":"IF(D213=\"Grid\",Simulation!$C$2,IF(D213=\"WU\",Simulation!$C$3,IF(D213=1,Simulation!$C$4,IF(D213=2,Simulation!$C$5,IF(D213=3,Simulation!$C$6,IF(D213=4,Simulation!$C$7,IF(D213=5,Simulation!$C$8)))))))","v":false},0,null,null,null,"",null,null,null,null,0,null,0,0,"Inlap",null,null,"FL"]
[1,203,203,null,{"$f":"IF(D214=\"Grid\",Simulation!$B$2,IF(D214=\"WU\",Simulation!$B$3,IF(D214=1,Simulation!$B$4,IF(D214=2,Simulation!$B$5,IF(D214=3,Simulation!$B$6,IF(D214=4,Simulation!$B$7,IF(D214=5,Simulation!$B$8)))))))","v":false},{"$f":"IF(D214=\"Grid\",Simulation!$C$2,IF(D214=\"WU\",Simulation!$C$3,IF(D214=1,Simulation!$C$4,IF(D214=2,Simulation!$C$5,IF(D214=3,Simulation!$C$6,IF(D214=4,Simulation!$C$7,IF(D214=5,Simulation!$C$8)))))))","v":false},0,null,null,null,"",null,null,null,null,0,null,0,0,"Inlap",null,null,"FL"]
[1,204,204,null,{"$f":"IF(D215=\"Grid\",Simulation!$B$2,IF(D215=\"WU\",Simulation!$B$3,IF(D215=1,Simulation!$B$4,IF(D215=2,Simulation!$B$5,IF(D215=3,Simulation!$B$6,IF(D215=4,Simulation!$B$7,IF(D215=5,Simulation!$B$8)))))))","v":false},{"$f":"IF(D215=\"Grid\",Simulation!$C$2,IF(D215=\"WU\",Simulation!$C$3,IF(D215=1,Simulation!$C$4,IF(D215=2,Simulation!$C$5,IF(D215=3,Simulation!$C$6,IF(D215=4,Simulation!$C$7,IF(D215=5,Simulation!$C$8)))))))","v":false},0,null,null,null,"",null,null,null,null,0,null,0,0,"Inlap",null,null,"FL"]
[1,205,205,null,{"$f":"IF(D216=\"Grid\",Simulation!$B$2,IF(D216=\"WU\",Simulation!$B$3,IF(D216=1,Simulation!$B$4,IF(D216=2,Simulation!$B$5,IF(D216=3,Simulation!$B$6,IF(D216=4,Simulation!$B$7,IF(D216=5,Simulation!$B$8)))))))","v":false},{"$f":"IF(D216=\"Grid\",Simulation!$C$2,IF(D216=\"WU\",Simulation!$C$3,IF(D216=1,Simulation!$C$4,IF(D216=2,Simulation!$C$5,IF(D216=3,Simulation!$C$6,IF(D216=4,Simulation!$C$7,IF(D216=5,Simulation!$C$8)))))))","v":false},0,null,null,null,"",null,null,null,null,0,null,0,0,"Inlap",null,null,"FL"]
[1,206,206,null,{"$f":"IF(D217=\"Grid\",Simulation!$B$2,IF(D217=\"WU\",Simulation!$B$3,IF(D217=1,Simulation!$B$4,IF(D217=2,Simulation!$B$5,IF(D217=3,Simulation!$B$6,IF(D217=4,Simulation!$B$7,IF(D217=5,Simulation!$B$8)))))))","v":false},{"$f":"IF(D217=\"Grid\",Simulation!$C$2,IF(D217=\"WU\",Simulation!$C$3,IF(D217=1,Simulation!$C$4,IF(D217=2,Simulation!$C$5,IF(D217=3,Simulation!$C$6,IF(D217=4,Simulation!$C$7,IF(D217=5,Simulation!$C$8)))))))","v":false},0,null,null,null,"",null,null,null,null,0,null,0,0,"Inlap",null,null,"FL"]
[1,207,207,null,{"$f":"IF(D218=\"Grid\",Simulation!$B$2,IF(D218=\"WU\",Simulation!$B$3,IF(D218=1,Simulation!$B$4,IF(D218=2,Simulation!$B$5,IF(D218=3,Simulation!$B$6,IF(D218=4,Simulation!$B$7,IF(D218=5,Simulation!$B$8)))))))","v":false},{"$f":"IF(D218=\"Grid\",Simulation!$C$2,IF(D218=\"WU\",Simulation!$C$3,IF(D218=1,Simulation!$C$4,IF(D218=2,Simulation!$C$5,IF(D218=3,Simulation!$C$6,IF(D218=4,Simulation!$C$7,IF(D218=5,Simulation!$C$8)))))))","v":false},0,null,null,null,"",null,null,null,null,0,null,0,0,"Inlap",null,null,"FL"]
[1,208,208,null,{"$f":"IF(D219=\"Grid\",Simulation!$B$2,IF(D219=\"WU\",Simulation!$B$3,IF(D219=1,Simulation!$B$4,IF(D219=2,Simulation!$B$5,IF(D219=3,Simulation!$B$6,IF(D219=4,Simulation!$B$7,IF(D219=5,Simulation!$B$8)))))))","v":false},{"$f":"IF(D219=\"Grid\",Simulation!$C$2,IF(D219=\"WU\",Simulation!$C$3,IF(D219=1,Simulation!$C$4,IF(D219=2,Simulation!$C$5,IF(D219=3,Simulation!$C$6,IF(D219=4,Simulation!$C$7,IF(D219=5,Simulation!$C$8)))))))","v":false},0,null,null,null,"",null,null,null,null,0,null,0,0,"Inlap",null,null,"FL"]
[1,209,209,null,{"$f":"IF(D220=\"Grid\",Simulation!$B$2,IF(D220=\"WU\",Simulation!$B$3,IF(D220=1,Simulation!$B$4,IF(D220=2,Simulation!$B$5,IF(D220=3,Simulation!$B$6,IF(D220=4,Simulation!$B$7,IF(D220=5,Simulation!$B$8)))))))","v":false},{"$f":"IF(D220=\"Grid\",Simulation!$C$2,IF(D220=\"WU\",Simulation!$C$3,IF(D220=1,Simulation!$C$4,IF(D220=2,Simulation!$C$5,IF(D220=3,Simulation!$C$6,IF(D220=4,Simulation!$C$7,IF(D220=5,Simulation!$C$8)))))))","v":false},0,null,null,null,"",null,null,null,null,0,null,0,0,"Inlap",null,null,"FL"]
[1,210,210,null,{"$f":"IF(D221=\"Grid\",Simulation!$B$2,IF(D221=\"WU\",Simulation!$B$3,IF(D221=1,Simulation!$B$4,IF(D221=2,Simulation!$B$5,IF(D221=3,Simulation!$B$6,IF(D221=4,Simulation!$B$7,IF(D221=5,Simulation!$B$8)))))))","v":false},{"$f":"IF(D221=\"Grid\",Simulation!$C$2,IF(D221=\"WU\",Simulation!$C$3,IF(D221=1,Simulation!$C$4,IF(D221=2,Simulation!$C$5,IF(D221=3,Simulation!$C$6,IF(D221=4,Simulation!$C$7,IF(D221=5,Simulation!$C$8)))))))","v":false},0,null,null,null,"",null,null,null,null,0,null,0,0,"Inlap",null,null,"FL"]
[1,211,211,null,{"$f":"IF(D222=\"Grid\",Simulation!$B$2,IF(D222=\"WU\",Simulation!$B$3,IF(D222=1,Simulation!$B$4,IF(D222=2,Simulation!$B$5,IF(D222=3,Simulation!$B$6,IF(D222=4,Simulation!$B$7,IF(D222=5,Simulation!$B$8)))))))","v":false},{"$f":"IF(D222=\"Grid\",Simulation!$C$2,IF(D222=\"WU\",Simulation!$C$3,IF(D222=1,Simulation!$C$4,IF(D222=2,Simulation!$C$5,IF(D222=3,Simulation!$C$6,IF(D222=4,Simulation!$C$7,IF(D222=5,Simulation!$C$8)))))))","v":false},0,null,null,null,"",null,null,null,null,0,null,0,0,"Inlap",null,null,"FL"]
[1,212,212,null,{"$f":"IF(D223=\"Grid\",Simulation!$B$2,IF(D223=\"WU\",Simulation!$B$3,IF(D223=1,Simulation!$B$4,IF(D223=2,Simulation!$B$5,IF(D223=3,Simulation!$B$6,IF(D223=4,Simulation!$B$7,IF(D223=5,Simulation!$B$8)))))))","v":false},{"$f":"IF(D223=\"Grid\",Simulation!$C$2,IF(D223=\"WU\",Simulation!$C$3,IF(D223=1,Simulation!$C$4,IF(D223=2,Simulation!$C$5,IF(D223=3,Simulation!$C$6,IF(D223=4,Simulation!$C$7,IF(D223=5,Simulation!$C$8)))))))","v":false},0,null,null,null,"",null,null,null,null,0,null,0,0,"Inlap",null,null,"FL"]
[1,213,213,null,{"$f":"IF(D224=\"Grid\",Simulation!$B$2,IF(D224=\"WU\",Simulation!$B$3,IF(D224=1,Simulation!$B$4,IF(D224=2,Simulation!$B$5,IF(D224=3,Simulation!$B$6,IF(D224=4,Simulation!$B$7,IF(D224=5,Simulation!$B$8)))))))","v":false},{"$f":"IF(D224=\"Grid\",Simulation!$C$2,IF(D224=\"WU\",Simulation!$C$3,IF(D224=1,Simulation!$C$4,IF(D224=2,Simulation!$C$5,IF(D224=3,Simulation!$C$6,IF(D224=4,Simulation!$C$7,IF(D224=5,Simulation!$C$8)))))))","v":false},0,null,null,null,"",null,null,null,null,0,null,0,0,"Inlap",null,null,"FL"]
[1,214,214,null,{"$f":"IF(D225=\"Grid\",Simulation!$B$2,IF(D225=\"WU\",Simulation!$B$3,IF(D225=1,Simulation!$B$4,IF(D225=2,Simulation!$B$5,IF(D225=3,Simulation!$B$6,IF(D225=4,Simulation!$B$7,IF(D225=5,Simulation!$B$8)))))))","v":false},{"$f":"IF(D225=\"Grid\",Simulation!$C$2,IF(D225=\"WU\",Simulation!$C$3,IF(D225=1,Simulation!$C$4,IF(D225=2,Simulation!$C$5,IF(D225=3,Simulation!$C$6,IF(D225=4,Simulation!$C$7,IF(D225=5,Simulation!$C$8)))))))","v":false},0,null,null,null,"",null,null,null,null,0,null,0,0,"Inlap",null,null,"FL"]
[1,215,215,null,{"$f":"IF(D226=\"Grid\",Simulation!$B$2,IF(D226=\"WU\",Simulation!$B$3,IF(D226=1,Simulation!$B$4,IF(D226=2,Simulation!$B$5,IF(D226=3,Simulation!$B$6,IF(D226=4,Simulation!$B$7,IF(D226=5,Simulation!$B$8)))))))","v":false},{"$f":"IF(D226=\"Grid\",Simulation!$C$2,IF(D226=\"WU\",Simulation!$C$3,IF(D226=1,Simulation!$C$4,IF(D226=2,Simulation!$C$5,IF(D226=3,Simulation!$C$6,IF(D226=4,Simulation!$C$7,IF(D226=5,Simulation!$C$8)))))))","v":false},0,null,null,null,"",null,null,null,null,0,null,0,0,"Inlap",null,null,"FL"]
[1,216,216,null,{"$f":"IF(D227=\"Grid\",Simulation!$B$2,IF(D227=\"WU\",Simulation!$B$3,IF(D227=1,Simulation!$B$4,IF(D227=2,Simulation!$B$5,IF(D227=3,Simulation!$B$6,IF(D227=4,Simulation!$B$7,IF(D227=5,Simulation!$B$8)))))))","v":false},{"$f":"IF(D227=\"Grid\",Simulation!$C$2,IF(D227=\"WU\",Simulation!$C$3,IF(D227=1,Simulation!$C$4,IF(D227=2,Simulation!$C$5,IF(D227=3,Simulation!$C$6,IF(D227=4,Simulation!$C$7,IF(D227=5,Simulation!$C$8)))))))","v":false},0,null,null,null,"",null,null,null,null,0,null,0,0,"Inlap",null,null,"FL"]
[1,217,217,null,{"$f":"IF(D228=\"Grid\",Simulation!$B$2,IF(D228=\"WU\",Simulation!$B$3,IF(D228=1,Simulation!$B$4,IF(D228=2,Simulation!$B$5,IF(D228=3,Simulation!$B$6,IF(D228=4,Simulation!$B$7,IF(D228=5,Simulation!$B$8)))))))","v":false},{"$f":"IF(D228=\"Grid\",Simulation!$C$2,IF(D228=\"WU\",Simulation!$C$3,IF(D228=1,Simulation!$C$4,IF(D228=2,Simulation!$C$5,IF(D228=3,Simulation!$C$6,IF(D228=4,Simulation!$C$7,IF(D228=5,Simulation!$C$8)))))))","v":false},0,null,null,null,"",null,null,null,null,0,null,0,0,"Inlap",null,null,"FL"]
[1,218,218,null,{"$f":"IF(D229=\"Grid\",Simulation!$B$2,IF(D229=\"WU\",Simulation!$B$3,IF(D229=1,Simulation!$B$4,IF(D229=2,Simulation!$B$5,IF(D229=3,Simulation!$B$6,IF(D229=4,Simulation!$B$7,IF(D229=5,Simulation!$B$8)))))))","v":false},{"$f":"IF(D229=\"Grid\",Simulation!$C$2,IF(D229=\"WU\",Simulation!$C$3,IF(D229=1,Simulation!$C$4,IF(D229=2,Simulation!$C$5,IF(D229=3,Simulation!$C$6,IF(D229=4,Simulation!$C$7,IF(D229=5,Simulation!$C$8)))))))","v":false},0,null,null,null,"",null,null,null,null,0,null,0,0,"Inlap",null,null,"FL"]
[1,219,219,null,{"$f":"IF(D230=\"Grid\",Simulation!$B$2,IF(D230=\"WU\",Simulation!$B$3,IF(D230=1,Simulation!$B$4,IF(D230=2,Simulation!$B$5,IF(D230=3,Simulation!$B$6,IF(D230=4,Simulation!$B$7,IF(D230=5,Simulation!$B$8)))))))","v":false},{"$f":"IF(D230=\"Grid\",Simulation!$C$2,IF(D230=\"WU\",Simulation!$C$3,IF(D230=1,Simulation!$C$4,IF(D230=2,Simulation!$C$5,IF(D230=3,Simulation!$C$6,IF(D230=4,Simulation!$C$7,IF(D230=5,Simulation!$C$8)))))))","v":false},0,null,null,null,"",null,null,null,null,0,null,0,0,"Inlap",null,null,"FL"]
[1,220,220,null,{"$f":"IF(D231=\"Grid\",Simulation!$B$2,IF(D231=\"WU\",Simulation!$B$3,IF(D231=1,Simulation!$B$4,IF(D231=2,Simulation!$B$5,IF(D231=3,Simulation!$B$6,IF(D231=4,Simulation!$B$7,IF(D231=5,Simulation!$B$8)))))))","v":false},{"$f":"IF(D231=\"Grid\",Simulation!$C$2,IF(D231=\"WU\",Simulation!$C$3,IF(D231=1,Simulation!$C$4,IF(D231=2,Simulation!$C$5,IF(D231=3,Simulation!$C$6,IF(D231=4,Simulation!$C$7,IF(D231=5,Simulation!$C$8)))))))","v":false},0,null,null,null,"",null,null,null,null,0,null,0,0,"Inlap",null,null,"FL"]
[1,221,221,null,{"$f":"IF(D232=\"Grid\",Simulation!$B$2,IF(D232=\"WU\",Simulation!$B$3,IF(D232=1,Simulation!$B$4,IF(D232=2,Simulation!$B$5,IF(D232=3,Simulation!$B$6,IF(D232=4,Simulation!$B$7,IF(D232=5,Simulation!$B$8)))))))","v":false},{"$f":"IF(D232=\"Grid\",Simulation!$C$2,IF(D232=\"WU\",Simulation!$C$3,IF(D232=1,Simulation!$C$4,IF(D232=2,Simulation!$C$5,IF(D232=3,Simulation!$C$6,IF(D232=4,Simulation!$C$7,IF(D232=5,Simulation!$C$8)))))))","v":false},0,null,null,null,"",null,null,null,null,0,null,0,0,"Inlap",null,null,"FL"]
[1,222,222,null,{"$f":"IF(D233=\"Grid\",Simulation!$B$2,IF(D233=\"WU\",Simulation!$B$3,IF(D233=1,Simulation!$B$4,IF(D233=2,Simulation!$B$5,IF(D233=3,Simulation!$B$6,IF(D233=4,Simulation!$B$7,IF(D233=5,Simulation!$B$8)))))))","v":false},{"$f":"IF(D233=\"Grid\",Simulation!$C$2,IF(D233=\"WU\",Simulation!$C$3,IF(D233=1,Simulation!$C$4,IF(D233=2,Simulation!$C$5,IF(D233=3,Simulation!$C$6,IF(D233=4,Simulation!$C$7,IF(D233=5,Simulation!$C$8)))))))","v":false},0,null,null,null,"",null,null,null,null,0,null,0,0,"Inlap",null,null,"FL"]
[1,223,223,null,{"$f":"IF(D234=\"Grid\",Simulation!$B$2,IF(D234=\"WU\",Simulation!$B$3,IF(D234=1,Simulation!$B$4,IF(D234=2,Simulation!$B$5,IF(D234=3,Simulation!$B$6,IF(D234=4,Simulation!$B$7,IF(D234=5,Simulation!$B$8)))))))","v":false},{"$f":"IF(D234=\"Grid\",Simulation!$C$2,IF(D234=\"WU\",Simulation!$C$3,IF(D234=1,Simulation!$C$4,IF(D234=2,Simulation!$C$5,IF(D234=3,Simulation!$C$6,IF(D234=4,Simulation!$C$7,IF(D234=5,Simulation!$C$8)))))))","v":false},0,null,null,null,"",null,null,null,null,0,null,0,0,"Inlap",null,null,"FL"]
[1,224,224,null,{"$f":"IF(D235=\"Grid\",Simulation!$B$2,IF(D235=\"WU\",Simulation!$B$3,IF(D235=1,Simulation!$B$4,IF(D235=2,Simulation!$B$5,IF(D235=3,Simulation!$B$6,IF(D235=4,Simulation!$B$7,IF(D235=5,Simulation!$B$8)))))))","v":false},{"$f":"IF(D235=\"Grid\",Simulation!$C$2,IF(D235=\"WU\",Simulation!$C$3,IF(D235=1,Simulation!$C$4,IF(D235=2,Simulation!$C$5,IF(D235=3,Simulation!$C$6,IF(D235=4,Simulation!$C$7,IF(D235=5,Simulation!$C$8)))))))","v":false},0,null,null,null,"",null,null,null,null,0,null,0,0,"Inlap",null,null,"FL"]
[1,225,225,null,{"$f":"IF(D236=\"Grid\",Simulation!$B$2,IF(D236=\"WU\",Simulation!$B$3,IF(D236=1,Simulation!$B$4,IF(D236=2,Simulation!$B$5,IF(D236=3,Simulation!$B$6,IF(D236=4,Simulation!$B$7,IF(D236=5,Simulation!$B$8)))))))","v":false},{"$f":"IF(D236=\"Grid\",Simulation!$C$2,IF(D236=\"WU\",Simulation!$C$3,IF(D236=1,Simulation!$C$4,IF(D236=2,Simulation!$C$5,IF(D236=3,Simulation!$C$6,IF(D236=4,Simulation!$C$7,IF(D236=5,Simulation!$C$8)))))))","v":false},0,null,null,null,"",null,null,null,null,0,null,0,0,"Inlap",null,null,"FL"]
[1,226,226,null,{"$f":"IF(D237=\"Grid\",Simulation!$B$2,IF(D237=\"WU\",Simulation!$B$3,IF(D237=1,Simulation!$B$4,IF(D237=2,Simulation!$B$5,IF(D237=3,Simulation!$B$6,IF(D237=4,Simulation!$B$7,IF(D237=5,Simulation!$B$8)))))))","v":false},{"$f":"IF(D237=\"Grid\",Simulation!$C$2,IF(D237=\"WU\",Simulation!$C$3,IF(D237=1,Simulation!$C$4,IF(D237=2,Simulation!$C$5,IF(D237=3,Simulation!$C$6,IF(D237=4,Simulation!$C$7,IF(D237=5,Simulation!$C$8)))))))","v":false},0,null,null,null,"",null,null,null,null,0,null,0,0,"Inlap",null,null,"FL"]
[1,227,227,null,{"$f":"IF(D238=\"Grid\",Simulation!$B$2,IF(D238=\"WU\",Simulation!$B$3,IF(D238=1,Simulation!$B$4,IF(D238=2,Simulation!$B$5,IF(D238=3,Simulation!$B$6,IF(D238=4,Simulation!$B$7,IF(D238=5,Simulation!$B$8)))))))","v":false},{"$f":"IF(D238=\"Grid\",Simulation!$C$2,IF(D238=\"WU\",Simulation!$C$3,IF(D238=1,Simulation!$C$4,IF(D238=2,Simulation!$C$5,IF(D238=3,Simulation!$C$6,IF(D238=4,Simulation!$C$7,IF(D238=5,Simulation!$C$8)))))))","v":false},0,null,null,null,"",null,null,null,null,{"$f":"IF(O238>0,Q238,Q238-Q237)","v":0},null,0,0,"Inlap",null,null,"FL"]
[1,228,228,null,{"$f":"IF(D239=\"Grid\",Simulation!$B$2,IF(D239=\"WU\",Simulation!$B$3,IF(D239=1,Simulation!$B$4,IF(D239=2,Simulation!$B$5,IF(D239=3,Simulation!$B$6,IF(D239=4,Simulation!$B$7,IF(D239=5,Simulation!$B$8)))))))","v":false},{"$f":"IF(D239=\"Grid\",Simulation!$C$2,IF(D239=\"WU\",Simulation!$C$3,IF(D239=1,Simulation!$C$4,IF(D239=2,Simulation!$C$5,IF(D239=3,Simulation!$C$6,IF(D239=4,Simulation!$C$7,IF(D239=5,Simulation!$C$8)))))))","v":false},0,null,null,null,"",null,null,null,null,0,null,0,0,"Inlap",null,null,"FL"]
[1,229,229,null,{"$f":"IF(D240=\"Grid\",Simulation!$B$2,IF(D240=\"WU\",Simulation!$B$3,IF(D240=1,Simulation!$B$4,IF(D240=2,Simulation!$B$5,IF(D240=3,Simulation!$B$6,IF(D240=4,Simulation!$B$7,IF(D240=5,Simulation!$B$8)))))))","v":false},{"$f":"IF(D240=\"Grid\",Simulation!$C$2,IF(D240=\"WU\",Simulation!$C$3,IF(D240=1,Simulation!$C$4,IF(D240=2,Simulation!$C$5,IF(D240=3,Simulation!$C$6,IF(D240=4,Simulation!$C$7,IF(D240=5,Simulation!$C$8)))))))","v":false},0,null,null,null,"",null,null,null,null,0,null,0,0,"Inlap",null,null,"FL"]
[1,230,230,null,{"$f":"IF(D241=\"Grid\",Simulation!$B$2,IF(D241=\"WU\",Simulation!$B$3,IF(D241=1,Simulation!$B$4,IF(D241=2,Simulation!$B$5,IF(D241=3,Simulation!$B$6,IF(D241=4,Simulation!$B$7,IF(D241=5,Simulation!$B$8)))))))","v":false},{"$f":"IF(D241=\"Grid\",Simulation!$C$2,IF(D241=\"WU\",Simulation!$C$3,IF(D241=1,Simulation!$C$4,IF(D241=2,Simulation!$C$5,IF(D241=3,Simulation!$C$6,IF(D241=4,Simulation!$C$7,IF(D241=5,Simulation!$C$8)))))))","v":false},0,null,null,null,"",null,null,null,null,0,null,0,0,"Inlap",null,null,"FL"]
[1,231,231,null,{"$f":"IF(D242=\"Grid\",Simulation!$B$2,IF(D242=\"WU\",Simulation!$B$3,IF(D242=1,Simulation!$B$4,IF(D242=2,Simulation!$B$5,IF(D242=3,Simulation!$B$6,IF(D242=4,Simulation!$B$7,IF(D242=5,Simulation!$B$8)))))))","v":false},{"$f":"IF(D242=\"Grid\",Simulation!$C$2,IF(D242=\"WU\",Simulation!$C$3,IF(D242=1,Simulation!$C$4,IF(D242=2,Simulation!$C$5,IF(D242=3,Simulation!$C$6,IF(D242=4,Simulation!$C$7,IF(D242=5,Simulation!$C$8)))))))","v":false},0,null,null,null,"",null,null,null,null,0,null,0,0,"Inlap",null,null,"FL"]
[1,232,232,null,{"$f":"IF(D243=\"Grid\",Simulation!$B$2,IF(D243=\"WU\",Simulation!$B$3,IF(D243=1,Simulation!$B$4,IF(D243=2,Simulation!$B$5,IF(D243=3,Simulation!$B$6,IF(D243=4,Simulation!$B$7,IF(D243=5,Simulation!$B$8)))))))","v":false},{"$f":"IF(D243=\"Grid\",Simulation!$C$2,IF(D243=\"WU\",Simulation!$C$3,IF(D243=1,Simulation!$C$4,IF(D243=2,Simulation!$C$5,IF(D243=3,Simulation!$C$6,IF(D243=4,Simulation!$C$7,IF(D243=5,Simulation!$C$8)))))))","v":false},0,null,null,null,"",null,null,null,null,0,null,0,0,"Inlap",null,null,"FL"]
[1,233,233,null,{"$f":"IF(D244=\"Grid\",Simulation!$B$2,IF(D244=\"WU\",Simulation!$B$3,IF(D244=1,Simulation!$B$4,IF(D244=2,Simulation!$B$5,IF(D244=3,Simulation!$B$6,IF(D244=4,Simulation!$B$7,IF(D244=5,Simulation!$B$8)))))))","v":false},{"$f":"IF(D244=\"Grid\",Simulation!$C$2,IF(D244=\"WU\",Simulation!$C$3,IF(D244=1,Simulation!$C$4,IF(D244=2,Simulation!$C$5,IF(D244=3,Simulation!$C$6,IF(D244=4,Simulation!$C$7,IF(D244=5,Simulation!$C$8)))))))","v":false},0,null,null,null,"",null,null,null,null,0,null,0,0,"Inlap",null,null,"FL"]
[1,234,234,null,{"$f":"IF(D245=\"Grid\",Simulation!$B$2,IF(D245=\"WU\",Simulation!$B$3,IF(D245=1,Simulation!$B$4,IF(D245=2,Simulation!$B$5,IF(D245=3,Simulation!$B$6,IF(D245=4,Simulation!$B$7,IF(D245=5,Simulation!$B$8)))))))","v":false},{"$f":"IF(D245=\"Grid\",Simulation!$C$2,IF(D245=\"WU\",Simulation!$C$3,IF(D245=1,Simulation!$C$4,IF(D245=2,Simulation!$C$5,IF(D245=3,Simulation!$C$6,IF(D245=4,Simulation!$C$7,IF(D245=5,Simulation!$C$8)))))))","v":false},0,null,null,null,"",null,null,null,null,0,null,{"$f":"IF(O245>0,Q245,Q245-Q244)","v":0},0,"Inlap",null,null,"FL"]
[1,235,235,null,{"$f":"IF(D246=\"Grid\",Simulation!$B$2,IF(D246=\"WU\",Simulation!$B$3,IF(D246=1,Simulation!$B$4,IF(D246=2,Simulation!$B$5,IF(D246=3,Simulation!$B$6,IF(D246=4,Simulation!$B$7,IF(D246=5,Simulation!$B$8)))))))","v":false},{"$f":"IF(D246=\"Grid\",Simulation!$C$2,IF(D246=\"WU\",Simulation!$C$3,IF(D246=1,Simulation!$C$4,IF(D246=2,Simulation!$C$5,IF(D246=3,Simulation!$C$6,IF(D246=4,Simulation!$C$7,IF(D246=5,Simulation!$C$8)))))))","v":false},0,null,null,null,"",null,null,null,null,0,null,0,0,"Inlap",null,null,"FL"]
[1,236,236,null,{"$f":"IF(D247=\"Grid\",Simulation!$B$2,IF(D247=\"WU\",Simulation!$B$3,IF(D247=1,Simulation!$B$4,IF(D247=2,Simulation!$B$5,IF(D247=3,Simulation!$B$6,IF(D247=4,Simulation!$B$7,IF(D247=5,Simulation!$B$8)))))))","v":false},{"$f":"IF(D247=\"Grid\",Simulation!$C$2,IF(D247=\"WU\",Simulation!$C$3,IF(D247=1,Simulation!$C$4,IF(D247=2,Simulation!$C$5,IF(D247=3,Simulation!$C$6,IF(D247=4,Simulation!$C$7,IF(D247=5,Simulation!$C$8)))))))","v":false},0,null,null,null,"",null,null,null,null,0,null,0,0,"Inlap",null,null,"FL"]
[1,237,237,null,{"$f":"IF(D248=\"Grid\",Simulation!$B$2,IF(D248=\"WU\",Simulation!$B$3,IF(D248=1,Simulation!$B$4,IF(D248=2,Simulation!$B$5,IF(D248=3,Simulation!$B$6,IF(D248=4,Simulation!$B$7,IF(D248=5,Simulation!$B$8)))))))","v":false},{"$f":"IF(D248=\"Grid\",Simulation!$C$2,IF(D248=\"WU\",Simulation!$C$3,IF(D248=1,Simulation!$C$4,IF(D248=2,Simulation!$C$5,IF(D248=3,Simulation!$C$6,IF(D248=4,Simulation!$C$7,IF(D248=5,Simulation!$C$8)))))))","v":false},0,null,null,null,"",null,null,null,null,0,null,0,0,"Inlap",null,null,"FL"]
[1,238,238,null,{"$f":"IF(D249=\"Grid\",Simulation!$B$2,IF(D249=\"WU\",Simulation!$B$3,IF(D249=1,Simulation!$B$4,IF(D249=2,Simulation!$B$5,IF(D249=3,Simulation!$B$6,IF(D249=4,Simulation!$B$7,IF(D249=5,Simulation!$B$8)))))))","v":false},{"$f":"IF(D249=\"Grid\",Simulation!$C$2,IF(D249=\"WU\",Simulation!$C$3,IF(D249=1,Simulation!$C$4,IF(D249=2,Simulation!$C$5,IF(D249=3,Simulation!$C$6,IF(D249=4,Simulation!$C$7,IF(D249=5,Simulation!$C$8)))))))","v":false},0,null,null,null,"",null,null,null,null,0,null,0,0,"Inlap",null,null,"FL"]
[1,239,239,null,{"$f":"IF(D250=\"Grid\",Simulation!$B$2,IF(D250=\"WU\",Simulation!$B$3,IF(D250=1,Simulation!$B$4,IF(D250=2,Simulation!$B$5,IF(D250=3,Simulation!$B$6,IF(D250=4,Simulation!$B$7,IF(D250=5,Simulation!$B$8)))))))","v":false},{"$f":"IF(D250=\"Grid\",Simulation!$C$2,IF(D250=\"WU\",Simulation!$C$3,IF(D250=1,Simulation!$C$4,IF(D250=2,Simulation!$C$5,IF(D250=3,Simulation!$C$6,IF(D250=4,Simulation!$C$7,IF(D250=5,Simulation!$C$8)))))))","v":false},0,null,null,null,"",null,null,null,null,0,null,0,0,"Inlap",null,null,"FL"]
[1,240,240,null,{"$f":"IF(D251=\"Grid\",Simulation!$B$2,IF(D251=\"WU\",Simulation!$B$3,IF(D251=1,Simulation!$B$4,IF(D251=2,Simulation!$B$5,IF(D251=3,Simulation!$B$6,IF(D251=4,Simulation!$B$7,IF(D251=5,Simulation!$B$8)))))))","v":false},{"$f":"IF(D251=\"Grid\",Simulation!$C$2,IF(D251=\"WU\",Simulation!$C$3,IF(D251=1,Simulation!$C$4,IF(D251=2,Simulation!$C$5,IF(D251=3,Simulation!$C$6,IF(D251=4,Simulation!$C$7,IF(D251=5,Simulation!$C$8)))))))","v":false},0,null,null,null,"",null,null,null,null,0,null,0,0,"Inlap",null,null,"FL"]
[1,241,241,null,{"$f":"IF(D252=\"Grid\",Simulation!$B$2,IF(D252=\"WU\",Simulation!$B$3,IF(D252=1,Simulation!$B$4,IF(D252=2,Simulation!$B$5,IF(D252=3,Simulation!$B$6,IF(D252=4,Simulation!$B$7,IF(D252=5,Simulation!$B$8)))))))","v":false},{"$f":"IF(D252=\"Grid\",Simulation!$C$2,IF(D252=\"WU\",Simulation!$C$3,IF(D252=1,Simulation!$C$4,IF(D252=2,Simulation!$C$5,IF(D252=3,Simulation!$C$6,IF(D252=4,Simulation!$C$7,IF(D252=5,Simulation!$C$8)))))))","v":false},0,null,null,null,"",null,null,null,null,0,null,0,0,"Inlap",null,null,"FL"]
[1,242,242,null,{"$f":"IF(D253=\"Grid\",Simulation!$B$2,IF(D253=\"WU\",Simulation!$B$3,IF(D253=1,Simulation!$B$4,IF(D253=2,Simulation!$B$5,IF(D253=3,Simulation!$B$6,IF(D253=4,Simulation!$B$7,IF(D253=5,Simulation!$B$8)))))))","v":false},{"$f":"IF(D253=\"Grid\",Simulation!$C$2,IF(D253=\"WU\",Simulation!$C$3,IF(D253=1,Simulation!$C$4,IF(D253=2,Simulation!$C$5,IF(D253=3,Simulation!$C$6,IF(D253=4,Simulation!$C$7,IF(D253=5,Simulation!$C$8)))))))","v":false},0,null,null,null,"",null,null,null,null,0,null,0,0,"Inlap",null,null,"FL"]
[1,243,243,null,{"$f":"IF(D254=\"Grid\",Simulation!$B$2,IF(D254=\"WU\",Simulation!$B$3,IF(D254=1,Simulation!$B$4,IF(D254=2,Simulation!$B$5,IF(D254=3,Simulation!$B$6,IF(D254=4,Simulation!$B$7,IF(D254=5,Simulation!$B$8)))))))","v":false},{"$f":"IF(D254=\"Grid\",Simulation!$C$2,IF(D254=\"WU\",Simulation!$C$3,IF(D254=1,Simulation!$C$4,IF(D254=2,Simulation!$C$5,IF(D254=3,Simulation!$C$6,IF(D254=4,Simulation!$C$7,IF(D254=5,Simulation!$C$8)))))))","v":false},0,null,null,null,"",null,null,null,null,0,null,0,0,"Inlap",null,null,"FL"]
[1,244,244,null,{"$f":"IF(D255=\"Grid\",Simulation!$B$2,IF(D255=\"WU\",Simulation!$B$3,IF(D255=1,Simulation!$B$4,IF(D255=2,Simulation!$B$5,IF(D255=3,Simulation!$B$6,IF(D255=4,Simulation!$B$7,IF(D255=5,Simulation!$B$8)))))))","v":false},{"$f":"IF(D255=\"Grid\",Simulation!$C$2,IF(D255=\"WU\",Simulation!$C$3,IF(D255=1,Simulation!$C$4,IF(D255=2,Simulation!$C$5,IF(D255=3,Simulation!$C$6,IF(D255=4,Simulation!$C$7,IF(D255=5,Simulation!$C$8)))))))","v":false},0,null,null,null,"",null,null,null,null,0,null,0,0,"Inlap",null,null,"FL"]
[1,245,245,null,{"$f":"IF(D256=\"Grid\",Simulation!$B$2,IF(D256=\"WU\",Simulation!$B$3,IF(D256=1,Simulation!$B$4,IF(D256=2,Simulation!$B$5,IF(D256=3,Simulation!$B$6,IF(D256=4,Simulation!$B$7,IF(D256=5,Simulation!$B$8)))))))","v":false},{"$f":"IF(D256=\"Grid\",Simulation!$C$2,IF(D256=\"WU\",Simulation!$C$3,IF(D256=1,Simulation!$C$4,IF(D256=2,Simulation!$C$5,IF(D256=3,Simulation!$C$6,IF(D256=4,Simulation!$C$7,IF(D256=5,Simulation!$C$8)))))))","v":false},0,null,null,null,"",null,null,null,null,0,null,0,0,"Inlap",null,null,"FL"]
[1,246,246,null,{"$f":"IF(D257=\"Grid\",Simulation!$B$2,IF(D257=\"WU\",Simulation!$B$3,IF(D257=1,Simulation!$B$4,IF(D257=2,Simulation!$B$5,IF(D257=3,Simulation!$B$6,IF(D257=4,Simulation!$B$7,IF(D257=5,Simulation!$B$8)))))))","v":false},{"$f":"IF(D257=\"Grid\",Simulation!$C$2,IF(D257=\"WU\",Simulation!$C$3,IF(D257=1,Simulation!$C$4,IF(D257=2,Simulation!$C$5,IF(D257=3,Simulation!$C$6,IF(D257=4,Simulation!$C$7,IF(D257=5,Simulation!$C$8)))))))","v":false},0,null,null,null,"",null,null,null,null,0,null,0,0,"Inlap",null,null,"FL"]
[1,247,247,null,{"$f":"IF(D258=\"Grid\",Simulation!$B$2,IF(D258=\"WU\",Simulation!$B$3,IF(D258=1,Simulation!$B$4,IF(D258=2,Simulation!$B$5,IF(D258=3,Simulation!$B$6,IF(D258=4,Simulation!$B$7,IF(D258=5,Simulation!$B$8)))))))","v":false},{"$f":"IF(D258=\"Grid\",Simulation!$C$2,IF(D258=\"WU\",Simulation!$C$3,IF(D258=1,Simulation!$C$4,IF(D258=2,Simulation!$C$5,IF(D258=3,Simulation!$C$6,IF(D258=4,Simulation!$C$7,IF(D258=5,Simulation!$C$8)))))))","v":false},0,null,null,null,"",null,null,null,null,0,null,0,0,"Inlap",null,null,"FL"]
[1,248,248,null,{"$f":"IF(D259=\"Grid\",Simulation!$B$2,IF(D259=\"WU\",Simulation!$B$3,IF(D259=1,Simulation!$B$4,IF(D259=2,Simulation!$B$5,IF(D259=3,Simulation!$B$6,IF(D259=4,Simulation!$B$7,IF(D259=5,Simulation!$B$8)))))))","v":false},{"$f":"IF(D259=\"Grid\",Simulation!$C$2,IF(D259=\"WU\",Simulation!$C$3,IF(D259=1,Simulation!$C$4,IF(D259=2,Simulation!$C$5,IF(D259=3,Simulation!$C$6,IF(D259=4,Simulation!$C$7,IF(D259=5,Simulation!$C$8)))))))","v":false},0,null,null,null,"",null,null,null,null,0,null,0,0,"Inlap",null,null,"FL"]
[1,249,249,null,{"$f":"IF(D260=\"Grid\",Simulation!$B$2,IF(D260=\"WU\",Simulation!$B$3,IF(D260=1,Simulation!$B$4,IF(D260=2,Simulation!$B$5,IF(D260=3,Simulation!$B$6,IF(D260=4,Simulation!$B$7,IF(D260=5,Simulation!$B$8)))))))","v":false},{"$f":"IF(D260=\"Grid\",Simulation!$C$2,IF(D260=\"WU\",Simulation!$C$3,IF(D260=1,Simulation!$C$4,IF(D260=2,Simulation!$C$5,IF(D260=3,Simulation!$C$6,IF(D260=4,Simulation!$C$7,IF(D260=5,Simulation!$C$8)))))))","v":false},0,null,null,null,"",null,null,null,null,0,null,0,0,"Inlap",null,null,"FL"]
[1,250,250,null,{"$f":"IF(D261=\"Grid\",Simulation!$B$2,IF(D261=\"WU\",Simulation!$B$3,IF(D261=1,Simulation!$B$4,IF(D261=2,Simulation!$B$5,IF(D261=3,Simulation!$B$6,IF(D261=4,Simulation!$B$7,IF(D261=5,Simulation!$B$8)))))))","v":false},{"$f":"IF(D261=\"Grid\",Simulation!$C$2,IF(D261=\"WU\",Simulation!$C$3,IF(D261=1,Simulation!$C$4,IF(D261=2,Simulation!$C$5,IF(D261=3,Simulation!$C$6,IF(D261=4,Simulation!$C$7,IF(D261=5,Simulation!$C$8)))))))","v":false},0,null,null,null,"",null,null,null,null,0,null,0,0,"Inlap",null,null,"FL"]
[1,251,251,null,{"$f":"IF(D262=\"Grid\",Simulation!$B$2,IF(D262=\"WU\",Simulation!$B$3,IF(D262=1,Simulation!$B$4,IF(D262=2,Simulation!$B$5,IF(D262=3,Simulation!$B$6,IF(D262=4,Simulation!$B$7,IF(D262=5,Simulation!$B$8)))))))","v":false},{"$f":"IF(D262=\"Grid\",Simulation!$C$2,IF(D262=\"WU\",Simulation!$C$3,IF(D262=1,Simulation!$C$4,IF(D262=2,Simulation!$C$5,IF(D262=3,Simulation!$C$6,IF(D262=4,Simulation!$C$7,IF(D262=5,Simulation!$C$8)))))))","v":false},0,null,null,null,"",null,null,null,null,0,null,0,0,"Inlap",null,null,"FL"]
[1,252,252,null,{"$f":"IF(D263=\"Grid\",Simulation!$B$2,IF(D263=\"WU\",Simulation!$B$3,IF(D263=1,Simulation!$B$4,IF(D263=2,Simulation!$B$5,IF(D263=3,Simulation!$B$6,IF(D263=4,Simulation!$B$7,IF(D263=5,Simulation!$B$8)))))))","v":false},{"$f":"IF(D263=\"Grid\",Simulation!$C$2,IF(D263=\"WU\",Simulation!$C$3,IF(D263=1,Simulation!$C$4,IF(D263=2,Simulation!$C$5,IF(D263=3,Simulation!$C$6,IF(D263=4,Simulation!$C$7,IF(D263=5,Simulation!$C$8)))))))","v":false},0,null,null,null,"",null,null,null,null,0,null,0,0,"Inlap",null,null,"FL"]
[1,253,253,null,{"$f":"IF(D264=\"Grid\",Simulation!$B$2,IF(D264=\"WU\",Simulation!$B$3,IF(D264=1,Simulation!$B$4,IF(D264=2,Simulation!$B$5,IF(D264=3,Simulation!$B$6,IF(D264=4,Simulation!$B$7,IF(D264=5,Simulation!$B$8)))))))","v":false},{"$f":"IF(D264=\"Grid\",Simulation!$C$2,IF(D264=\"WU\",Simulation!$C$3,IF(D264=1,Simulation!$C$4,IF(D264=2,Simulation!$C$5,IF(D264=3,Simulation!$C$6,IF(D264=4,Simulation!$C$7,IF(D264=5,Simulation!$C$8)))))))","v":false},0,null,null,null,"",null,null,null,null,0,null,0,0,"Inlap",null,null,"FL"]
[1,254,254,null,{"$f":"IF(D265=\"Grid\",Simulation!$B$2,IF(D265=\"WU\",Simulation!$B$3,IF(D265=1,Simulation!$B$4,IF(D265=2,Simulation!$B$5,IF(D265=3,Simulation!$B$6,IF(D265=4,Simulation!$B$7,IF(D265=5,Simulation!$B$8)))))))","v":false},{"$f":"IF(D265=\"Grid\",Simulation!$C$2,IF(D265=\"WU\",Simulation!$C$3,IF(D265=1,Simulation!$C$4,IF(D265=2,Simulation!$C$5,IF(D265=3,Simulation!$C$6,IF(D265=4,Simulation!$C$7,IF(D265=5,Simulation!$C$8)))))))","v":false},0,null,null,null,"",null,null,null,null,0,null,0,0,"Inlap",null,null,"FL"]
[1,255,255,null,{"$f":"IF(D266=\"Grid\",Simulation!$B$2,IF(D266=\"WU\",Simulation!$B$3,IF(D266=1,Simulation!$B$4,IF(D266=2,Simulation!$B$5,IF(D266=3,Simulation!$B$6,IF(D266=4,Simulation!$B$7,IF(D266=5,Simulation!$B$8)))))))","v":false},{"$f":"IF(D266=\"Grid\",Simulation!$C$2,IF(D266=\"WU\",Simulation!$C$3,IF(D266=1,Simulation!$C$4,IF(D266=2,Simulation!$C$5,IF(D266=3,Simulation!$C$6,IF(D266=4,Simulation!$C$7,IF(D266=5,Simulation!$C$8)))))))","v":false},0,null,null,null,"",null,null,null,null,0,null,0,0,"Inlap",null,null,"FL"]
[1,256,256,null,{"$f":"IF(D267=\"Grid\",Simulation!$B$2,IF(D267=\"WU\",Simulation!$B$3,IF(D267=1,Simulation!$B$4,IF(D267=2,Simulation!$B$5,IF(D267=3,Simulation!$B$6,IF(D267=4,Simulation!$B$7,IF(D267=5,Simulation!$B$8)))))))","v":false},{"$f":"IF(D267=\"Grid\",Simulation!$C$2,IF(D267=\"WU\",Simulation!$C$3,IF(D267=1,Simulation!$C$4,IF(D267=2,Simulation!$C$5,IF(D267=3,Simulation!$C$6,IF(D267=4,Simulation!$C$7,IF(D267=5,Simulation!$C$8)))))))","v":false},0,null,null,null,"",null,null,null,null,0,null,0,0,{"$f":"IF(S267<=F267,\"Inlap\",IF(S267<=2*F267,\"Call: In this lap!\",IF(S267<=3*F267,\"Show in but don't call!\",\"\")))","v":"Inlap"},null,null,"FL"]
[{"$f":"IF(O268>0,A267+1,A267)","v":1},257,257,null,{"$f":"IF(D268=\"Grid\",Simulation!$B$2,IF(D268=\"WU\",Simulation!$B$3,IF(D268=1,Simulation!$B$4,IF(D268=2,Simulation!$B$5,IF(D268=3,Simulation!$B$6,IF(D268=4,Simulation!$B$7,IF(D268=5,Simulation!$B$8)))))))","v":false},{"$f":"IF(D268=\"Grid\",Simulation!$C$2,IF(D268=\"WU\",Simulation!$C$3,IF(D268=1,Simulation!$C$4,IF(D268=2,Simulation!$C$5,IF(D268=3,Simulation!$C$6,IF(D268=4,Simulation!$C$7,IF(D268=5,Simulation!$C$8)))))))","v":false},{"$f":"G267+O267-P267","v":0},null,null,null,"",null,null,null,null,0,null,0,{"$f":"IF(O268>0,O268+S267-Q268,S267-P268)","v":0},"Inlap",null,null,{"$f":"IF(J268=$Q$2,\"FL\",\"\")","v":"FL"}]
[1,258,258,null,{"$f":"IF(D269=\"Grid\",Simulation!$B$2,IF(D269=\"WU\",Simulation!$B$3,IF(D269=1,Simulation!$B$4,IF(D269=2,Simulation!$B$5,IF(D269=3,Simulation!$B$6,IF(D269=4,Simulation!$B$7,IF(D269=5,Simulation!$B$8)))))))","v":false},{"$f":"IF(D269=\"Grid\",Simulation!$C$2,IF(D269=\"WU\",Simulation!$C$3,IF(D269=1,Simulation!$C$4,IF(D269=2,Simulation!$C$5,IF(D269=3,Simulation!$C$6,IF(D269=4,Simulation!$C$7,IF(D269=5,Simulation!$C$8)))))))","v":false},0,null,null,null,{"$f":"IF(J269<>0,K268,\"\")","v":""},null,null,null,null,0,null,0,0,"Inlap",null,null,"FL"]
[1,259,{"$f":"IF(O270=\"\",C269+1,\"1\")","v":259},null,{"$f":"IF(D270=\"Grid\",Simulation!$B$2,IF(D270=\"WU\",Simulation!$B$3,IF(D270=1,Simulation!$B$4,IF(D270=2,Simulation!$B$5,IF(D270=3,Simulation!$B$6,IF(D270=4,Simulation!$B$7,IF(D270=5,Simulation!$B$8)))))))","v":false},{"$f":"IF(D270=\"Grid\",Simulation!$C$2,IF(D270=\"WU\",Simulation!$C$3,IF(D270=1,Simulation!$C$4,IF(D270=2,Simulation!$C$5,IF(D270=3,Simulation!$C$6,IF(D270=4,Simulation!$C$7,IF(D270=5,Simulation!$C$8)))))))","v":false},0,null,null,null,"",null,null,null,null,0,null,0,0,"Inlap",null,null,"FL"]
[1,260,260,null,{"$f":"IF(D271=\"Grid\",Simulation!$B$2,IF(D271=\"WU\",Simulation!$B$3,IF(D271=1,Simulation!$B$4,IF(D271=2,Simulation!$B$5,IF(D271=3,Simulation!$B$6,IF(D271=4,Simulation!$B$7,IF(D271=5,Simulation!$B$8)))))))","v":false},{"$f":"IF(D271=\"Grid\",Simulation!$C$2,IF(D271=\"WU\",Simulation!$C$3,IF(D271=1,Simulation!$C$4,IF(D271=2,Simulation!$C$5,IF(D271=3,Simulation!$C$6,IF(D271=4,Simulation!$C$7,IF(D271=5,Simulation!$C$8)))))))","v":false},0,null,null,null,"",null,null,null,null,0,null,0,0,"Inlap",null,null,"FL"]
[1,261,261,null,{"$f":"IF(D272=\"Grid\",Simulation!$B$2,IF(D272=\"WU\",Simulation!$B$3,IF(D272=1,Simulation!$B$4,IF(D272=2,Simulation!$B$5,IF(D272=3,Simulation!$B$6,IF(D272=4,Simulation!$B$7,IF(D272=5,Simulation!$B$8)))))))","v":false},{"$f":"IF(D272=\"Grid\",Simulation!$C$2,IF(D272=\"WU\",Simulation!$C$3,IF(D272=1,Simulation!$C$4,IF(D272=2,Simulation!$C$5,IF(D272=3,Simulation!$C$6,IF(D272=4,Simulation!$C$7,IF(D272=5,Simulation!$C$8)))))))","v":false},0,null,null,null,"",null,null,null,null,0,null,0,0,"Inlap",null,null,"FL"]
[1,262,262,null,{"$f":"IF(D273=\"Grid\",Simulation!$B$2,IF(D273=\"WU\",Simulation!$B$3,IF(D273=1,Simulation!$B$4,IF(D273=2,Simulation!$B$5,IF(D273=3,Simulation!$B$6,IF(D273=4,Simulation!$B$7,IF(D273=5,Simulation!$B$8)))))))","v":false},{"$f":"IF(D273=\"Grid\",Simulation!$C$2,IF(D273=\"WU\",Simulation!$C$3,IF(D273=1,Simulation!$C$4,IF(D273=2,Simulation!$C$5,IF(D273=3,Simulation!$C$6,IF(D273=4,Simulation!$C$7,IF(D273=5,Simulation!$C$8)))))))","v":false},0,null,null,null,"",null,null,null,null,0,null,0,0,"Inlap",null,null,"FL"]
[1,263,263,null,{"$f":"IF(D274=\"Grid\",Simulation!$B$2,IF(D274=\"WU\",Simulation!$B$3,IF(D274=1,Simulation!$B$4,IF(D274=2,Simulation!$B$5,IF(D274=3,Simulation!$B$6,IF(D274=4,Simulation!$B$7,IF(D274=5,Simulation!$B$8)))))))","v":false},{"$f":"IF(D274=\"Grid\",Simulation!$C$2,IF(D274=\"WU\",Simulation!$C$3,IF(D274=1,Simulation!$C$4,IF(D274=2,Simulation!$C$5,IF(D274=3,Simulation!$C$6,IF(D274=4,Simulation!$C$7,IF(D274=5,Simulation!$C$8)))))))","v":false},0,null,null,null,"",null,null,null,null,0,null,0,0,"Inlap",null,null,"FL"]
[1,264,264,null,{"$f":"IF(D275=\"Grid\",Simulation!$B$2,IF(D275=\"WU\",Simulation!$B$3,IF(D275=1,Simulation!$B$4,IF(D275=2,Simulation!$B$5,IF(D275=3,Simulation!$B$6,IF(D275=4,Simulation!$B$7,IF(D275=5,Simulation!$B$8)))))))","v":false},{"$f":"IF(D275=\"Grid\",Simulation!$C$2,IF(D275=\"WU\",Simulation!$C$3,IF(D275=1,Simulation!$C$4,IF(D275=2,Simulation!$C$5,IF(D275=3,Simulation!$C$6,IF(D275=4,Simulation!$C$7,IF(D275=5,Simulation!$C$8)))))))","v":false},0,null,null,null,"",null,null,null,null,0,null,0,0,"Inlap",null,null,"FL"]
[1,265,265,null,{"$f":"IF(D276=\"Grid\",Simulation!$B$2,IF(D276=\"WU\",Simulation!$B$3,IF(D276=1,Simulation!$B$4,IF(D276=2,Simulation!$B$5,IF(D276=3,Simulation!$B$6,IF(D276=4,Simulation!$B$7,IF(D276=5,Simulation!$B$8)))))))","v":false},{"$f":"IF(D276=\"Grid\",Simulation!$C$2,IF(D276=\"WU\",Simulation!$C$3,IF(D276=1,Simulation!$C$4,IF(D276=2,Simulation!$C$5,IF(D276=3,Simulation!$C$6,IF(D276=4,Simulation!$C$7,IF(D276=5,Simulation!$C$8)))))))","v":false},0,null,null,null,"",null,null,null,null,0,null,0,0,"Inlap",null,null,"FL"]
[1,266,266,null,{"$f":"IF(D277=\"Grid\",Simulation!$B$2,IF(D277=\"WU\",Simulation!$B$3,IF(D277=1,Simulation!$B$4,IF(D277=2,Simulation!$B$5,IF(D277=3,Simulation!$B$6,IF(D277=4,Simulation!$B$7,IF(D277=5,Simulation!$B$8)))))))","v":false},{"$f":"IF(D277=\"Grid\",Simulation!$C$2,IF(D277=\"WU\",Simulation!$C$3,IF(D277=1,Simulation!$C$4,IF(D277=2,Simulation!$C$5,IF(D277=3,Simulation!$C$6,IF(D277=4,Simulation!$C$7,IF(D277=5,Simulation!$C$8)))))))","v":false},0,null,null,null,"",null,null,null,null,0,null,0,0,"Inlap",null,null,"FL"]
[1,267,267,null,{"$f":"IF(D278=\"Grid\",Simulation!$B$2,IF(D278=\"WU\",Simulation!$B$3,IF(D278=1,Simulation!$B$4,IF(D278=2,Simulation!$B$5,IF(D278=3,Simulation!$B$6,IF(D278=4,Simulation!$B$7,IF(D278=5,Simulation!$B$8)))))))","v":false},{"$f":"IF(D278=\"Grid\",Simulation!$C$2,IF(D278=\"WU\",Simulation!$C$3,IF(D278=1,Simulation!$C$4,IF(D278=2,Simulation!$C$5,IF(D278=3,Simulation!$C$6,IF(D278=4,Simulation!$C$7,IF(D278=5,Simulation!$C$8)))))))","v":false},0,null,null,null,"",null,null,null,null,0,null,0,0,"Inlap",null,null,"FL"]
[1,268,268,null,{"$f":"IF(D279=\"Grid\",Simulation!$B$2,IF(D279=\"WU\",Simulation!$B$3,IF(D279=1,Simulation!$B$4,IF(D279=2,Simulation!$B$5,IF(D279=3,Simulation!$B$6,IF(D279=4,Simulation!$B$7,IF(D279=5,Simulation!$B$8)))))))","v":false},{"$f":"IF(D279=\"Grid\",Simulation!$C$2,IF(D279=\"WU\",Simulation!$C$3,IF(D279=1,Simulation!$C$4,IF(D279=2,Simulation!$C$5,IF(D279=3,Simulation!$C$6,IF(D279=4,Simulation!$C$7,IF(D279=5,Simulation!$C$8)))))))","v":false},0,null,null,null,"",null,null,null,null,0,null,0,0,"Inlap",null,null,"FL"]
[1,269,269,null,{"$f":"IF(D280=\"Grid\",Simulation!$B$2,IF(D280=\"WU\",Simulation!$B$3,IF(D280=1,Simulation!$B$4,IF(D280=2,Simulation!$B$5,IF(D280=3,Simulation!$B$6,IF(D280=4,Simulation!$B$7,IF(D280=5,Simulation!$B$8)))))))","v":false},{"$f":"IF(D280=\"Grid\",Simulation!$C$2,IF(D280=\"WU\",Simulation!$C$3,IF(D280=1,Simulation!$C$4,IF(D280=2,Simulation!$C$5,IF(D280=3,Simulation!$C$6,IF(D280=4,Simulation!$C$7,IF(D280=5,Simulation!$C$8)))))))","v":false},0,null,null,null,"",null,null,null,null,0,null,0,0,"Inlap",null,null,"FL"]
[1,270,270,null,{"$f":"IF(D281=\"Grid\",Simulation!$B$2,IF(D281=\"WU\",Simulation!$B$3,IF(D281=1,Simulation!$B$4,IF(D281=2,Simulation!$B$5,IF(D281=3,Simulation!$B$6,IF(D281=4,Simulation!$B$7,IF(D281=5,Simulation!$B$8)))))))","v":false},{"$f":"IF(D281=\"Grid\",Simulation!$C$2,IF(D281=\"WU\",Simulation!$C$3,IF(D281=1,Simulation!$C$4,IF(D281=2,Simulation!$C$5,IF(D281=3,Simulation!$C$6,IF(D281=4,Simulation!$C$7,IF(D281=5,Simulation!$C$8)))))))","v":false},0,null,null,null,"",null,null,null,null,0,null,0,0,"Inlap",null,null,"FL"]
[1,271,271,null,{"$f":"IF(D282=\"Grid\",Simulation!$B$2,IF(D282=\"WU\",Simulation!$B$3,IF(D282=1,Simulation!$B$4,IF(D282=2,Simulation!$B$5,IF(D282=3,Simulation!$B$6,IF(D282=4,Simulation!$B$7,IF(D282=5,Simulation!$B$8)))))))","v":false},{"$f":"IF(D282=\"Grid\",Simulation!$C$2,IF(D282=\"WU\",Simulation!$C$3,IF(D282=1,Simulation!$C$4,IF(D282=2,Simulation!$C$5,IF(D282=3,Simulation!$C$6,IF(D282=4,Simulation!$C$7,IF(D282=5,Simulation!$C$8)))))))","v":false},0,null,null,null,"",null,null,null,null,0,null,0,0,"Inlap",null,null,"FL"]
[1,272,272,null,{"$f":"IF(D283=\"Grid\",Simulation!$B$2,IF(D283=\"WU\",Simulation!$B$3,IF(D283=1,Simulation!$B$4,IF(D283=2,Simulation!$B$5,IF(D283=3,Simulation!$B$6,IF(D283=4,Simulation!$B$7,IF(D283=5,Simulation!$B$8)))))))","v":false},{"$f":"IF(D283=\"Grid\",Simulation!$C$2,IF(D283=\"WU\",Simulation!$C$3,IF(D283=1,Simulation!$C$4,IF(D283=2,Simulation!$C$5,IF(D283=3,Simulation!$C$6,IF(D283=4,Simulation!$C$7,IF(D283=5,Simulation!$C$8)))))))","v":false},0,null,null,null,"",null,null,null,null,0,null,0,0,"Inlap",null,null,"FL"]
[1,273,273,null,{"$f":"IF(D284=\"Grid\",Simulation!$B$2,IF(D284=\"WU\",Simulation!$B$3,IF(D284=1,Simulation!$B$4,IF(D284=2,Simulation!$B$5,IF(D284=3,Simulation!$B$6,IF(D284=4,Simulation!$B$7,IF(D284=5,Simulation!$B$8)))))))","v":false},{"$f":"IF(D284=\"Grid\",Simulation!$C$2,IF(D284=\"WU\",Simulation!$C$3,IF(D284=1,Simulation!$C$4,IF(D284=2,Simulation!$C$5,IF(D284=3,Simulation!$C$6,IF(D284=4,Simulation!$C$7,IF(D284=5,Simulation!$C$8)))))))","v":false},0,null,null,null,"",null,null,null,null,0,null,0,0,"Inlap",null,null,"FL"]
[1,274,274,null,{"$f":"IF(D285=\"Grid\",Simulation!$B$2,IF(D285=\"WU\",Simulation!$B$3,IF(D285=1,Simulation!$B$4,IF(D285=2,Simulation!$B$5,IF(D285=3,Simulation!$B$6,IF(D285=4,Simulation!$B$7,IF(D285=5,Simulation!$B$8)))))))","v":false},{"$f":"IF(D285=\"Grid\",Simulation!$C$2,IF(D285=\"WU\",Simulation!$C$3,IF(D285=1,Simulation!$C$4,IF(D285=2,Simulation!$C$5,IF(D285=3,Simulation!$C$6,IF(D285=4,Simulation!$C$7,IF(D285=5,Simulation!$C$8)))))))","v":false},0,null,null,null,"",null,null,null,null,0,null,0,0,"Inlap",null,null,"FL"]
[1,275,275,null,{"$f":"IF(D286=\"Grid\",Simulation!$B$2,IF(D286=\"WU\",Simulation!$B$3,IF(D286=1,Simulation!$B$4,IF(D286=2,Simulation!$B$5,IF(D286=3,Simulation!$B$6,IF(D286=4,Simulation!$B$7,IF(D286=5,Simulation!$B$8)))))))","v":false},{"$f":"IF(D286=\"Grid\",Simulation!$C$2,IF(D286=\"WU\",Simulation!$C$3,IF(D286=1,Simulation!$C$4,IF(D286=2,Simulation!$C$5,IF(D286=3,Simulation!$C$6,IF(D286=4,Simulation!$C$7,IF(D286=5,Simulation!$C$8)))))))","v":false},0,null,null,null,"",null,null,null,null,0,null,0,0,"Inlap",null,null,"FL"]
[1,276,276,null,{"$f":"IF(D287=\"Grid\",Simulation!$B$2,IF(D287=\"WU\",Simulation!$B$3,IF(D287=1,Simulation!$B$4,IF(D287=2,Simulation!$B$5,IF(D287=3,Simulation!$B$6,IF(D287=4,Simulation!$B$7,IF(D287=5,Simulation!$B$8)))))))","v":false},{"$f":"IF(D287=\"Grid\",Simulation!$C$2,IF(D287=\"WU\",Simulation!$C$3,IF(D287=1,Simulation!$C$4,IF(D287=2,Simulation!$C$5,IF(D287=3,Simulation!$C$6,IF(D287=4,Simulation!$C$7,IF(D287=5,Simulation!$C$8)))))))","v":false},0,null,null,null,"",null,null,null,null,0,null,0,0,"Inlap",null,null,"FL"]
[1,277,277,null,{"$f":"IF(D288=\"Grid\",Simulation!$B$2,IF(D288=\"WU\",Simulation!$B$3,IF(D288=1,Simulation!$B$4,IF(D288=2,Simulation!$B$5,IF(D288=3,Simulation!$B$6,IF(D288=4,Simulation!$B$7,IF(D288=5,Simulation!$B$8)))))))","v":false},{"$f":"IF(D288=\"Grid\",Simulation!$C$2,IF(D288=\"WU\",Simulation!$C$3,IF(D288=1,Simulation!$C$4,IF(D288=2,Simulation!$C$5,IF(D288=3,Simulation!$C$6,IF(D288=4,Simulation!$C$7,IF(D288=5,Simulation!$C$8)))))))","v":false},0,null,null,null,"",null,null,null,null,0,null,0,0,"Inlap",null,null,"FL"]
[1,278,278,null,{"$f":"IF(D289=\"Grid\",Simulation!$B$2,IF(D289=\"WU\",Simulation!$B$3,IF(D289=1,Simulation!$B$4,IF(D289=2,Simulation!$B$5,IF(D289=3,Simulation!$B$6,IF(D289=4,Simulation!$B$7,IF(D289=5,Simulation!$B$8)))))))","v":false},{"$f":"IF(D289=\"Grid\",Simulation!$C$2,IF(D289=\"WU\",Simulation!$C$3,IF(D289=1,Simulation!$C$4,IF(D289=2,Simulation!$C$5,IF(D289=3,Simulation!$C$6,IF(D289=4,Simulation!$C$7,IF(D289=5,Simulation!$C$8)))))))","v":false},0,null,null,null,"",null,null,null,null,0,null,0,0,"Inlap",null,null,"FL"]
[1,279,279,null,{"$f":"IF(D290=\"Grid\",Simulation!$B$2,IF(D290=\"WU\",Simulation!$B$3,IF(D290=1,Simulation!$B$4,IF(D290=2,Simulation!$B$5,IF(D290=3,Simulation!$B$6,IF(D290=4,Simulation!$B$7,IF(D290=5,Simulation!$B$8)))))))","v":false},{"$f":"IF(D290=\"Grid\",Simulation!$C$2,IF(D290=\"WU\",Simulation!$C$3,IF(D290=1,Simulation!$C$4,IF(D290=2,Simulation!$C$5,IF(D290=3,Simulation!$C$6,IF(D290=4,Simulation!$C$7,IF(D290=5,Simulation!$C$8)))))))","v":false},0,null,null,null,"",null,null,null,null,0,null,0,0,"Inlap",null,null,"FL"]
[1,280,280,null,{"$f":"IF(D291=\"Grid\",Simulation!$B$2,IF(D291=\"WU\",Simulation!$B$3,IF(D291=1,Simulation!$B$4,IF(D291=2,Simulation!$B$5,IF(D291=3,Simulation!$B$6,IF(D291=4,Simulation!$B$7,IF(D291=5,Simulation!$B$8)))))))","v":false},{"$f":"IF(D291=\"Grid\",Simulation!$C$2,IF(D291=\"WU\",Simulation!$C$3,IF(D291=1,Simulation!$C$4,IF(D291=2,Simulation!$C$5,IF(D291=3,Simulation!$C$6,IF(D291=4,Simulation!$C$7,IF(D291=5,Simulation!$C$8)))))))","v":false},0,null,null,null,"",null,null,null,null,0,null,0,0,"Inlap",null,null,"FL"]
[1,281,281,null,{"$f":"IF(D292=\"Grid\",Simulation!$B$2,IF(D292=\"WU\",Simulation!$B$3,IF(D292=1,Simulation!$B$4,IF(D292=2,Simulation!$B$5,IF(D292=3,Simulation!$B$6,IF(D292=4,Simulation!$B$7,IF(D292=5,Simulation!$B$8)))))))","v":false},{"$f":"IF(D292=\"Grid\",Simulation!$C$2,IF(D292=\"WU\",Simulation!$C$3,IF(D292=1,Simulation!$C$4,IF(D292=2,Simulation!$C$5,IF(D292=3,Simulation!$C$6,IF(D292=4,Simulation!$C$7,IF(D292=5,Simulation!$C$8)))))))","v":false},0,null,null,null,"",null,null,null,null,0,null,0,0,"Inlap",null,null,"FL"]
[1,282,282,null,{"$f":"IF(D293=\"Grid\",Simulation!$B$2,IF(D293=\"WU\",Simulation!$B$3,IF(D293=1,Simulation!$B$4,IF(D293=2,Simulation!$B$5,IF(D293=3,Simulation!$B$6,IF(D293=4,Simulation!$B$7,IF(D293=5,Simulation!$B$8)))))))","v":false},{"$f":"IF(D293=\"Grid\",Simulation!$C$2,IF(D293=\"WU\",Simulation!$C$3,IF(D293=1,Simulation!$C$4,IF(D293=2,Simulation!$C$5,IF(D293=3,Simulation!$C$6,IF(D293=4,Simulation!$C$7,IF(D293=5,Simulation!$C$8)))))))","v":false},0,null,null,null,"",null,null,null,null,0,null,0,0,"Inlap",null,null,"FL"]
[1,283,283,null,{"$f":"IF(D294=\"Grid\",Simulation!$B$2,IF(D294=\"WU\",Simulation!$B$3,IF(D294=1,Simulation!$B$4,IF(D294=2,Simulation!$B$5,IF(D294=3,Simulation!$B$6,IF(D294=4,Simulation!$B$7,IF(D294=5,Simulation!$B$8)))))))","v":false},{"$f":"IF(D294=\"Grid\",Simulation!$C$2,IF(D294=\"WU\",Simulation!$C$3,IF(D294=1,Simulation!$C$4,IF(D294=2,Simulation!$C$5,IF(D294=3,Simulation!$C$6,IF(D294=4,Simulation!$C$7,IF(D294=5,Simulation!$C$8)))))))","v":false},0,null,null,null,"",null,null,null,null,0,null,0,0,"Inlap",null,null,"FL"]
[1,284,284,null,{"$f":"IF(D295=\"Grid\",Simulation!$B$2,IF(D295=\"WU\",Simulation!$B$3,IF(D295=1,Simulation!$B$4,IF(D295=2,Simulation!$B$5,IF(D295=3,Simulation!$B$6,IF(D295=4,Simulation!$B$7,IF(D295=5,Simulation!$B$8)))))))","v":false},{"$f":"IF(D295=\"Grid\",Simulation!$C$2,IF(D295=\"WU\",Simulation!$C$3,IF(D295=1,Simulation!$C$4,IF(D295=2,Simulation!$C$5,IF(D295=3,Simulation!$C$6,IF(D295=4,Simulation!$C$7,IF(D295=5,Simulation!$C$8)))))))","v":false},0,null,null,null,"",null,null,null,null,0,null,0,0,"Inlap",null,null,"FL"]
[1,285,285,null,{"$f":"IF(D296=\"Grid\",Simulation!$B$2,IF(D296=\"WU\",Simulation!$B$3,IF(D296=1,Simulation!$B$4,IF(D296=2,Simulation!$B$5,IF(D296=3,Simulation!$B$6,IF(D296=4,Simulation!$B$7,IF(D296=5,Simulation!$B$8)))))))","v":false},{"$f":"IF(D296=\"Grid\",Simulation!$C$2,IF(D296=\"WU\",Simulation!$C$3,IF(D296=1,Simulation!$C$4,IF(D296=2,Simulation!$C$5,IF(D296=3,Simulation!$C$6,IF(D296=4,Simulation!$C$7,IF(D296=5,Simulation!$C$8)))))))","v":false},0,null,null,null,"",null,null,null,null,0,null,0,0,"Inlap",null,null,"FL"]
[1,286,286,null,{"$f":"IF(D297=\"Grid\",Simulation!$B$2,IF(D297=\"WU\",Simulation!$B$3,IF(D297=1,Simulation!$B$4,IF(D297=2,Simulation!$B$5,IF(D297=3,Simulation!$B$6,IF(D297=4,Simulation!$B$7,IF(D297=5,Simulation!$B$8)))))))","v":false},{"$f":"IF(D297=\"Grid\",Simulation!$C$2,IF(D297=\"WU\",Simulation!$C$3,IF(D297=1,Simulation!$C$4,IF(D297=2,Simulation!$C$5,IF(D297=3,Simulation!$C$6,IF(D297=4,Simulation!$C$7,IF(D297=5,Simulation!$C$8)))))))","v":false},0,null,null,null,"",null,null,null,null,0,null,0,0,"Inlap",null,null,"FL"]
[1,287,287,null,{"$f":"IF(D298=\"Grid\",Simulation!$B$2,IF(D298=\"WU\",Simulation!$B$3,IF(D298=1,Simulation!$B$4,IF(D298=2,Simulation!$B$5,IF(D298=3,Simulation!$B$6,IF(D298=4,Simulation!$B$7,IF(D298=5,Simulation!$B$8)))))))","v":false},{"$f":"IF(D298=\"Grid\",Simulation!$C$2,IF(D298=\"WU\",Simulation!$C$3,IF(D298=1,Simulation!$C$4,IF(D298=2,Simulation!$C$5,IF(D298=3,Simulation!$C$6,IF(D298=4,Simulation!$C$7,IF(D298=5,Simulation!$C$8)))))))","v":false},0,null,null,null,"",null,null,null,null,0,null,0,0,"Inlap",null,null,"FL"]
[1,288,288,null,{"$f":"IF(D299=\"Grid\",Simulation!$B$2,IF(D299=\"WU\",Simulation!$B$3,IF(D299=1,Simulation!$B$4,IF(D299=2,Simulation!$B$5,IF(D299=3,Simulation!$B$6,IF(D299=4,Simulation!$B$7,IF(D299=5,Simulation!$B$8)))))))","v":false},{"$f":"IF(D299=\"Grid\",Simulation!$C$2,IF(D299=\"WU\",Simulation!$C$3,IF(D299=1,Simulation!$C$4,IF(D299=2,Simulation!$C$5,IF(D299=3,Simulation!$C$6,IF(D299=4,Simulation!$C$7,IF(D299=5,Simulation!$C$8)))))))","v":false},0,null,null,null,"",null,null,null,null,0,null,0,0,"Inlap",null,null,"FL"]
[1,289,289,null,{"$f":"IF(D300=\"Grid\",Simulation!$B$2,IF(D300=\"WU\",Simulation!$B$3,IF(D300=1,Simulation!$B$4,IF(D300=2,Simulation!$B$5,IF(D300=3,Simulation!$B$6,IF(D300=4,Simulation!$B$7,IF(D300=5,Simulation!$B$8)))))))","v":false},{"$f":"IF(D300=\"Grid\",Simulation!$C$2,IF(D300=\"WU\",Simulation!$C$3,IF(D300=1,Simulation!$C$4,IF(D300=2,Simulation!$C$5,IF(D300=3,Simulation!$C$6,IF(D300=4,Simulation!$C$7,IF(D300=5,Simulation!$C$8)))))))","v":false},0,null,null,null,"",null,null,null,null,0,null,0,0,"Inlap",null,null,"FL"]
[1,290,290,null,{"$f":"IF(D301=\"Grid\",Simulation!$B$2,IF(D301=\"WU\",Simulation!$B$3,IF(D301=1,Simulation!$B$4,IF(D301=2,Simulation!$B$5,IF(D301=3,Simulation!$B$6,IF(D301=4,Simulation!$B$7,IF(D301=5,Simulation!$B$8)))))))","v":false},{"$f":"IF(D301=\"Grid\",Simulation!$C$2,IF(D301=\"WU\",Simulation!$C$3,IF(D301=1,Simulation!$C$4,IF(D301=2,Simulation!$C$5,IF(D301=3,Simulation!$C$6,IF(D301=4,Simulation!$C$7,IF(D301=5,Simulation!$C$8)))))))","v":false},0,null,null,null,"",null,null,null,null,0,null,0,0,"Inlap",null,null,"FL"]
[1,291,291,null,{"$f":"IF(D302=\"Grid\",Simulation!$B$2,IF(D302=\"WU\",Simulation!$B$3,IF(D302=1,Simulation!$B$4,IF(D302=2,Simulation!$B$5,IF(D302=3,Simulation!$B$6,IF(D302=4,Simulation!$B$7,IF(D302=5,Simulation!$B$8)))))))","v":false},{"$f":"IF(D302=\"Grid\",Simulation!$C$2,IF(D302=\"WU\",Simulation!$C$3,IF(D302=1,Simulation!$C$4,IF(D302=2,Simulation!$C$5,IF(D302=3,Simulation!$C$6,IF(D302=4,Simulation!$C$7,IF(D302=5,Simulation!$C$8)))))))","v":false},0,null,null,null,"",null,null,null,null,{"$f":"IF(O302>0,Q302,Q302-Q301)","v":0},null,0,0,"Inlap",null,null,"FL"]
[1,292,292,null,{"$f":"IF(D303=\"Grid\",Simulation!$B$2,IF(D303=\"WU\",Simulation!$B$3,IF(D303=1,Simulation!$B$4,IF(D303=2,Simulation!$B$5,IF(D303=3,Simulation!$B$6,IF(D303=4,Simulation!$B$7,IF(D303=5,Simulation!$B$8)))))))","v":false},{"$f":"IF(D303=\"Grid\",Simulation!$C$2,IF(D303=\"WU\",Simulation!$C$3,IF(D303=1,Simulation!$C$4,IF(D303=2,Simulation!$C$5,IF(D303=3,Simulation!$C$6,IF(D303=4,Simulation!$C$7,IF(D303=5,Simulation!$C$8)))))))","v":false},0,null,null,null,"",null,null,null,null,0,null,0,0,"Inlap",null,null,"FL"]
[1,293,293,null,{"$f":"IF(D304=\"Grid\",Simulation!$B$2,IF(D304=\"WU\",Simulation!$B$3,IF(D304=1,Simulation!$B$4,IF(D304=2,Simulation!$B$5,IF(D304=3,Simulation!$B$6,IF(D304=4,Simulation!$B$7,IF(D304=5,Simulation!$B$8)))))))","v":false},{"$f":"IF(D304=\"Grid\",Simulation!$C$2,IF(D304=\"WU\",Simulation!$C$3,IF(D304=1,Simulation!$C$4,IF(D304=2,Simulation!$C$5,IF(D304=3,Simulation!$C$6,IF(D304=4,Simulation!$C$7,IF(D304=5,Simulation!$C$8)))))))","v":false},0,null,null,null,"",null,null,null,null,0,null,0,0,"Inlap",null,null,"FL"]
[1,294,294,null,{"$f":"IF(D305=\"Grid\",Simulation!$B$2,IF(D305=\"WU\",Simulation!$B$3,IF(D305=1,Simulation!$B$4,IF(D305=2,Simulation!$B$5,IF(D305=3,Simulation!$B$6,IF(D305=4,Simulation!$B$7,IF(D305=5,Simulation!$B$8)))))))","v":false},{"$f":"IF(D305=\"Grid\",Simulation!$C$2,IF(D305=\"WU\",Simulation!$C$3,IF(D305=1,Simulation!$C$4,IF(D305=2,Simulation!$C$5,IF(D305=3,Simulation!$C$6,IF(D305=4,Simulation!$C$7,IF(D305=5,Simulation!$C$8)))))))","v":false},0,null,null,null,"",null,null,null,null,0,null,0,0,"Inlap",null,null,"FL"]
[1,295,295,null,{"$f":"IF(D306=\"Grid\",Simulation!$B$2,IF(D306=\"WU\",Simulation!$B$3,IF(D306=1,Simulation!$B$4,IF(D306=2,Simulation!$B$5,IF(D306=3,Simulation!$B$6,IF(D306=4,Simulation!$B$7,IF(D306=5,Simulation!$B$8)))))))","v":false},{"$f":"IF(D306=\"Grid\",Simulation!$C$2,IF(D306=\"WU\",Simulation!$C$3,IF(D306=1,Simulation!$C$4,IF(D306=2,Simulation!$C$5,IF(D306=3,Simulation!$C$6,IF(D306=4,Simulation!$C$7,IF(D306=5,Simulation!$C$8)))))))","v":false},0,null,null,null,"",null,null,null,null,0,null,0,0,"Inlap",null,null,"FL"]
[1,296,296,null,{"$f":"IF(D307=\"Grid\",Simulation!$B$2,IF(D307=\"WU\",Simulation!$B$3,IF(D307=1,Simulation!$B$4,IF(D307=2,Simulation!$B$5,IF(D307=3,Simulation!$B$6,IF(D307=4,Simulation!$B$7,IF(D307=5,Simulation!$B$8)))))))","v":false},{"$f":"IF(D307=\"Grid\",Simulation!$C$2,IF(D307=\"WU\",Simulation!$C$3,IF(D307=1,Simulation!$C$4,IF(D307=2,Simulation!$C$5,IF(D307=3,Simulation!$C$6,IF(D307=4,Simulation!$C$7,IF(D307=5,Simulation!$C$8)))))))","v":false},0,null,null,null,"",null,null,null,null,0,null,0,0,"Inlap",null,null,"FL"]
[1,297,297,null,{"$f":"IF(D308=\"Grid\",Simulation!$B$2,IF(D308=\"WU\",Simulation!$B$3,IF(D308=1,Simulation!$B$4,IF(D308=2,Simulation!$B$5,IF(D308=3,Simulation!$B$6,IF(D308=4,Simulation!$B$7,IF(D308=5,Simulation!$B$8)))))))","v":false},{"$f":"IF(D308=\"Grid\",Simulation!$C$2,IF(D308=\"WU\",Simulation!$C$3,IF(D308=1,Simulation!$C$4,IF(D308=2,Simulation!$C$5,IF(D308=3,Simulation!$C$6,IF(D308=4,Simulation!$C$7,IF(D308=5,Simulation!$C$8)))))))","v":false},0,null,null,null,"",null,null,null,null,0,null,0,0,"Inlap",null,null,"FL"]
[1,298,298,null,{"$f":"IF(D309=\"Grid\",Simulation!$B$2,IF(D309=\"WU\",Simulation!$B$3,IF(D309=1,Simulation!$B$4,IF(D309=2,Simulation!$B$5,IF(D309=3,Simulation!$B$6,IF(D309=4,Simulation!$B$7,IF(D309=5,Simulation!$B$8)))))))","v":false},{"$f":"IF(D309=\"Grid\",Simulation!$C$2,IF(D309=\"WU\",Simulation!$C$3,IF(D309=1,Simulation!$C$4,IF(D309=2,Simulation!$C$5,IF(D309=3,Simulation!$C$6,IF(D309=4,Simulation!$C$7,IF(D309=5,Simulation!$C$8)))))))","v":false},0,null,null,null,"",null,null,null,null,0,null,{"$f":"IF(O309>0,Q309,Q309-Q308)","v":0},0,"Inlap",null,null,"FL"]
[1,299,299,null,{"$f":"IF(D310=\"Grid\",Simulation!$B$2,IF(D310=\"WU\",Simulation!$B$3,IF(D310=1,Simulation!$B$4,IF(D310=2,Simulation!$B$5,IF(D310=3,Simulation!$B$6,IF(D310=4,Simulation!$B$7,IF(D310=5,Simulation!$B$8)))))))","v":false},{"$f":"IF(D310=\"Grid\",Simulation!$C$2,IF(D310=\"WU\",Simulation!$C$3,IF(D310=1,Simulation!$C$4,IF(D310=2,Simulation!$C$5,IF(D310=3,Simulation!$C$6,IF(D310=4,Simulation!$C$7,IF(D310=5,Simulation!$C$8)))))))","v":false},0,null,null,null,"",null,null,null,null,0,null,0,0,"Inlap",null,null,"FL"]
[1,300,300,null,{"$f":"IF(D311=\"Grid\",Simulation!$B$2,IF(D311=\"WU\",Simulation!$B$3,IF(D311=1,Simulation!$B$4,IF(D311=2,Simulation!$B$5,IF(D311=3,Simulation!$B$6,IF(D311=4,Simulation!$B$7,IF(D311=5,Simulation!$B$8)))))))","v":false},{"$f":"IF(D311=\"Grid\",Simulation!$C$2,IF(D311=\"WU\",Simulation!$C$3,IF(D311=1,Simulation!$C$4,IF(D311=2,Simulation!$C$5,IF(D311=3,Simulation!$C$6,IF(D311=4,Simulation!$C$7,IF(D311=5,Simulation!$C$8)))))))","v":false},0,null,null,null,"",null,null,null,null,0,null,0,0,"Inlap",null,null,"FL"]
[1,301,301,null,{"$f":"IF(D312=\"Grid\",Simulation!$B$2,IF(D312=\"WU\",Simulation!$B$3,IF(D312=1,Simulation!$B$4,IF(D312=2,Simulation!$B$5,IF(D312=3,Simulation!$B$6,IF(D312=4,Simulation!$B$7,IF(D312=5,Simulation!$B$8)))))))","v":false},{"$f":"IF(D312=\"Grid\",Simulation!$C$2,IF(D312=\"WU\",Simulation!$C$3,IF(D312=1,Simulation!$C$4,IF(D312=2,Simulation!$C$5,IF(D312=3,Simulation!$C$6,IF(D312=4,Simulation!$C$7,IF(D312=5,Simulation!$C$8)))))))","v":false},0,null,null,null,"",null,null,null,null,0,null,0,0,"Inlap",null,null,"FL"]
[1,302,302,null,{"$f":"IF(D313=\"Grid\",Simulation!$B$2,IF(D313=\"WU\",Simulation!$B$3,IF(D313=1,Simulation!$B$4,IF(D313=2,Simulation!$B$5,IF(D313=3,Simulation!$B$6,IF(D313=4,Simulation!$B$7,IF(D313=5,Simulation!$B$8)))))))","v":false},{"$f":"IF(D313=\"Grid\",Simulation!$C$2,IF(D313=\"WU\",Simulation!$C$3,IF(D313=1,Simulation!$C$4,IF(D313=2,Simulation!$C$5,IF(D313=3,Simulation!$C$6,IF(D313=4,Simulation!$C$7,IF(D313=5,Simulation!$C$8)))))))","v":false},0,null,null,null,"",null,null,null,null,0,null,0,0,"Inlap",null,null,"FL"]
[1,303,303,null,{"$f":"IF(D314=\"Grid\",Simulation!$B$2,IF(D314=\"WU\",Simulation!$B$3,IF(D314=1,Simulation!$B$4,IF(D314=2,Simulation!$B$5,IF(D314=3,Simulation!$B$6,IF(D314=4,Simulation!$B$7,IF(D314=5,Simulation!$B$8)))))))","v":false},{"$f":"IF(D314=\"Grid\",Simulation!$C$2,IF(D314=\"WU\",Simulation!$C$3,IF(D314=1,Simulation!$C$4,IF(D314=2,Simulation!$C$5,IF(D314=3,Simulation!$C$6,IF(D314=4,Simulation!$C$7,IF(D314=5,Simulation!$C$8)))))))","v":false},0,null,null,null,"",null,null,null,null,0,null,0,0,"Inlap",null,null,"FL"]
[1,304,304,null,{"$f":"IF(D315=\"Grid\",Simulation!$B$2,IF(D315=\"WU\",Simulation!$B$3,IF(D315=1,Simulation!$B$4,IF(D315=2,Simulation!$B$5,IF(D315=3,Simulation!$B$6,IF(D315=4,Simulation!$B$7,IF(D315=5,Simulation!$B$8)))))))","v":false},{"$f":"IF(D315=\"Grid\",Simulation!$C$2,IF(D315=\"WU\",Simulation!$C$3,IF(D315=1,Simulation!$C$4,IF(D315=2,Simulation!$C$5,IF(D315=3,Simulation!$C$6,IF(D315=4,Simulation!$C$7,IF(D315=5,Simulation!$C$8)))))))","v":false},0,null,null,null,"",null,null,null,null,0,null,0,0,"Inlap",null,null,"FL"]
[1,305,305,null,{"$f":"IF(D316=\"Grid\",Simulation!$B$2,IF(D316=\"WU\",Simulation!$B$3,IF(D316=1,Simulation!$B$4,IF(D316=2,Simulation!$B$5,IF(D316=3,Simulation!$B$6,IF(D316=4,Simulation!$B$7,IF(D316=5,Simulation!$B$8)))))))","v":false},{"$f":"IF(D316=\"Grid\",Simulation!$C$2,IF(D316=\"WU\",Simulation!$C$3,IF(D316=1,Simulation!$C$4,IF(D316=2,Simulation!$C$5,IF(D316=3,Simulation!$C$6,IF(D316=4,Simulation!$C$7,IF(D316=5,Simulation!$C$8)))))))","v":false},0,null,null,null,"",null,null,null,null,0,null,0,0,"Inlap",null,null,"FL"]
[1,306,306,null,{"$f":"IF(D317=\"Grid\",Simulation!$B$2,IF(D317=\"WU\",Simulation!$B$3,IF(D317=1,Simulation!$B$4,IF(D317=2,Simulation!$B$5,IF(D317=3,Simulation!$B$6,IF(D317=4,Simulation!$B$7,IF(D317=5,Simulation!$B$8)))))))","v":false},{"$f":"IF(D317=\"Grid\",Simulation!$C$2,IF(D317=\"WU\",Simulation!$C$3,IF(D317=1,Simulation!$C$4,IF(D317=2,Simulation!$C$5,IF(D317=3,Simulation!$C$6,IF(D317=4,Simulation!$C$7,IF(D317=5,Simulation!$C$8)))))))","v":false},0,null,null,null,"",null,null,null,null,0,null,0,0,"Inlap",null,null,"FL"]
[1,307,307,null,{"$f":"IF(D318=\"Grid\",Simulation!$B$2,IF(D318=\"WU\",Simulation!$B$3,IF(D318=1,Simulation!$B$4,IF(D318=2,Simulation!$B$5,IF(D318=3,Simulation!$B$6,IF(D318=4,Simulation!$B$7,IF(D318=5,Simulation!$B$8)))))))","v":false},{"$f":"IF(D318=\"Grid\",Simulation!$C$2,IF(D318=\"WU\",Simulation!$C$3,IF(D318=1,Simulation!$C$4,IF(D318=2,Simulation!$C$5,IF(D318=3,Simulation!$C$6,IF(D318=4,Simulation!$C$7,IF(D318=5,Simulation!$C$8)))))))","v":false},0,null,null,null,"",null,null,null,null,0,null,0,0,"Inlap",null,null,"FL"]
[1,308,308,null,{"$f":"IF(D319=\"Grid\",Simulation!$B$2,IF(D319=\"WU\",Simulation!$B$3,IF(D319=1,Simulation!$B$4,IF(D319=2,Simulation!$B$5,IF(D319=3,Simulation!$B$6,IF(D319=4,Simulation!$B$7,IF(D319=5,Simulation!$B$8)))))))","v":false},{"$f":"IF(D319=\"Grid\",Simulation!$C$2,IF(D319=\"WU\",Simulation!$C$3,IF(D319=1,Simulation!$C$4,IF(D319=2,Simulation!$C$5,IF(D319=3,Simulation!$C$6,IF(D319=4,Simulation!$C$7,IF(D319=5,Simulation!$C$8)))))))","v":false},0,null,null,null,"",null,null,null,null,0,null,0,0,"Inlap",null,null,"FL"]
[1,309,309,null,{"$f":"IF(D320=\"Grid\",Simulation!$B$2,IF(D320=\"WU\",Simulation!$B$3,IF(D320=1,Simulation!$B$4,IF(D320=2,Simulation!$B$5,IF(D320=3,Simulation!$B$6,IF(D320=4,Simulation!$B$7,IF(D320=5,Simulation!$B$8)))))))","v":false},{"$f":"IF(D320=\"Grid\",Simulation!$C$2,IF(D320=\"WU\",Simulation!$C$3,IF(D320=1,Simulation!$C$4,IF(D320=2,Simulation!$C$5,IF(D320=3,Simulation!$C$6,IF(D320=4,Simulation!$C$7,IF(D320=5,Simulation!$C$8)))))))","v":false},0,null,null,null,"",null,null,null,null,0,null,0,0,"Inlap",null,null,"FL"]
[1,310,310,null,{"$f":"IF(D321=\"Grid\",Simulation!$B$2,IF(D321=\"WU\",Simulation!$B$3,IF(D321=1,Simulation!$B$4,IF(D321=2,Simulation!$B$5,IF(D321=3,Simulation!$B$6,IF(D321=4,Simulation!$B$7,IF(D321=5,Simulation!$B$8)))))))","v":false},{"$f":"IF(D321=\"Grid\",Simulation!$C$2,IF(D321=\"WU\",Simulation!$C$3,IF(D321=1,Simulation!$C$4,IF(D321=2,Simulation!$C$5,IF(D321=3,Simulation!$C$6,IF(D321=4,Simulation!$C$7,IF(D321=5,Simulation!$C$8)))))))","v":false},0,null,null,null,"",null,null,null,null,0,null,0,0,"Inlap",null,null,"FL"]
[1,311,311,null,{"$f":"IF(D322=\"Grid\",Simulation!$B$2,IF(D322=\"WU\",Simulation!$B$3,IF(D322=1,Simulation!$B$4,IF(D322=2,Simulation!$B$5,IF(D322=3,Simulation!$B$6,IF(D322=4,Simulation!$B$7,IF(D322=5,Simulation!$B$8)))))))","v":false},{"$f":"IF(D322=\"Grid\",Simulation!$C$2,IF(D322=\"WU\",Simulation!$C$3,IF(D322=1,Simulation!$C$4,IF(D322=2,Simulation!$C$5,IF(D322=3,Simulation!$C$6,IF(D322=4,Simulation!$C$7,IF(D322=5,Simulation!$C$8)))))))","v":false},0,null,null,null,"",null,null,null,null,0,null,0,0,"Inlap",null,null,"FL"]
[1,312,312,null,{"$f":"IF(D323=\"Grid\",Simulation!$B$2,IF(D323=\"WU\",Simulation!$B$3,IF(D323=1,Simulation!$B$4,IF(D323=2,Simulation!$B$5,IF(D323=3,Simulation!$B$6,IF(D323=4,Simulation!$B$7,IF(D323=5,Simulation!$B$8)))))))","v":false},{"$f":"IF(D323=\"Grid\",Simulation!$C$2,IF(D323=\"WU\",Simulation!$C$3,IF(D323=1,Simulation!$C$4,IF(D323=2,Simulation!$C$5,IF(D323=3,Simulation!$C$6,IF(D323=4,Simulation!$C$7,IF(D323=5,Simulation!$C$8)))))))","v":false},0,null,null,null,"",null,null,null,null,0,null,0,0,"Inlap",null,null,"FL"]
[1,313,313,null,{"$f":"IF(D324=\"Grid\",Simulation!$B$2,IF(D324=\"WU\",Simulation!$B$3,IF(D324=1,Simulation!$B$4,IF(D324=2,Simulation!$B$5,IF(D324=3,Simulation!$B$6,IF(D324=4,Simulation!$B$7,IF(D324=5,Simulation!$B$8)))))))","v":false},{"$f":"IF(D324=\"Grid\",Simulation!$C$2,IF(D324=\"WU\",Simulation!$C$3,IF(D324=1,Simulation!$C$4,IF(D324=2,Simulation!$C$5,IF(D324=3,Simulation!$C$6,IF(D324=4,Simulation!$C$7,IF(D324=5,Simulation!$C$8)))))))","v":false},0,null,null,null,"",null,null,null,null,0,null,0,0,"Inlap",null,null,"FL"]
[1,314,314,null,{"$f":"IF(D325=\"Grid\",Simulation!$B$2,IF(D325=\"WU\",Simulation!$B$3,IF(D325=1,Simulation!$B$4,IF(D325=2,Simulation!$B$5,IF(D325=3,Simulation!$B$6,IF(D325=4,Simulation!$B$7,IF(D325=5,Simulation!$B$8)))))))","v":false},{"$f":"IF(D325=\"Grid\",Simulation!$C$2,IF(D325=\"WU\",Simulation!$C$3,IF(D325=1,Simulation!$C$4,IF(D325=2,Simulation!$C$5,IF(D325=3,Simulation!$C$6,IF(D325=4,Simulation!$C$7,IF(D325=5,Simulation!$C$8)))))))","v":false},0,null,null,null,"",null,null,null,null,0,null,0,0,"Inlap",null,null,"FL"]
[1,315,315,null,{"$f":"IF(D326=\"Grid\",Simulation!$B$2,IF(D326=\"WU\",Simulation!$B$3,IF(D326=1,Simulation!$B$4,IF(D326=2,Simulation!$B$5,IF(D326=3,Simulation!$B$6,IF(D326=4,Simulation!$B$7,IF(D326=5,Simulation!$B$8)))))))","v":false},{"$f":"IF(D326=\"Grid\",Simulation!$C$2,IF(D326=\"WU\",Simulation!$C$3,IF(D326=1,Simulation!$C$4,IF(D326=2,Simulation!$C$5,IF(D326=3,Simulation!$C$6,IF(D326=4,Simulation!$C$7,IF(D326=5,Simulation!$C$8)))))))","v":false},0,null,null,null,"",null,null,null,null,0,null,0,0,"Inlap",null,null,"FL"]
[1,316,316,null,{"$f":"IF(D327=\"Grid\",Simulation!$B$2,IF(D327=\"WU\",Simulation!$B$3,IF(D327=1,Simulation!$B$4,IF(D327=2,Simulation!$B$5,IF(D327=3,Simulation!$B$6,IF(D327=4,Simulation!$B$7,IF(D327=5,Simulation!$B$8)))))))","v":false},{"$f":"IF(D327=\"Grid\",Simulation!$C$2,IF(D327=\"WU\",Simulation!$C$3,IF(D327=1,Simulation!$C$4,IF(D327=2,Simulation!$C$5,IF(D327=3,Simulation!$C$6,IF(D327=4,Simulation!$C$7,IF(D327=5,Simulation!$C$8)))))))","v":false},0,null,null,null,"",null,null,null,null,0,null,0,0,"Inlap",null,null,"FL"]
[1,317,317,null,{"$f":"IF(D328=\"Grid\",Simulation!$B$2,IF(D328=\"WU\",Simulation!$B$3,IF(D328=1,Simulation!$B$4,IF(D328=2,Simulation!$B$5,IF(D328=3,Simulation!$B$6,IF(D328=4,Simulation!$B$7,IF(D328=5,Simulation!$B$8)))))))","v":false},{"$f":"IF(D328=\"Grid\",Simulation!$C$2,IF(D328=\"WU\",Simulation!$C$3,IF(D328=1,Simulation!$C$4,IF(D328=2,Simulation!$C$5,IF(D328=3,Simulation!$C$6,IF(D328=4,Simulation!$C$7,IF(D328=5,Simulation!$C$8)))))))","v":false},0,null,null,null,"",null,null,null,null,0,null,0,0,"Inlap",null,null,"FL"]
[1,318,318,null,{"$f":"IF(D329=\"Grid\",Simulation!$B$2,IF(D329=\"WU\",Simulation!$B$3,IF(D329=1,Simulation!$B$4,IF(D329=2,Simulation!$B$5,IF(D329=3,Simulation!$B$6,IF(D329=4,Simulation!$B$7,IF(D329=5,Simulation!$B$8)))))))","v":false},{"$f":"IF(D329=\"Grid\",Simulation!$C$2,IF(D329=\"WU\",Simulation!$C$3,IF(D329=1,Simulation!$C$4,IF(D329=2,Simulation!$C$5,IF(D329=3,Simulation!$C$6,IF(D329=4,Simulation!$C$7,IF(D329=5,Simulation!$C$8)))))))","v":false},0,null,null,null,"",null,null,null,null,0,null,0,0,"Inlap",null,null,"FL"]
[1,319,319,null,{"$f":"IF(D330=\"Grid\",Simulation!$B$2,IF(D330=\"WU\",Simulation!$B$3,IF(D330=1,Simulation!$B$4,IF(D330=2,Simulation!$B$5,IF(D330=3,Simulation!$B$6,IF(D330=4,Simulation!$B$7,IF(D330=5,Simulation!$B$8)))))))","v":false},{"$f":"IF(D330=\"Grid\",Simulation!$C$2,IF(D330=\"WU\",Simulation!$C$3,IF(D330=1,Simulation!$C$4,IF(D330=2,Simulation!$C$5,IF(D330=3,Simulation!$C$6,IF(D330=4,Simulation!$C$7,IF(D330=5,Simulation!$C$8)))))))","v":false},0,null,null,null,"",null,null,null,null,0,null,0,0,"Inlap",null,null,"FL"]
[1,320,320,null,{"$f":"IF(D331=\"Grid\",Simulation!$B$2,IF(D331=\"WU\",Simulation!$B$3,IF(D331=1,Simulation!$B$4,IF(D331=2,Simulation!$B$5,IF(D331=3,Simulation!$B$6,IF(D331=4,Simulation!$B$7,IF(D331=5,Simulation!$B$8)))))))","v":false},{"$f":"IF(D331=\"Grid\",Simulation!$C$2,IF(D331=\"WU\",Simulation!$C$3,IF(D331=1,Simulation!$C$4,IF(D331=2,Simulation!$C$5,IF(D331=3,Simulation!$C$6,IF(D331=4,Simulation!$C$7,IF(D331=5,Simulation!$C$8)))))))","v":false},0,null,null,null,"",null,null,null,null,0,null,0,0,{"$f":"IF(S331<=F331,\"Inlap\",IF(S331<=2*F331,\"Call: In this lap!\",IF(S331<=3*F331,\"Show in but don't call!\",\"\")))","v":"Inlap"},null,null,"FL"]
[{"$f":"IF(O332>0,A331+1,A331)","v":1},321,321,null,{"$f":"IF(D332=\"Grid\",Simulation!$B$2,IF(D332=\"WU\",Simulation!$B$3,IF(D332=1,Simulation!$B$4,IF(D332=2,Simulation!$B$5,IF(D332=3,Simulation!$B$6,IF(D332=4,Simulation!$B$7,IF(D332=5,Simulation!$B$8)))))))","v":false},{"$f":"IF(D332=\"Grid\",Simulation!$C$2,IF(D332=\"WU\",Simulation!$C$3,IF(D332=1,Simulation!$C$4,IF(D332=2,Simulation!$C$5,IF(D332=3,Simulation!$C$6,IF(D332=4,Simulation!$C$7,IF(D332=5,Simulation!$C$8)))))))","v":false},{"$f":"G331+O331-P331","v":0},null,null,null,"",null,null,null,null,0,null,0,{"$f":"IF(O332>0,O332+S331-Q332,S331-P332)","v":0},"Inlap",null,null,{"$f":"IF(J332=$Q$2,\"FL\",\"\")","v":"FL"}]
[1,322,322,null,{"$f":"IF(D333=\"Grid\",Simulation!$B$2,IF(D333=\"WU\",Simulation!$B$3,IF(D333=1,Simulation!$B$4,IF(D333=2,Simulation!$B$5,IF(D333=3,Simulation!$B$6,IF(D333=4,Simulation!$B$7,IF(D333=5,Simulation!$B$8)))))))","v":false},{"$f":"IF(D333=\"Grid\",Simulation!$C$2,IF(D333=\"WU\",Simulation!$C$3,IF(D333=1,Simulation!$C$4,IF(D333=2,Simulation!$C$5,IF(D333=3,Simulation!$C$6,IF(D333=4,Simulation!$C$7,IF(D333=5,Simulation!$C$8)))))))","v":false},0,null,null,null,{"$f":"IF(J333<>0,K332,\"\")","v":""},null,null,null,null,0,null,0,0,"Inlap",null,null,"FL"]
[1,323,{"$f":"IF(O334=\"\",C333+1,\"1\")","v":323},null,{"$f":"IF(D334=\"Grid\",Simulation!$B$2,IF(D334=\"WU\",Simulation!$B$3,IF(D334=1,Simulation!$B$4,IF(D334=2,Simulation!$B$5,IF(D334=3,Simulation!$B$6,IF(D334=4,Simulation!$B$7,IF(D334=5,Simulation!$B$8)))))))","v":false},{"$f":"IF(D334=\"Grid\",Simulation!$C$2,IF(D334=\"WU\",Simulation!$C$3,IF(D334=1,Simulation!$C$4,IF(D334=2,Simulation!$C$5,IF(D334=3,Simulation!$C$6,IF(D334=4,Simulation!$C$7,IF(D334=5,Simulation!$C$8)))))))","v":false},0,null,null,null,"",null,null,null,null,0,null,0,0,"Inlap",null,null,"FL"]
[1,324,324,null,{"$f":"IF(D335=\"Grid\",Simulation!$B$2,IF(D335=\"WU\",Simulation!$B$3,IF(D335=1,Simulation!$B$4,IF(D335=2,Simulation!$B$5,IF(D335=3,Simulation!$B$6,IF(D335=4,Simulation!$B$7,IF(D335=5,Simulation!$B$8)))))))","v":false},{"$f":"IF(D335=\"Grid\",Simulation!$C$2,IF(D335=\"WU\",Simulation!$C$3,IF(D335=1,Simulation!$C$4,IF(D335=2,Simulation!$C$5,IF(D335=3,Simulation!$C$6,IF(D335=4,Simulation!$C$7,IF(D335=5,Simulation!$C$8)))))))","v":false},0,null,null,null,"",null,null,null,null,0,null,0,0,"Inlap",null,null,"FL"]
[1,325,325,null,{"$f":"IF(D336=\"Grid\",Simulation!$B$2,IF(D336=\"WU\",Simulation!$B$3,IF(D336=1,Simulation!$B$4,IF(D336=2,Simulation!$B$5,IF(D336=3,Simulation!$B$6,IF(D336=4,Simulation!$B$7,IF(D336=5,Simulation!$B$8)))))))","v":false},{"$f":"IF(D336=\"Grid\",Simulation!$C$2,IF(D336=\"WU\",Simulation!$C$3,IF(D336=1,Simulation!$C$4,IF(D336=2,Simulation!$C$5,IF(D336=3,Simulation!$C$6,IF(D336=4,Simulation!$C$7,IF(D336=5,Simulation!$C$8)))))))","v":false},0,null,null,null,"",null,null,null,null,0,null,0,0,"Inlap",null,null,"FL"]
[1,326,326,null,{"$f":"IF(D337=\"Grid\",Simulation!$B$2,IF(D337=\"WU\",Simulation!$B$3,IF(D337=1,Simulation!$B$4,IF(D337=2,Simulation!$B$5,IF(D337=3,Simulation!$B$6,IF(D337=4,Simulation!$B$7,IF(D337=5,Simulation!$B$8)))))))","v":false},{"$f":"IF(D337=\"Grid\",Simulation!$C$2,IF(D337=\"WU\",Simulation!$C$3,IF(D337=1,Simulation!$C$4,IF(D337=2,Simulation!$C$5,IF(D337=3,Simulation!$C$6,IF(D337=4,Simulation!$C$7,IF(D337=5,Simulation!$C$8)))))))","v":false},0,null,null,null,"",null,null,null,null,0,null,0,0,"Inlap",null,null,"FL"]
[1,327,327,null,{"$f":"IF(D338=\"Grid\",Simulation!$B$2,IF(D338=\"WU\",Simulation!$B$3,IF(D338=1,Simulation!$B$4,IF(D338=2,Simulation!$B$5,IF(D338=3,Simulation!$B$6,IF(D338=4,Simulation!$B$7,IF(D338=5,Simulation!$B$8)))))))","v":false},{"$f":"IF(D338=\"Grid\",Simulation!$C$2,IF(D338=\"WU\",Simulation!$C$3,IF(D338=1,Simulation!$C$4,IF(D338=2,Simulation!$C$5,IF(D338=3,Simulation!$C$6,IF(D338=4,Simulation!$C$7,IF(D338=5,Simulation!$C$8)))))))","v":false},0,null,null,null,"",null,null,null,null,0,null,0,0,"Inlap",null,null,"FL"]
[1,328,328,null,{"$f":"IF(D339=\"Grid\",Simulation!$B$2,IF(D339=\"WU\",Simulation!$B$3,IF(D339=1,Simulation!$B$4,IF(D339=2,Simulation!$B$5,IF(D339=3,Simulation!$B$6,IF(D339=4,Simulation!$B$7,IF(D339=5,Simulation!$B$8)))))))","v":false},{"$f":"IF(D339=\"Grid\",Simulation!$C$2,IF(D339=\"WU\",Simulation!$C$3,IF(D339=1,Simulation!$C$4,IF(D339=2,Simulation!$C$5,IF(D339=3,Simulation!$C$6,IF(D339=4,Simulation!$C$7,IF(D339=5,Simulation!$C$8)))))))","v":false},0,null,null,null,"",null,null,null,null,0,null,0,0,"Inlap",null,null,"FL"]
[1,329,329,null,{"$f":"IF(D340=\"Grid\",Simulation!$B$2,IF(D340=\"WU\",Simulation!$B$3,IF(D340=1,Simulation!$B$4,IF(D340=2,Simulation!$B$5,IF(D340=3,Simulation!$B$6,IF(D340=4,Simulation!$B$7,IF(D340=5,Simulation!$B$8)))))))","v":false},{"$f":"IF(D340=\"Grid\",Simulation!$C$2,IF(D340=\"WU\",Simulation!$C$3,IF(D340=1,Simulation!$C$4,IF(D340=2,Simulation!$C$5,IF(D340=3,Simulation!$C$6,IF(D340=4,Simulation!$C$7,IF(D340=5,Simulation!$C$8)))))))","v":false},0,null,null,null,"",null,null,null,null,0,null,0,0,"Inlap",null,null,"FL"]
[1,330,330,null,{"$f":"IF(D341=\"Grid\",Simulation!$B$2,IF(D341=\"WU\",Simulation!$B$3,IF(D341=1,Simulation!$B$4,IF(D341=2,Simulation!$B$5,IF(D341=3,Simulation!$B$6,IF(D341=4,Simulation!$B$7,IF(D341=5,Simulation!$B$8)))))))","v":false},{"$f":"IF(D341=\"Grid\",Simulation!$C$2,IF(D341=\"WU\",Simulation!$C$3,IF(D341=1,Simulation!$C$4,IF(D341=2,Simulation!$C$5,IF(D341=3,Simulation!$C$6,IF(D341=4,Simulation!$C$7,IF(D341=5,Simulation!$C$8)))))))","v":false},0,null,null,null,"",null,null,null,null,0,null,0,0,"Inlap",null,null,"FL"]
[1,331,331,null,{"$f":"IF(D342=\"Grid\",Simulation!$B$2,IF(D342=\"WU\",Simulation!$B$3,IF(D342=1,Simulation!$B$4,IF(D342=2,Simulation!$B$5,IF(D342=3,Simulation!$B$6,IF(D342=4,Simulation!$B$7,IF(D342=5,Simulation!$B$8)))))))","v":false},{"$f":"IF(D342=\"Grid\",Simulation!$C$2,IF(D342=\"WU\",Simulation!$C$3,IF(D342=1,Simulation!$C$4,IF(D342=2,Simulation!$C$5,IF(D342=3,Simulation!$C$6,IF(D342=4,Simulation!$C$7,IF(D342=5,Simulation!$C$8)))))))","v":false},0,null,null,null,"",null,null,null,null,0,null,0,0,"Inlap",null,null,"FL"]
[1,332,332,null,{"$f":"IF(D343=\"Grid\",Simulation!$B$2,IF(D343=\"WU\",Simulation!$B$3,IF(D343=1,Simulation!$B$4,IF(D343=2,Simulation!$B$5,IF(D343=3,Simulation!$B$6,IF(D343=4,Simulation!$B$7,IF(D343=5,Simulation!$B$8)))))))","v":false},{"$f":"IF(D343=\"Grid\",Simulation!$C$2,IF(D343=\"WU\",Simulation!$C$3,IF(D343=1,Simulation!$C$4,IF(D343=2,Simulation!$C$5,IF(D343=3,Simulation!$C$6,IF(D343=4,Simulation!$C$7,IF(D343=5,Simulation!$C$8)))))))","v":false},0,null,null,null,"",null,null,null,null,0,null,0,0,"Inlap",null,null,"FL"]
[1,333,333,null,{"$f":"IF(D344=\"Grid\",Simulation!$B$2,IF(D344=\"WU\",Simulation!$B$3,IF(D344=1,Simulation!$B$4,IF(D344=2,Simulation!$B$5,IF(D344=3,Simulation!$B$6,IF(D344=4,Simulation!$B$7,IF(D344=5,Simulation!$B$8)))))))","v":false},{"$f":"IF(D344=\"Grid\",Simulation!$C$2,IF(D344=\"WU\",Simulation!$C$3,IF(D344=1,Simulation!$C$4,IF(D344=2,Simulation!$C$5,IF(D344=3,Simulation!$C$6,IF(D344=4,Simulation!$C$7,IF(D344=5,Simulation!$C$8)))))))","v":false},0,null,null,null,"",null,null,null,null,0,null,0,0,"Inlap",null,null,"FL"]
[1,334,334,null,{"$f":"IF(D345=\"Grid\",Simulation!$B$2,IF(D345=\"WU\",Simulation!$B$3,IF(D345=1,Simulation!$B$4,IF(D345=2,Simulation!$B$5,IF(D345=3,Simulation!$B$6,IF(D345=4,Simulation!$B$7,IF(D345=5,Simulation!$B$8)))))))","v":false},{"$f":"IF(D345=\"Grid\",Simulation!$C$2,IF(D345=\"WU\",Simulation!$C$3,IF(D345=1,Simulation!$C$4,IF(D345=2,Simulation!$C$5,IF(D345=3,Simulation!$C$6,IF(D345=4,Simulation!$C$7,IF(D345=5,Simulation!$C$8)))))))","v":false},0,null,null,null,"",null,null,null,null,0,null,0,0,"Inlap",null,null,"FL"]
[1,335,335,null,{"$f":"IF(D346=\"Grid\",Simulation!$B$2,IF(D346=\"WU\",Simulation!$B$3,IF(D346=1,Simulation!$B$4,IF(D346=2,Simulation!$B$5,IF(D346=3,Simulation!$B$6,IF(D346=4,Simulation!$B$7,IF(D346=5,Simulation!$B$8)))))))","v":false},{"$f":"IF(D346=\"Grid\",Simulation!$C$2,IF(D346=\"WU\",Simulation!$C$3,IF(D346=1,Simulation!$C$4,IF(D346=2,Simulation!$C$5,IF(D346=3,Simulation!$C$6,IF(D346=4,Simulation!$C$7,IF(D346=5,Simulation!$C$8)))))))","v":false},0,null,null,null,"",null,null,null,null,0,null,0,0,"Inlap",null,null,"FL"]
[1,336,336,null,{"$f":"IF(D347=\"Grid\",Simulation!$B$2,IF(D347=\"WU\",Simulation!$B$3,IF(D347=1,Simulation!$B$4,IF(D347=2,Simulation!$B$5,IF(D347=3,Simulation!$B$6,IF(D347=4,Simulation!$B$7,IF(D347=5,Simulation!$B$8)))))))","v":false},{"$f":"IF(D347=\"Grid\",Simulation!$C$2,IF(D347=\"WU\",Simulation!$C$3,IF(D347=1,Simulation!$C$4,IF(D347=2,Simulation!$C$5,IF(D347=3,Simulation!$C$6,IF(D347=4,Simulation!$C$7,IF(D347=5,Simulation!$C$8)))))))","v":false},0,null,null,null,"",null,null,null,null,0,null,0,0,"Inlap",null,null,"FL"]
[1,337,337,null,{"$f":"IF(D348=\"Grid\",Simulation!$B$2,IF(D348=\"WU\",Simulation!$B$3,IF(D348=1,Simulation!$B$4,IF(D348=2,Simulation!$B$5,IF(D348=3,Simulation!$B$6,IF(D348=4,Simulation!$B$7,IF(D348=5,Simulation!$B$8)))))))","v":false},{"$f":"IF(D348=\"Grid\",Simulation!$C$2,IF(D348=\"WU\",Simulation!$C$3,IF(D348=1,Simulation!$C$4,IF(D348=2,Simulation!$C$5,IF(D348=3,Simulation!$C$6,IF(D348=4,Simulation!$C$7,IF(D348=5,Simulation!$C$8)))))))","v":false},0,null,null,null,"",null,null,null,null,0,null,0,0,"Inlap",null,null,"FL"]
[1,338,338,null,{"$f":"IF(D349=\"Grid\",Simulation!$B$2,IF(D349=\"WU\",Simulation!$B$3,IF(D349=1,Simulation!$B$4,IF(D349=2,Simulation!$B$5,IF(D349=3,Simulation!$B$6,IF(D349=4,Simulation!$B$7,IF(D349=5,Simulation!$B$8)))))))","v":false},{"$f":"IF(D349=\"Grid\",Simulation!$C$2,IF(D349=\"WU\",Simulation!$C$3,IF(D349=1,Simulation!$C$4,IF(D349=2,Simulation!$C$5,IF(D349=3,Simulation!$C$6,IF(D349=4,Simulation!$C$7,IF(D349=5,Simulation!$C$8)))))))","v":false},0,null,null,null,"",null,null,null,null,0,null,0,0,"Inlap",null,null,"FL"]
[1,339,339,null,{"$f":"IF(D350=\"Grid\",Simulation!$B$2,IF(D350=\"WU\",Simulation!$B$3,IF(D350=1,Simulation!$B$4,IF(D350=2,Simulation!$B$5,IF(D350=3,Simulation!$B$6,IF(D350=4,Simulation!$B$7,IF(D350=5,Simulation!$B$8)))))))","v":false},{"$f":"IF(D350=\"Grid\",Simulation!$C$2,IF(D350=\"WU\",Simulation!$C$3,IF(D350=1,Simulation!$C$4,IF(D350=2,Simulation!$C$5,IF(D350=3,Simulation!$C$6,IF(D350=4,Simulation!$C$7,IF(D350=5,Simulation!$C$8)))))))","v":false},0,null,null,null,"",null,null,null,null,0,null,0,0,"Inlap",null,null,"FL"]
[1,340,340,null,{"$f":"IF(D351=\"Grid\",Simulation!$B$2,IF(D351=\"WU\",Simulation!$B$3,IF(D351=1,Simulation!$B$4,IF(D351=2,Simulation!$B$5,IF(D351=3,Simulation!$B$6,IF(D351=4,Simulation!$B$7,IF(D351=5,Simulation!$B$8)))))))","v":false},{"$f":"IF(D351=\"Grid\",Simulation!$C$2,IF(D351=\"WU\",Simulation!$C$3,IF(D351=1,Simulation!$C$4,IF(D351=2,Simulation!$C$5,IF(D351=3,Simulation!$C$6,IF(D351=4,Simulation!$C$7,IF(D351=5,Simulation!$C$8)))))))","v":false},0,null,null,null,"",null,null,null,null,0,null,0,0,"Inlap",null,null,"FL"]
[1,341,341,null,{"$f":"IF(D352=\"Grid\",Simulation!$B$2,IF(D352=\"WU\",Simulation!$B$3,IF(D352=1,Simulation!$B$4,IF(D352=2,Simulation!$B$5,IF(D352=3,Simulation!$B$6,IF(D352=4,Simulation!$B$7,IF(D352=5,Simulation!$B$8)))))))","v":false},{"$f":"IF(D352=\"Grid\",Simulation!$C$2,IF(D352=\"WU\",Simulation!$C$3,IF(D352=1,Simulation!$C$4,IF(D352=2,Simulation!$C$5,IF(D352=3,Simulation!$C$6,IF(D352=4,Simulation!$C$7,IF(D352=5,Simulation!$C$8)))))))","v":false},0,null,null,null,"",null,null,null,null,0,null,0,0,"Inlap",null,null,"FL"]
[1,342,342,null,{"$f":"IF(D353=\"Grid\",Simulation!$B$2,IF(D353=\"WU\",Simulation!$B$3,IF(D353=1,Simulation!$B$4,IF(D353=2,Simulation!$B$5,IF(D353=3,Simulation!$B$6,IF(D353=4,Simulation!$B$7,IF(D353=5,Simulation!$B$8)))))))","v":false},{"$f":"IF(D353=\"Grid\",Simulation!$C$2,IF(D353=\"WU\",Simulation!$C$3,IF(D353=1,Simulation!$C$4,IF(D353=2,Simulation!$C$5,IF(D353=3,Simulation!$C$6,IF(D353=4,Simulation!$C$7,IF(D353=5,Simulation!$C$8)))))))","v":false},0,null,null,null,"",null,null,null,null,0,null,0,0,"Inlap",null,null,"FL"]
[1,343,343,null,{"$f":"IF(D354=\"Grid\",Simulation!$B$2,IF(D354=\"WU\",Simulation!$B$3,IF(D354=1,Simulation!$B$4,IF(D354=2,Simulation!$B$5,IF(D354=3,Simulation!$B$6,IF(D354=4,Simulation!$B$7,IF(D354=5,Simulation!$B$8)))))))","v":false},{"$f":"IF(D354=\"Grid\",Simulation!$C$2,IF(D354=\"WU\",Simulation!$C$3,IF(D354=1,Simulation!$C$4,IF(D354=2,Simulation!$C$5,IF(D354=3,Simulation!$C$6,IF(D354=4,Simulation!$C$7,IF(D354=5,Simulation!$C$8)))))))","v":false},0,null,null,null,"",null,null,null,null,0,null,0,0,"Inlap",null,null,"FL"]
[1,344,344,null,{"$f":"IF(D355=\"Grid\",Simulation!$B$2,IF(D355=\"WU\",Simulation!$B$3,IF(D355=1,Simulation!$B$4,IF(D355=2,Simulation!$B$5,IF(D355=3,Simulation!$B$6,IF(D355=4,Simulation!$B$7,IF(D355=5,Simulation!$B$8)))))))","v":false},{"$f":"IF(D355=\"Grid\",Simulation!$C$2,IF(D355=\"WU\",Simulation!$C$3,IF(D355=1,Simulation!$C$4,IF(D355=2,Simulation!$C$5,IF(D355=3,Simulation!$C$6,IF(D355=4,Simulation!$C$7,IF(D355=5,Simulation!$C$8)))))))","v":false},0,null,null,null,"",null,null,null,null,0,null,0,0,"Inlap",null,null,"FL"]
[1,345,345,null,{"$f":"IF(D356=\"Grid\",Simulation!$B$2,IF(D356=\"WU\",Simulation!$B$3,IF(D356=1,Simulation!$B$4,IF(D356=2,Simulation!$B$5,IF(D356=3,Simulation!$B$6,IF(D356=4,Simulation!$B$7,IF(D356=5,Simulation!$B$8)))))))","v":false},{"$f":"IF(D356=\"Grid\",Simulation!$C$2,IF(D356=\"WU\",Simulation!$C$3,IF(D356=1,Simulation!$C$4,IF(D356=2,Simulation!$C$5,IF(D356=3,Simulation!$C$6,IF(D356=4,Simulation!$C$7,IF(D356=5,Simulation!$C$8)))))))","v":false},0,null,null,null,"",null,null,null,null,0,null,0,0,"Inlap",null,null,"FL"]
[1,346,346,null,{"$f":"IF(D357=\"Grid\",Simulation!$B$2,IF(D357=\"WU\",Simulation!$B$3,IF(D357=1,Simulation!$B$4,IF(D357=2,Simulation!$B$5,IF(D357=3,Simulation!$B$6,IF(D357=4,Simulation!$B$7,IF(D357=5,Simulation!$B$8)))))))","v":false},{"$f":"IF(D357=\"Grid\",Simulation!$C$2,IF(D357=\"WU\",Simulation!$C$3,IF(D357=1,Simulation!$C$4,IF(D357=2,Simulation!$C$5,IF(D357=3,Simulation!$C$6,IF(D357=4,Simulation!$C$7,IF(D357=5,Simulation!$C$8)))))))","v":false},0,null,null,null,"",null,null,null,null,0,null,0,0,"Inlap",null,null,"FL"]
[1,347,347,null,{"$f":"IF(D358=\"Grid\",Simulation!$B$2,IF(D358=\"WU\",Simulation!$B$3,IF(D358=1,Simulation!$B$4,IF(D358=2,Simulation!$B$5,IF(D358=3,Simulation!$B$6,IF(D358=4,Simulation!$B$7,IF(D358=5,Simulation!$B$8)))))))","v":false},{"$f":"IF(D358=\"Grid\",Simulation!$C$2,IF(D358=\"WU\",Simulation!$C$3,IF(D358=1,Simulation!$C$4,IF(D358=2,Simulation!$C$5,IF(D358=3,Simulation!$C$6,IF(D358=4,Simulation!$C$7,IF(D358=5,Simulation!$C$8)))))))","v":false},0,null,null,null,"",null,null,null,null,0,null,0,0,"Inlap",null,null,"FL"]
[1,348,348,null,{"$f":"IF(D359=\"Grid\",Simulation!$B$2,IF(D359=\"WU\",Simulation!$B$3,IF(D359=1,Simulation!$B$4,IF(D359=2,Simulation!$B$5,IF(D359=3,Simulation!$B$6,IF(D359=4,Simulation!$B$7,IF(D359=5,Simulation!$B$8)))))))","v":false},{"$f":"IF(D359=\"Grid\",Simulation!$C$2,IF(D359=\"WU\",Simulation!$C$3,IF(D359=1,Simulation!$C$4,IF(D359=2,Simulation!$C$5,IF(D359=3,Simulation!$C$6,IF(D359=4,Simulation!$C$7,IF(D359=5,Simulation!$C$8)))))))","v":false},0,null,null,null,"",null,null,null,null,0,null,0,0,"Inlap",null,null,"FL"]
[1,349,349,null,{"$f":"IF(D360=\"Grid\",Simulation!$B$2,IF(D360=\"WU\",Simulation!$B$3,IF(D360=1,Simulation!$B$4,IF(D360=2,Simulation!$B$5,IF(D360=3,Simulation!$B$6,IF(D360=4,Simulation!$B$7,IF(D360=5,Simulation!$B$8)))))))","v":false},{"$f":"IF(D360=\"Grid\",Simulation!$C$2,IF(D360=\"WU\",Simulation!$C$3,IF(D360=1,Simulation!$C$4,IF(D360=2,Simulation!$C$5,IF(D360=3,Simulation!$C$6,IF(D360=4,Simulation!$C$7,IF(D360=5,Simulation!$C$8)))))))","v":false},0,null,null,null,"",null,null,null,null,0,null,0,0,"Inlap",null,null,"FL"]
[1,350,350,null,{"$f":"IF(D361=\"Grid\",Simulation!$B$2,IF(D361=\"WU\",Simulation!$B$3,IF(D361=1,Simulation!$B$4,IF(D361=2,Simulation!$B$5,IF(D361=3,Simulation!$B$6,IF(D361=4,Simulation!$B$7,IF(D361=5,Simulation!$B$8)))))))","v":false},{"$f":"IF(D361=\"Grid\",Simulation!$C$2,IF(D361=\"WU\",Simulation!$C$3,IF(D361=1,Simulation!$C$4,IF(D361=2,Simulation!$C$5,IF(D361=3,Simulation!$C$6,IF(D361=4,Simulation!$C$7,IF(D361=5,Simulation!$C$8)))))))","v":false},0,null,null,null,"",null,null,null,null,0,null,0,0,"Inlap",null,null,"FL"]
[1,351,351,null,{"$f":"IF(D362=\"Grid\",Simulation!$B$2,IF(D362=\"WU\",Simulation!$B$3,IF(D362=1,Simulation!$B$4,IF(D362=2,Simulation!$B$5,IF(D362=3,Simulation!$B$6,IF(D362=4,Simulation!$B$7,IF(D362=5,Simulation!$B$8)))))))","v":false},{"$f":"IF(D362=\"Grid\",Simulation!$C$2,IF(D362=\"WU\",Simulation!$C$3,IF(D362=1,Simulation!$C$4,IF(D362=2,Simulation!$C$5,IF(D362=3,Simulation!$C$6,IF(D362=4,Simulation!$C$7,IF(D362=5,Simulation!$C$8)))))))","v":false},0,null,null,null,"",null,null,null,null,0,null,0,0,"Inlap",null,null,"FL"]
[1,352,352,null,{"$f":"IF(D363=\"Grid\",Simulation!$B$2,IF(D363=\"WU\",Simulation!$B$3,IF(D363=1,Simulation!$B$4,IF(D363=2,Simulation!$B$5,IF(D363=3,Simulation!$B$6,IF(D363=4,Simulation!$B$7,IF(D363=5,Simulation!$B$8)))))))","v":false},{"$f":"IF(D363=\"Grid\",Simulation!$C$2,IF(D363=\"WU\",Simulation!$C$3,IF(D363=1,Simulation!$C$4,IF(D363=2,Simulation!$C$5,IF(D363=3,Simulation!$C$6,IF(D363=4,Simulation!$C$7,IF(D363=5,Simulation!$C$8)))))))","v":false},0,null,null,null,"",null,null,null,null,0,null,0,0,"Inlap",null,null,"FL"]
[1,353,353,null,{"$f":"IF(D364=\"Grid\",Simulation!$B$2,IF(D364=\"WU\",Simulation!$B$3,IF(D364=1,Simulation!$B$4,IF(D364=2,Simulation!$B$5,IF(D364=3,Simulation!$B$6,IF(D364=4,Simulation!$B$7,IF(D364=5,Simulation!$B$8)))))))","v":false},{"$f":"IF(D364=\"Grid\",Simulation!$C$2,IF(D364=\"WU\",Simulation!$C$3,IF(D364=1,Simulation!$C$4,IF(D364=2,Simulation!$C$5,IF(D364=3,Simulation!$C$6,IF(D364=4,Simulation!$C$7,IF(D364=5,Simulation!$C$8)))))))","v":false},0,null,null,null,"",null,null,null,null,0,null,0,0,"Inlap",null,null,"FL"]
[1,354,354,null,{"$f":"IF(D365=\"Grid\",Simulation!$B$2,IF(D365=\"WU\",Simulation!$B$3,IF(D365=1,Simulation!$B$4,IF(D365=2,Simulation!$B$5,IF(D365=3,Simulation!$B$6,IF(D365=4,Simulation!$B$7,IF(D365=5,Simulation!$B$8)))))))","v":false},{"$f":"IF(D365=\"Grid\",Simulation!$C$2,IF(D365=\"WU\",Simulation!$C$3,IF(D365=1,Simulation!$C$4,IF(D365=2,Simulation!$C$5,IF(D365=3,Simulation!$C$6,IF(D365=4,Simulation!$C$7,IF(D365=5,Simulation!$C$8)))))))","v":false},0,null,null,null,"",null,null,null,null,0,null,0,0,"Inlap",null,null,"FL"]
[1,355,355,null,{"$f":"IF(D366=\"Grid\",Simulation!$B$2,IF(D366=\"WU\",Simulation!$B$3,IF(D366=1,Simulation!$B$4,IF(D366=2,Simulation!$B$5,IF(D366=3,Simulation!$B$6,IF(D366=4,Simulation!$B$7,IF(D366=5,Simulation!$B$8)))))))","v":false},{"$f":"IF(D366=\"Grid\",Simulation!$C$2,IF(D366=\"WU\",Simulation!$C$3,IF(D366=1,Simulation!$C$4,IF(D366=2,Simulation!$C$5,IF(D366=3,Simulation!$C$6,IF(D366=4,Simulation!$C$7,IF(D366=5,Simulation!$C$8)))))))","v":false},0,null,null,null,"",null,null,null,null,{"$f":"IF(O366>0,Q366,Q366-Q365)","v":0},null,0,0,"Inlap",null,null,"FL"]
[1,356,356,null,{"$f":"IF(D367=\"Grid\",Simulation!$B$2,IF(D367=\"WU\",Simulation!$B$3,IF(D367=1,Simulation!$B$4,IF(D367=2,Simulation!$B$5,IF(D367=3,Simulation!$B$6,IF(D367=4,Simulation!$B$7,IF(D367=5,Simulation!$B$8)))))))","v":false},{"$f":"IF(D367=\"Grid\",Simulation!$C$2,IF(D367=\"WU\",Simulation!$C$3,IF(D367=1,Simulation!$C$4,IF(D367=2,Simulation!$C$5,IF(D367=3,Simulation!$C$6,IF(D367=4,Simulation!$C$7,IF(D367=5,Simulation!$C$8)))))))","v":false},0,null,null,null,"",null,null,null,null,0,null,0,0,"Inlap",null,null,"FL"]
[1,357,357,null,{"$f":"IF(D368=\"Grid\",Simulation!$B$2,IF(D368=\"WU\",Simulation!$B$3,IF(D368=1,Simulation!$B$4,IF(D368=2,Simulation!$B$5,IF(D368=3,Simulation!$B$6,IF(D368=4,Simulation!$B$7,IF(D368=5,Simulation!$B$8)))))))","v":false},{"$f":"IF(D368=\"Grid\",Simulation!$C$2,IF(D368=\"WU\",Simulation!$C$3,IF(D368=1,Simulation!$C$4,IF(D368=2,Simulation!$C$5,IF(D368=3,Simulation!$C$6,IF(D368=4,Simulation!$C$7,IF(D368=5,Simulation!$C$8)))))))","v":false},0,null,null,null,"",null,null,null,null,0,null,0,0,"Inlap",null,null,"FL"]
[1,358,358,null,{"$f":"IF(D369=\"Grid\",Simulation!$B$2,IF(D369=\"WU\",Simulation!$B$3,IF(D369=1,Simulation!$B$4,IF(D369=2,Simulation!$B$5,IF(D369=3,Simulation!$B$6,IF(D369=4,Simulation!$B$7,IF(D369=5,Simulation!$B$8)))))))","v":false},{"$f":"IF(D369=\"Grid\",Simulation!$C$2,IF(D369=\"WU\",Simulation!$C$3,IF(D369=1,Simulation!$C$4,IF(D369=2,Simulation!$C$5,IF(D369=3,Simulation!$C$6,IF(D369=4,Simulation!$C$7,IF(D369=5,Simulation!$C$8)))))))","v":false},0,null,null,null,"",null,null,null,null,0,null,0,0,"Inlap",null,null,"FL"]
[1,359,359,null,{"$f":"IF(D370=\"Grid\",Simulation!$B$2,IF(D370=\"WU\",Simulation!$B$3,IF(D370=1,Simulation!$B$4,IF(D370=2,Simulation!$B$5,IF(D370=3,Simulation!$B$6,IF(D370=4,Simulation!$B$7,IF(D370=5,Simulation!$B$8)))))))","v":false},{"$f":"IF(D370=\"Grid\",Simulation!$C$2,IF(D370=\"WU\",Simulation!$C$3,IF(D370=1,Simulation!$C$4,IF(D370=2,Simulation!$C$5,IF(D370=3,Simulation!$C$6,IF(D370=4,Simulation!$C$7,IF(D370=5,Simulation!$C$8)))))))","v":false},0,null,null,null,"",null,null,null,null,0,null,{"$f":"IF(O370>0,Q370,Q370-Q369)","v":0},{"$f":"IF(O370>0,O370+S369-Q370,S369-P370)","v":0},"Inlap",null,null,"FL"]
[1,360,360,null,{"$f":"IF(D371=\"Grid\",Simulation!$B$2,IF(D371=\"WU\",Simulation!$B$3,IF(D371=1,Simulation!$B$4,IF(D371=2,Simulation!$B$5,IF(D371=3,Simulation!$B$6,IF(D371=4,Simulation!$B$7,IF(D371=5,Simulation!$B$8)))))))","v":false},{"$f":"IF(D371=\"Grid\",Simulation!$C$2,IF(D371=\"WU\",Simulation!$C$3,IF(D371=1,Simulation!$C$4,IF(D371=2,Simulation!$C$5,IF(D371=3,Simulation!$C$6,IF(D371=4,Simulation!$C$7,IF(D371=5,Simulation!$C$8)))))))","v":false},0,null,null,null,"",null,null,null,null,0,null,0,0,"Inlap",null,null,"FL"]
[1,361,361,null,{"$f":"IF(D372=\"Grid\",Simulation!$B$2,IF(D372=\"WU\",Simulation!$B$3,IF(D372=1,Simulation!$B$4,IF(D372=2,Simulation!$B$5,IF(D372=3,Simulation!$B$6,IF(D372=4,Simulation!$B$7,IF(D372=5,Simulation!$B$8)))))))","v":false},{"$f":"IF(D372=\"Grid\",Simulation!$C$2,IF(D372=\"WU\",Simulation!$C$3,IF(D372=1,Simulation!$C$4,IF(D372=2,Simulation!$C$5,IF(D372=3,Simulation!$C$6,IF(D372=4,Simulation!$C$7,IF(D372=5,Simulation!$C$8)))))))","v":false},0,null,null,null,"",null,null,null,null,0,null,0,0,"Inlap",null,null,"FL"]
[1,362,362,null,{"$f":"IF(D373=\"Grid\",Simulation!$B$2,IF(D373=\"WU\",Simulation!$B$3,IF(D373=1,Simulation!$B$4,IF(D373=2,Simulation!$B$5,IF(D373=3,Simulation!$B$6,IF(D373=4,Simulation!$B$7,IF(D373=5,Simulation!$B$8)))))))","v":false},{"$f":"IF(D373=\"Grid\",Simulation!$C$2,IF(D373=\"WU\",Simulation!$C$3,IF(D373=1,Simulation!$C$4,IF(D373=2,Simulation!$C$5,IF(D373=3,Simulation!$C$6,IF(D373=4,Simulation!$C$7,IF(D373=5,Simulation!$C$8)))))))","v":false},0,null,null,null,"",null,null,null,null,0,null,0,0,"Inlap",null,null,"FL"]
[1,363,363,null,{"$f":"IF(D374=\"Grid\",Simulation!$B$2,IF(D374=\"WU\",Simulation!$B$3,IF(D374=1,Simulation!$B$4,IF(D374=2,Simulation!$B$5,IF(D374=3,Simulation!$B$6,IF(D374=4,Simulation!$B$7,IF(D374=5,Simulation!$B$8)))))))","v":false},{"$f":"IF(D374=\"Grid\",Simulation!$C$2,IF(D374=\"WU\",Simulation!$C$3,IF(D374=1,Simulation!$C$4,IF(D374=2,Simulation!$C$5,IF(D374=3,Simulation!$C$6,IF(D374=4,Simulation!$C$7,IF(D374=5,Simulation!$C$8)))))))","v":false},0,null,null,null,"",null,null,null,null,0,null,0,0,"Inlap",null,null,"FL"]
[1,364,364,null,{"$f":"IF(D375=\"Grid\",Simulation!$B$2,IF(D375=\"WU\",Simulation!$B$3,IF(D375=1,Simulation!$B$4,IF(D375=2,Simulation!$B$5,IF(D375=3,Simulation!$B$6,IF(D375=4,Simulation!$B$7,IF(D375=5,Simulation!$B$8)))))))","v":false},{"$f":"IF(D375=\"Grid\",Simulation!$C$2,IF(D375=\"WU\",Simulation!$C$3,IF(D375=1,Simulation!$C$4,IF(D375=2,Simulation!$C$5,IF(D375=3,Simulation!$C$6,IF(D375=4,Simulation!$C$7,IF(D375=5,Simulation!$C$8)))))))","v":false},0,null,null,null,"",null,null,null,null,0,null,0,0,"Inlap",null,null,"FL"]
[1,365,365,null,{"$f":"IF(D376=\"Grid\",Simulation!$B$2,IF(D376=\"WU\",Simulation!$B$3,IF(D376=1,Simulation!$B$4,IF(D376=2,Simulation!$B$5,IF(D376=3,Simulation!$B$6,IF(D376=4,Simulation!$B$7,IF(D376=5,Simulation!$B$8)))))))","v":false},{"$f":"IF(D376=\"Grid\",Simulation!$C$2,IF(D376=\"WU\",Simulation!$C$3,IF(D376=1,Simulation!$C$4,IF(D376=2,Simulation!$C$5,IF(D376=3,Simulation!$C$6,IF(D376=4,Simulation!$C$7,IF(D376=5,Simulation!$C$8)))))))","v":false},0,null,null,null,"",null,null,null,null,0,null,0,0,"Inlap",null,null,"FL"]
[1,366,366,null,{"$f":"IF(D377=\"Grid\",Simulation!$B$2,IF(D377=\"WU\",Simulation!$B$3,IF(D377=1,Simulation!$B$4,IF(D377=2,Simulation!$B$5,IF(D377=3,Simulation!$B$6,IF(D377=4,Simulation!$B$7,IF(D377=5,Simulation!$B$8)))))))","v":false},{"$f":"IF(D377=\"Grid\",Simulation!$C$2,IF(D377=\"WU\",Simulation!$C$3,IF(D377=1,Simulation!$C$4,IF(D377=2,Simulation!$C$5,IF(D377=3,Simulation!$C$6,IF(D377=4,Simulation!$C$7,IF(D377=5,Simulation!$C$8)))))))","v":false},0,null,null,null,"",null,null,null,null,0,null,0,0,"Inlap",null,null,"FL"]
[1,367,367,null,{"$f":"IF(D378=\"Grid\",Simulation!$B$2,IF(D378=\"WU\",Simulation!$B$3,IF(D378=1,Simulation!$B$4,IF(D378=2,Simulation!$B$5,IF(D378=3,Simulation!$B$6,IF(D378=4,Simulation!$B$7,IF(D378=5,Simulation!$B$8)))))))","v":false},{"$f":"IF(D378=\"Grid\",Simulation!$C$2,IF(D378=\"WU\",Simulation!$C$3,IF(D378=1,Simulation!$C$4,IF(D378=2,Simulation!$C$5,IF(D378=3,Simulation!$C$6,IF(D378=4,Simulation!$C$7,IF(D378=5,Simulation!$C$8)))))))","v":false},0,null,null,null,"",null,null,null,null,0,null,0,0,"Inlap",null,null,"FL"]
[1,368,368,null,{"$f":"IF(D379=\"Grid\",Simulation!$B$2,IF(D379=\"WU\",Simulation!$B$3,IF(D379=1,Simulation!$B$4,IF(D379=2,Simulation!$B$5,IF(D379=3,Simulation!$B$6,IF(D379=4,Simulation!$B$7,IF(D379=5,Simulation!$B$8)))))))","v":false},{"$f":"IF(D379=\"Grid\",Simulation!$C$2,IF(D379=\"WU\",Simulation!$C$3,IF(D379=1,Simulation!$C$4,IF(D379=2,Simulation!$C$5,IF(D379=3,Simulation!$C$6,IF(D379=4,Simulation!$C$7,IF(D379=5,Simulation!$C$8)))))))","v":false},0,null,null,null,"",null,null,null,null,0,null,0,0,"Inlap",null,null,"FL"]
[1,369,369,null,{"$f":"IF(D380=\"Grid\",Simulation!$B$2,IF(D380=\"WU\",Simulation!$B$3,IF(D380=1,Simulation!$B$4,IF(D380=2,Simulation!$B$5,IF(D380=3,Simulation!$B$6,IF(D380=4,Simulation!$B$7,IF(D380=5,Simulation!$B$8)))))))","v":false},{"$f":"IF(D380=\"Grid\",Simulation!$C$2,IF(D380=\"WU\",Simulation!$C$3,IF(D380=1,Simulation!$C$4,IF(D380=2,Simulation!$C$5,IF(D380=3,Simulation!$C$6,IF(D380=4,Simulation!$C$7,IF(D380=5,Simulation!$C$8)))))))","v":false},0,null,null,null,"",null,null,null,null,0,null,0,0,"Inlap",null,null,"FL"]
[1,370,370,null,{"$f":"IF(D381=\"Grid\",Simulation!$B$2,IF(D381=\"WU\",Simulation!$B$3,IF(D381=1,Simulation!$B$4,IF(D381=2,Simulation!$B$5,IF(D381=3,Simulation!$B$6,IF(D381=4,Simulation!$B$7,IF(D381=5,Simulation!$B$8)))))))","v":false},{"$f":"IF(D381=\"Grid\",Simulation!$C$2,IF(D381=\"WU\",Simulation!$C$3,IF(D381=1,Simulation!$C$4,IF(D381=2,Simulation!$C$5,IF(D381=3,Simulation!$C$6,IF(D381=4,Simulation!$C$7,IF(D381=5,Simulation!$C$8)))))))","v":false},0,null,null,null,"",null,null,null,null,0,null,0,0,"Inlap",null,null,"FL"]
[1,371,371,null,{"$f":"IF(D382=\"Grid\",Simulation!$B$2,IF(D382=\"WU\",Simulation!$B$3,IF(D382=1,Simulation!$B$4,IF(D382=2,Simulation!$B$5,IF(D382=3,Simulation!$B$6,IF(D382=4,Simulation!$B$7,IF(D382=5,Simulation!$B$8)))))))","v":false},{"$f":"IF(D382=\"Grid\",Simulation!$C$2,IF(D382=\"WU\",Simulation!$C$3,IF(D382=1,Simulation!$C$4,IF(D382=2,Simulation!$C$5,IF(D382=3,Simulation!$C$6,IF(D382=4,Simulation!$C$7,IF(D382=5,Simulation!$C$8)))))))","v":false},0,null,null,null,"",null,null,null,null,0,null,0,0,"Inlap",null,null,"FL"]
[1,372,372,null,{"$f":"IF(D383=\"Grid\",Simulation!$B$2,IF(D383=\"WU\",Simulation!$B$3,IF(D383=1,Simulation!$B$4,IF(D383=2,Simulation!$B$5,IF(D383=3,Simulation!$B$6,IF(D383=4,Simulation!$B$7,IF(D383=5,Simulation!$B$8)))))))","v":false},{"$f":"IF(D383=\"Grid\",Simulation!$C$2,IF(D383=\"WU\",Simulation!$C$3,IF(D383=1,Simulation!$C$4,IF(D383=2,Simulation!$C$5,IF(D383=3,Simulation!$C$6,IF(D383=4,Simulation!$C$7,IF(D383=5,Simulation!$C$8)))))))","v":false},0,null,null,null,"",null,null,null,null,0,null,0,0,"Inlap",null,null,"FL"]
[1,373,373,null,{"$f":"IF(D384=\"Grid\",Simulation!$B$2,IF(D384=\"WU\",Simulation!$B$3,IF(D384=1,Simulation!$B$4,IF(D384=2,Simulation!$B$5,IF(D384=3,Simulation!$B$6,IF(D384=4,Simulation!$B$7,IF(D384=5,Simulation!$B$8)))))))","v":false},{"$f":"IF(D384=\"Grid\",Simulation!$C$2,IF(D384=\"WU\",Simulation!$C$3,IF(D384=1,Simulation!$C$4,IF(D384=2,Simulation!$C$5,IF(D384=3,Simulation!$C$6,IF(D384=4,Simulation!$C$7,IF(D384=5,Simulation!$C$8)))))))","v":false},0,null,null,null,"",null,null,null,null,0,null,0,0,"Inlap",null,null,"FL"]
[1,374,374,null,{"$f":"IF(D385=\"Grid\",Simulation!$B$2,IF(D385=\"WU\",Simulation!$B$3,IF(D385=1,Simulation!$B$4,IF(D385=2,Simulation!$B$5,IF(D385=3,Simulation!$B$6,IF(D385=4,Simulation!$B$7,IF(D385=5,Simulation!$B$8)))))))","v":false},{"$f":"IF(D385=\"Grid\",Simulation!$C$2,IF(D385=\"WU\",Simulation!$C$3,IF(D385=1,Simulation!$C$4,IF(D385=2,Simulation!$C$5,IF(D385=3,Simulation!$C$6,IF(D385=4,Simulation!$C$7,IF(D385=5,Simulation!$C$8)))))))","v":false},0,null,null,null,"",null,null,null,null,0,null,0,0,"Inlap",null,null,"FL"]
[1,375,375,null,{"$f":"IF(D386=\"Grid\",Simulation!$B$2,IF(D386=\"WU\",Simulation!$B$3,IF(D386=1,Simulation!$B$4,IF(D386=2,Simulation!$B$5,IF(D386=3,Simulation!$B$6,IF(D386=4,Simulation!$B$7,IF(D386=5,Simulation!$B$8)))))))","v":false},{"$f":"IF(D386=\"Grid\",Simulation!$C$2,IF(D386=\"WU\",Simulation!$C$3,IF(D386=1,Simulation!$C$4,IF(D386=2,Simulation!$C$5,IF(D386=3,Simulation!$C$6,IF(D386=4,Simulation!$C$7,IF(D386=5,Simulation!$C$8)))))))","v":false},0,null,null,null,"",null,null,null,null,0,null,0,0,"Inlap",null,null,"FL"]
[1,376,376,null,{"$f":"IF(D387=\"Grid\",Simulation!$B$2,IF(D387=\"WU\",Simulation!$B$3,IF(D387=1,Simulation!$B$4,IF(D387=2,Simulation!$B$5,IF(D387=3,Simulation!$B$6,IF(D387=4,Simulation!$B$7,IF(D387=5,Simulation!$B$8)))))))","v":false},{"$f":"IF(D387=\"Grid\",Simulation!$C$2,IF(D387=\"WU\",Simulation!$C$3,IF(D387=1,Simulation!$C$4,IF(D387=2,Simulation!$C$5,IF(D387=3,Simulation!$C$6,IF(D387=4,Simulation!$C$7,IF(D387=5,Simulation!$C$8)))))))","v":false},0,null,null,null,"",null,null,null,null,0,null,0,0,"Inlap",null,null,"FL"]
[1,377,377,null,{"$f":"IF(D388=\"Grid\",Simulation!$B$2,IF(D388=\"WU\",Simulation!$B$3,IF(D388=1,Simulation!$B$4,IF(D388=2,Simulation!$B$5,IF(D388=3,Simulation!$B$6,IF(D388=4,Simulation!$B$7,IF(D388=5,Simulation!$B$8)))))))","v":false},{"$f":"IF(D388=\"Grid\",Simulation!$C$2,IF(D388=\"WU\",Simulation!$C$3,IF(D388=1,Simulation!$C$4,IF(D388=2,Simulation!$C$5,IF(D388=3,Simulation!$C$6,IF(D388=4,Simulation!$C$7,IF(D388=5,Simulation!$C$8)))))))","v":false},0,null,null,null,"",null,null,null,null,0,null,0,0,"Inlap",null,null,"FL"]
[1,378,378,null,{"$f":"IF(D389=\"Grid\",Simulation!$B$2,IF(D389=\"WU\",Simulation!$B$3,IF(D389=1,Simulation!$B$4,IF(D389=2,Simulation!$B$5,IF(D389=3,Simulation!$B$6,IF(D389=4,Simulation!$B$7,IF(D389=5,Simulation!$B$8)))))))","v":false},{"$f":"IF(D389=\"Grid\",Simulation!$C$2,IF(D389=\"WU\",Simulation!$C$3,IF(D389=1,Simulation!$C$4,IF(D389=2,Simulation!$C$5,IF(D389=3,Simulation!$C$6,IF(D389=4,Simulation!$C$7,IF(D389=5,Simulation!$C$8)))))))","v":false},0,null,null,null,"",null,null,null,null,0,null,0,0,"Inlap",null,null,"FL"]
[1,379,379,null,{"$f":"IF(D390=\"Grid\",Simulation!$B$2,IF(D390=\"WU\",Simulation!$B$3,IF(D390=1,Simulation!$B$4,IF(D390=2,Simulation!$B$5,IF(D390=3,Simulation!$B$6,IF(D390=4,Simulation!$B$7,IF(D390=5,Simulation!$B$8)))))))","v":false},{"$f":"IF(D390=\"Grid\",Simulation!$C$2,IF(D390=\"WU\",Simulation!$C$3,IF(D390=1,Simulation!$C$4,IF(D390=2,Simulation!$C$5,IF(D390=3,Simulation!$C$6,IF(D390=4,Simulation!$C$7,IF(D390=5,Simulation!$C$8)))))))","v":false},0,null,null,null,"",null,null,null,null,0,null,0,0,"Inlap",null,null,"FL"]
[1,380,380,null,{"$f":"IF(D391=\"Grid\",Simulation!$B$2,IF(D391=\"WU\",Simulation!$B$3,IF(D391=1,Simulation!$B$4,IF(D391=2,Simulation!$B$5,IF(D391=3,Simulation!$B$6,IF(D391=4,Simulation!$B$7,IF(D391=5,Simulation!$B$8)))))))","v":false},{"$f":"IF(D391=\"Grid\",Simulation!$C$2,IF(D391=\"WU\",Simulation!$C$3,IF(D391=1,Simulation!$C$4,IF(D391=2,Simulation!$C$5,IF(D391=3,Simulation!$C$6,IF(D391=4,Simulation!$C$7,IF(D391=5,Simulation!$C$8)))))))","v":false},0,null,null,null,"",null,null,null,null,0,null,0,0,"Inlap",null,null,"FL"]
[1,381,381,null,{"$f":"IF(D392=\"Grid\",Simulation!$B$2,IF(D392=\"WU\",Simulation!$B$3,IF(D392=1,Simulation!$B$4,IF(D392=2,Simulation!$B$5,IF(D392=3,Simulation!$B$6,IF(D392=4,Simulation!$B$7,IF(D392=5,Simulation!$B$8)))))))","v":false},{"$f":"IF(D392=\"Grid\",Simulation!$C$2,IF(D392=\"WU\",Simulation!$C$3,IF(D392=1,Simulation!$C$4,IF(D392=2,Simulation!$C$5,IF(D392=3,Simulation!$C$6,IF(D392=4,Simulation!$C$7,IF(D392=5,Simulation!$C$8)))))))","v":false},0,null,null,null,"",null,null,null,null,0,null,0,0,"Inlap",null,null,"FL"]
[1,382,382,null,{"$f":"IF(D393=\"Grid\",Simulation!$B$2,IF(D393=\"WU\",Simulation!$B$3,IF(D393=1,Simulation!$B$4,IF(D393=2,Simulation!$B$5,IF(D393=3,Simulation!$B$6,IF(D393=4,Simulation!$B$7,IF(D393=5,Simulation!$B$8)))))))","v":false},{"$f":"IF(D393=\"Grid\",Simulation!$C$2,IF(D393=\"WU\",Simulation!$C$3,IF(D393=1,Simulation!$C$4,IF(D393=2,Simulation!$C$5,IF(D393=3,Simulation!$C$6,IF(D393=4,Simulation!$C$7,IF(D393=5,Simulation!$C$8)))))))","v":false},0,null,null,null,"",null,null,null,null,0,null,0,0,"Inlap",null,null,"FL"]
[1,383,383,null,{"$f":"IF(D394=\"Grid\",Simulation!$B$2,IF(D394=\"WU\",Simulation!$B$3,IF(D394=1,Simulation!$B$4,IF(D394=2,Simulation!$B$5,IF(D394=3,Simulation!$B$6,IF(D394=4,Simulation!$B$7,IF(D394=5,Simulation!$B$8)))))))","v":false},{"$f":"IF(D394=\"Grid\",Simulation!$C$2,IF(D394=\"WU\",Simulation!$C$3,IF(D394=1,Simulation!$C$4,IF(D394=2,Simulation!$C$5,IF(D394=3,Simulation!$C$6,IF(D394=4,Simulation!$C$7,IF(D394=5,Simulation!$C$8)))))))","v":false},0,null,null,null,"",null,null,null,null,0,null,0,0,"Inlap",null,null,"FL"]
[1,384,384,null,{"$f":"IF(D395=\"Grid\",Simulation!$B$2,IF(D395=\"WU\",Simulation!$B$3,IF(D395=1,Simulation!$B$4,IF(D395=2,Simulation!$B$5,IF(D395=3,Simulation!$B$6,IF(D395=4,Simulation!$B$7,IF(D395=5,Simulation!$B$8)))))))","v":false},{"$f":"IF(D395=\"Grid\",Simulation!$C$2,IF(D395=\"WU\",Simulation!$C$3,IF(D395=1,Simulation!$C$4,IF(D395=2,Simulation!$C$5,IF(D395=3,Simulation!$C$6,IF(D395=4,Simulation!$C$7,IF(D395=5,Simulation!$C$8)))))))","v":false},0,null,null,null,"",null,null,null,null,0,null,0,0,{"$f":"IF(S395<=F395,\"Inlap\",IF(S395<=2*F395,\"Call: In this lap!\",IF(S395<=3*F395,\"Show in but don't call!\",\"\")))","v":"Inlap"},null,null,"FL"]
[{"$f":"IF(O396>0,A395+1,A395)","v":1},385,385,null,{"$f":"IF(D396=\"Grid\",Simulation!$B$2,IF(D396=\"WU\",Simulation!$B$3,IF(D396=1,Simulation!$B$4,IF(D396=2,Simulation!$B$5,IF(D396=3,Simulation!$B$6,IF(D396=4,Simulation!$B$7,IF(D396=5,Simulation!$B$8)))))))","v":false},{"$f":"IF(D396=\"Grid\",Simulation!$C$2,IF(D396=\"WU\",Simulation!$C$3,IF(D396=1,Simulation!$C$4,IF(D396=2,Simulation!$C$5,IF(D396=3,Simulation!$C$6,IF(D396=4,Simulation!$C$7,IF(D396=5,Simulation!$C$8)))))))","v":false},{"$f":"G395+O395-P395","v":0},null,null,null,"",null,null,null,null,0,null,0,0,"Inlap",null,null,{"$f":"IF(J396=$Q$2,\"FL\",\"\")","v":"FL"}]
[1,386,386,null,{"$f":"IF(D397=\"Grid\",Simulation!$B$2,IF(D397=\"WU\",Simulation!$B$3,IF(D397=1,Simulation!$B$4,IF(D397=2,Simulation!$B$5,IF(D397=3,Simulation!$B$6,IF(D397=4,Simulation!$B$7,IF(D397=5,Simulation!$B$8)))))))","v":false},{"$f":"IF(D397=\"Grid\",Simulation!$C$2,IF(D397=\"WU\",Simulation!$C$3,IF(D397=1,Simulation!$C$4,IF(D397=2,Simulation!$C$5,IF(D397=3,Simulation!$C$6,IF(D397=4,Simulation!$C$7,IF(D397=5,Simulation!$C$8)))))))","v":false},0,null,null,null,{"$f":"IF(J397<>0,K396,\"\")","v":""},null,null,null,null,0,null,0,0,"Inlap",null,null,"FL"]
[1,387,{"$f":"IF(O398=\"\",C397+1,\"1\")","v":387},null,{"$f":"IF(D398=\"Grid\",Simulation!$B$2,IF(D398=\"WU\",Simulation!$B$3,IF(D398=1,Simulation!$B$4,IF(D398=2,Simulation!$B$5,IF(D398=3,Simulation!$B$6,IF(D398=4,Simulation!$B$7,IF(D398=5,Simulation!$B$8)))))))","v":false},{"$f":"IF(D398=\"Grid\",Simulation!$C$2,IF(D398=\"WU\",Simulation!$C$3,IF(D398=1,Simulation!$C$4,IF(D398=2,Simulation!$C$5,IF(D398=3,Simulation!$C$6,IF(D398=4,Simulation!$C$7,IF(D398=5,Simulation!$C$8)))))))","v":false},0,null,null,null,"",null,null,null,null,0,null,0,0,"Inlap",null,null,"FL"]
[1,388,388,null,{"$f":"IF(D399=\"Grid\",Simulation!$B$2,IF(D399=\"WU\",Simulation!$B$3,IF(D399=1,Simulation!$B$4,IF(D399=2,Simulation!$B$5,IF(D399=3,Simulation!$B$6,IF(D399=4,Simulation!$B$7,IF(D399=5,Simulation!$B$8)))))))","v":false},{"$f":"IF(D399=\"Grid\",Simulation!$C$2,IF(D399=\"WU\",Simulation!$C$3,IF(D399=1,Simulation!$C$4,IF(D399=2,Simulation!$C$5,IF(D399=3,Simulation!$C$6,IF(D399=4,Simulation!$C$7,IF(D399=5,Simulation!$C$8)))))))","v":false},0,null,null,null,"",null,null,null,null,0,null,0,0,"Inlap",null,null,"FL"]
[1,389,389,null,{"$f":"IF(D400=\"Grid\",Simulation!$B$2,IF(D400=\"WU\",Simulation!$B$3,IF(D400=1,Simulation!$B$4,IF(D400=2,Simulation!$B$5,IF(D400=3,Simulation!$B$6,IF(D400=4,Simulation!$B$7,IF(D400=5,Simulation!$B$8)))))))","v":false},{"$f":"IF(D400=\"Grid\",Simulation!$C$2,IF(D400=\"WU\",Simulation!$C$3,IF(D400=1,Simulation!$C$4,IF(D400=2,Simulation!$C$5,IF(D400=3,Simulation!$C$6,IF(D400=4,Simulation!$C$7,IF(D400=5,Simulation!$C$8)))))))","v":false},0,null,null,null,"",null,null,null,null,0,null,0,0,"Inlap",null,null,"FL"]
[1,390,390,null,{"$f":"IF(D401=\"Grid\",Simulation!$B$2,IF(D401=\"WU\",Simulation!$B$3,IF(D401=1,Simulation!$B$4,IF(D401=2,Simulation!$B$5,IF(D401=3,Simulation!$B$6,IF(D401=4,Simulation!$B$7,IF(D401=5,Simulation!$B$8)))))))","v":false},{"$f":"IF(D401=\"Grid\",Simulation!$C$2,IF(D401=\"WU\",Simulation!$C$3,IF(D401=1,Simulation!$C$4,IF(D401=2,Simulation!$C$5,IF(D401=3,Simulation!$C$6,IF(D401=4,Simulation!$C$7,IF(D401=5,Simulation!$C$8)))))))","v":false},0,null,null,null,"",null,null,null,null,0,null,0,0,"Inlap",null,null,"FL"]
[1,391,391,null,{"$f":"IF(D402=\"Grid\",Simulation!$B$2,IF(D402=\"WU\",Simulation!$B$3,IF(D402=1,Simulation!$B$4,IF(D402=2,Simulation!$B$5,IF(D402=3,Simulation!$B$6,IF(D402=4,Simulation!$B$7,IF(D402=5,Simulation!$B$8)))))))","v":false},{"$f":"IF(D402=\"Grid\",Simulation!$C$2,IF(D402=\"WU\",Simulation!$C$3,IF(D402=1,Simulation!$C$4,IF(D402=2,Simulation!$C$5,IF(D402=3,Simulation!$C$6,IF(D402=4,Simulation!$C$7,IF(D402=5,Simulation!$C$8)))))))","v":false},0,null,null,null,"",null,null,null,null,0,null,0,0,"Inlap",null,null,"FL"]
[1,392,392,null,{"$f":"IF(D403=\"Grid\",Simulation!$B$2,IF(D403=\"WU\",Simulation!$B$3,IF(D403=1,Simulation!$B$4,IF(D403=2,Simulation!$B$5,IF(D403=3,Simulation!$B$6,IF(D403=4,Simulation!$B$7,IF(D403=5,Simulation!$B$8)))))))","v":false},{"$f":"IF(D403=\"Grid\",Simulation!$C$2,IF(D403=\"WU\",Simulation!$C$3,IF(D403=1,Simulation!$C$4,IF(D403=2,Simulation!$C$5,IF(D403=3,Simulation!$C$6,IF(D403=4,Simulation!$C$7,IF(D403=5,Simulation!$C$8)))))))","v":false},0,null,null,null,"",null,null,null,null,0,null,0,0,"Inlap",null,null,"FL"]
[1,393,393,null,{"$f":"IF(D404=\"Grid\",Simulation!$B$2,IF(D404=\"WU\",Simulation!$B$3,IF(D404=1,Simulation!$B$4,IF(D404=2,Simulation!$B$5,IF(D404=3,Simulation!$B$6,IF(D404=4,Simulation!$B$7,IF(D404=5,Simulation!$B$8)))))))","v":false},{"$f":"IF(D404=\"Grid\",Simulation!$C$2,IF(D404=\"WU\",Simulation!$C$3,IF(D404=1,Simulation!$C$4,IF(D404=2,Simulation!$C$5,IF(D404=3,Simulation!$C$6,IF(D404=4,Simulation!$C$7,IF(D404=5,Simulation!$C$8)))))))","v":false},0,null,null,null,"",null,null,null,null,0,null,0,0,"Inlap",null,null,"FL"]
[1,394,394,null,{"$f":"IF(D405=\"Grid\",Simulation!$B$2,IF(D405=\"WU\",Simulation!$B$3,IF(D405=1,Simulation!$B$4,IF(D405=2,Simulation!$B$5,IF(D405=3,Simulation!$B$6,IF(D405=4,Simulation!$B$7,IF(D405=5,Simulation!$B$8)))))))","v":false},{"$f":"IF(D405=\"Grid\",Simulation!$C$2,IF(D405=\"WU\",Simulation!$C$3,IF(D405=1,Simulation!$C$4,IF(D405=2,Simulation!$C$5,IF(D405=3,Simulation!$C$6,IF(D405=4,Simulation!$C$7,IF(D405=5,Simulation!$C$8)))))))","v":false},0,null,null,null,"",null,null,null,null,0,null,0,0,"Inlap",null,null,"FL"]
[1,395,395,null,{"$f":"IF(D406=\"Grid\",Simulation!$B$2,IF(D406=\"WU\",Simulation!$B$3,IF(D406=1,Simulation!$B$4,IF(D406=2,Simulation!$B$5,IF(D406=3,Simulation!$B$6,IF(D406=4,Simulation!$B$7,IF(D406=5,Simulation!$B$8)))))))","v":false},{"$f":"IF(D406=\"Grid\",Simulation!$C$2,IF(D406=\"WU\",Simulation!$C$3,IF(D406=1,Simulation!$C$4,IF(D406=2,Simulation!$C$5,IF(D406=3,Simulation!$C$6,IF(D406=4,Simulation!$C$7,IF(D406=5,Simulation!$C$8)))))))","v":false},0,null,null,null,"",null,null,null,null,0,null,0,0,"Inlap",null,null,"FL"]
[1,396,396,null,{"$f":"IF(D407=\"Grid\",Simulation!$B$2,IF(D407=\"WU\",Simulation!$B$3,IF(D407=1,Simulation!$B$4,IF(D407=2,Simulation!$B$5,IF(D407=3,Simulation!$B$6,IF(D407=4,Simulation!$B$7,IF(D407=5,Simulation!$B$8)))))))","v":false},{"$f":"IF(D407=\"Grid\",Simulation!$C$2,IF(D407=\"WU\",Simulation!$C$3,IF(D407=1,Simulation!$C$4,IF(D407=2,Simulation!$C$5,IF(D407=3,Simulation!$C$6,IF(D407=4,Simulation!$C$7,IF(D407=5,Simulation!$C$8)))))))","v":false},0,null,null,null,"",null,null,null,null,0,null,0,0,"Inlap",null,null,"FL"]
[1,397,397,null,{"$f":"IF(D408=\"Grid\",Simulation!$B$2,IF(D408=\"WU\",Simulation!$B$3,IF(D408=1,Simulation!$B$4,IF(D408=2,Simulation!$B$5,IF(D408=3,Simulation!$B$6,IF(D408=4,Simulation!$B$7,IF(D408=5,Simulation!$B$8)))))))","v":false},{"$f":"IF(D408=\"Grid\",Simulation!$C$2,IF(D408=\"WU\",Simulation!$C$3,IF(D408=1,Simulation!$C$4,IF(D408=2,Simulation!$C$5,IF(D408=3,Simulation!$C$6,IF(D408=4,Simulation!$C$7,IF(D408=5,Simulation!$C$8)))))))","v":false},0,null,null,null,"",null,null,null,null,0,null,0,0,"Inlap",null,null,"FL"]
[1,398,398,null,{"$f":"IF(D409=\"Grid\",Simulation!$B$2,IF(D409=\"WU\",Simulation!$B$3,IF(D409=1,Simulation!$B$4,IF(D409=2,Simulation!$B$5,IF(D409=3,Simulation!$B$6,IF(D409=4,Simulation!$B$7,IF(D409=5,Simulation!$B$8)))))))","v":false},{"$f":"IF(D409=\"Grid\",Simulation!$C$2,IF(D409=\"WU\",Simulation!$C$3,IF(D409=1,Simulation!$C$4,IF(D409=2,Simulation!$C$5,IF(D409=3,Simulation!$C$6,IF(D409=4,Simulation!$C$7,IF(D409=5,Simulation!$C$8)))))))","v":false},0,null,null,null,"",null,null,null,null,0,null,0,0,"Inlap",null,null,"FL"]
[1,399,399,null,{"$f":"IF(D410=\"Grid\",Simulation!$B$2,IF(D410=\"WU\",Simulation!$B$3,IF(D410=1,Simulation!$B$4,IF(D410=2,Simulation!$B$5,IF(D410=3,Simulation!$B$6,IF(D410=4,Simulation!$B$7,IF(D410=5,Simulation!$B$8)))))))","v":false},{"$f":"IF(D410=\"Grid\",Simulation!$C$2,IF(D410=\"WU\",Simulation!$C$3,IF(D410=1,Simulation!$C$4,IF(D410=2,Simulation!$C$5,IF(D410=3,Simulation!$C$6,IF(D410=4,Simulation!$C$7,IF(D410=5,Simulation!$C$8)))))))","v":false},0,null,null,null,"",null,null,null,null,0,null,0,0,"Inlap",null,null,"FL"]
[1,400,400,null,{"$f":"IF(D411=\"Grid\",Simulation!$B$2,IF(D411=\"WU\",Simulation!$B$3,IF(D411=1,Simulation!$B$4,IF(D411=2,Simulation!$B$5,IF(D411=3,Simulation!$B$6,IF(D411=4,Simulation!$B$7,IF(D411=5,Simulation!$B$8)))))))","v":false},{"$f":"IF(D411=\"Grid\",Simulation!$C$2,IF(D411=\"WU\",Simulation!$C$3,IF(D411=1,Simulation!$C$4,IF(D411=2,Simulation!$C$5,IF(D411=3,Simulation!$C$6,IF(D411=4,Simulation!$C$7,IF(D411=5,Simulation!$C$8)))))))","v":false},0,null,null,null,"",null,null,null,null,0,null,0,0,"Inlap",null,null,"FL"]
[1,401,401,null,{"$f":"IF(D412=\"Grid\",Simulation!$B$2,IF(D412=\"WU\",Simulation!$B$3,IF(D412=1,Simulation!$B$4,IF(D412=2,Simulation!$B$5,IF(D412=3,Simulation!$B$6,IF(D412=4,Simulation!$B$7,IF(D412=5,Simulation!$B$8)))))))","v":false},{"$f":"IF(D412=\"Grid\",Simulation!$C$2,IF(D412=\"WU\",Simulation!$C$3,IF(D412=1,Simulation!$C$4,IF(D412=2,Simulation!$C$5,IF(D412=3,Simulation!$C$6,IF(D412=4,Simulation!$C$7,IF(D412=5,Simulation!$C$8)))))))","v":false},0,null,null,null,"",null,null,null,null,0,null,{"$f":"IF(O412>0,Q412,Q412-Q411)","v":0},{"$f":"IF(O412>0,O412+S411-Q412,S411-P412)","v":0},"Inlap",null,null,"FL"]
[1,402,402,null,{"$f":"IF(D413=\"Grid\",Simulation!$B$2,IF(D413=\"WU\",Simulation!$B$3,IF(D413=1,Simulation!$B$4,IF(D413=2,Simulation!$B$5,IF(D413=3,Simulation!$B$6,IF(D413=4,Simulation!$B$7,IF(D413=5,Simulation!$B$8)))))))","v":false},{"$f":"IF(D413=\"Grid\",Simulation!$C$2,IF(D413=\"WU\",Simulation!$C$3,IF(D413=1,Simulation!$C$4,IF(D413=2,Simulation!$C$5,IF(D413=3,Simulation!$C$6,IF(D413=4,Simulation!$C$7,IF(D413=5,Simulation!$C$8)))))))","v":false},0,null,null,null,"",null,null,null,null,0,null,0,0,"Inlap",null,null,"FL"]
[1,403,403,null,{"$f":"IF(D414=\"Grid\",Simulation!$B$2,IF(D414=\"WU\",Simulation!$B$3,IF(D414=1,Simulation!$B$4,IF(D414=2,Simulation!$B$5,IF(D414=3,Simulation!$B$6,IF(D414=4,Simulation!$B$7,IF(D414=5,Simulation!$B$8)))))))","v":false},{"$f":"IF(D414=\"Grid\",Simulation!$C$2,IF(D414=\"WU\",Simulation!$C$3,IF(D414=1,Simulation!$C$4,IF(D414=2,Simulation!$C$5,IF(D414=3,Simulation!$C$6,IF(D414=4,Simulation!$C$7,IF(D414=5,Simulation!$C$8)))))))","v":false},0,null,null,null,"",null,null,null,null,0,null,0,0,"Inlap",null,null,"FL"]
[1,404,404,null,{"$f":"IF(D415=\"Grid\",Simulation!$B$2,IF(D415=\"WU\",Simulation!$B$3,IF(D415=1,Simulation!$B$4,IF(D415=2,Simulation!$B$5,IF(D415=3,Simulation!$B$6,IF(D415=4,Simulation!$B$7,IF(D415=5,Simulation!$B$8)))))))","v":false},{"$f":"IF(D415=\"Grid\",Simulation!$C$2,IF(D415=\"WU\",Simulation!$C$3,IF(D415=1,Simulation!$C$4,IF(D415=2,Simulation!$C$5,IF(D415=3,Simulation!$C$6,IF(D415=4,Simulation!$C$7,IF(D415=5,Simulation!$C$8)))))))","v":false},0,null,null,null,"",null,null,null,null,0,null,0,0,"Inlap",null,null,"FL"]
[1,405,405,null,{"$f":"IF(D416=\"Grid\",Simulation!$B$2,IF(D416=\"WU\",Simulation!$B$3,IF(D416=1,Simulation!$B$4,IF(D416=2,Simulation!$B$5,IF(D416=3,Simulation!$B$6,IF(D416=4,Simulation!$B$7,IF(D416=5,Simulation!$B$8)))))))","v":false},{"$f":"IF(D416=\"Grid\",Simulation!$C$2,IF(D416=\"WU\",Simulation!$C$3,IF(D416=1,Simulation!$C$4,IF(D416=2,Simulation!$C$5,IF(D416=3,Simulation!$C$6,IF(D416=4,Simulation!$C$7,IF(D416=5,Simulation!$C$8)))))))","v":false},0,null,null,null,"",null,null,null,null,0,null,0,0,"Inlap",null,null,"FL"]
[1,406,406,null,{"$f":"IF(D417=\"Grid\",Simulation!$B$2,IF(D417=\"WU\",Simulation!$B$3,IF(D417=1,Simulation!$B$4,IF(D417=2,Simulation!$B$5,IF(D417=3,Simulation!$B$6,IF(D417=4,Simulation!$B$7,IF(D417=5,Simulation!$B$8)))))))","v":false},{"$f":"IF(D417=\"Grid\",Simulation!$C$2,IF(D417=\"WU\",Simulation!$C$3,IF(D417=1,Simulation!$C$4,IF(D417=2,Simulation!$C$5,IF(D417=3,Simulation!$C$6,IF(D417=4,Simulation!$C$7,IF(D417=5,Simulation!$C$8)))))))","v":false},0,null,null,null,"",null,null,null,null,0,null,0,0,"Inlap",null,null,"FL"]
[1,407,407,null,{"$f":"IF(D418=\"Grid\",Simulation!$B$2,IF(D418=\"WU\",Simulation!$B$3,IF(D418=1,Simulation!$B$4,IF(D418=2,Simulation!$B$5,IF(D418=3,Simulation!$B$6,IF(D418=4,Simulation!$B$7,IF(D418=5,Simulation!$B$8)))))))","v":false},{"$f":"IF(D418=\"Grid\",Simulation!$C$2,IF(D418=\"WU\",Simulation!$C$3,IF(D418=1,Simulation!$C$4,IF(D418=2,Simulation!$C$5,IF(D418=3,Simulation!$C$6,IF(D418=4,Simulation!$C$7,IF(D418=5,Simulation!$C$8)))))))","v":false},0,null,null,null,"",null,null,null,null,0,null,0,0,"Inlap",null,null,"FL"]
[1,408,408,null,{"$f":"IF(D419=\"Grid\",Simulation!$B$2,IF(D419=\"WU\",Simulation!$B$3,IF(D419=1,Simulation!$B$4,IF(D419=2,Simulation!$B$5,IF(D419=3,Simulation!$B$6,IF(D419=4,Simulation!$B$7,IF(D419=5,Simulation!$B$8)))))))","v":false},{"$f":"IF(D419=\"Grid\",Simulation!$C$2,IF(D419=\"WU\",Simulation!$C$3,IF(D419=1,Simulation!$C$4,IF(D419=2,Simulation!$C$5,IF(D419=3,Simulation!$C$6,IF(D419=4,Simulation!$C$7,IF(D419=5,Simulation!$C$8)))))))","v":false},0,null,null,null,"",null,null,null,null,0,null,0,0,"Inlap",null,null,"FL"]
[1,409,409,null,{"$f":"IF(D420=\"Grid\",Simulation!$B$2,IF(D420=\"WU\",Simulation!$B$3,IF(D420=1,Simulation!$B$4,IF(D420=2,Simulation!$B$5,IF(D420=3,Simulation!$B$6,IF(D420=4,Simulation!$B$7,IF(D420=5,Simulation!$B$8)))))))","v":false},{"$f":"IF(D420=\"Grid\",Simulation!$C$2,IF(D420=\"WU\",Simulation!$C$3,IF(D420=1,Simulation!$C$4,IF(D420=2,Simulation!$C$5,IF(D420=3,Simulation!$C$6,IF(D420=4,Simulation!$C$7,IF(D420=5,Simulation!$C$8)))))))","v":false},0,null,null,null,"",null,null,null,null,0,null,0,0,"Inlap",null,null,"FL"]
[1,410,410,null,{"$f":"IF(D421=\"Grid\",Simulation!$B$2,IF(D421=\"WU\",Simulation!$B$3,IF(D421=1,Simulation!$B$4,IF(D421=2,Simulation!$B$5,IF(D421=3,Simulation!$B$6,IF(D421=4,Simulation!$B$7,IF(D421=5,Simulation!$B$8)))))))","v":false},{"$f":"IF(D421=\"Grid\",Simulation!$C$2,IF(D421=\"WU\",Simulation!$C$3,IF(D421=1,Simulation!$C$4,IF(D421=2,Simulation!$C$5,IF(D421=3,Simulation!$C$6,IF(D421=4,Simulation!$C$7,IF(D421=5,Simulation!$C$8)))))))","v":false},0,null,null,null,"",null,null,null,null,0,null,0,0,"Inlap",null,null,"FL"]
[1,411,411,null,{"$f":"IF(D422=\"Grid\",Simulation!$B$2,IF(D422=\"WU\",Simulation!$B$3,IF(D422=1,Simulation!$B$4,IF(D422=2,Simulation!$B$5,IF(D422=3,Simulation!$B$6,IF(D422=4,Simulation!$B$7,IF(D422=5,Simulation!$B$8)))))))","v":false},{"$f":"IF(D422=\"Grid\",Simulation!$C$2,IF(D422=\"WU\",Simulation!$C$3,IF(D422=1,Simulation!$C$4,IF(D422=2,Simulation!$C$5,IF(D422=3,Simulation!$C$6,IF(D422=4,Simulation!$C$7,IF(D422=5,Simulation!$C$8)))))))","v":false},0,null,null,null,"",null,null,null,null,0,null,0,0,"Inlap",null,null,"FL"]
[1,412,412,null,{"$f":"IF(D423=\"Grid\",Simulation!$B$2,IF(D423=\"WU\",Simulation!$B$3,IF(D423=1,Simulation!$B$4,IF(D423=2,Simulation!$B$5,IF(D423=3,Simulation!$B$6,IF(D423=4,Simulation!$B$7,IF(D423=5,Simulation!$B$8)))))))","v":false},{"$f":"IF(D423=\"Grid\",Simulation!$C$2,IF(D423=\"WU\",Simulation!$C$3,IF(D423=1,Simulation!$C$4,IF(D423=2,Simulation!$C$5,IF(D423=3,Simulation!$C$6,IF(D423=4,Simulation!$C$7,IF(D423=5,Simulation!$C$8)))))))","v":false},0,null,null,null,"",null,null,null,null,0,null,0,0,"Inlap",null,null,"FL"]
[1,413,413,null,{"$f":"IF(D424=\"Grid\",Simulation!$B$2,IF(D424=\"WU\",Simulation!$B$3,IF(D424=1,Simulation!$B$4,IF(D424=2,Simulation!$B$5,IF(D424=3,Simulation!$B$6,IF(D424=4,Simulation!$B$7,IF(D424=5,Simulation!$B$8)))))))","v":false},{"$f":"IF(D424=\"Grid\",Simulation!$C$2,IF(D424=\"WU\",Simulation!$C$3,IF(D424=1,Simulation!$C$4,IF(D424=2,Simulation!$C$5,IF(D424=3,Simulation!$C$6,IF(D424=4,Simulation!$C$7,IF(D424=5,Simulation!$C$8)))))))","v":false},0,null,null,null,"",null,null,null,null,0,null,0,0,"Inlap",null,null,"FL"]
[1,414,414,null,{"$f":"IF(D425=\"Grid\",Simulation!$B$2,IF(D425=\"WU\",Simulation!$B$3,IF(D425=1,Simulation!$B$4,IF(D425=2,Simulation!$B$5,IF(D425=3,Simulation!$B$6,IF(D425=4,Simulation!$B$7,IF(D425=5,Simulation!$B$8)))))))","v":false},{"$f":"IF(D425=\"Grid\",Simulation!$C$2,IF(D425=\"WU\",Simulation!$C$3,IF(D425=1,Simulation!$C$4,IF(D425=2,Simulation!$C$5,IF(D425=3,Simulation!$C$6,IF(D425=4,Simulation!$C$7,IF(D425=5,Simulation!$C$8)))))))","v":false},0,null,null,null,"",null,null,null,null,0,null,0,0,"Inlap",null,null,"FL"]
[1,415,415,null,{"$f":"IF(D426=\"Grid\",Simulation!$B$2,IF(D426=\"WU\",Simulation!$B$3,IF(D426=1,Simulation!$B$4,IF(D426=2,Simulation!$B$5,IF(D426=3,Simulation!$B$6,IF(D426=4,Simulation!$B$7,IF(D426=5,Simulation!$B$8)))))))","v":false},{"$f":"IF(D426=\"Grid\",Simulation!$C$2,IF(D426=\"WU\",Simulation!$C$3,IF(D426=1,Simulation!$C$4,IF(D426=2,Simulation!$C$5,IF(D426=3,Simulation!$C$6,IF(D426=4,Simulation!$C$7,IF(D426=5,Simulation!$C$8)))))))","v":false},0,null,null,null,"",null,null,null,null,0,null,0,0,"Inlap",null,null,"FL"]
[1,416,416,null,{"$f":"IF(D427=\"Grid\",Simulation!$B$2,IF(D427=\"WU\",Simulation!$B$3,IF(D427=1,Simulation!$B$4,IF(D427=2,Simulation!$B$5,IF(D427=3,Simulation!$B$6,IF(D427=4,Simulation!$B$7,IF(D427=5,Simulation!$B$8)))))))","v":false},{"$f":"IF(D427=\"Grid\",Simulation!$C$2,IF(D427=\"WU\",Simulation!$C$3,IF(D427=1,Simulation!$C$4,IF(D427=2,Simulation!$C$5,IF(D427=3,Simulation!$C$6,IF(D427=4,Simulation!$C$7,IF(D427=5,Simulation!$C$8)))))))","v":false},0,null,null,null,"",null,null,null,null,0,null,0,0,"Inlap",null,null,"FL"]
[1,417,417,null,{"$f":"IF(D428=\"Grid\",Simulation!$B$2,IF(D428=\"WU\",Simulation!$B$3,IF(D428=1,Simulation!$B$4,IF(D428=2,Simulation!$B$5,IF(D428=3,Simulation!$B$6,IF(D428=4,Simulation!$B$7,IF(D428=5,Simulation!$B$8)))))))","v":false},{"$f":"IF(D428=\"Grid\",Simulation!$C$2,IF(D428=\"WU\",Simulation!$C$3,IF(D428=1,Simulation!$C$4,IF(D428=2,Simulation!$C$5,IF(D428=3,Simulation!$C$6,IF(D428=4,Simulation!$C$7,IF(D428=5,Simulation!$C$8)))))))","v":false},0,null,null,null,"",null,null,null,null,0,null,0,0,"Inlap",null,null,"FL"]
[1,418,418,null,{"$f":"IF(D429=\"Grid\",Simulation!$B$2,IF(D429=\"WU\",Simulation!$B$3,IF(D429=1,Simulation!$B$4,IF(D429=2,Simulation!$B$5,IF(D429=3,Simulation!$B$6,IF(D429=4,Simulation!$B$7,IF(D429=5,Simulation!$B$8)))))))","v":false},{"$f":"IF(D429=\"Grid\",Simulation!$C$2,IF(D429=\"WU\",Simulation!$C$3,IF(D429=1,Simulation!$C$4,IF(D429=2,Simulation!$C$5,IF(D429=3,Simulation!$C$6,IF(D429=4,Simulation!$C$7,IF(D429=5,Simulation!$C$8)))))))","v":false},0,null,null,null,"",null,null,null,null,0,null,0,0,"Inlap",null,null,"FL"]
[1,419,419,null,{"$f":"IF(D430=\"Grid\",Simulation!$B$2,IF(D430=\"WU\",Simulation!$B$3,IF(D430=1,Simulation!$B$4,IF(D430=2,Simulation!$B$5,IF(D430=3,Simulation!$B$6,IF(D430=4,Simulation!$B$7,IF(D430=5,Simulation!$B$8)))))))","v":false},{"$f":"IF(D430=\"Grid\",Simulation!$C$2,IF(D430=\"WU\",Simulation!$C$3,IF(D430=1,Simulation!$C$4,IF(D430=2,Simulation!$C$5,IF(D430=3,Simulation!$C$6,IF(D430=4,Simulation!$C$7,IF(D430=5,Simulation!$C$8)))))))","v":false},0,null,null,null,"",null,null,null,null,{"$f":"IF(O430>0,Q430,Q430-Q429)","v":0},null,0,0,"Inlap",null,null,"FL"]
[1,420,420,null,{"$f":"IF(D431=\"Grid\",Simulation!$B$2,IF(D431=\"WU\",Simulation!$B$3,IF(D431=1,Simulation!$B$4,IF(D431=2,Simulation!$B$5,IF(D431=3,Simulation!$B$6,IF(D431=4,Simulation!$B$7,IF(D431=5,Simulation!$B$8)))))))","v":false},{"$f":"IF(D431=\"Grid\",Simulation!$C$2,IF(D431=\"WU\",Simulation!$C$3,IF(D431=1,Simulation!$C$4,IF(D431=2,Simulation!$C$5,IF(D431=3,Simulation!$C$6,IF(D431=4,Simulation!$C$7,IF(D431=5,Simulation!$C$8)))))))","v":false},0,null,null,null,"",null,null,null,null,0,null,0,0,"Inlap",null,null,"FL"]
[1,421,421,null,{"$f":"IF(D432=\"Grid\",Simulation!$B$2,IF(D432=\"WU\",Simulation!$B$3,IF(D432=1,Simulation!$B$4,IF(D432=2,Simulation!$B$5,IF(D432=3,Simulation!$B$6,IF(D432=4,Simulation!$B$7,IF(D432=5,Simulation!$B$8)))))))","v":false},{"$f":"IF(D432=\"Grid\",Simulation!$C$2,IF(D432=\"WU\",Simulation!$C$3,IF(D432=1,Simulation!$C$4,IF(D432=2,Simulation!$C$5,IF(D432=3,Simulation!$C$6,IF(D432=4,Simulation!$C$7,IF(D432=5,Simulation!$C$8)))))))","v":false},0,null,null,null,"",null,null,null,null,0,null,0,0,"Inlap",null,null,"FL"]
[1,422,422,null,{"$f":"IF(D433=\"Grid\",Simulation!$B$2,IF(D433=\"WU\",Simulation!$B$3,IF(D433=1,Simulation!$B$4,IF(D433=2,Simulation!$B$5,IF(D433=3,Simulation!$B$6,IF(D433=4,Simulation!$B$7,IF(D433=5,Simulation!$B$8)))))))","v":false},{"$f":"IF(D433=\"Grid\",Simulation!$C$2,IF(D433=\"WU\",Simulation!$C$3,IF(D433=1,Simulation!$C$4,IF(D433=2,Simulation!$C$5,IF(D433=3,Simulation!$C$6,IF(D433=4,Simulation!$C$7,IF(D433=5,Simulation!$C$8)))))))","v":false},0,null,null,null,"",null,null,null,null,0,null,0,0,"Inlap",null,null,"FL"]
[1,423,423,null,{"$f":"IF(D434=\"Grid\",Simulation!$B$2,IF(D434=\"WU\",Simulation!$B$3,IF(D434=1,Simulation!$B$4,IF(D434=2,Simulation!$B$5,IF(D434=3,Simulation!$B$6,IF(D434=4,Simulation!$B$7,IF(D434=5,Simulation!$B$8)))))))","v":false},{"$f":"IF(D434=\"Grid\",Simulation!$C$2,IF(D434=\"WU\",Simulation!$C$3,IF(D434=1,Simulation!$C$4,IF(D434=2,Simulation!$C$5,IF(D434=3,Simulation!$C$6,IF(D434=4,Simulation!$C$7,IF(D434=5,Simulation!$C$8)))))))","v":false},0,null,null,null,"",null,null,null,null,0,null,0,0,"Inlap",null,null,"FL"]
[1,424,424,null,{"$f":"IF(D435=\"Grid\",Simulation!$B$2,IF(D435=\"WU\",Simulation!$B$3,IF(D435=1,Simulation!$B$4,IF(D435=2,Simulation!$B$5,IF(D435=3,Simulation!$B$6,IF(D435=4,Simulation!$B$7,IF(D435=5,Simulation!$B$8)))))))","v":false},{"$f":"IF(D435=\"Grid\",Simulation!$C$2,IF(D435=\"WU\",Simulation!$C$3,IF(D435=1,Simulation!$C$4,IF(D435=2,Simulation!$C$5,IF(D435=3,Simulation!$C$6,IF(D435=4,Simulation!$C$7,IF(D435=5,Simulation!$C$8)))))))","v":false},0,null,null,null,"",null,null,null,null,0,null,0,0,"Inlap",null,null,"FL"]
[1,425,425,null,{"$f":"IF(D436=\"Grid\",Simulation!$B$2,IF(D436=\"WU\",Simulation!$B$3,IF(D436=1,Simulation!$B$4,IF(D436=2,Simulation!$B$5,IF(D436=3,Simulation!$B$6,IF(D436=4,Simulation!$B$7,IF(D436=5,Simulation!$B$8)))))))","v":false},{"$f":"IF(D436=\"Grid\",Simulation!$C$2,IF(D436=\"WU\",Simulation!$C$3,IF(D436=1,Simulation!$C$4,IF(D436=2,Simulation!$C$5,IF(D436=3,Simulation!$C$6,IF(D436=4,Simulation!$C$7,IF(D436=5,Simulation!$C$8)))))))","v":false},0,null,null,null,"",null,null,null,null,0,null,0,0,"Inlap",null,null,"FL"]
[1,426,426,null,{"$f":"IF(D437=\"Grid\",Simulation!$B$2,IF(D437=\"WU\",Simulation!$B$3,IF(D437=1,Simulation!$B$4,IF(D437=2,Simulation!$B$5,IF(D437=3,Simulation!$B$6,IF(D437=4,Simulation!$B$7,IF(D437=5,Simulation!$B$8)))))))","v":false},{"$f":"IF(D437=\"Grid\",Simulation!$C$2,IF(D437=\"WU\",Simulation!$C$3,IF(D437=1,Simulation!$C$4,IF(D437=2,Simulation!$C$5,IF(D437=3,Simulation!$C$6,IF(D437=4,Simulation!$C$7,IF(D437=5,Simulation!$C$8)))))))","v":false},0,null,null,null,"",null,null,null,null,0,null,0,0,"Inlap",null,null,"FL"]
[1,427,427,null,{"$f":"IF(D438=\"Grid\",Simulation!$B$2,IF(D438=\"WU\",Simulation!$B$3,IF(D438=1,Simulation!$B$4,IF(D438=2,Simulation!$B$5,IF(D438=3,Simulation!$B$6,IF(D438=4,Simulation!$B$7,IF(D438=5,Simulation!$B$8)))))))","v":false},{"$f":"IF(D438=\"Grid\",Simulation!$C$2,IF(D438=\"WU\",Simulation!$C$3,IF(D438=1,Simulation!$C$4,IF(D438=2,Simulation!$C$5,IF(D438=3,Simulation!$C$6,IF(D438=4,Simulation!$C$7,IF(D438=5,Simulation!$C$8)))))))","v":false},0,null,null,null,"",null,null,null,null,0,null,0,0,"Inlap",null,null,"FL"]
[1,428,428,null,{"$f":"IF(D439=\"Grid\",Simulation!$B$2,IF(D439=\"WU\",Simulation!$B$3,IF(D439=1,Simulation!$B$4,IF(D439=2,Simulation!$B$5,IF(D439=3,Simulation!$B$6,IF(D439=4,Simulation!$B$7,IF(D439=5,Simulation!$B$8)))))))","v":false},{"$f":"IF(D439=\"Grid\",Simulation!$C$2,IF(D439=\"WU\",Simulation!$C$3,IF(D439=1,Simulation!$C$4,IF(D439=2,Simulation!$C$5,IF(D439=3,Simulation!$C$6,IF(D439=4,Simulation!$C$7,IF(D439=5,Simulation!$C$8)))))))","v":false},0,null,null,null,"",null,null,null,null,0,null,0,0,"Inlap",null,null,"FL"]
[1,429,429,null,{"$f":"IF(D440=\"Grid\",Simulation!$B$2,IF(D440=\"WU\",Simulation!$B$3,IF(D440=1,Simulation!$B$4,IF(D440=2,Simulation!$B$5,IF(D440=3,Simulation!$B$6,IF(D440=4,Simulation!$B$7,IF(D440=5,Simulation!$B$8)))))))","v":false},{"$f":"IF(D440=\"Grid\",Simulation!$C$2,IF(D440=\"WU\",Simulation!$C$3,IF(D440=1,Simulation!$C$4,IF(D440=2,Simulation!$C$5,IF(D440=3,Simulation!$C$6,IF(D440=4,Simulation!$C$7,IF(D440=5,Simulation!$C$8)))))))","v":false},0,null,null,null,"",null,null,null,null,0,null,0,0,"Inlap",null,null,"FL"]
[1,430,430,null,{"$f":"IF(D441=\"Grid\",Simulation!$B$2,IF(D441=\"WU\",Simulation!$B$3,IF(D441=1,Simulation!$B$4,IF(D441=2,Simulation!$B$5,IF(D441=3,Simulation!$B$6,IF(D441=4,Simulation!$B$7,IF(D441=5,Simulation!$B$8)))))))","v":false},{"$f":"IF(D441=\"Grid\",Simulation!$C$2,IF(D441=\"WU\",Simulation!$C$3,IF(D441=1,Simulation!$C$4,IF(D441=2,Simulation!$C$5,IF(D441=3,Simulation!$C$6,IF(D441=4,Simulation!$C$7,IF(D441=5,Simulation!$C$8)))))))","v":false},0,null,null,null,"",null,null,null,null,0,null,0,0,"Inlap",null,null,"FL"]
[1,431,431,null,{"$f":"IF(D442=\"Grid\",Simulation!$B$2,IF(D442=\"WU\",Simulation!$B$3,IF(D442=1,Simulation!$B$4,IF(D442=2,Simulation!$B$5,IF(D442=3,Simulation!$B$6,IF(D442=4,Simulation!$B$7,IF(D442=5,Simulation!$B$8)))))))","v":false},{"$f":"IF(D442=\"Grid\",Simulation!$C$2,IF(D442=\"WU\",Simulation!$C$3,IF(D442=1,Simulation!$C$4,IF(D442=2,Simulation!$C$5,IF(D442=3,Simulation!$C$6,IF(D442=4,Simulation!$C$7,IF(D442=5,Simulation!$C$8)))))))","v":false},0,null,null,null,"",null,null,null,null,0,null,0,0,"Inlap",null,null,"FL"]
[1,432,432,null,{"$f":"IF(D443=\"Grid\",Simulation!$B$2,IF(D443=\"WU\",Simulation!$B$3,IF(D443=1,Simulation!$B$4,IF(D443=2,Simulation!$B$5,IF(D443=3,Simulation!$B$6,IF(D443=4,Simulation!$B$7,IF(D443=5,Simulation!$B$8)))))))","v":false},{"$f":"IF(D443=\"Grid\",Simulation!$C$2,IF(D443=\"WU\",Simulation!$C$3,IF(D443=1,Simulation!$C$4,IF(D443=2,Simulation!$C$5,IF(D443=3,Simulation!$C$6,IF(D443=4,Simulation!$C$7,IF(D443=5,Simulation!$C$8)))))))","v":false},0,null,null,null,"",null,null,null,null,0,null,0,0,"Inlap",null,null,"FL"]
[1,433,433,null,{"$f":"IF(D444=\"Grid\",Simulation!$B$2,IF(D444=\"WU\",Simulation!$B$3,IF(D444=1,Simulation!$B$4,IF(D444=2,Simulation!$B$5,IF(D444=3,Simulation!$B$6,IF(D444=4,Simulation!$B$7,IF(D444=5,Simulation!$B$8)))))))","v":false},{"$f":"IF(D444=\"Grid\",Simulation!$C$2,IF(D444=\"WU\",Simulation!$C$3,IF(D444=1,Simulation!$C$4,IF(D444=2,Simulation!$C$5,IF(D444=3,Simulation!$C$6,IF(D444=4,Simulation!$C$7,IF(D444=5,Simulation!$C$8)))))))","v":false},0,null,null,null,"",null,null,null,null,0,null,0,0,"Inlap",null,null,"FL"]
[1,434,434,null,{"$f":"IF(D445=\"Grid\",Simulation!$B$2,IF(D445=\"WU\",Simulation!$B$3,IF(D445=1,Simulation!$B$4,IF(D445=2,Simulation!$B$5,IF(D445=3,Simulation!$B$6,IF(D445=4,Simulation!$B$7,IF(D445=5,Simulation!$B$8)))))))","v":false},{"$f":"IF(D445=\"Grid\",Simulation!$C$2,IF(D445=\"WU\",Simulation!$C$3,IF(D445=1,Simulation!$C$4,IF(D445=2,Simulation!$C$5,IF(D445=3,Simulation!$C$6,IF(D445=4,Simulation!$C$7,IF(D445=5,Simulation!$C$8)))))))","v":false},0,null,null,null,"",null,null,null,null,0,null,0,0,"Inlap",null,null,"FL"]
[1,435,435,null,{"$f":"IF(D446=\"Grid\",Simulation!$B$2,IF(D446=\"WU\",Simulation!$B$3,IF(D446=1,Simulation!$B$4,IF(D446=2,Simulation!$B$5,IF(D446=3,Simulation!$B$6,IF(D446=4,Simulation!$B$7,IF(D446=5,Simulation!$B$8)))))))","v":false},{"$f":"IF(D446=\"Grid\",Simulation!$C$2,IF(D446=\"WU\",Simulation!$C$3,IF(D446=1,Simulation!$C$4,IF(D446=2,Simulation!$C$5,IF(D446=3,Simulation!$C$6,IF(D446=4,Simulation!$C$7,IF(D446=5,Simulation!$C$8)))))))","v":false},0,null,null,null,"",null,null,null,null,0,null,0,0,"Inlap",null,null,"FL"]
[1,436,436,null,{"$f":"IF(D447=\"Grid\",Simulation!$B$2,IF(D447=\"WU\",Simulation!$B$3,IF(D447=1,Simulation!$B$4,IF(D447=2,Simulation!$B$5,IF(D447=3,Simulation!$B$6,IF(D447=4,Simulation!$B$7,IF(D447=5,Simulation!$B$8)))))))","v":false},{"$f":"IF(D447=\"Grid\",Simulation!$C$2,IF(D447=\"WU\",Simulation!$C$3,IF(D447=1,Simulation!$C$4,IF(D447=2,Simulation!$C$5,IF(D447=3,Simulation!$C$6,IF(D447=4,Simulation!$C$7,IF(D447=5,Simulation!$C$8)))))))","v":false},0,null,null,null,"",null,null,null,null,0,null,0,0,"Inlap",null,null,"FL"]
[1,437,437,null,{"$f":"IF(D448=\"Grid\",Simulation!$B$2,IF(D448=\"WU\",Simulation!$B$3,IF(D448=1,Simulation!$B$4,IF(D448=2,Simulation!$B$5,IF(D448=3,Simulation!$B$6,IF(D448=4,Simulation!$B$7,IF(D448=5,Simulation!$B$8)))))))","v":false},{"$f":"IF(D448=\"Grid\",Simulation!$C$2,IF(D448=\"WU\",Simulation!$C$3,IF(D448=1,Simulation!$C$4,IF(D448=2,Simulation!$C$5,IF(D448=3,Simulation!$C$6,IF(D448=4,Simulation!$C$7,IF(D448=5,Simulation!$C$8)))))))","v":false},0,null,null,null,"",null,null,null,null,0,null,0,0,"Inlap",null,null,"FL"]
[1,438,438,null,{"$f":"IF(D449=\"Grid\",Simulation!$B$2,IF(D449=\"WU\",Simulation!$B$3,IF(D449=1,Simulation!$B$4,IF(D449=2,Simulation!$B$5,IF(D449=3,Simulation!$B$6,IF(D449=4,Simulation!$B$7,IF(D449=5,Simulation!$B$8)))))))","v":false},{"$f":"IF(D449=\"Grid\",Simulation!$C$2,IF(D449=\"WU\",Simulation!$C$3,IF(D449=1,Simulation!$C$4,IF(D449=2,Simulation!$C$5,IF(D449=3,Simulation!$C$6,IF(D449=4,Simulation!$C$7,IF(D449=5,Simulation!$C$8)))))))","v":false},0,null,null,null,"",null,null,null,null,0,null,0,0,"Inlap",null,null,"FL"]
[1,439,439,null,{"$f":"IF(D450=\"Grid\",Simulation!$B$2,IF(D450=\"WU\",Simulation!$B$3,IF(D450=1,Simulation!$B$4,IF(D450=2,Simulation!$B$5,IF(D450=3,Simulation!$B$6,IF(D450=4,Simulation!$B$7,IF(D450=5,Simulation!$B$8)))))))","v":false},{"$f":"IF(D450=\"Grid\",Simulation!$C$2,IF(D450=\"WU\",Simulation!$C$3,IF(D450=1,Simulation!$C$4,IF(D450=2,Simulation!$C$5,IF(D450=3,Simulation!$C$6,IF(D450=4,Simulation!$C$7,IF(D450=5,Simulation!$C$8)))))))","v":false},0,null,null,null,"",null,null,null,null,0,null,0,0,"Inlap",null,null,"FL"]
[1,440,440,null,{"$f":"IF(D451=\"Grid\",Simulation!$B$2,IF(D451=\"WU\",Simulation!$B$3,IF(D451=1,Simulation!$B$4,IF(D451=2,Simulation!$B$5,IF(D451=3,Simulation!$B$6,IF(D451=4,Simulation!$B$7,IF(D451=5,Simulation!$B$8)))))))","v":false},{"$f":"IF(D451=\"Grid\",Simulation!$C$2,IF(D451=\"WU\",Simulation!$C$3,IF(D451=1,Simulation!$C$4,IF(D451=2,Simulation!$C$5,IF(D451=3,Simulation!$C$6,IF(D451=4,Simulation!$C$7,IF(D451=5,Simulation!$C$8)))))))","v":false},0,null,null,null,"",null,null,null,null,0,null,0,0,"Inlap",null,null,"FL"]
[1,441,441,null,{"$f":"IF(D452=\"Grid\",Simulation!$B$2,IF(D452=\"WU\",Simulation!$B$3,IF(D452=1,Simulation!$B$4,IF(D452=2,Simulation!$B$5,IF(D452=3,Simulation!$B$6,IF(D452=4,Simulation!$B$7,IF(D452=5,Simulation!$B$8)))))))","v":false},{"$f":"IF(D452=\"Grid\",Simulation!$C$2,IF(D452=\"WU\",Simulation!$C$3,IF(D452=1,Simulation!$C$4,IF(D452=2,Simulation!$C$5,IF(D452=3,Simulation!$C$6,IF(D452=4,Simulation!$C$7,IF(D452=5,Simulation!$C$8)))))))","v":false},0,null,null,null,"",null,null,null,null,0,null,0,0,"Inlap",null,null,"FL"]
[1,442,442,null,{"$f":"IF(D453=\"Grid\",Simulation!$B$2,IF(D453=\"WU\",Simulation!$B$3,IF(D453=1,Simulation!$B$4,IF(D453=2,Simulation!$B$5,IF(D453=3,Simulation!$B$6,IF(D453=4,Simulation!$B$7,IF(D453=5,Simulation!$B$8)))))))","v":false},{"$f":"IF(D453=\"Grid\",Simulation!$C$2,IF(D453=\"WU\",Simulation!$C$3,IF(D453=1,Simulation!$C$4,IF(D453=2,Simulation!$C$5,IF(D453=3,Simulation!$C$6,IF(D453=4,Simulation!$C$7,IF(D453=5,Simulation!$C$8)))))))","v":false},0,null,null,null,"",null,null,null,null,0,null,0,0,"Inlap",null,null,"FL"]
[1,443,443,null,{"$f":"IF(D454=\"Grid\",Simulation!$B$2,IF(D454=\"WU\",Simulation!$B$3,IF(D454=1,Simulation!$B$4,IF(D454=2,Simulation!$B$5,IF(D454=3,Simulation!$B$6,IF(D454=4,Simulation!$B$7,IF(D454=5,Simulation!$B$8)))))))","v":false},{"$f":"IF(D454=\"Grid\",Simulation!$C$2,IF(D454=\"WU\",Simulation!$C$3,IF(D454=1,Simulation!$C$4,IF(D454=2,Simulation!$C$5,IF(D454=3,Simulation!$C$6,IF(D454=4,Simulation!$C$7,IF(D454=5,Simulation!$C$8)))))))","v":false},0,null,null,null,"",null,null,null,null,0,null,0,0,"Inlap",null,null,"FL"]
[1,444,444,null,{"$f":"IF(D455=\"Grid\",Simulation!$B$2,IF(D455=\"WU\",Simulation!$B$3,IF(D455=1,Simulation!$B$4,IF(D455=2,Simulation!$B$5,IF(D455=3,Simulation!$B$6,IF(D455=4,Simulation!$B$7,IF(D455=5,Simulation!$B$8)))))))","v":false},{"$f":"IF(D455=\"Grid\",Simulation!$C$2,IF(D455=\"WU\",Simulation!$C$3,IF(D455=1,Simulation!$C$4,IF(D455=2,Simulation!$C$5,IF(D455=3,Simulation!$C$6,IF(D455=4,Simulation!$C$7,IF(D455=5,Simulation!$C$8)))))))","v":false},0,null,null,null,"",null,null,null,null,0,null,0,0,"Inlap",null,null,"FL"]
[1,445,445,null,{"$f":"IF(D456=\"Grid\",Simulation!$B$2,IF(D456=\"WU\",Simulation!$B$3,IF(D456=1,Simulation!$B$4,IF(D456=2,Simulation!$B$5,IF(D456=3,Simulation!$B$6,IF(D456=4,Simulation!$B$7,IF(D456=5,Simulation!$B$8)))))))","v":false},{"$f":"IF(D456=\"Grid\",Simulation!$C$2,IF(D456=\"WU\",Simulation!$C$3,IF(D456=1,Simulation!$C$4,IF(D456=2,Simulation!$C$5,IF(D456=3,Simulation!$C$6,IF(D456=4,Simulation!$C$7,IF(D456=5,Simulation!$C$8)))))))","v":false},0,null,null,null,"",null,null,null,null,0,null,0,0,"Inlap",null,null,"FL"]
[1,446,446,null,{"$f":"IF(D457=\"Grid\",Simulation!$B$2,IF(D457=\"WU\",Simulation!$B$3,IF(D457=1,Simulation!$B$4,IF(D457=2,Simulation!$B$5,IF(D457=3,Simulation!$B$6,IF(D457=4,Simulation!$B$7,IF(D457=5,Simulation!$B$8)))))))","v":false},{"$f":"IF(D457=\"Grid\",Simulation!$C$2,IF(D457=\"WU\",Simulation!$C$3,IF(D457=1,Simulation!$C$4,IF(D457=2,Simulation!$C$5,IF(D457=3,Simulation!$C$6,IF(D457=4,Simulation!$C$7,IF(D457=5,Simulation!$C$8)))))))","v":false},0,null,null,null,"",null,null,null,null,0,null,0,0,"Inlap",null,null,"FL"]
[1,447,447,null,{"$f":"IF(D458=\"Grid\",Simulation!$B$2,IF(D458=\"WU\",Simulation!$B$3,IF(D458=1,Simulation!$B$4,IF(D458=2,Simulation!$B$5,IF(D458=3,Simulation!$B$6,IF(D458=4,Simulation!$B$7,IF(D458=5,Simulation!$B$8)))))))","v":false},{"$f":"IF(D458=\"Grid\",Simulation!$C$2,IF(D458=\"WU\",Simulation!$C$3,IF(D458=1,Simulation!$C$4,IF(D458=2,Simulation!$C$5,IF(D458=3,Simulation!$C$6,IF(D458=4,Simulation!$C$7,IF(D458=5,Simulation!$C$8)))))))","v":false},0,null,null,null,"",null,null,null,null,0,null,0,0,"Inlap",null,null,"FL"]
[1,448,448,null,{"$f":"IF(D459=\"Grid\",Simulation!$B$2,IF(D459=\"WU\",Simulation!$B$3,IF(D459=1,Simulation!$B$4,IF(D459=2,Simulation!$B$5,IF(D459=3,Simulation!$B$6,IF(D459=4,Simulation!$B$7,IF(D459=5,Simulation!$B$8)))))))","v":false},{"$f":"IF(D459=\"Grid\",Simulation!$C$2,IF(D459=\"WU\",Simulation!$C$3,IF(D459=1,Simulation!$C$4,IF(D459=2,Simulation!$C$5,IF(D459=3,Simulation!$C$6,IF(D459=4,Simulation!$C$7,IF(D459=5,Simulation!$C$8)))))))","v":false},0,null,null,null,"",null,null,null,null,0,null,0,0,{"$f":"IF(S459<=F459,\"Inlap\",IF(S459<=2*F459,\"Call: In this lap!\",IF(S459<=3*F459,\"Show in but don't call!\",\"\")))","v":"Inlap"},null,null,"FL"]
[{"$f":"IF(O460>0,A459+1,A459)","v":1},449,449,null,{"$f":"IF(D460=\"Grid\",Simulation!$B$2,IF(D460=\"WU\",Simulation!$B$3,IF(D460=1,Simulation!$B$4,IF(D460=2,Simulation!$B$5,IF(D460=3,Simulation!$B$6,IF(D460=4,Simulation!$B$7,IF(D460=5,Simulation!$B$8)))))))","v":false},{"$f":"IF(D460=\"Grid\",Simulation!$C$2,IF(D460=\"WU\",Simulation!$C$3,IF(D460=1,Simulation!$C$4,IF(D460=2,Simulation!$C$5,IF(D460=3,Simulation!$C$6,IF(D460=4,Simulation!$C$7,IF(D460=5,Simulation!$C$8)))))))","v":false},{"$f":"G459+O459-P459","v":0},null,null,null,"",null,null,null,null,0,null,0,0,"Inlap",null,null,{"$f":"IF(J460=$Q$2,\"FL\",\"\")","v":"FL"}]
[1,450,450,null,{"$f":"IF(D461=\"Grid\",Simulation!$B$2,IF(D461=\"WU\",Simulation!$B$3,IF(D461=1,Simulation!$B$4,IF(D461=2,Simulation!$B$5,IF(D461=3,Simulation!$B$6,IF(D461=4,Simulation!$B$7,IF(D461=5,Simulation!$B$8)))))))","v":false},{"$f":"IF(D461=\"Grid\",Simulation!$C$2,IF(D461=\"WU\",Simulation!$C$3,IF(D461=1,Simulation!$C$4,IF(D461=2,Simulation!$C$5,IF(D461=3,Simulation!$C$6,IF(D461=4,Simulation!$C$7,IF(D461=5,Simulation!$C$8)))))))","v":false},0,null,null,null,{"$f":"IF(J461<>0,K460,\"\")","v":""},null,null,null,null,0,null,0,0,"Inlap",null,null,"FL"]
[1,451,{"$f":"IF(O462=\"\",C461+1,\"1\")","v":451},null,{"$f":"IF(D462=\"Grid\",Simulation!$B$2,IF(D462=\"WU\",Simulation!$B$3,IF(D462=1,Simulation!$B$4,IF(D462=2,Simulation!$B$5,IF(D462=3,Simulation!$B$6,IF(D462=4,Simulation!$B$7,IF(D462=5,Simulation!$B$8)))))))","v":false},{"$f":"IF(D462=\"Grid\",Simulation!$C$2,IF(D462=\"WU\",Simulation!$C$3,IF(D462=1,Simulation!$C$4,IF(D462=2,Simulation!$C$5,IF(D462=3,Simulation!$C$6,IF(D462=4,Simulation!$C$7,IF(D462=5,Simulation!$C$8)))))))","v":false},0,null,null,null,"",null,null,null,null,0,null,0,0,"Inlap",null,null,"FL"]
[1,452,452,null,{"$f":"IF(D463=\"Grid\",Simulation!$B$2,IF(D463=\"WU\",Simulation!$B$3,IF(D463=1,Simulation!$B$4,IF(D463=2,Simulation!$B$5,IF(D463=3,Simulation!$B$6,IF(D463=4,Simulation!$B$7,IF(D463=5,Simulation!$B$8)))))))","v":false},{"$f":"IF(D463=\"Grid\",Simulation!$C$2,IF(D463=\"WU\",Simulation!$C$3,IF(D463=1,Simulation!$C$4,IF(D463=2,Simulation!$C$5,IF(D463=3,Simulation!$C$6,IF(D463=4,Simulation!$C$7,IF(D463=5,Simulation!$C$8)))))))","v":false},0,null,null,null,"",null,null,null,null,0,null,0,0,"Inlap",null,null,"FL"]
[1,453,453,null,{"$f":"IF(D464=\"Grid\",Simulation!$B$2,IF(D464=\"WU\",Simulation!$B$3,IF(D464=1,Simulation!$B$4,IF(D464=2,Simulation!$B$5,IF(D464=3,Simulation!$B$6,IF(D464=4,Simulation!$B$7,IF(D464=5,Simulation!$B$8)))))))","v":false},{"$f":"IF(D464=\"Grid\",Simulation!$C$2,IF(D464=\"WU\",Simulation!$C$3,IF(D464=1,Simulation!$C$4,IF(D464=2,Simulation!$C$5,IF(D464=3,Simulation!$C$6,IF(D464=4,Simulation!$C$7,IF(D464=5,Simulation!$C$8)))))))","v":false},0,null,null,null,"",null,null,null,null,0,null,0,0,"Inlap",null,null,"FL"]
[1,454,454,null,{"$f":"IF(D465=\"Grid\",Simulation!$B$2,IF(D465=\"WU\",Simulation!$B$3,IF(D465=1,Simulation!$B$4,IF(D465=2,Simulation!$B$5,IF(D465=3,Simulation!$B$6,IF(D465=4,Simulation!$B$7,IF(D465=5,Simulation!$B$8)))))))","v":false},{"$f":"IF(D465=\"Grid\",Simulation!$C$2,IF(D465=\"WU\",Simulation!$C$3,IF(D465=1,Simulation!$C$4,IF(D465=2,Simulation!$C$5,IF(D465=3,Simulation!$C$6,IF(D465=4,Simulation!$C$7,IF(D465=5,Simulation!$C$8)))))))","v":false},0,null,null,null,"",null,null,null,null,0,null,0,0,"Inlap",null,null,"FL"]
[1,455,455,null,{"$f":"IF(D466=\"Grid\",Simulation!$B$2,IF(D466=\"WU\",Simulation!$B$3,IF(D466=1,Simulation!$B$4,IF(D466=2,Simulation!$B$5,IF(D466=3,Simulation!$B$6,IF(D466=4,Simulation!$B$7,IF(D466=5,Simulation!$B$8)))))))","v":false},{"$f":"IF(D466=\"Grid\",Simulation!$C$2,IF(D466=\"WU\",Simulation!$C$3,IF(D466=1,Simulation!$C$4,IF(D466=2,Simulation!$C$5,IF(D466=3,Simulation!$C$6,IF(D466=4,Simulation!$C$7,IF(D466=5,Simulation!$C$8)))))))","v":false},0,null,null,null,"",null,null,null,null,0,null,0,0,"Inlap",null,null,"FL"]
[1,456,456,null,{"$f":"IF(D467=\"Grid\",Simulation!$B$2,IF(D467=\"WU\",Simulation!$B$3,IF(D467=1,Simulation!$B$4,IF(D467=2,Simulation!$B$5,IF(D467=3,Simulation!$B$6,IF(D467=4,Simulation!$B$7,IF(D467=5,Simulation!$B$8)))))))","v":false},{"$f":"IF(D467=\"Grid\",Simulation!$C$2,IF(D467=\"WU\",Simulation!$C$3,IF(D467=1,Simulation!$C$4,IF(D467=2,Simulation!$C$5,IF(D467=3,Simulation!$C$6,IF(D467=4,Simulation!$C$7,IF(D467=5,Simulation!$C$8)))))))","v":false},0,null,null,null,"",null,null,null,null,0,null,0,0,"Inlap",null,null,"FL"]
[1,457,457,null,{"$f":"IF(D468=\"Grid\",Simulation!$B$2,IF(D468=\"WU\",Simulation!$B$3,IF(D468=1,Simulation!$B$4,IF(D468=2,Simulation!$B$5,IF(D468=3,Simulation!$B$6,IF(D468=4,Simulation!$B$7,IF(D468=5,Simulation!$B$8)))))))","v":false},{"$f":"IF(D468=\"Grid\",Simulation!$C$2,IF(D468=\"WU\",Simulation!$C$3,IF(D468=1,Simulation!$C$4,IF(D468=2,Simulation!$C$5,IF(D468=3,Simulation!$C$6,IF(D468=4,Simulation!$C$7,IF(D468=5,Simulation!$C$8)))))))","v":false},0,null,null,null,"",null,null,null,null,0,null,0,0,"Inlap",null,null,"FL"]
[1,458,458,null,{"$f":"IF(D469=\"Grid\",Simulation!$B$2,IF(D469=\"WU\",Simulation!$B$3,IF(D469=1,Simulation!$B$4,IF(D469=2,Simulation!$B$5,IF(D469=3,Simulation!$B$6,IF(D469=4,Simulation!$B$7,IF(D469=5,Simulation!$B$8)))))))","v":false},{"$f":"IF(D469=\"Grid\",Simulation!$C$2,IF(D469=\"WU\",Simulation!$C$3,IF(D469=1,Simulation!$C$4,IF(D469=2,Simulation!$C$5,IF(D469=3,Simulation!$C$6,IF(D469=4,Simulation!$C$7,IF(D469=5,Simulation!$C$8)))))))","v":false},0,null,null,null,"",null,null,null,null,0,null,0,0,"Inlap",null,null,"FL"]
[1,459,459,null,{"$f":"IF(D470=\"Grid\",Simulation!$B$2,IF(D470=\"WU\",Simulation!$B$3,IF(D470=1,Simulation!$B$4,IF(D470=2,Simulation!$B$5,IF(D470=3,Simulation!$B$6,IF(D470=4,Simulation!$B$7,IF(D470=5,Simulation!$B$8)))))))","v":false},{"$f":"IF(D470=\"Grid\",Simulation!$C$2,IF(D470=\"WU\",Simulation!$C$3,IF(D470=1,Simulation!$C$4,IF(D470=2,Simulation!$C$5,IF(D470=3,Simulation!$C$6,IF(D470=4,Simulation!$C$7,IF(D470=5,Simulation!$C$8)))))))","v":false},0,null,null,null,"",null,null,null,null,0,null,0,0,"Inlap",null,null,"FL"]
[1,460,460,null,{"$f":"IF(D471=\"Grid\",Simulation!$B$2,IF(D471=\"WU\",Simulation!$B$3,IF(D471=1,Simulation!$B$4,IF(D471=2,Simulation!$B$5,IF(D471=3,Simulation!$B$6,IF(D471=4,Simulation!$B$7,IF(D471=5,Simulation!$B$8)))))))","v":false},{"$f":"IF(D471=\"Grid\",Simulation!$C$2,IF(D471=\"WU\",Simulation!$C$3,IF(D471=1,Simulation!$C$4,IF(D471=2,Simulation!$C$5,IF(D471=3,Simulation!$C$6,IF(D471=4,Simulation!$C$7,IF(D471=5,Simulation!$C$8)))))))","v":false},0,null,null,null,"",null,null,null,null,0,null,0,0,"Inlap",null,null,"FL"]
[1,461,461,null,{"$f":"IF(D472=\"Grid\",Simulation!$B$2,IF(D472=\"WU\",Simulation!$B$3,IF(D472=1,Simulation!$B$4,IF(D472=2,Simulation!$B$5,IF(D472=3,Simulation!$B$6,IF(D472=4,Simulation!$B$7,IF(D472=5,Simulation!$B$8)))))))","v":false},{"$f":"IF(D472=\"Grid\",Simulation!$C$2,IF(D472=\"WU\",Simulation!$C$3,IF(D472=1,Simulation!$C$4,IF(D472=2,Simulation!$C$5,IF(D472=3,Simulation!$C$6,IF(D472=4,Simulation!$C$7,IF(D472=5,Simulation!$C$8)))))))","v":false},0,null,null,null,"",null,null,null,null,0,null,0,0,"Inlap",null,null,"FL"]
[1,462,462,null,{"$f":"IF(D473=\"Grid\",Simulation!$B$2,IF(D473=\"WU\",Simulation!$B$3,IF(D473=1,Simulation!$B$4,IF(D473=2,Simulation!$B$5,IF(D473=3,Simulation!$B$6,IF(D473=4,Simulation!$B$7,IF(D473=5,Simulation!$B$8)))))))","v":false},{"$f":"IF(D473=\"Grid\",Simulation!$C$2,IF(D473=\"WU\",Simulation!$C$3,IF(D473=1,Simulation!$C$4,IF(D473=2,Simulation!$C$5,IF(D473=3,Simulation!$C$6,IF(D473=4,Simulation!$C$7,IF(D473=5,Simulation!$C$8)))))))","v":false},0,null,null,null,"",null,null,null,null,0,null,0,0,"Inlap",null,null,"FL"]
[1,463,463,null,{"$f":"IF(D474=\"Grid\",Simulation!$B$2,IF(D474=\"WU\",Simulation!$B$3,IF(D474=1,Simulation!$B$4,IF(D474=2,Simulation!$B$5,IF(D474=3,Simulation!$B$6,IF(D474=4,Simulation!$B$7,IF(D474=5,Simulation!$B$8)))))))","v":false},{"$f":"IF(D474=\"Grid\",Simulation!$C$2,IF(D474=\"WU\",Simulation!$C$3,IF(D474=1,Simulation!$C$4,IF(D474=2,Simulation!$C$5,IF(D474=3,Simulation!$C$6,IF(D474=4,Simulation!$C$7,IF(D474=5,Simulation!$C$8)))))))","v":false},0,null,null,null,"",null,null,null,null,0,null,0,0,"Inlap",null,null,"FL"]
[1,464,464,null,{"$f":"IF(D475=\"Grid\",Simulation!$B$2,IF(D475=\"WU\",Simulation!$B$3,IF(D475=1,Simulation!$B$4,IF(D475=2,Simulation!$B$5,IF(D475=3,Simulation!$B$6,IF(D475=4,Simulation!$B$7,IF(D475=5,Simulation!$B$8)))))))","v":false},{"$f":"IF(D475=\"Grid\",Simulation!$C$2,IF(D475=\"WU\",Simulation!$C$3,IF(D475=1,Simulation!$C$4,IF(D475=2,Simulation!$C$5,IF(D475=3,Simulation!$C$6,IF(D475=4,Simulation!$C$7,IF(D475=5,Simulation!$C$8)))))))","v":false},0,null,null,null,"",null,null,null,null,0,null,0,0,"Inlap",null,null,"FL"]
[1,465,465,null,{"$f":"IF(D476=\"Grid\",Simulation!$B$2,IF(D476=\"WU\",Simulation!$B$3,IF(D476=1,Simulation!$B$4,IF(D476=2,Simulation!$B$5,IF(D476=3,Simulation!$B$6,IF(D476=4,Simulation!$B$7,IF(D476=5,Simulation!$B$8)))))))","v":false},{"$f":"IF(D476=\"Grid\",Simulation!$C$2,IF(D476=\"WU\",Simulation!$C$3,IF(D476=1,Simulation!$C$4,IF(D476=2,Simulation!$C$5,IF(D476=3,Simulation!$C$6,IF(D476=4,Simulation!$C$7,IF(D476=5,Simulation!$C$8)))))))","v":false},0,null,null,null,"",null,null,null,null,0,null,{"$f":"IF(O476>0,Q476,Q476-Q475)","v":0},{"$f":"IF(O476>0,O476+S475-Q476,S475-P476)","v":0},"Inlap",null,null,"FL"]
[1,466,466,null,{"$f":"IF(D477=\"Grid\",Simulation!$B$2,IF(D477=\"WU\",Simulation!$B$3,IF(D477=1,Simulation!$B$4,IF(D477=2,Simulation!$B$5,IF(D477=3,Simulation!$B$6,IF(D477=4,Simulation!$B$7,IF(D477=5,Simulation!$B$8)))))))","v":false},{"$f":"IF(D477=\"Grid\",Simulation!$C$2,IF(D477=\"WU\",Simulation!$C$3,IF(D477=1,Simulation!$C$4,IF(D477=2,Simulation!$C$5,IF(D477=3,Simulation!$C$6,IF(D477=4,Simulation!$C$7,IF(D477=5,Simulation!$C$8)))))))","v":false},0,null,null,null,"",null,null,null,null,0,null,0,0,"Inlap",null,null,"FL"]
[1,467,467,null,{"$f":"IF(D478=\"Grid\",Simulation!$B$2,IF(D478=\"WU\",Simulation!$B$3,IF(D478=1,Simulation!$B$4,IF(D478=2,Simulation!$B$5,IF(D478=3,Simulation!$B$6,IF(D478=4,Simulation!$B$7,IF(D478=5,Simulation!$B$8)))))))","v":false},{"$f":"IF(D478=\"Grid\",Simulation!$C$2,IF(D478=\"WU\",Simulation!$C$3,IF(D478=1,Simulation!$C$4,IF(D478=2,Simulation!$C$5,IF(D478=3,Simulation!$C$6,IF(D478=4,Simulation!$C$7,IF(D478=5,Simulation!$C$8)))))))","v":false},0,null,null,null,"",null,null,null,null,0,null,0,0,"Inlap",null,null,"FL"]
[1,468,468,null,{"$f":"IF(D479=\"Grid\",Simulation!$B$2,IF(D479=\"WU\",Simulation!$B$3,IF(D479=1,Simulation!$B$4,IF(D479=2,Simulation!$B$5,IF(D479=3,Simulation!$B$6,IF(D479=4,Simulation!$B$7,IF(D479=5,Simulation!$B$8)))))))","v":false},{"$f":"IF(D479=\"Grid\",Simulation!$C$2,IF(D479=\"WU\",Simulation!$C$3,IF(D479=1,Simulation!$C$4,IF(D479=2,Simulation!$C$5,IF(D479=3,Simulation!$C$6,IF(D479=4,Simulation!$C$7,IF(D479=5,Simulation!$C$8)))))))","v":false},0,null,null,null,"",null,null,null,null,0,null,0,0,"Inlap",null,null,"FL"]
[1,469,469,null,{"$f":"IF(D480=\"Grid\",Simulation!$B$2,IF(D480=\"WU\",Simulation!$B$3,IF(D480=1,Simulation!$B$4,IF(D480=2,Simulation!$B$5,IF(D480=3,Simulation!$B$6,IF(D480=4,Simulation!$B$7,IF(D480=5,Simulation!$B$8)))))))","v":false},{"$f":"IF(D480=\"Grid\",Simulation!$C$2,IF(D480=\"WU\",Simulation!$C$3,IF(D480=1,Simulation!$C$4,IF(D480=2,Simulation!$C$5,IF(D480=3,Simulation!$C$6,IF(D480=4,Simulation!$C$7,IF(D480=5,Simulation!$C$8)))))))","v":false},0,null,null,null,"",null,null,null,null,0,null,0,0,"Inlap",null,null,"FL"]
[1,470,470,null,{"$f":"IF(D481=\"Grid\",Simulation!$B$2,IF(D481=\"WU\",Simulation!$B$3,IF(D481=1,Simulation!$B$4,IF(D481=2,Simulation!$B$5,IF(D481=3,Simulation!$B$6,IF(D481=4,Simulation!$B$7,IF(D481=5,Simulation!$B$8)))))))","v":false},{"$f":"IF(D481=\"Grid\",Simulation!$C$2,IF(D481=\"WU\",Simulation!$C$3,IF(D481=1,Simulation!$C$4,IF(D481=2,Simulation!$C$5,IF(D481=3,Simulation!$C$6,IF(D481=4,Simulation!$C$7,IF(D481=5,Simulation!$C$8)))))))","v":false},0,null,null,null,"",null,null,null,null,0,null,0,0,"Inlap",null,null,"FL"]
[1,471,471,null,{"$f":"IF(D482=\"Grid\",Simulation!$B$2,IF(D482=\"WU\",Simulation!$B$3,IF(D482=1,Simulation!$B$4,IF(D482=2,Simulation!$B$5,IF(D482=3,Simulation!$B$6,IF(D482=4,Simulation!$B$7,IF(D482=5,Simulation!$B$8)))))))","v":false},{"$f":"IF(D482=\"Grid\",Simulation!$C$2,IF(D482=\"WU\",Simulation!$C$3,IF(D482=1,Simulation!$C$4,IF(D482=2,Simulation!$C$5,IF(D482=3,Simulation!$C$6,IF(D482=4,Simulation!$C$7,IF(D482=5,Simulation!$C$8)))))))","v":false},0,null,null,null,"",null,null,null,null,0,null,0,0,"Inlap",null,null,"FL"]
[1,472,472,null,{"$f":"IF(D483=\"Grid\",Simulation!$B$2,IF(D483=\"WU\",Simulation!$B$3,IF(D483=1,Simulation!$B$4,IF(D483=2,Simulation!$B$5,IF(D483=3,Simulation!$B$6,IF(D483=4,Simulation!$B$7,IF(D483=5,Simulation!$B$8)))))))","v":false},{"$f":"IF(D483=\"Grid\",Simulation!$C$2,IF(D483=\"WU\",Simulation!$C$3,IF(D483=1,Simulation!$C$4,IF(D483=2,Simulation!$C$5,IF(D483=3,Simulation!$C$6,IF(D483=4,Simulation!$C$7,IF(D483=5,Simulation!$C$8)))))))","v":false},0,null,null,null,"",null,null,null,null,0,null,0,0,"Inlap",null,null,"FL"]
[1,473,473,null,{"$f":"IF(D484=\"Grid\",Simulation!$B$2,IF(D484=\"WU\",Simulation!$B$3,IF(D484=1,Simulation!$B$4,IF(D484=2,Simulation!$B$5,IF(D484=3,Simulation!$B$6,IF(D484=4,Simulation!$B$7,IF(D484=5,Simulation!$B$8)))))))","v":false},{"$f":"IF(D484=\"Grid\",Simulation!$C$2,IF(D484=\"WU\",Simulation!$C$3,IF(D484=1,Simulation!$C$4,IF(D484=2,Simulation!$C$5,IF(D484=3,Simulation!$C$6,IF(D484=4,Simulation!$C$7,IF(D484=5,Simulation!$C$8)))))))","v":false},0,null,null,null,"",null,null,null,null,0,null,0,0,"Inlap",null,null,"FL"]
[1,474,474,null,{"$f":"IF(D485=\"Grid\",Simulation!$B$2,IF(D485=\"WU\",Simulation!$B$3,IF(D485=1,Simulation!$B$4,IF(D485=2,Simulation!$B$5,IF(D485=3,Simulation!$B$6,IF(D485=4,Simulation!$B$7,IF(D485=5,Simulation!$B$8)))))))","v":false},{"$f":"IF(D485=\"Grid\",Simulation!$C$2,IF(D485=\"WU\",Simulation!$C$3,IF(D485=1,Simulation!$C$4,IF(D485=2,Simulation!$C$5,IF(D485=3,Simulation!$C$6,IF(D485=4,Simulation!$C$7,IF(D485=5,Simulation!$C$8)))))))","v":false},0,null,null,null,"",null,null,null,null,0,null,0,0,"Inlap",null,null,"FL"]
[1,475,475,null,{"$f":"IF(D486=\"Grid\",Simulation!$B$2,IF(D486=\"WU\",Simulation!$B$3,IF(D486=1,Simulation!$B$4,IF(D486=2,Simulation!$B$5,IF(D486=3,Simulation!$B$6,IF(D486=4,Simulation!$B$7,IF(D486=5,Simulation!$B$8)))))))","v":false},{"$f":"IF(D486=\"Grid\",Simulation!$C$2,IF(D486=\"WU\",Simulation!$C$3,IF(D486=1,Simulation!$C$4,IF(D486=2,Simulation!$C$5,IF(D486=3,Simulation!$C$6,IF(D486=4,Simulation!$C$7,IF(D486=5,Simulation!$C$8)))))))","v":false},0,null,null,null,"",null,null,null,null,0,null,0,0,"Inlap",null,null,"FL"]
[1,476,476,null,{"$f":"IF(D487=\"Grid\",Simulation!$B$2,IF(D487=\"WU\",Simulation!$B$3,IF(D487=1,Simulation!$B$4,IF(D487=2,Simulation!$B$5,IF(D487=3,Simulation!$B$6,IF(D487=4,Simulation!$B$7,IF(D487=5,Simulation!$B$8)))))))","v":false},{"$f":"IF(D487=\"Grid\",Simulation!$C$2,IF(D487=\"WU\",Simulation!$C$3,IF(D487=1,Simulation!$C$4,IF(D487=2,Simulation!$C$5,IF(D487=3,Simulation!$C$6,IF(D487=4,Simulation!$C$7,IF(D487=5,Simulation!$C$8)))))))","v":false},0,null,null,null,"",null,null,null,null,0,null,0,0,"Inlap",null,null,"FL"]
[1,477,477,null,{"$f":"IF(D488=\"Grid\",Simulation!$B$2,IF(D488=\"WU\",Simulation!$B$3,IF(D488=1,Simulation!$B$4,IF(D488=2,Simulation!$B$5,IF(D488=3,Simulation!$B$6,IF(D488=4,Simulation!$B$7,IF(D488=5,Simulation!$B$8)))))))","v":false},{"$f":"IF(D488=\"Grid\",Simulation!$C$2,IF(D488=\"WU\",Simulation!$C$3,IF(D488=1,Simulation!$C$4,IF(D488=2,Simulation!$C$5,IF(D488=3,Simulation!$C$6,IF(D488=4,Simulation!$C$7,IF(D488=5,Simulation!$C$8)))))))","v":false},0,null,null,null,"",null,null,null,null,0,null,0,0,"Inlap",null,null,"FL"]
[1,478,478,null,{"$f":"IF(D489=\"Grid\",Simulation!$B$2,IF(D489=\"WU\",Simulation!$B$3,IF(D489=1,Simulation!$B$4,IF(D489=2,Simulation!$B$5,IF(D489=3,Simulation!$B$6,IF(D489=4,Simulation!$B$7,IF(D489=5,Simulation!$B$8)))))))","v":false},{"$f":"IF(D489=\"Grid\",Simulation!$C$2,IF(D489=\"WU\",Simulation!$C$3,IF(D489=1,Simulation!$C$4,IF(D489=2,Simulation!$C$5,IF(D489=3,Simulation!$C$6,IF(D489=4,Simulation!$C$7,IF(D489=5,Simulation!$C$8)))))))","v":false},0,null,null,null,"",null,null,null,null,0,null,0,0,"Inlap",null,null,"FL"]
[1,479,479,null,{"$f":"IF(D490=\"Grid\",Simulation!$B$2,IF(D490=\"WU\",Simulation!$B$3,IF(D490=1,Simulation!$B$4,IF(D490=2,Simulation!$B$5,IF(D490=3,Simulation!$B$6,IF(D490=4,Simulation!$B$7,IF(D490=5,Simulation!$B$8)))))))","v":false},{"$f":"IF(D490=\"Grid\",Simulation!$C$2,IF(D490=\"WU\",Simulation!$C$3,IF(D490=1,Simulation!$C$4,IF(D490=2,Simulation!$C$5,IF(D490=3,Simulation!$C$6,IF(D490=4,Simulation!$C$7,IF(D490=5,Simulation!$C$8)))))))","v":false},0,null,null,null,"",null,null,null,null,0,null,0,0,"Inlap",null,null,"FL"]
[1,480,480,null,{"$f":"IF(D491=\"Grid\",Simulation!$B$2,IF(D491=\"WU\",Simulation!$B$3,IF(D491=1,Simulation!$B$4,IF(D491=2,Simulation!$B$5,IF(D491=3,Simulation!$B$6,IF(D491=4,Simulation!$B$7,IF(D491=5,Simulation!$B$8)))))))","v":false},{"$f":"IF(D491=\"Grid\",Simulation!$C$2,IF(D491=\"WU\",Simulation!$C$3,IF(D491=1,Simulation!$C$4,IF(D491=2,Simulation!$C$5,IF(D491=3,Simulation!$C$6,IF(D491=4,Simulation!$C$7,IF(D491=5,Simulation!$C$8)))))))","v":false},0,null,null,null,"",null,null,null,null,0,null,0,0,"Inlap",null,null,"FL"]
[1,481,481,null,{"$f":"IF(D492=\"Grid\",Simulation!$B$2,IF(D492=\"WU\",Simulation!$B$3,IF(D492=1,Simulation!$B$4,IF(D492=2,Simulation!$B$5,IF(D492=3,Simulation!$B$6,IF(D492=4,Simulation!$B$7,IF(D492=5,Simulation!$B$8)))))))","v":false},{"$f":"IF(D492=\"Grid\",Simulation!$C$2,IF(D492=\"WU\",Simulation!$C$3,IF(D492=1,Simulation!$C$4,IF(D492=2,Simulation!$C$5,IF(D492=3,Simulation!$C$6,IF(D492=4,Simulation!$C$7,IF(D492=5,Simulation!$C$8)))))))","v":false},0,null,null,null,"",null,null,null,null,0,null,0,0,"Inlap",null,null,"FL"]
[1,482,482,null,{"$f":"IF(D493=\"Grid\",Simulation!$B$2,IF(D493=\"WU\",Simulation!$B$3,IF(D493=1,Simulation!$B$4,IF(D493=2,Simulation!$B$5,IF(D493=3,Simulation!$B$6,IF(D493=4,Simulation!$B$7,IF(D493=5,Simulation!$B$8)))))))","v":false},{"$f":"IF(D493=\"Grid\",Simulation!$C$2,IF(D493=\"WU\",Simulation!$C$3,IF(D493=1,Simulation!$C$4,IF(D493=2,Simulation!$C$5,IF(D493=3,Simulation!$C$6,IF(D493=4,Simulation!$C$7,IF(D493=5,Simulation!$C$8)))))))","v":false},0,null,null,null,"",null,null,null,null,0,null,0,0,"Inlap",null,null,"FL"]
[1,483,483,null,{"$f":"IF(D494=\"Grid\",Simulation!$B$2,IF(D494=\"WU\",Simulation!$B$3,IF(D494=1,Simulation!$B$4,IF(D494=2,Simulation!$B$5,IF(D494=3,Simulation!$B$6,IF(D494=4,Simulation!$B$7,IF(D494=5,Simulation!$B$8)))))))","v":false},{"$f":"IF(D494=\"Grid\",Simulation!$C$2,IF(D494=\"WU\",Simulation!$C$3,IF(D494=1,Simulation!$C$4,IF(D494=2,Simulation!$C$5,IF(D494=3,Simulation!$C$6,IF(D494=4,Simulation!$C$7,IF(D494=5,Simulation!$C$8)))))))","v":false},0,null,null,null,"",null,null,null,null,{"$f":"IF(O494>0,Q494,Q494-Q493)","v":0},null,0,0,"Inlap",null,null,"FL"]
[1,484,484,null,{"$f":"IF(D495=\"Grid\",Simulation!$B$2,IF(D495=\"WU\",Simulation!$B$3,IF(D495=1,Simulation!$B$4,IF(D495=2,Simulation!$B$5,IF(D495=3,Simulation!$B$6,IF(D495=4,Simulation!$B$7,IF(D495=5,Simulation!$B$8)))))))","v":false},{"$f":"IF(D495=\"Grid\",Simulation!$C$2,IF(D495=\"WU\",Simulation!$C$3,IF(D495=1,Simulation!$C$4,IF(D495=2,Simulation!$C$5,IF(D495=3,Simulation!$C$6,IF(D495=4,Simulation!$C$7,IF(D495=5,Simulation!$C$8)))))))","v":false},0,null,null,null,"",null,null,null,null,0,null,0,0,"Inlap",null,null,"FL"]
[1,485,485,null,{"$f":"IF(D496=\"Grid\",Simulation!$B$2,IF(D496=\"WU\",Simulation!$B$3,IF(D496=1,Simulation!$B$4,IF(D496=2,Simulation!$B$5,IF(D496=3,Simulation!$B$6,IF(D496=4,Simulation!$B$7,IF(D496=5,Simulation!$B$8)))))))","v":false},{"$f":"IF(D496=\"Grid\",Simulation!$C$2,IF(D496=\"WU\",Simulation!$C$3,IF(D496=1,Simulation!$C$4,IF(D496=2,Simulation!$C$5,IF(D496=3,Simulation!$C$6,IF(D496=4,Simulation!$C$7,IF(D496=5,Simulation!$C$8)))))))","v":false},0,null,null,null,"",null,null,null,null,0,null,0,0,"Inlap",null,null,"FL"]
[1,486,486,null,{"$f":"IF(D497=\"Grid\",Simulation!$B$2,IF(D497=\"WU\",Simulation!$B$3,IF(D497=1,Simulation!$B$4,IF(D497=2,Simulation!$B$5,IF(D497=3,Simulation!$B$6,IF(D497=4,Simulation!$B$7,IF(D497=5,Simulation!$B$8)))))))","v":false},{"$f":"IF(D497=\"Grid\",Simulation!$C$2,IF(D497=\"WU\",Simulation!$C$3,IF(D497=1,Simulation!$C$4,IF(D497=2,Simulation!$C$5,IF(D497=3,Simulation!$C$6,IF(D497=4,Simulation!$C$7,IF(D497=5,Simulation!$C$8)))))))","v":false},0,null,null,null,"",null,null,null,null,0,null,0,0,"Inlap",null,null,"FL"]
[1,487,487,null,{"$f":"IF(D498=\"Grid\",Simulation!$B$2,IF(D498=\"WU\",Simulation!$B$3,IF(D498=1,Simulation!$B$4,IF(D498=2,Simulation!$B$5,IF(D498=3,Simulation!$B$6,IF(D498=4,Simulation!$B$7,IF(D498=5,Simulation!$B$8)))))))","v":false},{"$f":"IF(D498=\"Grid\",Simulation!$C$2,IF(D498=\"WU\",Simulation!$C$3,IF(D498=1,Simulation!$C$4,IF(D498=2,Simulation!$C$5,IF(D498=3,Simulation!$C$6,IF(D498=4,Simulation!$C$7,IF(D498=5,Simulation!$C$8)))))))","v":false},0,null,null,null,"",null,null,null,null,0,null,0,0,"Inlap",null,null,"FL"]
[1,488,488,null,{"$f":"IF(D499=\"Grid\",Simulation!$B$2,IF(D499=\"WU\",Simulation!$B$3,IF(D499=1,Simulation!$B$4,IF(D499=2,Simulation!$B$5,IF(D499=3,Simulation!$B$6,IF(D499=4,Simulation!$B$7,IF(D499=5,Simulation!$B$8)))))))","v":false},{"$f":"IF(D499=\"Grid\",Simulation!$C$2,IF(D499=\"WU\",Simulation!$C$3,IF(D499=1,Simulation!$C$4,IF(D499=2,Simulation!$C$5,IF(D499=3,Simulation!$C$6,IF(D499=4,Simulation!$C$7,IF(D499=5,Simulation!$C$8)))))))","v":false},0,null,null,null,"",null,null,null,null,0,null,0,0,"Inlap",null,null,"FL"]
[1,489,489,null,{"$f":"IF(D500=\"Grid\",Simulation!$B$2,IF(D500=\"WU\",Simulation!$B$3,IF(D500=1,Simulation!$B$4,IF(D500=2,Simulation!$B$5,IF(D500=3,Simulation!$B$6,IF(D500=4,Simulation!$B$7,IF(D500=5,Simulation!$B$8)))))))","v":false},{"$f":"IF(D500=\"Grid\",Simulation!$C$2,IF(D500=\"WU\",Simulation!$C$3,IF(D500=1,Simulation!$C$4,IF(D500=2,Simulation!$C$5,IF(D500=3,Simulation!$C$6,IF(D500=4,Simulation!$C$7,IF(D500=5,Simulation!$C$8)))))))","v":false},0,null,null,null,"",null,null,null,null,0,null,0,0,"Inlap",null,null,"FL"]
[1,490,490,null,{"$f":"IF(D501=\"Grid\",Simulation!$B$2,IF(D501=\"WU\",Simulation!$B$3,IF(D501=1,Simulation!$B$4,IF(D501=2,Simulation!$B$5,IF(D501=3,Simulation!$B$6,IF(D501=4,Simulation!$B$7,IF(D501=5,Simulation!$B$8)))))))","v":false},{"$f":"IF(D501=\"Grid\",Simulation!$C$2,IF(D501=\"WU\",Simulation!$C$3,IF(D501=1,Simulation!$C$4,IF(D501=2,Simulation!$C$5,IF(D501=3,Simulation!$C$6,IF(D501=4,Simulation!$C$7,IF(D501=5,Simulation!$C$8)))))))","v":false},0,null,null,null,"",null,null,null,null,0,null,0,0,"Inlap",null,null,"FL"]
[1,491,491,null,{"$f":"IF(D502=\"Grid\",Simulation!$B$2,IF(D502=\"WU\",Simulation!$B$3,IF(D502=1,Simulation!$B$4,IF(D502=2,Simulation!$B$5,IF(D502=3,Simulation!$B$6,IF(D502=4,Simulation!$B$7,IF(D502=5,Simulation!$B$8)))))))","v":false},{"$f":"IF(D502=\"Grid\",Simulation!$C$2,IF(D502=\"WU\",Simulation!$C$3,IF(D502=1,Simulation!$C$4,IF(D502=2,Simulation!$C$5,IF(D502=3,Simulation!$C$6,IF(D502=4,Simulation!$C$7,IF(D502=5,Simulation!$C$8)))))))","v":false},0,null,null,null,"",null,null,null,null,0,null,0,0,"Inlap",null,null,"FL"]
[1,492,492,null,{"$f":"IF(D503=\"Grid\",Simulation!$B$2,IF(D503=\"WU\",Simulation!$B$3,IF(D503=1,Simulation!$B$4,IF(D503=2,Simulation!$B$5,IF(D503=3,Simulation!$B$6,IF(D503=4,Simulation!$B$7,IF(D503=5,Simulation!$B$8)))))))","v":false},{"$f":"IF(D503=\"Grid\",Simulation!$C$2,IF(D503=\"WU\",Simulation!$C$3,IF(D503=1,Simulation!$C$4,IF(D503=2,Simulation!$C$5,IF(D503=3,Simulation!$C$6,IF(D503=4,Simulation!$C$7,IF(D503=5,Simulation!$C$8)))))))","v":false},0,null,null,null,"",null,null,null,null,0,null,0,0,"Inlap",null,null,"FL"]
[1,493,493,null,{"$f":"IF(D504=\"Grid\",Simulation!$B$2,IF(D504=\"WU\",Simulation!$B$3,IF(D504=1,Simulation!$B$4,IF(D504=2,Simulation!$B$5,IF(D504=3,Simulation!$B$6,IF(D504=4,Simulation!$B$7,IF(D504=5,Simulation!$B$8)))))))","v":false},{"$f":"IF(D504=\"Grid\",Simulation!$C$2,IF(D504=\"WU\",Simulation!$C$3,IF(D504=1,Simulation!$C$4,IF(D504=2,Simulation!$C$5,IF(D504=3,Simulation!$C$6,IF(D504=4,Simulation!$C$7,IF(D504=5,Simulation!$C$8)))))))","v":false},0,null,null,null,"",null,null,null,null,0,null,0,0,"Inlap",null,null,"FL"]
[1,494,494,null,{"$f":"IF(D505=\"Grid\",Simulation!$B$2,IF(D505=\"WU\",Simulation!$B$3,IF(D505=1,Simulation!$B$4,IF(D505=2,Simulation!$B$5,IF(D505=3,Simulation!$B$6,IF(D505=4,Simulation!$B$7,IF(D505=5,Simulation!$B$8)))))))","v":false},{"$f":"IF(D505=\"Grid\",Simulation!$C$2,IF(D505=\"WU\",Simulation!$C$3,IF(D505=1,Simulation!$C$4,IF(D505=2,Simulation!$C$5,IF(D505=3,Simulation!$C$6,IF(D505=4,Simulation!$C$7,IF(D505=5,Simulation!$C$8)))))))","v":false},0,null,null,null,"",null,null,null,null,0,null,0,0,"Inlap",null,null,"FL"]
[1,495,495,null,{"$f":"IF(D506=\"Grid\",Simulation!$B$2,IF(D506=\"WU\",Simulation!$B$3,IF(D506=1,Simulation!$B$4,IF(D506=2,Simulation!$B$5,IF(D506=3,Simulation!$B$6,IF(D506=4,Simulation!$B$7,IF(D506=5,Simulation!$B$8)))))))","v":false},{"$f":"IF(D506=\"Grid\",Simulation!$C$2,IF(D506=\"WU\",Simulation!$C$3,IF(D506=1,Simulation!$C$4,IF(D506=2,Simulation!$C$5,IF(D506=3,Simulation!$C$6,IF(D506=4,Simulation!$C$7,IF(D506=5,Simulation!$C$8)))))))","v":false},0,null,null,null,"",null,null,null,null,0,null,0,0,"Inlap",null,null,"FL"]
[1,496,496,null,{"$f":"IF(D507=\"Grid\",Simulation!$B$2,IF(D507=\"WU\",Simulation!$B$3,IF(D507=1,Simulation!$B$4,IF(D507=2,Simulation!$B$5,IF(D507=3,Simulation!$B$6,IF(D507=4,Simulation!$B$7,IF(D507=5,Simulation!$B$8)))))))","v":false},{"$f":"IF(D507=\"Grid\",Simulation!$C$2,IF(D507=\"WU\",Simulation!$C$3,IF(D507=1,Simulation!$C$4,IF(D507=2,Simulation!$C$5,IF(D507=3,Simulation!$C$6,IF(D507=4,Simulation!$C$7,IF(D507=5,Simulation!$C$8)))))))","v":false},0,null,null,null,"",null,null,null,null,0,null,0,0,"Inlap",null,null,"FL"]
[1,497,497,null,{"$f":"IF(D508=\"Grid\",Simulation!$B$2,IF(D508=\"WU\",Simulation!$B$3,IF(D508=1,Simulation!$B$4,IF(D508=2,Simulation!$B$5,IF(D508=3,Simulation!$B$6,IF(D508=4,Simulation!$B$7,IF(D508=5,Simulation!$B$8)))))))","v":false},{"$f":"IF(D508=\"Grid\",Simulation!$C$2,IF(D508=\"WU\",Simulation!$C$3,IF(D508=1,Simulation!$C$4,IF(D508=2,Simulation!$C$5,IF(D508=3,Simulation!$C$6,IF(D508=4,Simulation!$C$7,IF(D508=5,Simulation!$C$8)))))))","v":false},0,null,null,null,"",null,null,null,null,0,null,0,0,"Inlap",null,null,"FL"]
[1,498,498,null,{"$f":"IF(D509=\"Grid\",Simulation!$B$2,IF(D509=\"WU\",Simulation!$B$3,IF(D509=1,Simulation!$B$4,IF(D509=2,Simulation!$B$5,IF(D509=3,Simulation!$B$6,IF(D509=4,Simulation!$B$7,IF(D509=5,Simulation!$B$8)))))))","v":false},{"$f":"IF(D509=\"Grid\",Simulation!$C$2,IF(D509=\"WU\",Simulation!$C$3,IF(D509=1,Simulation!$C$4,IF(D509=2,Simulation!$C$5,IF(D509=3,Simulation!$C$6,IF(D509=4,Simulation!$C$7,IF(D509=5,Simulation!$C$8)))))))","v":false},0,null,null,null,"",null,null,null,null,0,null,0,0,"Inlap",null,null,"FL"]
[1,499,499,null,{"$f":"IF(D510=\"Grid\",Simulation!$B$2,IF(D510=\"WU\",Simulation!$B$3,IF(D510=1,Simulation!$B$4,IF(D510=2,Simulation!$B$5,IF(D510=3,Simulation!$B$6,IF(D510=4,Simulation!$B$7,IF(D510=5,Simulation!$B$8)))))))","v":false},{"$f":"IF(D510=\"Grid\",Simulation!$C$2,IF(D510=\"WU\",Simulation!$C$3,IF(D510=1,Simulation!$C$4,IF(D510=2,Simulation!$C$5,IF(D510=3,Simulation!$C$6,IF(D510=4,Simulation!$C$7,IF(D510=5,Simulation!$C$8)))))))","v":false},0,null,null,null,"",null,null,null,null,0,null,0,0,"Inlap",null,null,"FL"]
[1,500,500,null,{"$f":"IF(D511=\"Grid\",Simulation!$B$2,IF(D511=\"WU\",Simulation!$B$3,IF(D511=1,Simulation!$B$4,IF(D511=2,Simulation!$B$5,IF(D511=3,Simulation!$B$6,IF(D511=4,Simulation!$B$7,IF(D511=5,Simulation!$B$8)))))))","v":false},{"$f":"IF(D511=\"Grid\",Simulation!$C$2,IF(D511=\"WU\",Simulation!$C$3,IF(D511=1,Simulation!$C$4,IF(D511=2,Simulation!$C$5,IF(D511=3,Simulation!$C$6,IF(D511=4,Simulation!$C$7,IF(D511=5,Simulation!$C$8)))))))","v":false},0,null,null,null,"",null,null,null,null,0,null,0,0,"Inlap",null,null,"FL"]
[1,501,501,null,{"$f":"IF(D512=\"Grid\",Simulation!$B$2,IF(D512=\"WU\",Simulation!$B$3,IF(D512=1,Simulation!$B$4,IF(D512=2,Simulation!$B$5,IF(D512=3,Simulation!$B$6,IF(D512=4,Simulation!$B$7,IF(D512=5,Simulation!$B$8)))))))","v":false},{"$f":"IF(D512=\"Grid\",Simulation!$C$2,IF(D512=\"WU\",Simulation!$C$3,IF(D512=1,Simulation!$C$4,IF(D512=2,Simulation!$C$5,IF(D512=3,Simulation!$C$6,IF(D512=4,Simulation!$C$7,IF(D512=5,Simulation!$C$8)))))))","v":false},0,null,null,null,"",null,null,null,null,0,null,0,0,"Inlap",null,null,"FL"]

{"sheet":"Session (2)","index":5,"n_rows":512,"n_cols":23,"rows_kept":512,"cut":false,"hidden":false,"merged":[[6,0,6,2],[6,3,6,8],[6,10,6,11],[7,0,7,2],[7,3,7,8],[7,10,7,11],[4,0,4,2],[4,3,4,8],[4,10,4,11],[5,0,5,2],[5,3,5,8],[5,10,5,11],[2,0,2,2],[2,3,2,8],[2,10,2,11],[3,0,3,2],[3,3,3,8],[3,10,3,11],[0,0,0,2],[0,3,0,8],[0,10,0,11],[1,0,1,2],[1,3,1,8],[1,10,1,11]]}
["Engineer",null,null,{"$f":"Data!F8","v":"Engineer 1"},null,null,null,null,null,"Event",{"$f":"Data!C8","v":0},null,null,null,"Date"]
["Data Engineer",null,null,{"$f":"Data!F9","v":"Data Eng. 1"},null,null,null,null,null,"Session",null,null,null,null,"Best Lap",null,{"$f":"MIN($J$11:$J$512)","v":"00:00:00"}]
["#1 Mechanic",null,null,{"$f":"Data!F11","v":"Mechanic 1"},null,null,null,null,null,"Short",{"$f":"Data!C16","v":3200},null,null,null,"Avg Lap",null,{"$f":"AVERAGE($J$11:$J$512)","v":{"$error":"#DIV/0!"}}]
["Driver ID 1",null,null,{"$f":"Data!F13","v":"Driver1"},null,null,null,null,null,"Regular",{"$f":"Data!C17","v":3200}]
["Driver ID 2",null,null,{"$f":"Data!F14","v":"Driver2"},null,null,null,null,null,"Tot. S Laps",{"$f":"COUNTIF(K11:K512,\"S\")","v":0}]
["Driver ID 3",null,null,{"$f":"Data!F15","v":"Driver3"},null,null,null,null,null,"Tot. R Laps",{"$f":"COUNTIF(K11:K512,\"R\")","v":1}]
["Driver ID 4",null,null,{"$f":"Data!F16","v":"Driver4"},null,null,null,null,null,"Tot. Milage",{"$f":"(K5*K3)+(K6*K4)/1000","v":3.2}]
["Driver ID 5",null,null,{"$f":"Data!F17","v":"Driver5"}]
[null,null,null,null,null,null,null,null,null,null,null,null,null,null,null,null,null,null,null,null,null,null,"FL"]
["Out","RL","OL","ID","Driver","Th. Lap Cons","Rest","TOD","Out / In","Lap Time","S / R ","Change","Comment",null,"Fuel in","th. Lap cons","F-TOTAL","Lap Cons","Rest","In this Lap?"]
[1,"Grid","Grid",null,{"$f":"IF(D11=\"Grid\",Simulation!$B$2,IF(D11=\"WU\",Simulation!$B$3,IF(D11=1,Simulation!$B$4,IF(D11=2,Simulation!$B$5,IF(D11=3,Simulation!$B$6,IF(D11=4,Simulation!$B$7,IF(D11=5,Simulation!$B$8)))))))","v":false},{"$f":"IF(D11=\"Grid\",Simulation!$C$2,IF(D11=\"WU\",Simulation!$C$3,IF(D11=1,Simulation!$C$4,IF(D11=2,Simulation!$C$5,IF(D11=3,Simulation!$C$6,IF(D11=4,Simulation!$C$7,IF(D11=5,Simulation!$C$8)))))))","v":false},null,null,null,null,"R",null,null,null,null,null,null,{"$f":"Q11","v":0},{"$f":"O11-R11","v":0},{"$f":"IF(S11<=F11,\"Inlap\",IF(S11<=2*F11,\"Call: In this lap!\",IF(S11<=3*F11,\"Show in but don't call!\",\"\")))","v":"Inlap"},null,null,{"$f":"IF(J11=$Q$2,\"FL\",\"\")","v":"FL"}]
[{"$f":"IF(O12>0,A11+1,A11)","v":1},1,1,null,{"$f":"IF(D12=\"Grid\",Simulation!$B$2,IF(D12=\"WU\",Simulation!$B$3,IF(D12=1,Simulation!$B$4,IF(D12=2,Simulation!$B$5,IF(D12=3,Simulation!$B$6,IF(D12=4,Simulation!$B$7,IF(D12=5,Simulation!$B$8)))))))","v":false},{"$f":"IF(D12=\"Grid\",Simulation!$C$2,IF(D12=\"WU\",Simulation!$C$3,IF(D12=1,Simulation!$C$4,IF(D12=2,Simulation!$C$5,IF(D12=3,Simulation!$C$6,IF(D12=4,Simulation!$C$7,IF(D12=5,Simulation!$C$8)))))))","v":false},{"$f":"G11+O11-P11","v":0},null,null,null,{"$f":"IF(J12<>0,K11,\"\")","v":""},null,null,null,null,{"$f":"IF(O12>0,Q12,Q12-Q11)","v":0},null,{"$f":"IF(O12>0,Q12,Q12-Q11)","v":0},{"$f":"IF(O12>0,O12+S11-Q12,S11-P12)","v":0},{"$f":"IF(S12<=F12,\"Inlap\",IF(S12<=2*F12,\"Call: In this lap!\",IF(S12<=3*F12,\"Show in but don't call!\",\"\")))","v":"Inlap"},null,null,{"$f":"IF(J12=$Q$2,\"FL\",\"\")","v":"FL"}]
[1,2,2,null,{"$f":"IF(D13=\"Grid\",Simulation!$B$2,IF(D13=\"WU\",Simulation!$B$3,IF(D13=1,Simulation!$B$4,IF(D13=2,Simulation!$B$5,IF(D13=3,Simulation!$B$6,IF(D13=4,Simulation!$B$7,IF(D13=5,Simulation!$B$8)))))))","v":false},{"$f":"IF(D13=\"Grid\",Simulation!$C$2,IF(D13=\"WU\",Simulation!$C$3,IF(D13=1,Simulation!$C$4,IF(D13=2,Simulation!$C$5,IF(D13=3,Simulation!$C$6,IF(D13=4,Simulation!$C$7,IF(D13=5,Simulation!$C$8)))))))","v":false},0,null,null,null,{"$f":"IF(J13<>0,K12,\"\")","v":""},null,null,null,null,0,null,0,0,"Inlap",null,null,"FL"]
[1,3,{"$f":"IF(O14=\"\",C13+1,\"1\")","v":3},null,{"$f":"IF(D14=\"Grid\",Simulation!$B$2,IF(D14=\"WU\",Simulation!$B$3,IF(D14=1,Simulation!$B$4,IF(D14=2,Simulation!$B$5,IF(D14=3,Simulation!$B$6,IF(D14=4,Simulation!$B$7,IF(D14=5,Simulation!$B$8)))))))","v":false},{"$f":"IF(D14=\"Grid\",Simulation!$C$2,IF(D14=\"WU\",Simulation!$C$3,IF(D14=1,Simulation!$C$4,IF(D14=2,Simulation!$C$5,IF(D14=3,Simulation!$C$6,IF(D14=4,Simulation!$C$7,IF(D14=5,Simulation!$C$8)))))))","v":false},0,null,null,null,"",null,null,null,null,0,null,0,0,"Inlap",null,null,"FL"]
[1,4,4,null,{"$f":"IF(D15=\"Grid\",Simulation!$B$2,IF(D15=\"WU\",Simulation!$B$3,IF(D15=1,Simulation!$B$4,IF(D15=2,Simulation!$B$5,IF(D15=3,Simulation!$B$6,IF(D15=4,Simulation!$B$7,IF(D15=5,Simulation!$B$8)))))))","v":false},{"$f":"IF(D15=\"Grid\",Simulation!$C$2,IF(D15=\"WU\",Simulation!$C$3,IF(D15=1,Simulation!$C$4,IF(D15=2,Simulation!$C$5,IF(D15=3,Simulation!$C$6,IF(D15=4,Simulation!$C$7,IF(D15=5,Simulation!$C$8)))))))","v":false},0,null,null,null,"",null,null,null,null,0,null,0,0,"Inlap",null,null,"FL"]
[1,5,5,null,{"$f":"IF(D16=\"Grid\",Simulation!$B$2,IF(D16=\"WU\",Simulation!$B$3,IF(D16=1,Simulation!$B$4,IF(D16=2,Simulation!$B$5,IF(D16=3,Simulation!$B$6,IF(D16=4,Simulation!$B$7,IF(D16=5,Simulation!$B$8)))))))","v":false},{"$f":"IF(D16=\"Grid\",Simulation!$C$2,IF(D16=\"WU\",Simulation!$C$3,IF(D16=1,Simulation!$C$4,IF(D16=2,Simulation!$C$5,IF(D16=3,Simulation!$C$6,IF(D16=4,Simulation!$C$7,IF(D16=5,Simulation!$C$8)))))))","v":false},0,null,null,null,"",null,null,null,null,0,null,0,0,"Inlap",null,null,"FL"]
[1,6,6,null,{"$f":"IF(D17=\"Grid\",Simulation!$B$2,IF(D17=\"WU\",Simulation!$B$3,IF(D17=1,Simulation!$B$4,IF(D17=2,Simulation!$B$5,IF(D17=3,Simulation!$B$6,IF(D17=4,Simulation!$B$7,IF(D17=5,Simulation!$B$8)))))))","v":false},{"$f":"IF(D17=\"Grid\",Simulation!$C$2,IF(D17=\"WU\",Simulation!$C$3,IF(D17=1,Simulation!$C$4,IF(D17=2,Simulation!$C$5,IF(D17=3,Simulation!$C$6,IF(D17=4,Simulation!$C$7,IF(D17=5,Simulation!$C$8)))))))","v":false},0,null,null,null,"",null,null,null,null,0,null,0,0,"Inlap",null,null,"FL"]
[1,7,7,null,{"$f":"IF(D18=\"Grid\",Simulation!$B$2,IF(D18=\"WU\",Simulation!$B$3,IF(D18=1,Simulation!$B$4,IF(D18=2,Simulation!$B$5,IF(D18=3,Simulation!$B$6,IF(D18=4,Simulation!$B$7,IF(D18=5,Simulation!$B$8)))))))","v":false},{"$f":"IF(D18=\"Grid\",Simulation!$C$2,IF(D18=\"WU\",Simulation!$C$3,IF(D18=1,Simulation!$C$4,IF(D18=2,Simulation!$C$5,IF(D18=3,Simulation!$C$6,IF(D18=4,Simulation!$C$7,IF(D18=5,Simulation!$C$8)))))))","v":false},0,null,null,null,"",null,null,null,null,0,null,0,0,"Inlap",null,null,"FL"]
[1,8,8,null,{"$f":"IF(D19=\"Grid\",Simulation!$B$2,IF(D19=\"WU\",Simulation!$B$3,IF(D19=1,Simulation!$B$4,IF(D19=2,Simulation!$B$5,IF(D19=3,Simulation!$B$6,IF(D19=4,Simulation!$B$7,IF(D19=5,Simulation!$B$8)))))))","v":false},{"$f":"IF(D19=\"Grid\",Simulation!$C$2,IF(D19=\"WU\",Simulation!$C$3,IF(D19=1,Simulation!$C$4,IF(D19=2,Simulation!$C$5,IF(D19=3,Simulation!$C$6,IF(D19=4,Simulation!$C$7,IF(D19=5,Simulation!$C$8)))))))","v":false},0,null,null,null,"",null,null,null,null,0,null,0,0,"Inlap",null,null,"FL"]
[1,9,9,null,{"$f":"IF(D20=\"Grid\",Simulation!$B$2,IF(D20=\"WU\",Simulation!$B$3,IF(D20=1,Simulation!$B$4,IF(D20=2,Simulation!$B$5,IF(D20=3,Simulation!$B$6,IF(D20=4,Simulation!$B$7,IF(D20=5,Simulation!$B$8)))))))","v":false},{"$f":"IF(D20=\"Grid\",Simulation!$C$2,IF(D20=\"WU\",Simulation!$C$3,IF(D20=1,Simulation!$C$4,IF(D20=2,Simulation!$C$5,IF(D20=3,Simulation!$C$6,IF(D20=4,Simulation!$C$7,IF(D20=5,Simulation!$C$8)))))))","v":false},0,null,null,null,"",null,null,null,null,0,null,0,0,"Inlap",null,null,"FL"]
[1,10,10,null,{"$f":"IF(D21=\"Grid\",Simulation!$B$2,IF(D21=\"WU\",Simulation!$B$3,IF(D21=1,Simulation!$B$4,IF(D21=2,Simulation!$B$5,IF(D21=3,Simulation!$B$6,IF(D21=4,Simulation!$B$7,IF(D21=5,Simulation!$B$8)))))))","v":false},{"$f":"IF(D21=\"Grid\",Simulation!$C$2,IF(D21=\"WU\",Simulation!$C$3,IF(D21=1,Simulation!$C$4,IF(D21=2,Simulation!$C$5,IF(D21=3,Simulation!$C$6,IF(D21=4,Simulation!$C$7,IF(D21=5,Simulation!$C$8)))))))","v":false},0,null,null,null,"",null,null,null,null,0,null,0,0,"Inlap",null,null,"FL"]
[1,11,11,null,{"$f":"IF(D22=\"Grid\",Simulation!$B$2,IF(D22=\"WU\",Simulation!$B$3,IF(D22=1,Simulation!$B$4,IF(D22=2,Simulation!$B$5,IF(D22=3,Simulation!$B$6,IF(D22=4,Simulation!$B$7,IF(D22=5,Simulation!$B$8)))))))","v":false},{"$f":"IF(D22=\"Grid\",Simulation!$C$2,IF(D22=\"WU\",Simulation!$C$3,IF(D22=1,Simulation!$C$4,IF(D22=2,Simulation!$C$5,IF(D22=3,Simulation!$C$6,IF(D22=4,Simulation!$C$7,IF(D22=5,Simulation!$C$8)))))))","v":false},0,null,null,null,"",null,null,null,null,0,null,0,0,"Inlap",null,null,"FL"]
[1,12,12,null,{"$f":"IF(D23=\"Grid\",Simulation!$B$2,IF(D23=\"WU\",Simulation!$B$3,IF(D23=1,Simulation!$B$4,IF(D23=2,Simulation!$B$5,IF(D23=3,Simulation!$B$6,IF(D23=4,Simulation!$B$7,IF(D23=5,Simulation!$B$8)))))))","v":false},{"$f":"IF(D23=\"Grid\",Simulation!$C$2,IF(D23=\"WU\",Simulation!$C$3,IF(D23=1,Simulation!$C$4,IF(D23=2,Simulation!$C$5,IF(D23=3,Simulation!$C$6,IF(D23=4,Simulation!$C$7,IF(D23=5,Simulation!$C$8)))))))","v":false},0,null,null,null,"",null,null,null,null,0,null,0,0,"Inlap",null,null,"FL"]
[1,13,13,null,{"$f":"IF(D24=\"Grid\",Simulation!$B$2,IF(D24=\"WU\",Simulation!$B$3,IF(D24=1,Simulation!$B$4,IF(D24=2,Simulation!$B$5,IF(D24=3,Simulation!$B$6,IF(D24=4,Simulation!$B$7,IF(D24=5,Simulation!$B$8)))))))","v":false},{"$f":"IF(D24=\"Grid\",Simulation!$C$2,IF(D24=\"WU\",Simulation!$C$3,IF(D24=1,Simulation!$C$4,IF(D24=2,Simulation!$C$5,IF(D24=3,Simulation!$C$6,IF(D24=4,Simulation!$C$7,IF(D24=5,Simulation!$C$8)))))))","v":false},0,null,null,null,"",null,null,null,null,0,null,0,0,"Inlap",null,null,"FL"]
[1,14,14,null,{"$f":"IF(D25=\"Grid\",Simulation!$B$2,IF(D25=\"WU\",Simulation!$B$3,IF(D25=1,Simulation!$B$4,IF(D25=2,Simulation!$B$5,IF(D25=3,Simulation!$B$6,IF(D25=4,Simulation!$B$7,IF(D25=5,Simulation!$B$8)))))))","v":false},{"$f":"IF(D25=\"Grid\",Simulation!$C$2,IF(D25=\"WU\",Simulation!$C$3,IF(D25=1,Simulation!$C$4,IF(D25=2,Simulation!$C$5,IF(D25=3,Simulation!$C$6,IF(D25=4,Simulation!$C$7,IF(D25=5,Simulation!$C$8)))))))","v":false},0,null,null,null,"",null,null,null,null,0,null,0,0,"Inlap",null,null,"FL"]
[1,15,15,null,{"$f":"IF(D26=\"Grid\",Simulation!$B$2,IF(D26=\"WU\",Simulation!$B$3,IF(D26=1,Simulation!$B$4,IF(D26=2,Simulation!$B$5,IF(D26=3,Simulation!$B$6,IF(D26=4,Simulation!$B$7,IF(D26=5,Simulation!$B$8)))))))","v":false},{"$f":"IF(D26=\"Grid\",Simulation!$C$2,IF(D26=\"WU\",Simulation!$C$3,IF(D26=1,Simulation!$C$4,IF(D26=2,Simulation!$C$5,IF(D26=3,Simulation!$C$6,IF(D26=4,Simulation!$C$7,IF(D26=5,Simulation!$C$8)))))))","v":false},0,null,null,null,"",null,null,null,null,0,null,0,0,"Inlap",null,null,"FL"]
[1,16,16,null,{"$f":"IF(D27=\"Grid\",Simulation!$B$2,IF(D27=\"WU\",Simulation!$B$3,IF(D27=1,Simulation!$B$4,IF(D27=2,Simulation!$B$5,IF(D27=3,Simulation!$B$6,IF(D27=4,Simulation!$B$7,IF(D27=5,Simulation!$B$8)))))))","v":false},{"$f":"IF(D27=\"Grid\",Simulation!$C$2,IF(D27=\"WU\",Simulation!$C$3,IF(D27=1,Simulation!$C$4,IF(D27=2,Simulation!$C$5,IF(D27=3,Simulation!$C$6,IF(D27=4,Simulation!$C$7,IF(D27=5,Simulation!$C$8)))))))","v":false},0,null,null,null,"",null,null,null,null,0,null,0,0,"Inlap",null,null,"FL"]
[1,17,17,null,{"$f":"IF(D28=\"Grid\",Simulation!$B$2,IF(D28=\"WU\",Simulation!$B$3,IF(D28=1,Simulation!$B$4,IF(D28=2,Simulation!$B$5,IF(D28=3,Simulation!$B$6,IF(D28=4,Simulation!$B$7,IF(D28=5,Simulation!$B$8)))))))","v":false},{"$f":"IF(D28=\"Grid\",Simulation!$C$2,IF(D28=\"WU\",Simulation!$C$3,IF(D28=1,Simulation!$C$4,IF(D28=2,Simulation!$C$5,IF(D28=3,Simulation!$C$6,IF(D28=4,Simulation!$C$7,IF(D28=5,Simulation!$C$8)))))))","v":false},0,null,null,null,"",null,null,null,null,0,null,0,0,"Inlap",null,null,"FL"]
[1,18,18,null,{"$f":"IF(D29=\"Grid\",Simulation!$B$2,IF(D29=\"WU\",Simulation!$B$3,IF(D29=1,Simulation!$B$4,IF(D29=2,Simulation!$B$5,IF(D29=3,Simulation!$B$6,IF(D29=4,Simulation!$B$7,IF(D29=5,Simulation!$B$8)))))))","v":false},{"$f":"IF(D29=\"Grid\",Simulation!$C$2,IF(D29=\"WU\",Simulation!$C$3,IF(D29=1,Simulation!$C$4,IF(D29=2,Simulation!$C$5,IF(D29=3,Simulation!$C$6,IF(D29=4,Simulation!$C$7,IF(D29=5,Simulation!$C$8)))))))","v":false},0,null,null,null,"",null,null,null,null,0,null,0,0,"Inlap",null,null,"FL"]
[1,19,19,null,{"$f":"IF(D30=\"Grid\",Simulation!$B$2,IF(D30=\"WU\",Simulation!$B$3,IF(D30=1,Simulation!$B$4,IF(D30=2,Simulation!$B$5,IF(D30=3,Simulation!$B$6,IF(D30=4,Simulation!$B$7,IF(D30=5,Simulation!$B$8)))))))","v":false},{"$f":"IF(D30=\"Grid\",Simulation!$C$2,IF(D30=\"WU\",Simulation!$C$3,IF(D30=1,Simulation!$C$4,IF(D30=2,Simulation!$C$5,IF(D30=3,Simulation!$C$6,IF(D30=4,Simulation!$C$7,IF(D30=5,Simulation!$C$8)))))))","v":false},0,null,null,null,"",null,null,null,null,0,null,0,0,"Inlap",null,null,"FL"]
[1,20,20,null,{"$f":"IF(D31=\"Grid\",Simulation!$B$2,IF(D31=\"WU\",Simulation!$B$3,IF(D31=1,Simulation!$B$4,IF(D31=2,Simulation!$B$5,IF(D31=3,Simulation!$B$6,IF(D31=4,Simulation!$B$7,IF(D31=5,Simulation!$B$8)))))))","v":false},{"$f":"IF(D31=\"Grid\",Simulation!$C$2,IF(D31=\"WU\",Simulation!$C$3,IF(D31=1,Simulation!$C$4,IF(D31=2,Simulation!$C$5,IF(D31=3,Simulation!$C$6,IF(D31=4,Simulation!$C$7,IF(D31=5,Simulation!$C$8)))))))","v":false},0,null,null,null,"",null,null,null,null,0,null,0,0,"Inlap",null,null,"FL"]
[1,21,21,null,{"$f":"IF(D32=\"Grid\",Simulation!$B$2,IF(D32=\"WU\",Simulation!$B$3,IF(D32=1,Simulation!$B$4,IF(D32=2,Simulation!$B$5,IF(D32=3,Simulation!$B$6,IF(D32=4,Simulation!$B$7,IF(D32=5,Simulation!$B$8)))))))","v":false},{"$f":"IF(D32=\"Grid\",Simulation!$C$2,IF(D32=\"WU\",Simulation!$C$3,IF(D32=1,Simulation!$C$4,IF(D32=2,Simulation!$C$5,IF(D32=3,Simulation!$C$6,IF(D32=4,Simulation!$C$7,IF(D32=5,Simulation!$C$8)))))))","v":false},0,null,null,null,"",null,null,null,null,0,null,0,0,"Inlap",null,null,"FL"]
[1,22,22,null,{"$f":"IF(D33=\"Grid\",Simulation!$B$2,IF(D33=\"WU\",Simulation!$B$3,IF(D33=1,Simulation!$B$4,IF(D33=2,Simulation!$B$5,IF(D33=3,Simulation!$B$6,IF(D33=4,Simulation!$B$7,IF(D33=5,Simulation!$B$8)))))))","v":false},{"$f":"IF(D33=\"Grid\",Simulation!$C$2,IF(D33=\"WU\",Simulation!$C$3,IF(D33=1,Simulation!$C$4,IF(D33=2,Simulation!$C$5,IF(D33=3,Simulation!$C$6,IF(D33=4,Simulation!$C$7,IF(D33=5,Simulation!$C$8)))))))","v":false},0,null,null,null,"",null,null,null,null,0,null,0,0,"Inlap",null,null,"FL"]
[1,23,23,null,{"$f":"IF(D34=\"Grid\",Simulation!$B$2,IF(D34=\"WU\",Simulation!$B$3,IF(D34=1,Simulation!$B$4,IF(D34=2,Simulation!$B$5,IF(D34=3,Simulation!$B$6,IF(D34=4,Simulation!$B$7,IF(D34=5,Simulation!$B$8)))))))","v":false},{"$f":"IF(D34=\"Grid\",Simulation!$C$2,IF(D34=\"WU\",Simulation!$C$3,IF(D34=1,Simulation!$C$4,IF(D34=2,Simulation!$C$5,IF(D34=3,Simulation!$C$6,IF(D34=4,Simulation!$C$7,IF(D34=5,Simulation!$C$8)))))))","v":false},0,null,null,null,"",null,null,null,null,0,null,0,0,"Inlap",null,null,"FL"]
[1,24,24,null,{"$f":"IF(D35=\"Grid\",Simulation!$B$2,IF(D35=\"WU\",Simulation!$B$3,IF(D35=1,Simulation!$B$4,IF(D35=2,Simulation!$B$5,IF(D35=3,Simulation!$B$6,IF(D35=4,Simulation!$B$7,IF(D35=5,Simulation!$B$8)))))))","v":false},{"$f":"IF(D35=\"Grid\",Simulation!$C$2,IF(D35=\"WU\",Simulation!$C$3,IF(D35=1,Simulation!$C$4,IF(D35=2,Simulation!$C$5,IF(D35=3,Simulation!$C$6,IF(D35=4,Simulation!$C$7,IF(D35=5,Simulation!$C$8)))))))","v":false},0,null,null,null,"",null,null,null,null,0,null,0,0,"Inlap",null,null,"FL"]
[1,25,25,null,{"$f":"IF(D36=\"Grid\",Simulation!$B$2,IF(D36=\"WU\",Simulation!$B$3,IF(D36=1,Simulation!$B$4,IF(D36=2,Simulation!$B$5,IF(D36=3,Simulation!$B$6,IF(D36=4,Simulation!$B$7,IF(D36=5,Simulation!$B$8)))))))","v":false},{"$f":"IF(D36=\"Grid\",Simulation!$C$2,IF(D36=\"WU\",Simulation!$C$3,IF(D36=1,Simulation!$C$4,IF(D36=2,Simulation!$C$5,IF(D36=3,Simulation!$C$6,IF(D36=4,Simulation!$C$7,IF(D36=5,Simulation!$C$8)))))))","v":false},0,null,null,null,"",null,null,null,null,0,null,0,0,"Inlap",null,null,"FL"]
[1,26,26,null,{"$f":"IF(D37=\"Grid\",Simulation!$B$2,IF(D37=\"WU\",Simulation!$B$3,IF(D37=1,Simulation!$B$4,IF(D37=2,Simulation!$B$5,IF(D37=3,Simulation!$B$6,IF(D37=4,Simulation!$B$7,IF(D37=5,Simulation!$B$8)))))))","v":false},{"$f":"IF(D37=\"Grid\",Simulation!$C$2,IF(D37=\"WU\",Simulation!$C$3,IF(D37=1,Simulation!$C$4,IF(D37=2,Simulation!$C$5,IF(D37=3,Simulation!$C$6,IF(D37=4,Simulation!$C$7,IF(D37=5,Simulation!$C$8)))))))","v":false},0,null,null,null,"",null,null,null,null,0,null,0,0,"Inlap",null,null,"FL"]
[1,27,27,null,{"$f":"IF(D38=\"Grid\",Simulation!$B$2,IF(D38=\"WU\",Simulation!$B$3,IF(D38=1,Simulation!$B$4,IF(D38=2,Simulation!$B$5,IF(D38=3,Simulation!$B$6,IF(D38=4,Simulation!$B$7,IF(D38=5,Simulation!$B$8)))))))","v":false},{"$f":"IF(D38=\"Grid\",Simulation!$C$2,IF(D38=\"WU\",Simulation!$C$3,IF(D38=1,Simulation!$C$4,IF(D38=2,Simulation!$C$5,IF(D38=3,Simulation!$C$6,IF(D38=4,Simulation!$C$7,IF(D38=5,Simulation!$C$8)))))))","v":false},0,null,null,null,"",null,null,null,null,0,null,0,0,"Inlap",null,null,"FL"]
[1,28,28,null,{"$f":"IF(D39=\"Grid\",Simulation!$B$2,IF(D39=\"WU\",Simulation!$B$3,IF(D39=1,Simulation!$B$4,IF(D39=2,Simulation!$B$5,IF(D39=3,Simulation!$B$6,IF(D39=4,Simulation!$B$7,IF(D39=5,Simulation!$B$8)))))))","v":false},{"$f":"IF(D39=\"Grid\",Simulation!$C$2,IF(D39=\"WU\",Simulation!$C$3,IF(D39=1,Simulation!$C$4,IF(D39=2,Simulation!$C$5,IF(D39=3,Simulation!$C$6,IF(D39=4,Simulation!$C$7,IF(D39=5,Simulation!$C$8)))))))","v":false},0,null,null,null,"",null,null,null,null,0,null,0,0,"Inlap",null,null,"FL"]
[1,29,29,null,{"$f":"IF(D40=\"Grid\",Simulation!$B$2,IF(D40=\"WU\",Simulation!$B$3,IF(D40=1,Simulation!$B$4,IF(D40=2,Simulation!$B$5,IF(D40=3,Simulation!$B$6,IF(D40=4,Simulation!$B$7,IF(D40=5,Simulation!$B$8)))))))","v":false},{"$f":"IF(D40=\"Grid\",Simulation!$C$2,IF(D40=\"WU\",Simulation!$C$3,IF(D40=1,Simulation!$C$4,IF(D40=2,Simulation!$C$5,IF(D40=3,Simulation!$C$6,IF(D40=4,Simulation!$C$7,IF(D40=5,Simulation!$C$8)))))))","v":false},0,null,null,null,"",null,null,null,null,0,null,0,0,"Inlap",null,null,"FL"]
[1,30,30,null,{"$f":"IF(D41=\"Grid\",Simulation!$B$2,IF(D41=\"WU\",Simulation!$B$3,IF(D41=1,Simulation!$B$4,IF(D41=2,Simulation!$B$5,IF(D41=3,Simulation!$B$6,IF(D41=4,Simulation!$B$7,IF(D41=5,Simulation!$B$8)))))))","v":false},{"$f":"IF(D41=\"Grid\",Simulation!$C$2,IF(D41=\"WU\",Simulation!$C$3,IF(D41=1,Simulation!$C$4,IF(D41=2,Simulation!$C$5,IF(D41=3,Simulation!$C$6,IF(D41=4,Simulation!$C$7,IF(D41=5,Simulation!$C$8)))))))","v":false},0,null,null,null,"",null,null,null,null,0,null,0,0,"Inlap",null,null,"FL"]
[1,31,31,null,{"$f":"IF(D42=\"Grid\",Simulation!$B$2,IF(D42=\"WU\",Simulation!$B$3,IF(D42=1,Simulation!$B$4,IF(D42=2,Simulation!$B$5,IF(D42=3,Simulation!$B$6,IF(D42=4,Simulation!$B$7,IF(D42=5,Simulation!$B$8)))))))","v":false},{"$f":"IF(D42=\"Grid\",Simulation!$C$2,IF(D42=\"WU\",Simulation!$C$3,IF(D42=1,Simulation!$C$4,IF(D42=2,Simulation!$C$5,IF(D42=3,Simulation!$C$6,IF(D42=4,Simulation!$C$7,IF(D42=5,Simulation!$C$8)))))))","v":false},0,null,null,null,"",null,null,null,null,0,null,0,0,"Inlap",null,null,"FL"]
[1,32,32,null,{"$f":"IF(D43=\"Grid\",Simulation!$B$2,IF(D43=\"WU\",Simulation!$B$3,IF(D43=1,Simulation!$B$4,IF(D43=2,Simulation!$B$5,IF(D43=3,Simulation!$B$6,IF(D43=4,Simulation!$B$7,IF(D43=5,Simulation!$B$8)))))))","v":false},{"$f":"IF(D43=\"Grid\",Simulation!$C$2,IF(D43=\"WU\",Simulation!$C$3,IF(D43=1,Simulation!$C$4,IF(D43=2,Simulation!$C$5,IF(D43=3,Simulation!$C$6,IF(D43=4,Simulation!$C$7,IF(D43=5,Simulation!$C$8)))))))","v":false},0,null,null,null,"",null,null,null,null,0,null,0,0,"Inlap",null,null,"FL"]
[1,33,33,null,{"$f":"IF(D44=\"Grid\",Simulation!$B$2,IF(D44=\"WU\",Simulation!$B$3,IF(D44=1,Simulation!$B$4,IF(D44=2,Simulation!$B$5,IF(D44=3,Simulation!$B$6,IF(D44=4,Simulation!$B$7,IF(D44=5,Simulation!$B$8)))))))","v":false},{"$f":"IF(D44=\"Grid\",Simulation!$C$2,IF(D44=\"WU\",Simulation!$C$3,IF(D44=1,Simulation!$C$4,IF(D44=2,Simulation!$C$5,IF(D44=3,Simulation!$C$6,IF(D44=4,Simulation!$C$7,IF(D44=5,Simulation!$C$8)))))))","v":false},0,null,null,null,"",null,null,null,null,0,null,0,0,"Inlap",null,null,"FL"]
[1,34,34,null,{"$f":"IF(D45=\"Grid\",Simulation!$B$2,IF(D45=\"WU\",Simulation!$B$3,IF(D45=1,Simulation!$B$4,IF(D45=2,Simulation!$B$5,IF(D45=3,Simulation!$B$6,IF(D45=4,Simulation!$B$7,IF(D45=5,Simulation!$B$8)))))))","v":false},{"$f":"IF(D45=\"Grid\",Simulation!$C$2,IF(D45=\"WU\",Simulation!$C$3,IF(D45=1,Simulation!$C$4,IF(D45=2,Simulation!$C$5,IF(D45=3,Simulation!$C$6,IF(D45=4,Simulation!$C$7,IF(D45=5,Simulation!$C$8)))))))","v":false},0,null,null,null,"",null,null,null,null,{"$f":"IF(O45>0,Q45,Q45-Q44)","v":0},null,{"$f":"IF(O45>0,Q45,Q45-Q44)","v":0},{"$f":"IF(O45>0,O45+S44-Q45,S44-P45)","v":0},"Inlap",null,null,"FL"]
[1,35,35,null,{"$f":"IF(D46=\"Grid\",Simulation!$B$2,IF(D46=\"WU\",Simulation!$B$3,IF(D46=1,Simulation!$B$4,IF(D46=2,Simulation!$B$5,IF(D46=3,Simulation!$B$6,IF(D46=4,Simulation!$B$7,IF(D46=5,Simulation!$B$8)))))))","v":false},{"$f":"IF(D46=\"Grid\",Simulation!$C$2,IF(D46=\"WU\",Simulation!$C$3,IF(D46=1,Simulation!$C$4,IF(D46=2,Simulation!$C$5,IF(D46=3,Simulation!$C$6,IF(D46=4,Simulation!$C$7,IF(D46=5,Simulation!$C$8)))))))","v":false},0,null,null,null,"",null,null,null,null,{"$f":"IF(O46>0,Q46,Q46-Q45)","v":0},null,{"$f":"IF(O46>0,Q46,Q46-Q45)","v":0},0,"Inlap",null,null,"FL"]
[1,36,36,null,{"$f":"IF(D47=\"Grid\",Simulation!$B$2,IF(D47=\"WU\",Simulation!$B$3,IF(D47=1,Simulation!$B$4,IF(D47=2,Simulation!$B$5,IF(D47=3,Simulation!$B$6,IF(D47=4,Simulation!$B$7,IF(D47=5,Simulation!$B$8)))))))","v":false},{"$f":"IF(D47=\"Grid\",Simulation!$C$2,IF(D47=\"WU\",Simulation!$C$3,IF(D47=1,Simulation!$C$4,IF(D47=2,Simulation!$C$5,IF(D47=3,Simulation!$C$6,IF(D47=4,Simulation!$C$7,IF(D47=5,Simulation!$C$8)))))))","v":false},0,null,null,null,"",null,null,null,null,0,null,0,0,"Inlap",null,null,"FL"]
[1,37,37,null,{"$f":"IF(D48=\"Grid\",Simulation!$B$2,IF(D48=\"WU\",Simulation!$B$3,IF(D48=1,Simulation!$B$4,IF(D48=2,Simulation!$B$5,IF(D48=3,Simulation!$B$6,IF(D48=4,Simulation!$B$7,IF(D48=5,Simulation!$B$8)))))))","v":false},{"$f":"IF(D48=\"Grid\",Simulation!$C$2,IF(D48=\"WU\",Simulation!$C$3,IF(D48=1,Simulation!$C$4,IF(D48=2,Simulation!$C$5,IF(D48=3,Simulation!$C$6,IF(D48=4,Simulation!$C$7,IF(D48=5,Simulation!$C$8)))))))","v":false},0,null,null,null,"",null,null,null,null,0,null,0,0,"Inlap",null,null,"FL"]
[1,38,38,null,{"$f":"IF(D49=\"Grid\",Simulation!$B$2,IF(D49=\"WU\",Simulation!$B$3,IF(D49=1,Simulation!$B$4,IF(D49=2,Simulation!$B$5,IF(D49=3,Simulation!$B$6,IF(D49=4,Simulation!$B$7,IF(D49=5,Simulation!$B$8)))))))","v":false},{"$f":"IF(D49=\"Grid\",Simulation!$C$2,IF(D49=\"WU\",Simulation!$C$3,IF(D49=1,Simulation!$C$4,IF(D49=2,Simulation!$C$5,IF(D49=3,Simulation!$C$6,IF(D49=4,Simulation!$C$7,IF(D49=5,Simulation!$C$8)))))))","v":false},0,null,null,null,"",null,null,null,null,0,null,0,0,"Inlap",null,null,"FL"]
[1,39,39,null,{"$f":"IF(D50=\"Grid\",Simulation!$B$2,IF(D50=\"WU\",Simulation!$B$3,IF(D50=1,Simulation!$B$4,IF(D50=2,Simulation!$B$5,IF(D50=3,Simulation!$B$6,IF(D50=4,Simulation!$B$7,IF(D50=5,Simulation!$B$8)))))))","v":false},{"$f":"IF(D50=\"Grid\",Simulation!$C$2,IF(D50=\"WU\",Simulation!$C$3,IF(D50=1,Simulation!$C$4,IF(D50=2,Simulation!$C$5,IF(D50=3,Simulation!$C$6,IF(D50=4,Simulation!$C$7,IF(D50=5,Simulation!$C$8)))))))","v":false},0,null,null,null,"",null,null,null,null,0,null,0,0,"Inlap",null,null,"FL"]
[1,40,40,null,{"$f":"IF(D51=\"Grid\",Simulation!$B$2,IF(D51=\"WU\",Simulation!$B$3,IF(D51=1,Simulation!$B$4,IF(D51=2,Simulation!$B$5,IF(D51=3,Simulation!$B$6,IF(D51=4,Simulation!$B$7,IF(D51=5,Simulation!$B$8)))))))","v":false},{"$f":"IF(D51=\"Grid\",Simulation!$C$2,IF(D51=\"WU\",Simulation!$C$3,IF(D51=1,Simulation!$C$4,IF(D51=2,Simulation!$C$5,IF(D51=3,Simulation!$C$6,IF(D51=4,Simulation!$C$7,IF(D51=5,Simulation!$C$8)))))))","v":false},0,null,null,null,"",null,null,null,null,0,null,0,0,"Inlap",null,null,"FL"]
[1,41,41,null,{"$f":"IF(D52=\"Grid\",Simulation!$B$2,IF(D52=\"WU\",Simulation!$B$3,IF(D52=1,Simulation!$B$4,IF(D52=2,Simulation!$B$5,IF(D52=3,Simulation!$B$6,IF(D52=4,Simulation!$B$7,IF(D52=5,Simulation!$B$8)))))))","v":false},{"$f":"IF(D52=\"Grid\",Simulation!$C$2,IF(D52=\"WU\",Simulation!$C$3,IF(D52=1,Simulation!$C$4,IF(D52=2,Simulation!$C$5,IF(D52=3,Simulation!$C$6,IF(D52=4,Simulation!$C$7,IF(D52=5,Simulation!$C$8)))))))","v":false},0,null,null,null,"",null,null,null,null,0,null,0,0,"Inlap",null,null,"FL"]
[1,42,42,null,{"$f":"IF(D53=\"Grid\",Simulation!$B$2,IF(D53=\"WU\",Simulation!$B$3,IF(D53=1,Simulation!$B$4,IF(D53=2,Simulation!$B$5,IF(D53=3,Simulation!$B$6,IF(D53=4,Simulation!$B$7,IF(D53=5,Simulation!$B$8)))))))","v":false},{"$f":"IF(D53=\"Grid\",Simulation!$C$2,IF(D53=\"WU\",Simulation!$C$3,IF(D53=1,Simulation!$C$4,IF(D53=2,Simulation!$C$5,IF(D53=3,Simulation!$C$6,IF(D53=4,Simulation!$C$7,IF(D53=5,Simulation!$C$8)))))))","v":false},0,null,null,null,"",null,null,null,null,0,null,0,0,"Inlap",null,null,"FL"]
[1,43,43,null,{"$f":"IF(D54=\"Grid\",Simulation!$B$2,IF(D54=\"WU\",Simulation!$B$3,IF(D54=1,Simulation!$B$4,IF(D54=2,Simulation!$B$5,IF(D54=3,Simulation!$B$6,IF(D54=4,Simulation!$B$7,IF(D54=5,Simulation!$B$8)))))))","v":false},{"$f":"IF(D54=\"Grid\",Simulation!$C$2,IF(D54=\"WU\",Simulation!$C$3,IF(D54=1,Simulation!$C$4,IF(D54=2,Simulation!$C$5,IF(D54=3,Simulation!$C$6,IF(D54=4,Simulation!$C$7,IF(D54=5,Simulation!$C$8)))))))","v":false},0,null,null,null,"",null,null,null,null,0,null,0,0,"Inlap",null,null,"FL"]
[1,44,44,null,{"$f":"IF(D55=\"Grid\",Simulation!$B$2,IF(D55=\"WU\",Simulation!$B$3,IF(D55=1,Simulation!$B$4,IF(D55=2,Simulation!$B$5,IF(D55=3,Simulation!$B$6,IF(D55=4,Simulation!$B$7,IF(D55=5,Simulation!$B$8)))))))","v":false},{"$f":"IF(D55=\"Grid\",Simulation!$C$2,IF(D55=\"WU\",Simulation!$C$3,IF(D55=1,Simulation!$C$4,IF(D55=2,Simulation!$C$5,IF(D55=3,Simulation!$C$6,IF(D55=4,Simulation!$C$7,IF(D55=5,Simulation!$C$8)))))))","v":false},0,null,null,null,"",null,null,null,null,0,null,0,0,"Inlap",null,null,"FL"]
[1,45,45,null,{"$f":"IF(D56=\"Grid\",Simulation!$B$2,IF(D56=\"WU\",Simulation!$B$3,IF(D56=1,Simulation!$B$4,IF(D56=2,Simulation!$B$5,IF(D56=3,Simulation!$B$6,IF(D56=4,Simulation!$B$7,IF(D56=5,Simulation!$B$8)))))))","v":false},{"$f":"IF(D56=\"Grid\",Simulation!$C$2,IF(D56=\"WU\",Simulation!$C$3,IF(D56=1,Simulation!$C$4,IF(D56=2,Simulation!$C$5,IF(D56=3,Simulation!$C$6,IF(D56=4,Simulation!$C$7,IF(D56=5,Simulation!$C$8)))))))","v":false},0,null,null,null,"",null,null,null,null,0,null,0,0,"Inlap",null,null,"FL"]
[1,46,46,null,{"$f":"IF(D57=\"Grid\",Simulation!$B$2,IF(D57=\"WU\",Simulation!$B$3,IF(D57=1,Simulation!$B$4,IF(D57=2,Simulation!$B$5,IF(D57=3,Simulation!$B$6,IF(D57=4,Simulation!$B$7,IF(D57=5,Simulation!$B$8)))))))","v":false},{"$f":"IF(D57=\"Grid\",Simulation!$C$2,IF(D57=\"WU\",Simulation!$C$3,IF(D57=1,Simulation!$C$4,IF(D57=2,Simulation!$C$5,IF(D57=3,Simulation!$C$6,IF(D57=4,Simulation!$C$7,IF(D57=5,Simulation!$C$8)))))))","v":false},0,null,null,null,"",null,null,null,null,0,null,0,0,"Inlap",null,null,"FL"]
[1,47,47,null,{"$f":"IF(D58=\"Grid\",Simulation!$B$2,IF(D58=\"WU\",Simulation!$B$3,IF(D58=1,Simulation!$B$4,IF(D58=2,Simulation!$B$5,IF(D58=3,Simulation!$B$6,IF(D58=4,Simulation!$B$7,IF(D58=5,Simulation!$B$8)))))))","v":false},{"$f":"IF(D58=\"Grid\",Simulation!$C$2,IF(D58=\"WU\",Simulation!$C$3,IF(D58=1,Simulation!$C$4,IF(D58=2,Simulation!$C$5,IF(D58=3,Simulation!$C$6,IF(D58=4,Simulation!$C$7,IF(D58=5,Simulation!$C$8)))))))","v":false},0,null,null,null,"",null,null,null,null,0,null,0,0,"Inlap",null,null,"FL"]
[1,48,48,null,{"$f":"IF(D59=\"Grid\",Simulation!$B$2,IF(D59=\"WU\",Simulation!$B$3,IF(D59=1,Simulation!$B$4,IF(D59=2,Simulation!$B$5,IF(D59=3,Simulation!$B$6,IF(D59=4,Simulation!$B$7,IF(D59=5,Simulation!$B$8)))))))","v":false},{"$f":"IF(D59=\"Grid\",Simulation!$C$2,IF(D59=\"WU\",Simulation!$C$3,IF(D59=1,Simulation!$C$4,IF(D59=2,Simulation!$C$5,IF(D59=3,Simulation!$C$6,IF(D59=4,Simulation!$C$7,IF(D59=5,Simulation!$C$8)))))))","v":false},0,null,null,null,"",null,null,null,null,0,null,0,0,"Inlap",null,null,"FL"]
[1,49,49,null,{"$f":"IF(D60=\"Grid\",Simulation!$B$2,IF(D60=\"WU\",Simulation!$B$3,IF(D60=1,Simulation!$B$4,IF(D60=2,Simulation!$B$5,IF(D60=3,Simulation!$B$6,IF(D60=4,Simulation!$B$7,IF(D60=5,Simulation!$B$8)))))))","v":false},{"$f":"IF(D60=\"Grid\",Simulation!$C$2,IF(D60=\"WU\",Simulation!$C$3,IF(D60=1,Simulation!$C$4,IF(D60=2,Simulation!$C$5,IF(D60=3,Simulation!$C$6,IF(D60=4,Simulation!$C$7,IF(D60=5,Simulation!$C$8)))))))","v":false},0,null,null,null,"",null,null,null,null,0,null,0,0,"Inlap",null,null,"FL"]
[1,50,50,null,{"$f":"IF(D61=\"Grid\",Simulation!$B$2,IF(D61=\"WU\",Simulation!$B$3,IF(D61=1,Simulation!$B$4,IF(D61=2,Simulation!$B$5,IF(D61=3,Simulation!$B$6,IF(D61=4,Simulation!$B$7,IF(D61=5,Simulation!$B$8)))))))","v":false},{"$f":"IF(D61=\"Grid\",Simulation!$C$2,IF(D61=\"WU\",Simulation!$C$3,IF(D61=1,Simulation!$C$4,IF(D61=2,Simulation!$C$5,IF(D61=3,Simulation!$C$6,IF(D61=4,Simulation!$C$7,IF(D61=5,Simulation!$C$8)))))))","v":false},0,null,null,null,"",null,null,null,null,0,null,0,0,"Inlap",null,null,"FL"]
[1,51,51,null,{"$f":"IF(D62=\"Grid\",Simulation!$B$2,IF(D62=\"WU\",Simulation!$B$3,IF(D62=1,Simulation!$B$4,IF(D62=2,Simulation!$B$5,IF(D62=3,Simulation!$B$6,IF(D62=4,Simulation!$B$7,IF(D62=5,Simulation!$B$8)))))))","v":false},{"$f":"IF(D62=\"Grid\",Simulation!$C$2,IF(D62=\"WU\",Simulation!$C$3,IF(D62=1,Simulation!$C$4,IF(D62=2,Simulation!$C$5,IF(D62=3,Simulation!$C$6,IF(D62=4,Simulation!$C$7,IF(D62=5,Simulation!$C$8)))))))","v":false},0,null,null,null,"",null,null,null,null,0,null,0,0,"Inlap",null,null,"FL"]
[1,52,52,null,{"$f":"IF(D63=\"Grid\",Simulation!$B$2,IF(D63=\"WU\",Simulation!$B$3,IF(D63=1,Simulation!$B$4,IF(D63=2,Simulation!$B$5,IF(D63=3,Simulation!$B$6,IF(D63=4,Simulation!$B$7,IF(D63=5,Simulation!$B$8)))))))","v":false},{"$f":"IF(D63=\"Grid\",Simulation!$C$2,IF(D63=\"WU\",Simulation!$C$3,IF(D63=1,Simulation!$C$4,IF(D63=2,Simulation!$C$5,IF(D63=3,Simulation!$C$6,IF(D63=4,Simulation!$C$7,IF(D63=5,Simulation!$C$8)))))))","v":false},0,null,null,null,"",null,null,null,null,0,null,0,0,"Inlap",null,null,"FL"]
[1,53,53,null,{"$f":"IF(D64=\"Grid\",Simulation!$B$2,IF(D64=\"WU\",Simulation!$B$3,IF(D64=1,Simulation!$B$4,IF(D64=2,Simulation!$B$5,IF(D64=3,Simulation!$B$6,IF(D64=4,Simulation!$B$7,IF(D64=5,Simulation!$B$8)))))))","v":false},{"$f":"IF(D64=\"Grid\",Simulation!$C$2,IF(D64=\"WU\",Simulation!$C$3,IF(D64=1,Simulation!$C$4,IF(D64=2,Simulation!$C$5,IF(D64=3,Simulation!$C$6,IF(D64=4,Simulation!$C$7,IF(D64=5,Simulation!$C$8)))))))","v":false},0,null,null,null,"",null,null,null,null,0,null,0,0,"Inlap",null,null,"FL"]
[1,54,54,null,{"$f":"IF(D65=\"Grid\",Simulation!$B$2,IF(D65=\"WU\",Simulation!$B$3,IF(D65=1,Simulation!$B$4,IF(D65=2,Simulation!$B$5,IF(D65=3,Simulation!$B$6,IF(D65=4,Simulation!$B$7,IF(D65=5,Simulation!$B$8)))))))","v":false},{"$f":"IF(D65=\"Grid\",Simulation!$C$2,IF(D65=\"WU\",Simulation!$C$3,IF(D65=1,Simulation!$C$4,IF(D65=2,Simulation!$C$5,IF(D65=3,Simulation!$C$6,IF(D65=4,Simulation!$C$7,IF(D65=5,Simulation!$C$8)))))))","v":false},0,null,null,null,"",null,null,null,null,0,null,0,0,"Inlap",null,null,"FL"]
[1,55,55,null,{"$f":"IF(D66=\"Grid\",Simulation!$B$2,IF(D66=\"WU\",Simulation!$B$3,IF(D66=1,Simulation!$B$4,IF(D66=2,Simulation!$B$5,IF(D66=3,Simulation!$B$6,IF(D66=4,Simulation!$B$7,IF(D66=5,Simulation!$B$8)))))))","v":false},{"$f":"IF(D66=\"Grid\",Simulation!$C$2,IF(D66=\"WU\",Simulation!$C$3,IF(D66=1,Simulation!$C$4,IF(D66=2,Simulation!$C$5,IF(D66=3,Simulation!$C$6,IF(D66=4,Simulation!$C$7,IF(D66=5,Simulation!$C$8)))))))","v":false},0,null,null,null,"",null,null,null,null,0,null,0,0,"Inlap",null,null,"FL"]
[1,56,56,null,{"$f":"IF(D67=\"Grid\",Simulation!$B$2,IF(D67=\"WU\",Simulation!$B$3,IF(D67=1,Simulation!$B$4,IF(D67=2,Simulation!$B$5,IF(D67=3,Simulation!$B$6,IF(D67=4,Simulation!$B$7,IF(D67=5,Simulation!$B$8)))))))","v":false},{"$f":"IF(D67=\"Grid\",Simulation!$C$2,IF(D67=\"WU\",Simulation!$C$3,IF(D67=1,Simulation!$C$4,IF(D67=2,Simulation!$C$5,IF(D67=3,Simulation!$C$6,IF(D67=4,Simulation!$C$7,IF(D67=5,Simulation!$C$8)))))))","v":false},0,null,null,null,"",null,null,null,null,0,null,0,0,"Inlap",null,null,"FL"]
[1,57,57,null,{"$f":"IF(D68=\"Grid\",Simulation!$B$2,IF(D68=\"WU\",Simulation!$B$3,IF(D68=1,Simulation!$B$4,IF(D68=2,Simulation!$B$5,IF(D68=3,Simulation!$B$6,IF(D68=4,Simulation!$B$7,IF(D68=5,Simulation!$B$8)))))))","v":false},{"$f":"IF(D68=\"Grid\",Simulation!$C$2,IF(D68=\"WU\",Simulation!$C$3,IF(D68=1,Simulation!$C$4,IF(D68=2,Simulation!$C$5,IF(D68=3,Simulation!$C$6,IF(D68=4,Simulation!$C$7,IF(D68=5,Simulation!$C$8)))))))","v":false},0,null,null,null,"",null,null,null,null,0,null,0,0,"Inlap",null,null,"FL"]
[1,58,58,null,{"$f":"IF(D69=\"Grid\",Simulation!$B$2,IF(D69=\"WU\",Simulation!$B$3,IF(D69=1,Simulation!$B$4,IF(D69=2,Simulation!$B$5,IF(D69=3,Simulation!$B$6,IF(D69=4,Simulation!$B$7,IF(D69=5,Simulation!$B$8)))))))","v":false},{"$f":"IF(D69=\"Grid\",Simulation!$C$2,IF(D69=\"WU\",Simulation!$C$3,IF(D69=1,Simulation!$C$4,IF(D69=2,Simulation!$C$5,IF(D69=3,Simulation!$C$6,IF(D69=4,Simulation!$C$7,IF(D69=5,Simulation!$C$8)))))))","v":false},0,null,null,null,"",null,null,null,null,0,null,0,0,"Inlap",null,null,"FL"]
[1,59,59,null,{"$f":"IF(D70=\"Grid\",Simulation!$B$2,IF(D70=\"WU\",Simulation!$B$3,IF(D70=1,Simulation!$B$4,IF(D70=2,Simulation!$B$5,IF(D70=3,Simulation!$B$6,IF(D70=4,Simulation!$B$7,IF(D70=5,Simulation!$B$8)))))))","v":false},{"$f":"IF(D70=\"Grid\",Simulation!$C$2,IF(D70=\"WU\",Simulation!$C$3,IF(D70=1,Simulation!$C$4,IF(D70=2,Simulation!$C$5,IF(D70=3,Simulation!$C$6,IF(D70=4,Simulation!$C$7,IF(D70=5,Simulation!$C$8)))))))","v":false},0,null,null,null,"",null,null,null,null,0,null,0,0,"Inlap",null,null,"FL"]
[1,60,60,null,{"$f":"IF(D71=\"Grid\",Simulation!$B$2,IF(D71=\"WU\",Simulation!$B$3,IF(D71=1,Simulation!$B$4,IF(D71=2,Simulation!$B$5,IF(D71=3,Simulation!$B$6,IF(D71=4,Simulation!$B$7,IF(D71=5,Simulation!$B$8)))))))","v":false},{"$f":"IF(D71=\"Grid\",Simulation!$C$2,IF(D71=\"WU\",Simulation!$C$3,IF(D71=1,Simulation!$C$4,IF(D71=2,Simulation!$C$5,IF(D71=3,Simulation!$C$6,IF(D71=4,Simulation!$C$7,IF(D71=5,Simulation!$C$8)))))))","v":false},0,null,null,null,"",null,null,null,null,0,null,0,0,"Inlap",null,null,"FL"]
[1,61,61,null,{"$f":"IF(D72=\"Grid\",Simulation!$B$2,IF(D72=\"WU\",Simulation!$B$3,IF(D72=1,Simulation!$B$4,IF(D72=2,Simulation!$B$5,IF(D72=3,Simulation!$B$6,IF(D72=4,Simulation!$B$7,IF(D72=5,Simulation!$B$8)))))))","v":false},{"$f":"IF(D72=\"Grid\",Simulation!$C$2,IF(D72=\"WU\",Simulation!$C$3,IF(D72=1,Simulation!$C$4,IF(D72=2,Simulation!$C$5,IF(D72=3,Simulation!$C$6,IF(D72=4,Simulation!$C$7,IF(D72=5,Simulation!$C$8)))))))","v":false},0,null,null,null,"",null,null,null,null,0,null,0,0,"Inlap",null,null,"FL"]
[1,62,62,null,{"$f":"IF(D73=\"Grid\",Simulation!$B$2,IF(D73=\"WU\",Simulation!$B$3,IF(D73=1,Simulation!$B$4,IF(D73=2,Simulation!$B$5,IF(D73=3,Simulation!$B$6,IF(D73=4,Simulation!$B$7,IF(D73=5,Simulation!$B$8)))))))","v":false},{"$f":"IF(D73=\"Grid\",Simulation!$C$2,IF(D73=\"WU\",Simulation!$C$3,IF(D73=1,Simulation!$C$4,IF(D73=2,Simulation!$C$5,IF(D73=3,Simulation!$C$6,IF(D73=4,Simulation!$C$7,IF(D73=5,Simulation!$C$8)))))))","v":false},0,null,null,null,"",null,null,null,null,0,null,0,0,"Inlap",null,null,"FL"]
[1,63,63,null,{"$f":"IF(D74=\"Grid\",Simulation!$B$2,IF(D74=\"WU\",Simulation!$B$3,IF(D74=1,Simulation!$B$4,IF(D74=2,Simulation!$B$5,IF(D74=3,Simulation!$B$6,IF(D74=4,Simulation!$B$7,IF(D74=5,Simulation!$B$8)))))))","v":false},{"$f":"IF(D74=\"Grid\",Simulation!$C$2,IF(D74=\"WU\",Simulation!$C$3,IF(D74=1,Simulation!$C$4,IF(D74=2,Simulation!$C$5,IF(D74=3,Simulation!$C$6,IF(D74=4,Simulation!$C$7,IF(D74=5,Simulation!$C$8)))))))","v":false},0,null,null,null,"",null,null,null,null,0,null,0,0,"Inlap",null,null,"FL"]
[1,64,64,null,{"$f":"IF(D75=\"Grid\",Simulation!$B$2,IF(D75=\"WU\",Simulation!$B$3,IF(D75=1,Simulation!$B$4,IF(D75=2,Simulation!$B$5,IF(D75=3,Simulation!$B$6,IF(D75=4,Simulation!$B$7,IF(D75=5,Simulation!$B$8)))))))","v":false},{"$f":"IF(D75=\"Grid\",Simulation!$C$2,IF(D75=\"WU\",Simulation!$C$3,IF(D75=1,Simulation!$C$4,IF(D75=2,Simulation!$C$5,IF(D75=3,Simulation!$C$6,IF(D75=4,Simulation!$C$7,IF(D75=5,Simulation!$C$8)))))))","v":false},0,null,null,null,"",null,null,null,null,0,null,0,0,"Inlap",null,null,"FL"]
[{"$f":"IF(O76>0,A75+1,A75)","v":1},65,65,null,{"$f":"IF(D76=\"Grid\",Simulation!$B$2,IF(D76=\"WU\",Simulation!$B$3,IF(D76=1,Simulation!$B$4,IF(D76=2,Simulation!$B$5,IF(D76=3,Simulation!$B$6,IF(D76=4,Simulation!$B$7,IF(D76=5,Simulation!$B$8)))))))","v":false},{"$f":"IF(D76=\"Grid\",Simulation!$C$2,IF(D76=\"WU\",Simulation!$C$3,IF(D76=1,Simulation!$C$4,IF(D76=2,Simulation!$C$5,IF(D76=3,Simulation!$C$6,IF(D76=4,Simulation!$C$7,IF(D76=5,Simulation!$C$8)))))))","v":false},{"$f":"G75+O75-P75","v":0},null,null,null,"",null,null,null,null,0,null,0,{"$f":"IF(O76>0,O76+S75-Q76,S75-P76)","v":0},{"$f":"IF(S76<=F76,\"Inlap\",IF(S76<=2*F76,\"Call: In this lap!\",IF(S76<=3*F76,\"Show in but don't call!\",\"\")))","v":"Inlap"},null,null,{"$f":"IF(J76=$Q$2,\"FL\",\"\")","v":"FL"}]
[1,66,66,null,{"$f":"IF(D77=\"Grid\",Simulation!$B$2,IF(D77=\"WU\",Simulation!$B$3,IF(D77=1,Simulation!$B$4,IF(D77=2,Simulation!$B$5,IF(D77=3,Simulation!$B$6,IF(D77=4,Simulation!$B$7,IF(D77=5,Simulation!$B$8)))))))","v":false},{"$f":"IF(D77=\"Grid\",Simulation!$C$2,IF(D77=\"WU\",Simulation!$C$3,IF(D77=1,Simulation!$C$4,IF(D77=2,Simulation!$C$5,IF(D77=3,Simulation!$C$6,IF(D77=4,Simulation!$C$7,IF(D77=5,Simulation!$C$8)))))))","v":false},0,null,null,null,{"$f":"IF(J77<>0,K76,\"\")","v":""},null,null,null,null,0,null,0,0,"Inlap",null,null,"FL"]
[1,67,{"$f":"IF(O78=\"\",C77+1,\"1\")","v":67},null,{"$f":"IF(D78=\"Grid\",Simulation!$B$2,IF(D78=\"WU\",Simulation!$B$3,IF(D78=1,Simulation!$B$4,IF(D78=2,Simulation!$B$5,IF(D78=3,Simulation!$B$6,IF(D78=4,Simulation!$B$7,IF(D78=5,Simulation!$B$8)))))))","v":false},{"$f":"IF(D78=\"Grid\",Simulation!$C$2,IF(D78=\"WU\",Simulation!$C$3,IF(D78=1,Simulation!$C$4,IF(D78=2,Simulation!$C$5,IF(D78=3,Simulation!$C$6,IF(D78=4,Simulation!$C$7,IF(D78=5,Simulation!$C$8)))))))","v":false},0,null,null,null,"",null,null,null,null,0,null,0,0,"Inlap",null,null,"FL"]
[1,68,68,null,{"$f":"IF(D79=\"Grid\",Simulation!$B$2,IF(D79=\"WU\",Simulation!$B$3,IF(D79=1,Simulation!$B$4,IF(D79=2,Simulation!$B$5,IF(D79=3,Simulation!$B$6,IF(D79=4,Simulation!$B$7,IF(D79=5,Simulation!$B$8)))))))","v":false},{"$f":"IF(D79=\"Grid\",Simulation!$C$2,IF(D79=\"WU\",Simulation!$C$3,IF(D79=1,Simulation!$C$4,IF(D79=2,Simulation!$C$5,IF(D79=3,Simulation!$C$6,IF(D79=4,Simulation!$C$7,IF(D79=5,Simulation!$C$8)))))))","v":false},0,null,null,null,"",null,null,null,null,0,null,0,0,"Inlap",null,null,"FL"]
[1,69,69,null,{"$f":"IF(D80=\"Grid\",Simulation!$B$2,IF(D80=\"WU\",Simulation!$B$3,IF(D80=1,Simulation!$B$4,IF(D80=2,Simulation!$B$5,IF(D80=3,Simulation!$B$6,IF(D80=4,Simulation!$B$7,IF(D80=5,Simulation!$B$8)))))))","v":false},{"$f":"IF(D80=\"Grid\",Simulation!$C$2,IF(D80=\"WU\",Simulation!$C$3,IF(D80=1,Simulation!$C$4,IF(D80=2,Simulation!$C$5,IF(D80=3,Simulation!$C$6,IF(D80=4,Simulation!$C$7,IF(D80=5,Simulation!$C$8)))))))","v":false},0,null,null,null,"",null,null,null,null,0,null,0,0,"Inlap",null,null,"FL"]
[1,70,70,null,{"$f":"IF(D81=\"Grid\",Simulation!$B$2,IF(D81=\"WU\",Simulation!$B$3,IF(D81=1,Simulation!$B$4,IF(D81=2,Simulation!$B$5,IF(D81=3,Simulation!$B$6,IF(D81=4,Simulation!$B$7,IF(D81=5,Simulation!$B$8)))))))","v":false},{"$f":"IF(D81=\"Grid\",Simulation!$C$2,IF(D81=\"WU\",Simulation!$C$3,IF(D81=1,Simulation!$C$4,IF(D81=2,Simulation!$C$5,IF(D81=3,Simulation!$C$6,IF(D81=4,Simulation!$C$7,IF(D81=5,Simulation!$C$8)))))))","v":false},0,null,null,null,"",null,null,null,null,0,null,0,0,"Inlap",null,null,"FL"]
[1,71,71,null,{"$f":"IF(D82=\"Grid\",Simulation!$B$2,IF(D82=\"WU\",Simulation!$B$3,IF(D82=1,Simulation!$B$4,IF(D82=2,Simulation!$B$5,IF(D82=3,Simulation!$B$6,IF(D82=4,Simulation!$B$7,IF(D82=5,Simulation!$B$8)))))))","v":false},{"$f":"IF(D82=\"Grid\",Simulation!$C$2,IF(D82=\"WU\",Simulation!$C$3,IF(D82=1,Simulation!$C$4,IF(D82=2,Simulation!$C$5,IF(D82=3,Simulation!$C$6,IF(D82=4,Simulation!$C$7,IF(D82=5,Simulation!$C$8)))))))","v":false},0,null,null,null,"",null,null,null,null,0,null,0,0,"Inlap",null,null,"FL"]
[1,72,72,null,{"$f":"IF(D83=\"Grid\",Simulation!$B$2,IF(D83=\"WU\",Simulation!$B$3,IF(D83=1,Simulation!$B$4,IF(D83=2,Simulation!$B$5,IF(D83=3,Simulation!$B$6,IF(D83=4,Simulation!$B$7,IF(D83=5,Simulation!$B$8)))))))","v":false},{"$f":"IF(D83=\"Grid\",Simulation!$C$2,IF(D83=\"WU\",Simulation!$C$3,IF(D83=1,Simulation!$C$4,IF(D83=2,Simulation!$C$5,IF(D83=3,Simulation!$C$6,IF(D83=4,Simulation!$C$7,IF(D83=5,Simulation!$C$8)))))))","v":false},0,null,null,null,"",null,null,null,null,0,null,0,0,"Inlap",null,null,"FL"]
[1,73,73,null,{"$f":"IF(D84=\"Grid\",Simulation!$B$2,IF(D84=\"WU\",Simulation!$B$3,IF(D84=1,Simulation!$B$4,IF(D84=2,Simulation!$B$5,IF(D84=3,Simulation!$B$6,IF(D84=4,Simulation!$B$7,IF(D84=5,Simulation!$B$8)))))))","v":false},{"$f":"IF(D84=\"Grid\",Simulation!$C$2,IF(D84=\"WU\",Simulation!$C$3,IF(D84=1,Simulation!$C$4,IF(D84=2,Simulation!$C$5,IF(D84=3,Simulation!$C$6,IF(D84=4,Simulation!$C$7,IF(D84=5,Simulation!$C$8)))))))","v":false},0,null,null,null,"",null,null,null,null,0,null,0,0,"Inlap",null,null,"FL"]
[1,74,74,null,{"$f":"IF(D85=\"Grid\",Simulation!$B$2,IF(D85=\"WU\",Simulation!$B$3,IF(D85=1,Simulation!$B$4,IF(D85=2,Simulation!$B$5,IF(D85=3,Simulation!$B$6,IF(D85=4,Simulation!$B$7,IF(D85=5,Simulation!$B$8)))))))","v":false},{"$f":"IF(D85=\"Grid\",Simulation!$C$2,IF(D85=\"WU\",Simulation!$C$3,IF(D85=1,Simulation!$C$4,IF(D85=2,Simulation!$C$5,IF(D85=3,Simulation!$C$6,IF(D85=4,Simulation!$C$7,IF(D85=5,Simulation!$C$8)))))))","v":false},0,null,null,null,"",null,null,null,null,0,null,0,0,"Inlap",null,null,"FL"]
[1,75,75,null,{"$f":"IF(D86=\"Grid\",Simulation!$B$2,IF(D86=\"WU\",Simulation!$B$3,IF(D86=1,Simulation!$B$4,IF(D86=2,Simulation!$B$5,IF(D86=3,Simulation!$B$6,IF(D86=4,Simulation!$B$7,IF(D86=5,Simulation!$B$8)))))))","v":false},{"$f":"IF(D86=\"Grid\",Simulation!$C$2,IF(D86=\"WU\",Simulation!$C$3,IF(D86=1,Simulation!$C$4,IF(D86=2,Simulation!$C$5,IF(D86=3,Simulation!$C$6,IF(D86=4,Simulation!$C$7,IF(D86=5,Simulation!$C$8)))))))","v":false},0,null,null,null,"",null,null,null,null,0,null,0,0,"Inlap",null,null,"FL"]
[1,76,76,null,{"$f":"IF(D87=\"Grid\",Simulation!$B$2,IF(D87=\"WU\",Simulation!$B$3,IF(D87=1,Simulation!$B$4,IF(D87=2,Simulation!$B$5,IF(D87=3,Simulation!$B$6,IF(D87=4,Simulation!$B$7,IF(D87=5,Simulation!$B$8)))))))","v":false},{"$f":"IF(D87=\"Grid\",Simulation!$C$2,IF(D87=\"WU\",Simulation!$C$3,IF(D87=1,Simulation!$C$4,IF(D87=2,Simulation!$C$5,IF(D87=3,Simulation!$C$6,IF(D87=4,Simulation!$C$7,IF(D87=5,Simulation!$C$8)))))))","v":false},0,null,null,null,"",null,null,null,null,0,null,0,0,"Inlap",null,null,"FL"]
[1,77,77,null,{"$f":"IF(D88=\"Grid\",Simulation!$B$2,IF(D88=\"WU\",Simulation!$B$3,IF(D88=1,Simulation!$B$4,IF(D88=2,Simulation!$B$5,IF(D88=3,Simulation!$B$6,IF(D88=4,Simulation!$B$7,IF(D88=5,Simulation!$B$8)))))))","v":false},{"$f":"IF(D88=\"Grid\",Simulation!$C$2,IF(D88=\"WU\",Simulation!$C$3,IF(D88=1,Simulation!$C$4,IF(D88=2,Simulation!$C$5,IF(D88=3,Simulation!$C$6,IF(D88=4,Simulation!$C$7,IF(D88=5,Simulation!$C$8)))))))","v":false},0,null,null,null,"",null,null,null,null,0,null,0,0,"Inlap",null,null,"FL"]
[1,78,78,null,{"$f":"IF(D89=\"Grid\",Simulation!$B$2,IF(D89=\"WU\",Simulation!$B$3,IF(D89=1,Simulation!$B$4,IF(D89=2,Simulation!$B$5,IF(D89=3,Simulation!$B$6,IF(D89=4,Simulation!$B$7,IF(D89=5,Simulation!$B$8)))))))","v":false},{"$f":"IF(D89=\"Grid\",Simulation!$C$2,IF(D89=\"WU\",Simulation!$C$3,IF(D89=1,Simulation!$C$4,IF(D89=2,Simulation!$C$5,IF(D89=3,Simulation!$C$6,IF(D89=4,Simulation!$C$7,IF(D89=5,Simulation!$C$8)))))))","v":false},0,null,null,null,"",null,null,null,null,0,null,0,0,"Inlap",null,null,"FL"]
[1,79,79,null,{"$f":"IF(D90=\"Grid\",Simulation!$B$2,IF(D90=\"WU\",Simulation!$B$3,IF(D90=1,Simulation!$B$4,IF(D90=2,Simulation!$B$5,IF(D90=3,Simulation!$B$6,IF(D90=4,Simulation!$B$7,IF(D90=5,Simulation!$B$8)))))))","v":false},{"$f":"IF(D90=\"Grid\",Simulation!$C$2,IF(D90=\"WU\",Simulation!$C$3,IF(D90=1,Simulation!$C$4,IF(D90=2,Simulation!$C$5,IF(D90=3,Simulation!$C$6,IF(D90=4,Simulation!$C$7,IF(D90=5,Simulation!$C$8)))))))","v":false},0,null,null,null,"",null,null,null,null,0,null,0,0,"Inlap",null,null,"FL"]
[1,80,80,null,{"$f":"IF(D91=\"Grid\",Simulation!$B$2,IF(D91=\"WU\",Simulation!$B$3,IF(D91=1,Simulation!$B$4,IF(D91=2,Simulation!$B$5,IF(D91=3,Simulation!$B$6,IF(D91=4,Simulation!$B$7,IF(D91=5,Simulation!$B$8)))))))","v":false},{"$f":"IF(D91=\"Grid\",Simulation!$C$2,IF(D91=\"WU\",Simulation!$C$3,IF(D91=1,Simulation!$C$4,IF(D91=2,Simulation!$C$5,IF(D91=3,Simulation!$C$6,IF(D91=4,Simulation!$C$7,IF(D91=5,Simulation!$C$8)))))))","v":false},0,null,null,null,"",null,null,null,null,0,null,0,0,"Inlap",null,null,"FL"]
[1,81,81,null,{"$f":"IF(D92=\"Grid\",Simulation!$B$2,IF(D92=\"WU\",Simulation!$B$3,IF(D92=1,Simulation!$B$4,IF(D92=2,Simulation!$B$5,IF(D92=3,Simulation!$B$6,IF(D92=4,Simulation!$B$7,IF(D92=5,Simulation!$B$8)))))))","v":false},{"$f":"IF(D92=\"Grid\",Simulation!$C$2,IF(D92=\"WU\",Simulation!$C$3,IF(D92=1,Simulation!$C$4,IF(D92=2,Simulation!$C$5,IF(D92=3,Simulation!$C$6,IF(D92=4,Simulation!$C$7,IF(D92=5,Simulation!$C$8)))))))","v":false},0,null,null,null,"",null,null,null,null,0,null,0,0,"Inlap",null,null,"FL"]
[1,82,82,null,{"$f":"IF(D93=\"Grid\",Simulation!$B$2,IF(D93=\"WU\",Simulation!$B$3,IF(D93=1,Simulation!$B$4,IF(D93=2,Simulation!$B$5,IF(D93=3,Simulation!$B$6,IF(D93=4,Simulation!$B$7,IF(D93=5,Simulation!$B$8)))))))","v":false},{"$f":"IF(D93=\"Grid\",Simulation!$C$2,IF(D93=\"WU\",Simulation!$C$3,IF(D93=1,Simulation!$C$4,IF(D93=2,Simulation!$C$5,IF(D93=3,Simulation!$C$6,IF(D93=4,Simulation!$C$7,IF(D93=5,Simulation!$C$8)))))))","v":false},0,null,null,null,"",null,null,null,null,0,null,0,0,"Inlap",null,null,"FL"]
[1,83,83,null,{"$f":"IF(D94=\"Grid\",Simulation!$B$2,IF(D94=\"WU\",Simulation!$B$3,IF(D94=1,Simulation!$B$4,IF(D94=2,Simulation!$B$5,IF(D94=3,Simulation!$B$6,IF(D94=4,Simulation!$B$7,IF(D94=5,Simulation!$B$8)))))))","v":false},{"$f":"IF(D94=\"Grid\",Simulation!$C$2,IF(D94=\"WU\",Simulation!$C$3,IF(D94=1,Simulation!$C$4,IF(D94=2,Simulation!$C$5,IF(D94=3,Simulation!$C$6,IF(D94=4,Simulation!$C$7,IF(D94=5,Simulation!$C$8)))))))","v":false},0,null,null,null,"",null,null,null,null,0,null,0,0,"Inlap",null,null,"FL"]
[1,84,84,null,{"$f":"IF(D95=\"Grid\",Simulation!$B$2,IF(D95=\"WU\",Simulation!$B$3,IF(D95=1,Simulation!$B$4,IF(D95=2,Simulation!$B$5,IF(D95=3,Simulation!$B$6,IF(D95=4,Simulation!$B$7,IF(D95=5,Simulation!$B$8)))))))","v":false},{"$f":"IF(D95=\"Grid\",Simulation!$C$2,IF(D95=\"WU\",Simulation!$C$3,IF(D95=1,Simulation!$C$4,IF(D95=2,Simulation!$C$5,IF(D95=3,Simulation!$C$6,IF(D95=4,Simulation!$C$7,IF(D95=5,Simulation!$C$8)))))))","v":false},0,null,null,null,"",null,null,null,null,0,null,0,0,"Inlap",null,null,"FL"]
[1,85,85,null,{"$f":"IF(D96=\"Grid\",Simulation!$B$2,IF(D96=\"WU\",Simulation!$B$3,IF(D96=1,Simulation!$B$4,IF(D96=2,Simulation!$B$5,IF(D96=3,Simulation!$B$6,IF(D96=4,Simulation!$B$7,IF(D96=5,Simulation!$B$8)))))))","v":false},{"$f":"IF(D96=\"Grid\",Simulation!$C$2,IF(D96=\"WU\",Simulation!$C$3,IF(D96=1,Simulation!$C$4,IF(D96=2,Simulation!$C$5,IF(D96=3,Simulation!$C$6,IF(D96=4,Simulation!$C$7,IF(D96=5,Simulation!$C$8)))))))","v":false},0,null,null,null,"",null,null,null,null,0,null,0,0,"Inlap",null,null,"FL"]
[1,86,86,null,{"$f":"IF(D97=\"Grid\",Simulation!$B$2,IF(D97=\"WU\",Simulation!$B$3,IF(D97=1,Simulation!$B$4,IF(D97=2,Simulation!$B$5,IF(D97=3,Simulation!$B$6,IF(D97=4,Simulation!$B$7,IF(D97=5,Simulation!$B$8)))))))","v":false},{"$f":"IF(D97=\"Grid\",Simulation!$C$2,IF(D97=\"WU\",Simulation!$C$3,IF(D97=1,Simulation!$C$4,IF(D97=2,Simulation!$C$5,IF(D97=3,Simulation!$C$6,IF(D97=4,Simulation!$C$7,IF(D97=5,Simulation!$C$8)))))))","v":false},0,null,null,null,"",null,null,null,null,0,null,0,0,"Inlap",null,null,"FL"]
[1,87,87,null,{"$f":"IF(D98=\"Grid\",Simulation!$B$2,IF(D98=\"WU\",Simulation!$B$3,IF(D98=1,Simulation!$B$4,IF(D98=2,Simulation!$B$5,IF(D98=3,Simulation!$B$6,IF(D98=4,Simulation!$B$7,IF(D98=5,Simulation!$B$8)))))))","v":false},{"$f":"IF(D98=\"Grid\",Simulation!$C$2,IF(D98=\"WU\",Simulation!$C$3,IF(D98=1,Simulation!$C$4,IF(D98=2,Simulation!$C$5,IF(D98=3,Simulation!$C$6,IF(D98=4,Simulation!$C$7,IF(D98=5,Simulation!$C$8)))))))","v":false},0,null,null,null,"",null,null,null,null,0,null,0,0,"Inlap",null,null,"FL"]
[1,88,88,null,{"$f":"IF(D99=\"Grid\",Simulation!$B$2,IF(D99=\"WU\",Simulation!$B$3,IF(D99=1,Simulation!$B$4,IF(D99=2,Simulation!$B$5,IF(D99=3,Simulation!$B$6,IF(D99=4,Simulation!$B$7,IF(D99=5,Simulation!$B$8)))))))","v":false},{"$f":"IF(D99=\"Grid\",Simulation!$C$2,IF(D99=\"WU\",Simulation!$C$3,IF(D99=1,Simulation!$C$4,IF(D99=2,Simulation!$C$5,IF(D99=3,Simulation!$C$6,IF(D99=4,Simulation!$C$7,IF(D99=5,Simulation!$C$8)))))))","v":false},0,null,null,null,"",null,null,null,null,0,null,0,0,"Inlap",null,null,"FL"]
[1,89,89,null,{"$f":"IF(D100=\"Grid\",Simulation!$B$2,IF(D100=\"WU\",Simulation!$B$3,IF(D100=1,Simulation!$B$4,IF(D100=2,Simulation!$B$5,IF(D100=3,Simulation!$B$6,IF(D100=4,Simulation!$B$7,IF(D100=5,Simulation!$B$8)))))))","v":false},{"$f":"IF(D100=\"Grid\",Simulation!$C$2,IF(D100=\"WU\",Simulation!$C$3,IF(D100=1,Simulation!$C$4,IF(D100=2,Simulation!$C$5,IF(D100=3,Simulation!$C$6,IF(D100=4,Simulation!$C$7,IF(D100=5,Simulation!$C$8)))))))","v":false},0,null,null,null,"",null,null,null,null,0,null,0,0,"Inlap",null,null,"FL"]
[1,90,90,null,{"$f":"IF(D101=\"Grid\",Simulation!$B$2,IF(D101=\"WU\",Simulation!$B$3,IF(D101=1,Simulation!$B$4,IF(D101=2,Simulation!$B$5,IF(D101=3,Simulation!$B$6,IF(D101=4,Simulation!$B$7,IF(D101=5,Simulation!$B$8)))))))","v":false},{"$f":"IF(D101=\"Grid\",Simulation!$C$2,IF(D101=\"WU\",Simulation!$C$3,IF(D101=1,Simulation!$C$4,IF(D101=2,Simulation!$C$5,IF(D101=3,Simulation!$C$6,IF(D101=4,Simulation!$C$7,IF(D101=5,Simulation!$C$8)))))))","v":false},0,null,null,null,"",null,null,null,null,0,null,0,0,"Inlap",null,null,"FL"]
[1,91,91,null,{"$f":"IF(D102=\"Grid\",Simulation!$B$2,IF(D102=\"WU\",Simulation!$B$3,IF(D102=1,Simulation!$B$4,IF(D102=2,Simulation!$B$5,IF(D102=3,Simulation!$B$6,IF(D102=4,Simulation!$B$7,IF(D102=5,Simulation!$B$8)))))))","v":false},{"$f":"IF(D102=\"Grid\",Simulation!$C$2,IF(D102=\"WU\",Simulation!$C$3,IF(D102=1,Simulation!$C$4,IF(D102=2,Simulation!$C$5,IF(D102=3,Simulation!$C$6,IF(D102=4,Simulation!$C$7,IF(D102=5,Simulation!$C$8)))))))","v":false},0,null,null,null,"",null,null,null,null,0,null,0,0,"Inlap",null,null,"FL"]
[1,92,92,null,{"$f":"IF(D103=\"Grid\",Simulation!$B$2,IF(D103=\"WU\",Simulation!$B$3,IF(D103=1,Simulation!$B$4,IF(D103=2,Simulation!$B$5,IF(D103=3,Simulation!$B$6,IF(D103=4,Simulation!$B$7,IF(D103=5,Simulation!$B$8)))))))","v":false},{"$f":"IF(D103=\"Grid\",Simulation!$C$2,IF(D103=\"WU\",Simulation!$C$3,IF(D103=1,Simulation!$C$4,IF(D103=2,Simulation!$C$5,IF(D103=3,Simulation!$C$6,IF(D103=4,Simulation!$C$7,IF(D103=5,Simulation!$C$8)))))))","v":false},0,null,null,null,"",null,null,null,null,0,null,0,0,"Inlap",null,null,"FL"]
[1,93,93,null,{"$f":"IF(D104=\"Grid\",Simulation!$B$2,IF(D104=\"WU\",Simulation!$B$3,IF(D104=1,Simulation!$B$4,IF(D104=2,Simulation!$B$5,IF(D104=3,Simulation!$B$6,IF(D104=4,Simulation!$B$7,IF(D104=5,Simulation!$B$8)))))))","v":false},{"$f":"IF(D104=\"Grid\",Simulation!$C$2,IF(D104=\"WU\",Simulation!$C$3,IF(D104=1,Simulation!$C$4,IF(D104=2,Simulation!$C$5,IF(D104=3,Simulation!$C$6,IF(D104=4,Simulation!$C$7,IF(D104=5,Simulation!$C$8)))))))","v":false},0,null,null,null,"",null,null,null,null,0,null,0,0,"Inlap",null,null,"FL"]
[1,94,94,null,{"$f":"IF(D105=\"Grid\",Simulation!$B$2,IF(D105=\"WU\",Simulation!$B$3,IF(D105=1,Simulation!$B$4,IF(D105=2,Simulation!$B$5,IF(D105=3,Simulation!$B$6,IF(D105=4,Simulation!$B$7,IF(D105=5,Simulation!$B$8)))))))","v":false},{"$f":"IF(D105=\"Grid\",Simulation!$C$2,IF(D105=\"WU\",Simulation!$C$3,IF(D105=1,Simulation!$C$4,IF(D105=2,Simulation!$C$5,IF(D105=3,Simulation!$C$6,IF(D105=4,Simulation!$C$7,IF(D105=5,Simulation!$C$8)))))))","v":false},0,null,null,null,"",null,null,null,null,0,null,0,0,"Inlap",null,null,"FL"]
[1,95,95,null,{"$f":"IF(D106=\"Grid\",Simulation!$B$2,IF(D106=\"WU\",Simulation!$B$3,IF(D106=1,Simulation!$B$4,IF(D106=2,Simulation!$B$5,IF(D106=3,Simulation!$B$6,IF(D106=4,Simulation!$B$7,IF(D106=5,Simulation!$B$8)))))))","v":false},{"$f":"IF(D106=\"Grid\",Simulation!$C$2,IF(D106=\"WU\",Simulation!$C$3,IF(D106=1,Simulation!$C$4,IF(D106=2,Simulation!$C$5,IF(D106=3,Simulation!$C$6,IF(D106=4,Simulation!$C$7,IF(D106=5,Simulation!$C$8)))))))","v":false},0,null,null,null,"",null,null,null,null,0,null,0,0,"Inlap",null,null,"FL"]
[1,96,96,null,{"$f":"IF(D107=\"Grid\",Simulation!$B$2,IF(D107=\"WU\",Simulation!$B$3,IF(D107=1,Simulation!$B$4,IF(D107=2,Simulation!$B$5,IF(D107=3,Simulation!$B$6,IF(D107=4,Simulation!$B$7,IF(D107=5,Simulation!$B$8)))))))","v":false},{"$f":"IF(D107=\"Grid\",Simulation!$C$2,IF(D107=\"WU\",Simulation!$C$3,IF(D107=1,Simulation!$C$4,IF(D107=2,Simulation!$C$5,IF(D107=3,Simulation!$C$6,IF(D107=4,Simulation!$C$7,IF(D107=5,Simulation!$C$8)))))))","v":false},0,null,null,null,"",null,null,null,null,0,null,0,0,"Inlap",null,null,"FL"]
[1,97,97,null,{"$f":"IF(D108=\"Grid\",Simulation!$B$2,IF(D108=\"WU\",Simulation!$B$3,IF(D108=1,Simulation!$B$4,IF(D108=2,Simulation!$B$5,IF(D108=3,Simulation!$B$6,IF(D108=4,Simulation!$B$7,IF(D108=5,Simulation!$B$8)))))))","v":false},{"$f":"IF(D108=\"Grid\",Simulation!$C$2,IF(D108=\"WU\",Simulation!$C$3,IF(D108=1,Simulation!$C$4,IF(D108=2,Simulation!$C$5,IF(D108=3,Simulation!$C$6,IF(D108=4,Simulation!$C$7,IF(D108=5,Simulation!$C$8)))))))","v":false},0,null,null,null,"",null,null,null,null,0,null,0,0,"Inlap",null,null,"FL"]
[1,98,98,null,{"$f":"IF(D109=\"Grid\",Simulation!$B$2,IF(D109=\"WU\",Simulation!$B$3,IF(D109=1,Simulation!$B$4,IF(D109=2,Simulation!$B$5,IF(D109=3,Simulation!$B$6,IF(D109=4,Simulation!$B$7,IF(D109=5,Simulation!$B$8)))))))","v":false},{"$f":"IF(D109=\"Grid\",Simulation!$C$2,IF(D109=\"WU\",Simulation!$C$3,IF(D109=1,Simulation!$C$4,IF(D109=2,Simulation!$C$5,IF(D109=3,Simulation!$C$6,IF(D109=4,Simulation!$C$7,IF(D109=5,Simulation!$C$8)))))))","v":false},0,null,null,null,"",null,null,null,null,0,null,0,0,"Inlap",null,null,"FL"]
[1,99,99,null,{"$f":"IF(D110=\"Grid\",Simulation!$B$2,IF(D110=\"WU\",Simulation!$B$3,IF(D110=1,Simulation!$B$4,IF(D110=2,Simulation!$B$5,IF(D110=3,Simulation!$B$6,IF(D110=4,Simulation!$B$7,IF(D110=5,Simulation!$B$8)))))))","v":false},{"$f":"IF(D110=\"Grid\",Simulation!$C$2,IF(D110=\"WU\",Simulation!$C$3,IF(D110=1,Simulation!$C$4,IF(D110=2,Simulation!$C$5,IF(D110=3,Simulation!$C$6,IF(D110=4,Simulation!$C$7,IF(D110=5,Simulation!$C$8)))))))","v":false},0,null,null,null,"",null,null,null,null,{"$f":"IF(O110>0,Q110,Q110-Q109)","v":0},null,{"$f":"IF(O110>0,Q110,Q110-Q109)","v":0},0,"Inlap",null,null,"FL"]
[1,100,100,null,{"$f":"IF(D111=\"Grid\",Simulation!$B$2,IF(D111=\"WU\",Simulation!$B$3,IF(D111=1,Simulation!$B$4,IF(D111=2,Simulation!$B$5,IF(D111=3,Simulation!$B$6,IF(D111=4,Simulation!$B$7,IF(D111=5,Simulation!$B$8)))))))","v":false},{"$f":"IF(D111=\"Grid\",Simulation!$C$2,IF(D111=\"WU\",Simulation!$C$3,IF(D111=1,Simulation!$C$4,IF(D111=2,Simulation!$C$5,IF(D111=3,Simulation!$C$6,IF(D111=4,Simulation!$C$7,IF(D111=5,Simulation!$C$8)))))))","v":false},0,null,null,null,"",null,null,null,null,0,null,0,0,"Inlap",null,null,"FL"]
[1,101,101,null,{"$f":"IF(D112=\"Grid\",Simulation!$B$2,IF(D112=\"WU\",Simulation!$B$3,IF(D112=1,Simulation!$B$4,IF(D112=2,Simulation!$B$5,IF(D112=3,Simulation!$B$6,IF(D112=4,Simulation!$B$7,IF(D112=5,Simulation!$B$8)))))))","v":false},{"$f":"IF(D112=\"Grid\",Simulation!$C$2,IF(D112=\"WU\",Simulation!$C$3,IF(D112=1,Simulation!$C$4,IF(D112=2,Simulation!$C$5,IF(D112=3,Simulation!$C$6,IF(D112=4,Simulation!$C$7,IF(D112=5,Simulation!$C$8)))))))","v":false},0,null,null,null,"",null,null,null,null,0,null,0,0,"Inlap",null,null,"FL"]
[1,102,102,null,{"$f":"IF(D113=\"Grid\",Simulation!$B$2,IF(D113=\"WU\",Simulation!$B$3,IF(D113=1,Simulation!$B$4,IF(D113=2,Simulation!$B$5,IF(D113=3,Simulation!$B$6,IF(D113=4,Simulation!$B$7,IF(D113=5,Simulation!$B$8)))))))","v":false},{"$f":"IF(D113=\"Grid\",Simulation!$C$2,IF(D113=\"WU\",Simulation!$C$3,IF(D113=1,Simulation!$C$4,IF(D113=2,Simulation!$C$5,IF(D113=3,Simulation!$C$6,IF(D113=4,Simulation!$C$7,IF(D113=5,Simulation!$C$8)))))))","v":false},0,null,null,null,"",null,null,null,null,0,null,0,0,"Inlap",null,null,"FL"]
[1,103,103,null,{"$f":"IF(D114=\"Grid\",Simulation!$B$2,IF(D114=\"WU\",Simulation!$B$3,IF(D114=1,Simulation!$B$4,IF(D114=2,Simulation!$B$5,IF(D114=3,Simulation!$B$6,IF(D114=4,Simulation!$B$7,IF(D114=5,Simulation!$B$8)))))))","v":false},{"$f":"IF(D114=\"Grid\",Simulation!$C$2,IF(D114=\"WU\",Simulation!$C$3,IF(D114=1,Simulation!$C$4,IF(D114=2,Simulation!$C$5,IF(D114=3,Simulation!$C$6,IF(D114=4,Simulation!$C$7,IF(D114=5,Simulation!$C$8)))))))","v":false},0,null,null,null,"",null,null,null,null,0,null,0,0,"Inlap",null,null,"FL"]
[1,104,104,null,{"$f":"IF(D115=\"Grid\",Simulation!$B$2,IF(D115=\"WU\",Simulation!$B$3,IF(D115=1,Simulation!$B$4,IF(D115=2,Simulation!$B$5,IF(D115=3,Simulation!$B$6,IF(D115=4,Simulation!$B$7,IF(D115=5,Simulation!$B$8)))))))","v":false},{"$f":"IF(D115=\"Grid\",Simulation!$C$2,IF(D115=\"WU\",Simulation!$C$3,IF(D115=1,Simulation!$C$4,IF(D115=2,Simulation!$C$5,IF(D115=3,Simulation!$C$6,IF(D115=4,Simulation!$C$7,IF(D115=5,Simulation!$C$8)))))))","v":false},0,null,null,null,"",null,null,null,null,0,null,0,0,"Inlap",null,null,"FL"]
[1,105,105,null,{"$f":"IF(D116=\"Grid\",Simulation!$B$2,IF(D116=\"WU\",Simulation!$B$3,IF(D116=1,Simulation!$B$4,IF(D116=2,Simulation!$B$5,IF(D116=3,Simulation!$B$6,IF(D116=4,Simulation!$B$7,IF(D116=5,Simulation!$B$8)))))))","v":false},{"$f":"IF(D116=\"Grid\",Simulation!$C$2,IF(D116=\"WU\",Simulation!$C$3,IF(D116=1,Simulation!$C$4,IF(D116=2,Simulation!$C$5,IF(D116=3,Simulation!$C$6,IF(D116=4,Simulation!$C$7,IF(D116=5,Simulation!$C$8)))))))","v":false},0,null,null,null,"",null,null,null,null,0,null,0,0,"Inlap",null,null,"FL"]
[1,106,106,null,{"$f":"IF(D117=\"Grid\",Simulation!$B$2,IF(D117=\"WU\",Simulation!$B$3,IF(D117=1,Simulation!$B$4,IF(D117=2,Simulation!$B$5,IF(D117=3,Simulation!$B$6,IF(D117=4,Simulation!$B$7,IF(D117=5,Simulation!$B$8)))))))","v":false},{"$f":"IF(D117=\"Grid\",Simulation!$C$2,IF(D117=\"WU\",Simulation!$C$3,IF(D117=1,Simulation!$C$4,IF(D117=2,Simulation!$C$5,IF(D117=3,Simulation!$C$6,IF(D117=4,Simulation!$C$7,IF(D117=5,Simulation!$C$8)))))))","v":false},0,null,null,null,"",null,null,null,null,0,null,0,0,"Inlap",null,null,"FL"]
[1,107,107,null,{"$f":"IF(D118=\"Grid\",Simulation!$B$2,IF(D118=\"WU\",Simulation!$B$3,IF(D118=1,Simulation!$B$4,IF(D118=2,Simulation!$B$5,IF(D118=3,Simulation!$B$6,IF(D118=4,Simulation!$B$7,IF(D118=5,Simulation!$B$8)))))))","v":false},{"$f":"IF(D118=\"Grid\",Simulation!$C$2,IF(D118=\"WU\",Simulation!$C$3,IF(D118=1,Simulation!$C$4,IF(D118=2,Simulation!$C$5,IF(D118=3,Simulation!$C$6,IF(D118=4,Simulation!$C$7,IF(D118=5,Simulation!$C$8)))))))","v":false},0,null,null,null,"",null,null,null,null,0,null,0,0,"Inlap",null,null,"FL"]
[1,108,108,null,{"$f":"IF(D119=\"Grid\",Simulation!$B$2,IF(D119=\"WU\",Simulation!$B$3,IF(D119=1,Simulation!$B$4,IF(D119=2,Simulation!$B$5,IF(D119=3,Simulation!$B$6,IF(D119=4,Simulation!$B$7,IF(D119=5,Simulation!$B$8)))))))","v":false},{"$f":"IF(D119=\"Grid\",Simulation!$C$2,IF(D119=\"WU\",Simulation!$C$3,IF(D119=1,Simulation!$C$4,IF(D119=2,Simulation!$C$5,IF(D119=3,Simulation!$C$6,IF(D119=4,Simulation!$C$7,IF(D119=5,Simulation!$C$8)))))))","v":false},0,null,null,null,"",null,null,null,null,0,null,0,0,"Inlap",null,null,"FL"]
[1,109,109,null,{"$f":"IF(D120=\"Grid\",Simulation!$B$2,IF(D120=\"WU\",Simulation!$B$3,IF(D120=1,Simulation!$B$4,IF(D120=2,Simulation!$B$5,IF(D120=3,Simulation!$B$6,IF(D120=4,Simulation!$B$7,IF(D120=5,Simulation!$B$8)))))))","v":false},{"$f":"IF(D120=\"Grid\",Simulation!$C$2,IF(D120=\"WU\",Simulation!$C$3,IF(D120=1,Simulation!$C$4,IF(D120=2,Simulation!$C$5,IF(D120=3,Simulation!$C$6,IF(D120=4,Simulation!$C$7,IF(D120=5,Simulation!$C$8)))))))","v":false},0,null,null,null,"",null,null,null,null,0,null,0,0,"Inlap",null,null,"FL"]
[1,110,110,null,{"$f":"IF(D121=\"Grid\",Simulation!$B$2,IF(D121=\"WU\",Simulation!$B$3,IF(D121=1,Simulation!$B$4,IF(D121=2,Simulation!$B$5,IF(D121=3,Simulation!$B$6,IF(D121=4,Simulation!$B$7,IF(D121=5,Simulation!$B$8)))))))","v":false},{"$f":"IF(D121=\"Grid\",Simulation!$C$2,IF(D121=\"WU\",Simulation!$C$3,IF(D121=1,Simulation!$C$4,IF(D121=2,Simulation!$C$5,IF(D121=3,Simulation!$C$6,IF(D121=4,Simulation!$C$7,IF(D121=5,Simulation!$C$8)))))))","v":false},0,null,null,null,"",null,null,null,null,0,null,0,0,"Inlap",null,null,"FL"]
[1,111,111,null,{"$f":"IF(D122=\"Grid\",Simulation!$B$2,IF(D122=\"WU\",Simulation!$B$3,IF(D122=1,Simulation!$B$4,IF(D122=2,Simulation!$B$5,IF(D122=3,Simulation!$B$6,IF(D122=4,Simulation!$B$7,IF(D122=5,Simulation!$B$8)))))))","v":false},{"$f":"IF(D122=\"Grid\",Simulation!$C$2,IF(D122=\"WU\",Simulation!$C$3,IF(D122=1,Simulation!$C$4,IF(D122=2,Simulation!$C$5,IF(D122=3,Simulation!$C$6,IF(D122=4,Simulation!$C$7,IF(D122=5,Simulation!$C$8)))))))","v":false},0,null,null,null,"",null,null,null,null,0,null,0,0,"Inlap",null,null,"FL"]
[1,112,112,null,{"$f":"IF(D123=\"Grid\",Simulation!$B$2,IF(D123=\"WU\",Simulation!$B$3,IF(D123=1,Simulation!$B$4,IF(D123=2,Simulation!$B$5,IF(D123=3,Simulation!$B$6,IF(D123=4,Simulation!$B$7,IF(D123=5,Simulation!$B$8)))))))","v":false},{"$f":"IF(D123=\"Grid\",Simulation!$C$2,IF(D123=\"WU\",Simulation!$C$3,IF(D123=1,Simulation!$C$4,IF(D123=2,Simulation!$C$5,IF(D123=3,Simulation!$C$6,IF(D123=4,Simulation!$C$7,IF(D123=5,Simulation!$C$8)))))))","v":false},0,null,null,null,"",null,null,null,null,0,null,0,0,"Inlap",null,null,"FL"]
[1,113,113,null,{"$f":"IF(D124=\"Grid\",Simulation!$B$2,IF(D124=\"WU\",Simulation!$B$3,IF(D124=1,Simulation!$B$4,IF(D124=2,Simulation!$B$5,IF(D124=3,Simulation!$B$6,IF(D124=4,Simulation!$B$7,IF(D124=5,Simulation!$B$8)))))))","v":false},{"$f":"IF(D124=\"Grid\",Simulation!$C$2,IF(D124=\"WU\",Simulation!$C$3,IF(D124=1,Simulation!$C$4,IF(D124=2,Simulation!$C$5,IF(D124=3,Simulation!$C$6,IF(D124=4,Simulation!$C$7,IF(D124=5,Simulation!$C$8)))))))","v":false},0,null,null,null,"",null,null,null,null,0,null,0,0,"Inlap",null,null,"FL"]
[1,114,114,null,{"$f":"IF(D125=\"Grid\",Simulation!$B$2,IF(D125=\"WU\",Simulation!$B$3,IF(D125=1,Simulation!$B$4,IF(D125=2,Simulation!$B$5,IF(D125=3,Simulation!$B$6,IF(D125=4,Simulation!$B$7,IF(D125=5,Simulation!$B$8)))))))","v":false},{"$f":"IF(D125=\"Grid\",Simulation!$C$2,IF(D125=\"WU\",Simulation!$C$3,IF(D125=1,Simulation!$C$4,IF(D125=2,Simulation!$C$5,IF(D125=3,Simulation!$C$6,IF(D125=4,Simulation!$C$7,IF(D125=5,Simulation!$C$8)))))))","v":false},0,null,null,null,"",null,null,null,null,0,null,0,0,"Inlap",null,null,"FL"]
[1,115,115,null,{"$f":"IF(D126=\"Grid\",Simulation!$B$2,IF(D126=\"WU\",Simulation!$B$3,IF(D126=1,Simulation!$B$4,IF(D126=2,Simulation!$B$5,IF(D126=3,Simulation!$B$6,IF(D126=4,Simulation!$B$7,IF(D126=5,Simulation!$B$8)))))))","v":false},{"$f":"IF(D126=\"Grid\",Simulation!$C$2,IF(D126=\"WU\",Simulation!$C$3,IF(D126=1,Simulation!$C$4,IF(D126=2,Simulation!$C$5,IF(D126=3,Simulation!$C$6,IF(D126=4,Simulation!$C$7,IF(D126=5,Simulation!$C$8)))))))","v":false},0,null,null,null,"",null,null,null,null,0,null,0,0,"Inlap",null,null,"FL"]
[1,116,116,null,{"$f":"IF(D127=\"Grid\",Simulation!$B$2,IF(D127=\"WU\",Simulation!$B$3,IF(D127=1,Simulation!$B$4,IF(D127=2,Simulation!$B$5,IF(D127=3,Simulation!$B$6,IF(D127=4,Simulation!$B$7,IF(D127=5,Simulation!$B$8)))))))","v":false},{"$f":"IF(D127=\"Grid\",Simulation!$C$2,IF(D127=\"WU\",Simulation!$C$3,IF(D127=1,Simulation!$C$4,IF(D127=2,Simulation!$C$5,IF(D127=3,Simulation!$C$6,IF(D127=4,Simulation!$C$7,IF(D127=5,Simulation!$C$8)))))))","v":false},0,null,null,null,"",null,null,null,null,0,null,0,0,"Inlap",null,null,"FL"]
[1,117,117,null,{"$f":"IF(D128=\"Grid\",Simulation!$B$2,IF(D128=\"WU\",Simulation!$B$3,IF(D128=1,Simulation!$B$4,IF(D128=2,Simulation!$B$5,IF(D128=3,Simulation!$B$6,IF(D128=4,Simulation!$B$7,IF(D128=5,Simulation!$B$8)))))))","v":false},{"$f":"IF(D128=\"Grid\",Simulation!$C$2,IF(D128=\"WU\",Simulation!$C$3,IF(D128=1,Simulation!$C$4,IF(D128=2,Simulation!$C$5,IF(D128=3,Simulation!$C$6,IF(D128=4,Simulation!$C$7,IF(D128=5,Simulation!$C$8)))))))","v":false},0,null,null,null,"",null,null,null,null,0,null,0,0,"Inlap",null,null,"FL"]
[1,118,118,null,{"$f":"IF(D129=\"Grid\",Simulation!$B$2,IF(D129=\"WU\",Simulation!$B$3,IF(D129=1,Simulation!$B$4,IF(D129=2,Simulation!$B$5,IF(D129=3,Simulation!$B$6,IF(D129=4,Simulation!$B$7,IF(D129=5,Simulation!$B$8)))))))","v":false},{"$f":"IF(D129=\"Grid\",Simulation!$C$2,IF(D129=\"WU\",Simulation!$C$3,IF(D129=1,Simulation!$C$4,IF(D129=2,Simulation!$C$5,IF(D129=3,Simulation!$C$6,IF(D129=4,Simulation!$C$7,IF(D129=5,Simulation!$C$8)))))))","v":false},0,null,null,null,"",null,null,null,null,0,null,0,0,"Inlap",null,null,"FL"]
[1,119,119,null,{"$f":"IF(D130=\"Grid\",Simulation!$B$2,IF(D130=\"WU\",Simulation!$B$3,IF(D130=1,Simulation!$B$4,IF(D130=2,Simulation!$B$5,IF(D130=3,Simulation!$B$6,IF(D130=4,Simulation!$B$7,IF(D130=5,Simulation!$B$8)))))))","v":false},{"$f":"IF(D130=\"Grid\",Simulation!$C$2,IF(D130=\"WU\",Simulation!$C$3,IF(D130=1,Simulation!$C$4,IF(D130=2,Simulation!$C$5,IF(D130=3,Simulation!$C$6,IF(D130=4,Simulation!$C$7,IF(D130=5,Simulation!$C$8)))))))","v":false},0,null,null,null,"",null,null,null,null,0,null,0,0,"Inlap",null,null,"FL"]
[1,120,120,null,{"$f":"IF(D131=\"Grid\",Simulation!$B$2,IF(D131=\"WU\",Simulation!$B$3,IF(D131=1,Simulation!$B$4,IF(D131=2,Simulation!$B$5,IF(D131=3,Simulation!$B$6,IF(D131=4,Simulation!$B$7,IF(D131=5,Simulation!$B$8)))))))","v":false},{"$f":"IF(D131=\"Grid\",Simulation!$C$2,IF(D131=\"WU\",Simulation!$C$3,IF(D131=1,Simulation!$C$4,IF(D131=2,Simulation!$C$5,IF(D131=3,Simulation!$C$6,IF(D131=4,Simulation!$C$7,IF(D131=5,Simulation!$C$8)))))))","v":false},0,null,null,null,"",null,null,null,null,0,null,0,0,"Inlap",null,null,"FL"]
[1,121,121,null,{"$f":"IF(D132=\"Grid\",Simulation!$B$2,IF(D132=\"WU\",Simulation!$B$3,IF(D132=1,Simulation!$B$4,IF(D132=2,Simulation!$B$5,IF(D132=3,Simulation!$B$6,IF(D132=4,Simulation!$B$7,IF(D132=5,Simulation!$B$8)))))))","v":false},{"$f":"IF(D132=\"Grid\",Simulation!$C$2,IF(D132=\"WU\",Simulation!$C$3,IF(D132=1,Simulation!$C$4,IF(D132=2,Simulation!$C$5,IF(D132=3,Simulation!$C$6,IF(D132=4,Simulation!$C$7,IF(D132=5,Simulation!$C$8)))))))","v":false},0,null,null,null,"",null,null,null,null,0,null,0,0,"Inlap",null,null,"FL"]
[1,122,122,null,{"$f":"IF(D133=\"Grid\",Simulation!$B$2,IF(D133=\"WU\",Simulation!$B$3,IF(D133=1,Simulation!$B$4,IF(D133=2,Simulation!$B$5,IF(D133=3,Simulation!$B$6,IF(D133=4,Simulation!$B$7,IF(D133=5,Simulation!$B$8)))))))","v":false},{"$f":"IF(D133=\"Grid\",Simulation!$C$2,IF(D133=\"WU\",Simulation!$C$3,IF(D133=1,Simulation!$C$4,IF(D133=2,Simulation!$C$5,IF(D133=3,Simulation!$C$6,IF(D133=4,Simulation!$C$7,IF(D133=5,Simulation!$C$8)))))))","v":false},0,null,null,null,"",null,null,null,null,0,null,0,0,"Inlap",null,null,"FL"]
[1,123,123,null,{"$f":"IF(D134=\"Grid\",Simulation!$B$2,IF(D134=\"WU\",Simulation!$B$3,IF(D134=1,Simulation!$B$4,IF(D134=2,Simulation!$B$5,IF(D134=3,Simulation!$B$6,IF(D134=4,Simulation!$B$7,IF(D134=5,Simulation!$B$8)))))))","v":false},{"$f":"IF(D134=\"Grid\",Simulation!$C$2,IF(D134=\"WU\",Simulation!$C$3,IF(D134=1,Simulation!$C$4,IF(D134=2,Simulation!$C$5,IF(D134=3,Simulation!$C$6,IF(D134=4,Simulation!$C$7,IF(D134=5,Simulation!$C$8)))))))","v":false},0,null,null,null,"",null,null,null,null,0,null,0,0,"Inlap",null,null,"FL"]
[1,124,124,null,{"$f":"IF(D135=\"Grid\",Simulation!$B$2,IF(D135=\"WU\",Simulation!$B$3,IF(D135=1,Simulation!$B$4,IF(D135=2,Simulation!$B$5,IF(D135=3,Simulation!$B$6,IF(D135=4,Simulation!$B$7,IF(D135=5,Simulation!$B$8)))))))","v":false},{"$f":"IF(D135=\"Grid\",Simulation!$C$2,IF(D135=\"WU\",Simulation!$C$3,IF(D135=1,Simulation!$C$4,IF(D135=2,Simulation!$C$5,IF(D135=3,Simulation!$C$6,IF(D135=4,Simulation!$C$7,IF(D135=5,Simulation!$C$8)))))))","v":false},0,null,null,null,"",null,null,null,null,0,null,0,0,"Inlap",null,null,"FL"]
[1,125,125,null,{"$f":"IF(D136=\"Grid\",Simulation!$B$2,IF(D136=\"WU\",Simulation!$B$3,IF(D136=1,Simulation!$B$4,IF(D136=2,Simulation!$B$5,IF(D136=3,Simulation!$B$6,IF(D136=4,Simulation!$B$7,IF(D136=5,Simulation!$B$8)))))))","v":false},{"$f":"IF(D136=\"Grid\",Simulation!$C$2,IF(D136=\"WU\",Simulation!$C$3,IF(D136=1,Simulation!$C$4,IF(D136=2,Simulation!$C$5,IF(D136=3,Simulation!$C$6,IF(D136=4,Simulation!$C$7,IF(D136=5,Simulation!$C$8)))))))","v":false},0,null,null,null,"",null,null,null,null,0,null,0,0,"Inlap",null,null,"FL"]
[1,126,126,null,{"$f":"IF(D137=\"Grid\",Simulation!$B$2,IF(D137=\"WU\",Simulation!$B$3,IF(D137=1,Simulation!$B$4,IF(D137=2,Simulation!$B$5,IF(D137=3,Simulation!$B$6,IF(D137=4,Simulation!$B$7,IF(D137=5,Simulation!$B$8)))))))","v":false},{"$f":"IF(D137=\"Grid\",Simulation!$C$2,IF(D137=\"WU\",Simulation!$C$3,IF(D137=1,Simulation!$C$4,IF(D137=2,Simulation!$C$5,IF(D137=3,Simulation!$C$6,IF(D137=4,Simulation!$C$7,IF(D137=5,Simulation!$C$8)))))))","v":false},0,null,null,null,"",null,null,null,null,0,null,0,0,"Inlap",null,null,"FL"]
[1,127,127,null,{"$f":"IF(D138=\"Grid\",Simulation!$B$2,IF(D138=\"WU\",Simulation!$B$3,IF(D138=1,Simulation!$B$4,IF(D138=2,Simulation!$B$5,IF(D138=3,Simulation!$B$6,IF(D138=4,Simulation!$B$7,IF(D138=5,Simulation!$B$8)))))))","v":false},{"$f":"IF(D138=\"Grid\",Simulation!$C$2,IF(D138=\"WU\",Simulation!$C$3,IF(D138=1,Simulation!$C$4,IF(D138=2,Simulation!$C$5,IF(D138=3,Simulation!$C$6,IF(D138=4,Simulation!$C$7,IF(D138=5,Simulation!$C$8)))))))","v":false},0,null,null,null,"",null,null,null,null,0,null,0,0,"Inlap",null,null,"FL"]
[1,128,128,null,{"$f":"IF(D139=\"Grid\",Simulation!$B$2,IF(D139=\"WU\",Simulation!$B$3,IF(D139=1,Simulation!$B$4,IF(D139=2,Simulation!$B$5,IF(D139=3,Simulation!$B$6,IF(D139=4,Simulation!$B$7,IF(D139=5,Simulation!$B$8)))))))","v":false},{"$f":"IF(D139=\"Grid\",Simulation!$C$2,IF(D139=\"WU\",Simulation!$C$3,IF(D139=1,Simulation!$C$4,IF(D139=2,Simulation!$C$5,IF(D139=3,Simulation!$C$6,IF(D139=4,Simulation!$C$7,IF(D139=5,Simulation!$C$8)))))))","v":false},0,null,null,null,"",null,null,null,null,0,null,0,0,"Inlap",null,null,"FL"]
[{"$f":"IF(O140>0,A139+1,A139)","v":1},129,129,null,{"$f":"IF(D140=\"Grid\",Simulation!$B$2,IF(D140=\"WU\",Simulation!$B$3,IF(D140=1,Simulation!$B$4,IF(D140=2,Simulation!$B$5,IF(D140=3,Simulation!$B$6,IF(D140=4,Simulation!$B$7,IF(D140=5,Simulation!$B$8)))))))","v":false},{"$f":"IF(D140=\"Grid\",Simulation!$C$2,IF(D140=\"WU\",Simulation!$C$3,IF(D140=1,Simulation!$C$4,IF(D140=2,Simulation!$C$5,IF(D140=3,Simulation!$C$6,IF(D140=4,Simulation!$C$7,IF(D140=5,Simulation!$C$8)))))))","v":false},{"$f":"G139+O139-P139","v":0},null,null,null,"",null,null,null,null,0,null,0,{"$f":"IF(O140>0,O140+S139-Q140,S139-P140)","v":0},{"$f":"IF(S140<=F140,\"Inlap\",IF(S140<=2*F140,\"Call: In this lap!\",IF(S140<=3*F140,\"Show in but don't call!\",\"\")))","v":"Inlap"},null,null,{"$f":"IF(J140=$Q$2,\"FL\",\"\")","v":"FL"}]
[1,130,130,null,{"$f":"IF(D141=\"Grid\",Simulation!$B$2,IF(D141=\"WU\",Simulation!$B$3,IF(D141=1,Simulation!$B$4,IF(D141=2,Simulation!$B$5,IF(D141=3,Simulation!$B$6,IF(D141=4,Simulation!$B$7,IF(D141=5,Simulation!$B$8)))))))","v":false},{"$f":"IF(D141=\"Grid\",Simulation!$C$2,IF(D141=\"WU\",Simulation!$C$3,IF(D141=1,Simulation!$C$4,IF(D141=2,Simulation!$C$5,IF(D141=3,Simulation!$C$6,IF(D141=4,Simulation!$C$7,IF(D141=5,Simulation!$C$8)))))))","v":false},0,null,null,null,{"$f":"IF(J141<>0,K140,\"\")","v":""},null,null,null,null,0,null,0,0,"Inlap",null,null,"FL"]
[1,131,{"$f":"IF(O142=\"\",C141+1,\"1\")","v":131},null,{"$f":"IF(D142=\"Grid\",Simulation!$B$2,IF(D142=\"WU\",Simulation!$B$3,IF(D142=1,Simulation!$B$4,IF(D142=2,Simulation!$B$5,IF(D142=3,Simulation!$B$6,IF(D142=4,Simulation!$B$7,IF(D142=5,Simulation!$B$8)))))))","v":false},{"$f":"IF(D142=\"Grid\",Simulation!$C$2,IF(D142=\"WU\",Simulation!$C$3,IF(D142=1,Simulation!$C$4,IF(D142=2,Simulation!$C$5,IF(D142=3,Simulation!$C$6,IF(D142=4,Simulation!$C$7,IF(D142=5,Simulation!$C$8)))))))","v":false},0,null,null,null,"",null,null,null,null,0,null,0,0,"Inlap",null,null,"FL"]
[1,132,132,null,{"$f":"IF(D143=\"Grid\",Simulation!$B$2,IF(D143=\"WU\",Simulation!$B$3,IF(D143=1,Simulation!$B$4,IF(D143=2,Simulation!$B$5,IF(D143=3,Simulation!$B$6,IF(D143=4,Simulation!$B$7,IF(D143=5,Simulation!$B$8)))))))","v":false},{"$f":"IF(D143=\"Grid\",Simulation!$C$2,IF(D143=\"WU\",Simulation!$C$3,IF(D143=1,Simulation!$C$4,IF(D143=2,Simulation!$C$5,IF(D143=3,Simulation!$C$6,IF(D143=4,Simulation!$C$7,IF(D143=5,Simulation!$C$8)))))))","v":false},0,null,null,null,"",null,null,null,null,0,null,0,0,"Inlap",null,null,"FL"]
[1,133,133,null,{"$f":"IF(D144=\"Grid\",Simulation!$B$2,IF(D144=\"WU\",Simulation!$B$3,IF(D144=1,Simulation!$B$4,IF(D144=2,Simulation!$B$5,IF(D144=3,Simulation!$B$6,IF(D144=4,Simulation!$B$7,IF(D144=5,Simulation!$B$8)))))))","v":false},{"$f":"IF(D144=\"Grid\",Simulation!$C$2,IF(D144=\"WU\",Simulation!$C$3,IF(D144=1,Simulation!$C$4,IF(D144=2,Simulation!$C$5,IF(D144=3,Simulation!$C$6,IF(D144=4,Simulation!$C$7,IF(D144=5,Simulation!$C$8)))))))","v":false},0,null,null,null,"",null,null,null,null,0,null,0,0,"Inlap",null,null,"FL"]
[1,134,134,null,{"$f":"IF(D145=\"Grid\",Simulation!$B$2,IF(D145=\"WU\",Simulation!$B$3,IF(D145=1,Simulation!$B$4,IF(D145=2,Simulation!$B$5,IF(D145=3,Simulation!$B$6,IF(D145=4,Simulation!$B$7,IF(D145=5,Simulation!$B$8)))))))","v":false},{"$f":"IF(D145=\"Grid\",Simulation!$C$2,IF(D145=\"WU\",Simulation!$C$3,IF(D145=1,Simulation!$C$4,IF(D145=2,Simulation!$C$5,IF(D145=3,Simulation!$C$6,IF(D145=4,Simulation!$C$7,IF(D145=5,Simulation!$C$8)))))))","v":false},0,null,null,null,"",null,null,null,null,0,null,0,0,"Inlap",null,null,"FL"]
[1,135,135,null,{"$f":"IF(D146=\"Grid\",Simulation!$B$2,IF(D146=\"WU\",Simulation!$B$3,IF(D146=1,Simulation!$B$4,IF(D146=2,Simulation!$B$5,IF(D146=3,Simulation!$B$6,IF(D146=4,Simulation!$B$7,IF(D146=5,Simulation!$B$8)))))))","v":false},{"$f":"IF(D146=\"Grid\",Simulation!$C$2,IF(D146=\"WU\",Simulation!$C$3,IF(D146=1,Simulation!$C$4,IF(D146=2,Simulation!$C$5,IF(D146=3,Simulation!$C$6,IF(D146=4,Simulation!$C$7,IF(D146=5,Simulation!$C$8)))))))","v":false},0,null,null,null,"",null,null,null,null,0,null,0,0,"Inlap",null,null,"FL"]
[1,136,136,null,{"$f":"IF(D147=\"Grid\",Simulation!$B$2,IF(D147=\"WU\",Simulation!$B$3,IF(D147=1,Simulation!$B$4,IF(D147=2,Simulation!$B$5,IF(D147=3,Simulation!$B$6,IF(D147=4,Simulation!$B$7,IF(D147=5,Simulation!$B$8)))))))","v":false},{"$f":"IF(D147=\"Grid\",Simulation!$C$2,IF(D147=\"WU\",Simulation!$C$3,IF(D147=1,Simulation!$C$4,IF(D147=2,Simulation!$C$5,IF(D147=3,Simulation!$C$6,IF(D147=4,Simulation!$C$7,IF(D147=5,Simulation!$C$8)))))))","v":false},0,null,null,null,"",null,null,null,null,0,null,0,0,"Inlap",null,null,"FL"]
[1,137,137,null,{"$f":"IF(D148=\"Grid\",Simulation!$B$2,IF(D148=\"WU\",Simulation!$B$3,IF(D148=1,Simulation!$B$4,IF(D148=2,Simulation!$B$5,IF(D148=3,Simulation!$B$6,IF(D148=4,Simulation!$B$7,IF(D148=5,Simulation!$B$8)))))))","v":false},{"$f":"IF(D148=\"Grid\",Simulation!$C$2,IF(D148=\"WU\",Simulation!$C$3,IF(D148=1,Simulation!$C$4,IF(D148=2,Simulation!$C$5,IF(D148=3,Simulation!$C$6,IF(D148=4,Simulation!$C$7,IF(D148=5,Simulation!$C$8)))))))","v":false},0,null,null,null,"",null,null,null,null,0,null,0,0,"Inlap",null,null,"FL"]
[1,138,138,null,{"$f":"IF(D149=\"Grid\",Simulation!$B$2,IF(D149=\"WU\",Simulation!$B$3,IF(D149=1,Simulation!$B$4,IF(D149=2,Simulation!$B$5,IF(D149=3,Simulation!$B$6,IF(D149=4,Simulation!$B$7,IF(D149=5,Simulation!$B$8)))))))","v":false},{"$f":"IF(D149=\"Grid\",Simulation!$C$2,IF(D149=\"WU\",Simulation!$C$3,IF(D149=1,Simulation!$C$4,IF(D149=2,Simulation!$C$5,IF(D149=3,Simulation!$C$6,IF(D149=4,Simulation!$C$7,IF(D149=5,Simulation!$C$8)))))))","v":false},0,null,null,null,"",null,null,null,null,0,null,0,0,"Inlap",null,null,"FL"]
[1,139,139,null,{"$f":"IF(D150=\"Grid\",Simulation!$B$2,IF(D150=\"WU\",Simulation!$B$3,IF(D150=1,Simulation!$B$4,IF(D150=2,Simulation!$B$5,IF(D150=3,Simulation!$B$6,IF(D150=4,Simulation!$B$7,IF(D150=5,Simulation!$B$8)))))))","v":false},{"$f":"IF(D150=\"Grid\",Simulation!$C$2,IF(D150=\"WU\",Simulation!$C$3,IF(D150=1,Simulation!$C$4,IF(D150=2,Simulation!$C$5,IF(D150=3,Simulation!$C$6,IF(D150=4,Simulation!$C$7,IF(D150=5,Simulation!$C$8)))))))","v":false},0,null,null,null,"",null,null,null,null,0,null,0,0,"Inlap",null,null,"FL"]
[1,140,140,null,{"$f":"IF(D151=\"Grid\",Simulation!$B$2,IF(D151=\"WU\",Simulation!$B$3,IF(D151=1,Simulation!$B$4,IF(D151=2,Simulation!$B$5,IF(D151=3,Simulation!$B$6,IF(D151=4,Simulation!$B$7,IF(D151=5,Simulation!$B$8)))))))","v":false},{"$f":"IF(D151=\"Grid\",Simulation!$C$2,IF(D151=\"WU\",Simulation!$C$3,IF(D151=1,Simulation!$C$4,IF(D151=2,Simulation!$C$5,IF(D151=3,Simulation!$C$6,IF(D151=4,Simulation!$C$7,IF(D151=5,Simulation!$C$8)))))))","v":false},0,null,null,null,"",null,null,null,null,0,null,0,0,"Inlap",null,null,"FL"]
[1,141,141,null,{"$f":"IF(D152=\"Grid\",Simulation!$B$2,IF(D152=\"WU\",Simulation!$B$3,IF(D152=1,Simulation!$B$4,IF(D152=2,Simulation!$B$5,IF(D152=3,Simulation!$B$6,IF(D152=4,Simulation!$B$7,IF(D152=5,Simulation!$B$8)))))))","v":false},{"$f":"IF(D152=\"Grid\",Simulation!$C$2,IF(D152=\"WU\",Simulation!$C$3,IF(D152=1,Simulation!$C$4,IF(D152=2,Simulation!$C$5,IF(D152=3,Simulation!$C$6,IF(D152=4,Simulation!$C$7,IF(D152=5,Simulation!$C$8)))))))","v":false},0,null,null,null,"",null,null,null,null,0,null,0,0,"Inlap",null,null,"FL"]
[1,142,142,null,{"$f":"IF(D153=\"Grid\",Simulation!$B$2,IF(D153=\"WU\",Simulation!$B$3,IF(D153=1,Simulation!$B$4,IF(D153=2,Simulation!$B$5,IF(D153=3,Simulation!$B$6,IF(D153=4,Simulation!$B$7,IF(D153=5,Simulation!$B$8)))))))","v":false},{"$f":"IF(D153=\"Grid\",Simulation!$C$2,IF(D153=\"WU\",Simulation!$C$3,IF(D153=1,Simulation!$C$4,IF(D153=2,Simulation!$C$5,IF(D153=3,Simulation!$C$6,IF(D153=4,Simulation!$C$7,IF(D153=5,Simulation!$C$8)))))))","v":false},0,null,null,null,"",null,null,null,null,0,null,0,0,"Inlap",null,null,"FL"]
[1,143,143,null,{"$f":"IF(D154=\"Grid\",Simulation!$B$2,IF(D154=\"WU\",Simulation!$B$3,IF(D154=1,Simulation!$B$4,IF(D154=2,Simulation!$B$5,IF(D154=3,Simulation!$B$6,IF(D154=4,Simulation!$B$7,IF(D154=5,Simulation!$B$8)))))))","v":false},{"$f":"IF(D154=\"Grid\",Simulation!$C$2,IF(D154=\"WU\",Simulation!$C$3,IF(D154=1,Simulation!$C$4,IF(D154=2,Simulation!$C$5,IF(D154=3,Simulation!$C$6,IF(D154=4,Simulation!$C$7,IF(D154=5,Simulation!$C$8)))))))","v":false},0,null,null,null,"",null,null,null,null,0,null,0,0,"Inlap",null,null,"FL"]
[1,144,144,null,{"$f":"IF(D155=\"Grid\",Simulation!$B$2,IF(D155=\"WU\",Simulation!$B$3,IF(D155=1,Simulation!$B$4,IF(D155=2,Simulation!$B$5,IF(D155=3,Simulation!$B$6,IF(D155=4,Simulation!$B$7,IF(D155=5,Simulation!$B$8)))))))","v":false},{"$f":"IF(D155=\"Grid\",Simulation!$C$2,IF(D155=\"WU\",Simulation!$C$3,IF(D155=1,Simulation!$C$4,IF(D155=2,Simulation!$C$5,IF(D155=3,Simulation!$C$6,IF(D155=4,Simulation!$C$7,IF(D155=5,Simulation!$C$8)))))))","v":false},0,null,null,null,"",null,null,null,null,0,null,0,0,"Inlap",null,null,"FL"]
[1,145,145,null,{"$f":"IF(D156=\"Grid\",Simulation!$B$2,IF(D156=\"WU\",Simulation!$B$3,IF(D156=1,Simulation!$B$4,IF(D156=2,Simulation!$B$5,IF(D156=3,Simulation!$B$6,IF(D156=4,Simulation!$B$7,IF(D156=5,Simulation!$B$8)))))))","v":false},{"$f":"IF(D156=\"Grid\",Simulation!$C$2,IF(D156=\"WU\",Simulation!$C$3,IF(D156=1,Simulation!$C$4,IF(D156=2,Simulation!$C$5,IF(D156=3,Simulation!$C$6,IF(D156=4,Simulation!$C$7,IF(D156=5,Simulation!$C$8)))))))","v":false},0,null,null,null,"",null,null,null,null,0,null,0,0,"Inlap",null,null,"FL"]
[1,146,146,null,{"$f":"IF(D157=\"Grid\",Simulation!$B$2,IF(D157=\"WU\",Simulation!$B$3,IF(D157=1,Simulation!$B$4,IF(D157=2,Simulation!$B$5,IF(D157=3,Simulation!$B$6,IF(D157=4,Simulation!$B$7,IF(D157=5,Simulation!$B$8)))))))","v":false},{"$f":"IF(D157=\"Grid\",Simulation!$C$2,IF(D157=\"WU\",Simulation!$C$3,IF(D157=1,Simulation!$C$4,IF(D157=2,Simulation!$C$5,IF(D157=3,Simulation!$C$6,IF(D157=4,Simulation!$C$7,IF(D157=5,Simulation!$C$8)))))))","v":false},0,null,null,null,"",null,null,null,null,0,null,0,0,"Inlap",null,null,"FL"]
[1,147,147,null,{"$f":"IF(D158=\"Grid\",Simulation!$B$2,IF(D158=\"WU\",Simulation!$B$3,IF(D158=1,Simulation!$B$4,IF(D158=2,Simulation!$B$5,IF(D158=3,Simulation!$B$6,IF(D158=4,Simulation!$B$7,IF(D158=5,Simulation!$B$8)))))))","v":false},{"$f":"IF(D158=\"Grid\",Simulation!$C$2,IF(D158=\"WU\",Simulation!$C$3,IF(D158=1,Simulation!$C$4,IF(D158=2,Simulation!$C$5,IF(D158=3,Simulation!$C$6,IF(D158=4,Simulation!$C$7,IF(D158=5,Simulation!$C$8)))))))","v":false},0,null,null,null,"",null,null,null,null,0,null,0,0,"Inlap",null,null,"FL"]
[1,148,148,null,{"$f":"IF(D159=\"Grid\",Simulation!$B$2,IF(D159=\"WU\",Simulation!$B$3,IF(D159=1,Simulation!$B$4,IF(D159=2,Simulation!$B$5,IF(D159=3,Simulation!$B$6,IF(D159=4,Simulation!$B$7,IF(D159=5,Simulation!$B$8)))))))","v":false},{"$f":"IF(D159=\"Grid\",Simulation!$C$2,IF(D159=\"WU\",Simulation!$C$3,IF(D159=1,Simulation!$C$4,IF(D159=2,Simulation!$C$5,IF(D159=3,Simulation!$C$6,IF(D159=4,Simulation!$C$7,IF(D159=5,Simulation!$C$8)))))))","v":false},0,null,null,null,"",null,null,null,null,0,null,0,0,"Inlap",null,null,"FL"]
[1,149,149,null,{"$f":"IF(D160=\"Grid\",Simulation!$B$2,IF(D160=\"WU\",Simulation!$B$3,IF(D160=1,Simulation!$B$4,IF(D160=2,Simulation!$B$5,IF(D160=3,Simulation!$B$6,IF(D160=4,Simulation!$B$7,IF(D160=5,Simulation!$B$8)))))))","v":false},{"$f":"IF(D160=\"Grid\",Simulation!$C$2,IF(D160=\"WU\",Simulation!$C$3,IF(D160=1,Simulation!$C$4,IF(D160=2,Simulation!$C$5,IF(D160=3,Simulation!$C$6,IF(D160=4,Simulation!$C$7,IF(D160=5,Simulation!$C$8)))))))","v":false},0,null,null,null,"",null,null,null,null,0,null,0,0,"Inlap",null,null,"FL"]
[1,150,150,null,{"$f":"IF(D161=\"Grid\",Simulation!$B$2,IF(D161=\"WU\",Simulation!$B$3,IF(D161=1,Simulation!$B$4,IF(D161=2,Simulation!$B$5,IF(D161=3,Simulation!$B$6,IF(D161=4,Simulation!$B$7,IF(D161=5,Simulation!$B$8)))))))","v":false},{"$f":"IF(D161=\"Grid\",Simulation!$C$2,IF(D161=\"WU\",Simulation!$C$3,IF(D161=1,Simulation!$C$4,IF(D161=2,Simulation!$C$5,IF(D161=3,Simulation!$C$6,IF(D161=4,Simulation!$C$7,IF(D161=5,Simulation!$C$8)))))))","v":false},0,null,null,null,"",null,null,null,null,0,null,0,0,"Inlap",null,null,"FL"]
[1,151,151,null,{"$f":"IF(D162=\"Grid\",Simulation!$B$2,IF(D162=\"WU\",Simulation!$B$3,IF(D162=1,Simulation!$B$4,IF(D162=2,Simulation!$B$5,IF(D162=3,Simulation!$B$6,IF(D162=4,Simulation!$B$7,IF(D162=5,Simulation!$B$8)))))))","v":false},{"$f":"IF(D162=\"Grid\",Simulation!$C$2,IF(D162=\"WU\",Simulation!$C$3,IF(D162=1,Simulation!$C$4,IF(D162=2,Simulation!$C$5,IF(D162=3,Simulation!$C$6,IF(D162=4,Simulation!$C$7,IF(D162=5,Simulation!$C$8)))))))","v":false},0,null,null,null,"",null,null,null,null,0,null,0,0,"Inlap",null,null,"FL"]
[1,152,152,null,{"$f":"IF(D163=\"Grid\",Simulation!$B$2,IF(D163=\"WU\",Simulation!$B$3,IF(D163=1,Simulation!$B$4,IF(D163=2,Simulation!$B$5,IF(D163=3,Simulation!$B$6,IF(D163=4,Simulation!$B$7,IF(D163=5,Simulation!$B$8)))))))","v":false},{"$f":"IF(D163=\"Grid\",Simulation!$C$2,IF(D163=\"WU\",Simulation!$C$3,IF(D163=1,Simulation!$C$4,IF(D163=2,Simulation!$C$5,IF(D163=3,Simulation!$C$6,IF(D163=4,Simulation!$C$7,IF(D163=5,Simulation!$C$8)))))))","v":false},0,null,null,null,"",null,null,null,null,0,null,0,0,"Inlap",null,null,"FL"]
[1,153,153,null,{"$f":"IF(D164=\"Grid\",Simulation!$B$2,IF(D164=\"WU\",Simulation!$B$3,IF(D164=1,Simulation!$B$4,IF(D164=2,Simulation!$B$5,IF(D164=3,Simulation!$B$6,IF(D164=4,Simulation!$B$7,IF(D164=5,Simulation!$B$8)))))))","v":false},{"$f":"IF(D164=\"Grid\",Simulation!$C$2,IF(D164=\"WU\",Simulation!$C$3,IF(D164=1,Simulation!$C$4,IF(D164=2,Simulation!$C$5,IF(D164=3,Simulation!$C$6,IF(D164=4,Simulation!$C$7,IF(D164=5,Simulation!$C$8)))))))","v":false},0,null,null,null,"",null,null,null,null,0,null,0,0,"Inlap",null,null,"FL"]
[1,154,154,null,{"$f":"IF(D165=\"Grid\",Simulation!$B$2,IF(D165=\"WU\",Simulation!$B$3,IF(D165=1,Simulation!$B$4,IF(D165=2,Simulation!$B$5,IF(D165=3,Simulation!$B$6,IF(D165=4,Simulation!$B$7,IF(D165=5,Simulation!$B$8)))))))","v":false},{"$f":"IF(D165=\"Grid\",Simulation!$C$2,IF(D165=\"WU\",Simulation!$C$3,IF(D165=1,Simulation!$C$4,IF(D165=2,Simulation!$C$5,IF(D165=3,Simulation!$C$6,IF(D165=4,Simulation!$C$7,IF(D165=5,Simulation!$C$8)))))))","v":false},0,null,null,null,"",null,null,null,null,0,null,0,0,"Inlap",null,null,"FL"]
[1,155,155,null,{"$f":"IF(D166=\"Grid\",Simulation!$B$2,IF(D166=\"WU\",Simulation!$B$3,IF(D166=1,Simulation!$B$4,IF(D166=2,Simulation!$B$5,IF(D166=3,Simulation!$B$6,IF(D166=4,Simulation!$B$7,IF(D166=5,Simulation!$B$8)))))))","v":false},{"$f":"IF(D166=\"Grid\",Simulation!$C$2,IF(D166=\"WU\",Simulation!$C$3,IF(D166=1,Simulation!$C$4,IF(D166=2,Simulation!$C$5,IF(D166=3,Simulation!$C$6,IF(D166=4,Simulation!$C$7,IF(D166=5,Simulation!$C$8)))))))","v":false},0,null,null,null,"",null,null,null,null,0,null,0,0,"Inlap",null,null,"FL"]
[1,156,156,null,{"$f":"IF(D167=\"Grid\",Simulation!$B$2,IF(D167=\"WU\",Simulation!$B$3,IF(D167=1,Simulation!$B$4,IF(D167=2,Simulation!$B$5,IF(D167=3,Simulation!$B$6,IF(D167=4,Simulation!$B$7,IF(D167=5,Simulation!$B$8)))))))","v":false},{"$f":"IF(D167=\"Grid\",Simulation!$C$2,IF(D167=\"WU\",Simulation!$C$3,IF(D167=1,Simulation!$C$4,IF(D167=2,Simulation!$C$5,IF(D167=3,Simulation!$C$6,IF(D167=4,Simulation!$C$7,IF(D167=5,Simulation!$C$8)))))))","v":false},0,null,null,null,"",null,null,null,null,0,null,0,0,"Inlap",null,null,"FL"]
[1,157,157,null,{"$f":"IF(D168=\"Grid\",Simulation!$B$2,IF(D168=\"WU\",Simulation!$B$3,IF(D168=1,Simulation!$B$4,IF(D168=2,Simulation!$B$5,IF(D168=3,Simulation!$B$6,IF(D168=4,Simulation!$B$7,IF(D168=5,Simulation!$B$8)))))))","v":false},{"$f":"IF(D168=\"Grid\",Simulation!$C$2,IF(D168=\"WU\",Simulation!$C$3,IF(D168=1,Simulation!$C$4,IF(D168=2,Simulation!$C$5,IF(D168=3,Simulation!$C$6,IF(D168=4,Simulation!$C$7,IF(D168=5,Simulation!$C$8)))))))","v":false},0,null,null,null,"",null,null,null,null,0,null,0,0,"Inlap",null,null,"FL"]
[1,158,158,null,{"$f":"IF(D169=\"Grid\",Simulation!$B$2,IF(D169=\"WU\",Simulation!$B$3,IF(D169=1,Simulation!$B$4,IF(D169=2,Simulation!$B$5,IF(D169=3,Simulation!$B$6,IF(D169=4,Simulation!$B$7,IF(D169=5,Simulation!$B$8)))))))","v":false},{"$f":"IF(D169=\"Grid\",Simulation!$C$2,IF(D169=\"WU\",Simulation!$C$3,IF(D169=1,Simulation!$C$4,IF(D169=2,Simulation!$C$5,IF(D169=3,Simulation!$C$6,IF(D169=4,Simulation!$C$7,IF(D169=5,Simulation!$C$8)))))))","v":false},0,null,null,null,"",null,null,null,null,0,null,0,0,"Inlap",null,null,"FL"]
[1,159,159,null,{"$f":"IF(D170=\"Grid\",Simulation!$B$2,IF(D170=\"WU\",Simulation!$B$3,IF(D170=1,Simulation!$B$4,IF(D170=2,Simulation!$B$5,IF(D170=3,Simulation!$B$6,IF(D170=4,Simulation!$B$7,IF(D170=5,Simulation!$B$8)))))))","v":false},{"$f":"IF(D170=\"Grid\",Simulation!$C$2,IF(D170=\"WU\",Simulation!$C$3,IF(D170=1,Simulation!$C$4,IF(D170=2,Simulation!$C$5,IF(D170=3,Simulation!$C$6,IF(D170=4,Simulation!$C$7,IF(D170=5,Simulation!$C$8)))))))","v":false},0,null,null,null,"",null,null,null,null,0,null,0,0,"Inlap",null,null,"FL"]
[1,160,160,null,{"$f":"IF(D171=\"Grid\",Simulation!$B$2,IF(D171=\"WU\",Simulation!$B$3,IF(D171=1,Simulation!$B$4,IF(D171=2,Simulation!$B$5,IF(D171=3,Simulation!$B$6,IF(D171=4,Simulation!$B$7,IF(D171=5,Simulation!$B$8)))))))","v":false},{"$f":"IF(D171=\"Grid\",Simulation!$C$2,IF(D171=\"WU\",Simulation!$C$3,IF(D171=1,Simulation!$C$4,IF(D171=2,Simulation!$C$5,IF(D171=3,Simulation!$C$6,IF(D171=4,Simulation!$C$7,IF(D171=5,Simulation!$C$8)))))))","v":false},0,null,null,null,"",null,null,null,null,0,null,0,0,"Inlap",null,null,"FL"]
[1,161,161,null,{"$f":"IF(D172=\"Grid\",Simulation!$B$2,IF(D172=\"WU\",Simulation!$B$3,IF(D172=1,Simulation!$B$4,IF(D172=2,Simulation!$B$5,IF(D172=3,Simulation!$B$6,IF(D172=4,Simulation!$B$7,IF(D172=5,Simulation!$B$8)))))))","v":false},{"$f":"IF(D172=\"Grid\",Simulation!$C$2,IF(D172=\"WU\",Simulation!$C$3,IF(D172=1,Simulation!$C$4,IF(D172=2,Simulation!$C$5,IF(D172=3,Simulation!$C$6,IF(D172=4,Simulation!$C$7,IF(D172=5,Simulation!$C$8)))))))","v":false},0,null,null,null,"",null,null,null,null,0,null,0,0,"Inlap",null,null,"FL"]
[1,162,162,null,{"$f":"IF(D173=\"Grid\",Simulation!$B$2,IF(D173=\"WU\",Simulation!$B$3,IF(D173=1,Simulation!$B$4,IF(D173=2,Simulation!$B$5,IF(D173=3,Simulation!$B$6,IF(D173=4,Simulation!$B$7,IF(D173=5,Simulation!$B$8)))))))","v":false},{"$f":"IF(D173=\"Grid\",Simulation!$C$2,IF(D173=\"WU\",Simulation!$C$3,IF(D173=1,Simulation!$C$4,IF(D173=2,Simulation!$C$5,IF(D173=3,Simulation!$C$6,IF(D173=4,Simulation!$C$7,IF(D173=5,Simulation!$C$8)))))))","v":false},0,null,null,null,"",null,null,null,null,0,null,0,0,"Inlap",null,null,"FL"]
[1,163,163,null,{"$f":"IF(D174=\"Grid\",Simulation!$B$2,IF(D174=\"WU\",Simulation!$B$3,IF(D174=1,Simulation!$B$4,IF(D174=2,Simulation!$B$5,IF(D174=3,Simulation!$B$6,IF(D174=4,Simulation!$B$7,IF(D174=5,Simulation!$B$8)))))))","v":false},{"$f":"IF(D174=\"Grid\",Simulation!$C$2,IF(D174=\"WU\",Simulation!$C$3,IF(D174=1,Simulation!$C$4,IF(D174=2,Simulation!$C$5,IF(D174=3,Simulation!$C$6,IF(D174=4,Simulation!$C$7,IF(D174=5,Simulation!$C$8)))))))","v":false},0,null,null,null,"",null,null,null,null,{"$f":"IF(O174>0,Q174,Q174-Q173)","v":0},null,{"$f":"IF(O174>0,Q174,Q174-Q173)","v":0},0,"Inlap",null,null,"FL"]
[1,164,164,null,{"$f":"IF(D175=\"Grid\",Simulation!$B$2,IF(D175=\"WU\",Simulation!$B$3,IF(D175=1,Simulation!$B$4,IF(D175=2,Simulation!$B$5,IF(D175=3,Simulation!$B$6,IF(D175=4,Simulation!$B$7,IF(D175=5,Simulation!$B$8)))))))","v":false},{"$f":"IF(D175=\"Grid\",Simulation!$C$2,IF(D175=\"WU\",Simulation!$C$3,IF(D175=1,Simulation!$C$4,IF(D175=2,Simulation!$C$5,IF(D175=3,Simulation!$C$6,IF(D175=4,Simulation!$C$7,IF(D175=5,Simulation!$C$8)))))))","v":false},0,null,null,null,"",null,null,null,null,0,null,0,0,"Inlap",null,null,"FL"]
[1,165,165,null,{"$f":"IF(D176=\"Grid\",Simulation!$B$2,IF(D176=\"WU\",Simulation!$B$3,IF(D176=1,Simulation!$B$4,IF(D176=2,Simulation!$B$5,IF(D176=3,Simulation!$B$6,IF(D176=4,Simulation!$B$7,IF(D176=5,Simulation!$B$8)))))))","v":false},{"$f":"IF(D176=\"Grid\",Simulation!$C$2,IF(D176=\"WU\",Simulation!$C$3,IF(D176=1,Simulation!$C$4,IF(D176=2,Simulation!$C$5,IF(D176=3,Simulation!$C$6,IF(D176=4,Simulation!$C$7,IF(D176=5,Simulation!$C$8)))))))","v":false},0,null,null,null,"",null,null,null,null,0,null,0,0,"Inlap",null,null,"FL"]
[1,166,166,null,{"$f":"IF(D177=\"Grid\",Simulation!$B$2,IF(D177=\"WU\",Simulation!$B$3,IF(D177=1,Simulation!$B$4,IF(D177=2,Simulation!$B$5,IF(D177=3,Simulation!$B$6,IF(D177=4,Simulation!$B$7,IF(D177=5,Simulation!$B$8)))))))","v":false},{"$f":"IF(D177=\"Grid\",Simulation!$C$2,IF(D177=\"WU\",Simulation!$C$3,IF(D177=1,Simulation!$C$4,IF(D177=2,Simulation!$C$5,IF(D177=3,Simulation!$C$6,IF(D177=4,Simulation!$C$7,IF(D177=5,Simulation!$C$8)))))))","v":false},0,null,null,null,"",null,null,null,null,0,null,0,0,"Inlap",null,null,"FL"]
[1,167,167,null,{"$f":"IF(D178=\"Grid\",Simulation!$B$2,IF(D178=\"WU\",Simulation!$B$3,IF(D178=1,Simulation!$B$4,IF(D178=2,Simulation!$B$5,IF(D178=3,Simulation!$B$6,IF(D178=4,Simulation!$B$7,IF(D178=5,Simulation!$B$8)))))))","v":false},{"$f":"IF(D178=\"Grid\",Simulation!$C$2,IF(D178=\"WU\",Simulation!$C$3,IF(D178=1,Simulation!$C$4,IF(D178=2,Simulation!$C$5,IF(D178=3,Simulation!$C$6,IF(D178=4,Simulation!$C$7,IF(D178=5,Simulation!$C$8)))))))","v":false},0,null,null,null,"",null,null,null,null,0,null,0,0,"Inlap",null,null,"FL"]
[1,168,168,null,{"$f":"IF(D179=\"Grid\",Simulation!$B$2,IF(D179=\"WU\",Simulation!$B$3,IF(D179=1,Simulation!$B$4,IF(D179=2,Simulation!$B$5,IF(D179=3,Simulation!$B$6,IF(D179=4,Simulation!$B$7,IF(D179=5,Simulation!$B$8)))))))","v":false},{"$f":"IF(D179=\"Grid\",Simulation!$C$2,IF(D179=\"WU\",Simulation!$C$3,IF(D179=1,Simulation!$C$4,IF(D179=2,Simulation!$C$5,IF(D179=3,Simulation!$C$6,IF(D179=4,Simulation!$C$7,IF(D179=5,Simulation!$C$8)))))))","v":false},0,null,null,null,"",null,null,null,null,0,null,0,0,"Inlap",null,null,"FL"]
[1,169,169,null,{"$f":"IF(D180=\"Grid\",Simulation!$B$2,IF(D180=\"WU\",Simulation!$B$3,IF(D180=1,Simulation!$B$4,IF(D180=2,Simulation!$B$5,IF(D180=3,Simulation!$B$6,IF(D180=4,Simulation!$B$7,IF(D180=5,Simulation!$B$8)))))))","v":false},{"$f":"IF(D180=\"Grid\",Simulation!$C$2,IF(D180=\"WU\",Simulation!$C$3,IF(D180=1,Simulation!$C$4,IF(D180=2,Simulation!$C$5,IF(D180=3,Simulation!$C$6,IF(D180=4,Simulation!$C$7,IF(D180=5,Simulation!$C$8)))))))","v":false},0,null,null,null,"",null,null,null,null,0,null,0,0,"Inlap",null,null,"FL"]
[1,170,170,null,{"$f":"IF(D181=\"Grid\",Simulation!$B$2,IF(D181=\"WU\",Simulation!$B$3,IF(D181=1,Simulation!$B$4,IF(D181=2,Simulation!$B$5,IF(D181=3,Simulation!$B$6,IF(D181=4,Simulation!$B$7,IF(D181=5,Simulation!$B$8)))))))","v":false},{"$f":"IF(D181=\"Grid\",Simulation!$C$2,IF(D181=\"WU\",Simulation!$C$3,IF(D181=1,Simulation!$C$4,IF(D181=2,Simulation!$C$5,IF(D181=3,Simulation!$C$6,IF(D181=4,Simulation!$C$7,IF(D181=5,Simulation!$C$8)))))))","v":false},0,null,null,null,"",null,null,null,null,0,null,0,0,"Inlap",null,null,"FL"]
[1,171,171,null,{"$f":"IF(D182=\"Grid\",Simulation!$B$2,IF(D182=\"WU\",Simulation!$B$3,IF(D182=1,Simulation!$B$4,IF(D182=2,Simulation!$B$5,IF(D182=3,Simulation!$B$6,IF(D182=4,Simulation!$B$7,IF(D182=5,Simulation!$B$8)))))))","v":false},{"$f":"IF(D182=\"Grid\",Simulation!$C$2,IF(D182=\"WU\",Simulation!$C$3,IF(D182=1,Simulation!$C$4,IF(D182=2,Simulation!$C$5,IF(D182=3,Simulation!$C$6,IF(D182=4,Simulation!$C$7,IF(D182=5,Simulation!$C$8)))))))","v":false},0,null,null,null,"",null,null,null,null,0,null,0,0,"Inlap",null,null,"FL"]
[1,172,172,null,{"$f":"IF(D183=\"Grid\",Simulation!$B$2,IF(D183=\"WU\",Simulation!$B$3,IF(D183=1,Simulation!$B$4,IF(D183=2,Simulation!$B$5,IF(D183=3,Simulation!$B$6,IF(D183=4,Simulation!$B$7,IF(D183=5,Simulation!$B$8)))))))","v":false},{"$f":"IF(D183=\"Grid\",Simulation!$C$2,IF(D183=\"WU\",Simulation!$C$3,IF(D183=1,Simulation!$C$4,IF(D183=2,Simulation!$C$5,IF(D183=3,Simulation!$C$6,IF(D183=4,Simulation!$C$7,IF(D183=5,Simulation!$C$8)))))))","v":false},0,null,null,null,"",null,null,null,null,0,null,0,0,"Inlap",null,null,"FL"]
[1,173,173,null,{"$f":"IF(D184=\"Grid\",Simulation!$B$2,IF(D184=\"WU\",Simulation!$B$3,IF(D184=1,Simulation!$B$4,IF(D184=2,Simulation!$B$5,IF(D184=3,Simulation!$B$6,IF(D184=4,Simulation!$B$7,IF(D184=5,Simulation!$B$8)))))))","v":false},{"$f":"IF(D184=\"Grid\",Simulation!$C$2,IF(D184=\"WU\",Simulation!$C$3,IF(D184=1,Simulation!$C$4,IF(D184=2,Simulation!$C$5,IF(D184=3,Simulation!$C$6,IF(D184=4,Simulation!$C$7,IF(D184=5,Simulation!$C$8)))))))","v":false},0,null,null,null,"",null,null,null,null,0,null,0,0,"Inlap",null,null,"FL"]
[1,174,174,null,{"$f":"IF(D185=\"Grid\",Simulation!$B$2,IF(D185=\"WU\",Simulation!$B$3,IF(D185=1,Simulation!$B$4,IF(D185=2,Simulation!$B$5,IF(D185=3,Simulation!$B$6,IF(D185=4,Simulation!$B$7,IF(D185=5,Simulation!$B$8)))))))","v":false},{"$f":"IF(D185=\"Grid\",Simulation!$C$2,IF(D185=\"WU\",Simulation!$C$3,IF(D185=1,Simulation!$C$4,IF(D185=2,Simulation!$C$5,IF(D185=3,Simulation!$C$6,IF(D185=4,Simulation!$C$7,IF(D185=5,Simulation!$C$8)))))))","v":false},0,null,null,null,"",null,null,null,null,0,null,0,0,"Inlap",null,null,"FL"]
[1,175,175,null,{"$f":"IF(D186=\"Grid\",Simulation!$B$2,IF(D186=\"WU\",Simulation!$B$3,IF(D186=1,Simulation!$B$4,IF(D186=2,Simulation!$B$5,IF(D186=3,Simulation!$B$6,IF(D186=4,Simulation!$B$7,IF(D186=5,Simulation!$B$8)))))))","v":false},{"$f":"IF(D186=\"Grid\",Simulation!$C$2,IF(D186=\"WU\",Simulation!$C$3,IF(D186=1,Simulation!$C$4,IF(D186=2,Simulation!$C$5,IF(D186=3,Simulation!$C$6,IF(D186=4,Simulation!$C$7,IF(D186=5,Simulation!$C$8)))))))","v":false},0,null,null,null,"",null,null,null,null,0,null,0,0,"Inlap",null,null,"FL"]
[1,176,176,null,{"$f":"IF(D187=\"Grid\",Simulation!$B$2,IF(D187=\"WU\",Simulation!$B$3,IF(D187=1,Simulation!$B$4,IF(D187=2,Simulation!$B$5,IF(D187=3,Simulation!$B$6,IF(D187=4,Simulation!$B$7,IF(D187=5,Simulation!$B$8)))))))","v":false},{"$f":"IF(D187=\"Grid\",Simulation!$C$2,IF(D187=\"WU\",Simulation!$C$3,IF(D187=1,Simulation!$C$4,IF(D187=2,Simulation!$C$5,IF(D187=3,Simulation!$C$6,IF(D187=4,Simulation!$C$7,IF(D187=5,Simulation!$C$8)))))))","v":false},0,null,null,null,"",null,null,null,null,0,null,0,0,"Inlap",null,null,"FL"]
[1,177,177,null,{"$f":"IF(D188=\"Grid\",Simulation!$B$2,IF(D188=\"WU\",Simulation!$B$3,IF(D188=1,Simulation!$B$4,IF(D188=2,Simulation!$B$5,IF(D188=3,Simulation!$B$6,IF(D188=4,Simulation!$B$7,IF(D188=5,Simulation!$B$8)))))))","v":false},{"$f":"IF(D188=\"Grid\",Simulation!$C$2,IF(D188=\"WU\",Simulation!$C$3,IF(D188=1,Simulation!$C$4,IF(D188=2,Simulation!$C$5,IF(D188=3,Simulation!$C$6,IF(D188=4,Simulation!$C$7,IF(D188=5,Simulation!$C$8)))))))","v":false},0,null,null,null,"",null,null,null,null,0,null,0,0,"Inlap",null,null,"FL"]
[1,178,178,null,{"$f":"IF(D189=\"Grid\",Simulation!$B$2,IF(D189=\"WU\",Simulation!$B$3,IF(D189=1,Simulation!$B$4,IF(D189=2,Simulation!$B$5,IF(D189=3,Simulation!$B$6,IF(D189=4,Simulation!$B$7,IF(D189=5,Simulation!$B$8)))))))","v":false},{"$f":"IF(D189=\"Grid\",Simulation!$C$2,IF(D189=\"WU\",Simulation!$C$3,IF(D189=1,Simulation!$C$4,IF(D189=2,Simulation!$C$5,IF(D189=3,Simulation!$C$6,IF(D189=4,Simulation!$C$7,IF(D189=5,Simulation!$C$8)))))))","v":false},0,null,null,null,"",null,null,null,null,0,null,0,0,"Inlap",null,null,"FL"]
[1,179,179,null,{"$f":"IF(D190=\"Grid\",Simulation!$B$2,IF(D190=\"WU\",Simulation!$B$3,IF(D190=1,Simulation!$B$4,IF(D190=2,Simulation!$B$5,IF(D190=3,Simulation!$B$6,IF(D190=4,Simulation!$B$7,IF(D190=5,Simulation!$B$8)))))))","v":false},{"$f":"IF(D190=\"Grid\",Simulation!$C$2,IF(D190=\"WU\",Simulation!$C$3,IF(D190=1,Simulation!$C$4,IF(D190=2,Simulation!$C$5,IF(D190=3,Simulation!$C$6,IF(D190=4,Simulation!$C$7,IF(D190=5,Simulation!$C$8)))))))","v":false},0,null,null,null,"",null,null,null,null,0,null,0,0,"Inlap",null,null,"FL"]
[1,180,180,null,{"$f":"IF(D191=\"Grid\",Simulation!$B$2,IF(D191=\"WU\",Simulation!$B$3,IF(D191=1,Simulation!$B$4,IF(D191=2,Simulation!$B$5,IF(D191=3,Simulation!$B$6,IF(D191=4,Simulation!$B$7,IF(D191=5,Simulation!$B$8)))))))","v":false},{"$f":"IF(D191=\"Grid\",Simulation!$C$2,IF(D191=\"WU\",Simulation!$C$3,IF(D191=1,Simulation!$C$4,IF(D191=2,Simulation!$C$5,IF(D191=3,Simulation!$C$6,IF(D191=4,Simulation!$C$7,IF(D191=5,Simulation!$C$8)))))))","v":false},0,null,null,null,"",null,null,null,null,0,null,0,0,"Inlap",null,null,"FL"]
[1,181,181,null,{"$f":"IF(D192=\"Grid\",Simulation!$B$2,IF(D192=\"WU\",Simulation!$B$3,IF(D192=1,Simulation!$B$4,IF(D192=2,Simulation!$B$5,IF(D192=3,Simulation!$B$6,IF(D192=4,Simulation!$B$7,IF(D192=5,Simulation!$B$8)))))))","v":false},{"$f":"IF(D192=\"Grid\",Simulation!$C$2,IF(D192=\"WU\",Simulation!$C$3,IF(D192=1,Simulation!$C$4,IF(D192=2,Simulation!$C$5,IF(D192=3,Simulation!$C$6,IF(D192=4,Simulation!$C$7,IF(D192=5,Simulation!$C$8)))))))","v":false},0,null,null,null,"",null,null,null,null,0,null,0,0,"Inlap",null,null,"FL"]
[1,182,182,null,{"$f":"IF(D193=\"Grid\",Simulation!$B$2,IF(D193=\"WU\",Simulation!$B$3,IF(D193=1,Simulation!$B$4,IF(D193=2,Simulation!$B$5,IF(D193=3,Simulation!$B$6,IF(D193=4,Simulation!$B$7,IF(D193=5,Simulation!$B$8)))))))","v":false},{"$f":"IF(D193=\"Grid\",Simulation!$C$2,IF(D193=\"WU\",Simulation!$C$3,IF(D193=1,Simulation!$C$4,IF(D193=2,Simulation!$C$5,IF(D193=3,Simulation!$C$6,IF(D193=4,Simulation!$C$7,IF(D193=5,Simulation!$C$8)))))))","v":false},0,null,null,null,"",null,null,null,null,0,null,0,0,"Inlap",null,null,"FL"]
[1,183,183,null,{"$f":"IF(D194=\"Grid\",Simulation!$B$2,IF(D194=\"WU\",Simulation!$B$3,IF(D194=1,Simulation!$B$4,IF(D194=2,Simulation!$B$5,IF(D194=3,Simulation!$B$6,IF(D194=4,Simulation!$B$7,IF(D194=5,Simulation!$B$8)))))))","v":false},{"$f":"IF(D194=\"Grid\",Simulation!$C$2,IF(D194=\"WU\",Simulation!$C$3,IF(D194=1,Simulation!$C$4,IF(D194=2,Simulation!$C$5,IF(D194=3,Simulation!$C$6,IF(D194=4,Simulation!$C$7,IF(D194=5,Simulation!$C$8)))))))","v":false},0,null,null,null,"",null,null,null,null,0,null,0,0,"Inlap",null,null,"FL"]
[1,184,184,null,{"$f":"IF(D195=\"Grid\",Simulation!$B$2,IF(D195=\"WU\",Simulation!$B$3,IF(D195=1,Simulation!$B$4,IF(D195=2,Simulation!$B$5,IF(D195=3,Simulation!$B$6,IF(D195=4,Simulation!$B$7,IF(D195=5,Simulation!$B$8)))))))","v":false},{"$f":"IF(D195=\"Grid\",Simulation!$C$2,IF(D195=\"WU\",Simulation!$C$3,IF(D195=1,Simulation!$C$4,IF(D195=2,Simulation!$C$5,IF(D195=3,Simulation!$C$6,IF(D195=4,Simulation!$C$7,IF(D195=5,Simulation!$C$8)))))))","v":false},0,null,null,null,"",null,null,null,null,0,null,0,0,"Inlap",null,null,"FL"]
[1,185,185,null,{"$f":"IF(D196=\"Grid\",Simulation!$B$2,IF(D196=\"WU\",Simulation!$B$3,IF(D196=1,Simulation!$B$4,IF(D196=2,Simulation!$B$5,IF(D196=3,Simulation!$B$6,IF(D196=4,Simulation!$B$7,IF(D196=5,Simulation!$B$8)))))))","v":false},{"$f":"IF(D196=\"Grid\",Simulation!$C$2,IF(D196=\"WU\",Simulation!$C$3,IF(D196=1,Simulation!$C$4,IF(D196=2,Simulation!$C$5,IF(D196=3,Simulation!$C$6,IF(D196=4,Simulation!$C$7,IF(D196=5,Simulation!$C$8)))))))","v":false},0,null,null,null,"",null,null,null,null,0,null,0,0,"Inlap",null,null,"FL"]
[1,186,186,null,{"$f":"IF(D197=\"Grid\",Simulation!$B$2,IF(D197=\"WU\",Simulation!$B$3,IF(D197=1,Simulation!$B$4,IF(D197=2,Simulation!$B$5,IF(D197=3,Simulation!$B$6,IF(D197=4,Simulation!$B$7,IF(D197=5,Simulation!$B$8)))))))","v":false},{"$f":"IF(D197=\"Grid\",Simulation!$C$2,IF(D197=\"WU\",Simulation!$C$3,IF(D197=1,Simulation!$C$4,IF(D197=2,Simulation!$C$5,IF(D197=3,Simulation!$C$6,IF(D197=4,Simulation!$C$7,IF(D197=5,Simulation!$C$8)))))))","v":false},0,null,null,null,"",null,null,null,null,0,null,0,0,"Inlap",null,null,"FL"]
[1,187,187,null,{"$f":"IF(D198=\"Grid\",Simulation!$B$2,IF(D198=\"WU\",Simulation!$B$3,IF(D198=1,Simulation!$B$4,IF(D198=2,Simulation!$B$5,IF(D198=3,Simulation!$B$6,IF(D198=4,Simulation!$B$7,IF(D198=5,Simulation!$B$8)))))))","v":false},{"$f":"IF(D198=\"Grid\",Simulation!$C$2,IF(D198=\"WU\",Simulation!$C$3,IF(D198=1,Simulation!$C$4,IF(D198=2,Simulation!$C$5,IF(D198=3,Simulation!$C$6,IF(D198=4,Simulation!$C$7,IF(D198=5,Simulation!$C$8)))))))","v":false},0,null,null,null,"",null,null,null,null,0,null,0,0,"Inlap",null,null,"FL"]
[1,188,188,null,{"$f":"IF(D199=\"Grid\",Simulation!$B$2,IF(D199=\"WU\",Simulation!$B$3,IF(D199=1,Simulation!$B$4,IF(D199=2,Simulation!$B$5,IF(D199=3,Simulation!$B$6,IF(D199=4,Simulation!$B$7,IF(D199=5,Simulation!$B$8)))))))","v":false},{"$f":"IF(D199=\"Grid\",Simulation!$C$2,IF(D199=\"WU\",Simulation!$C$3,IF(D199=1,Simulation!$C$4,IF(D199=2,Simulation!$C$5,IF(D199=3,Simulation!$C$6,IF(D199=4,Simulation!$C$7,IF(D199=5,Simulation!$C$8)))))))","v":false},0,null,null,null,"",null,null,null,null,0,null,0,0,"Inlap",null,null,"FL"]
[1,189,189,null,{"$f":"IF(D200=\"Grid\",Simulation!$B$2,IF(D200=\"WU\",Simulation!$B$3,IF(D200=1,Simulation!$B$4,IF(D200=2,Simulation!$B$5,IF(D200=3,Simulation!$B$6,IF(D200=4,Simulation!$B$7,IF(D200=5,Simulation!$B$8)))))))","v":false},{"$f":"IF(D200=\"Grid\",Simulation!$C$2,IF(D200=\"WU\",Simulation!$C$3,IF(D200=1,Simulation!$C$4,IF(D200=2,Simulation!$C$5,IF(D200=3,Simulation!$C$6,IF(D200=4,Simulation!$C$7,IF(D200=5,Simulation!$C$8)))))))","v":false},0,null,null,null,"",null,null,null,null,0,null,0,0,"Inlap",null,null,"FL"]
[1,190,190,null,{"$f":"IF(D201=\"Grid\",Simulation!$B$2,IF(D201=\"WU\",Simulation!$B$3,IF(D201=1,Simulation!$B$4,IF(D201=2,Simulation!$B$5,IF(D201=3,Simulation!$B$6,IF(D201=4,Simulation!$B$7,IF(D201=5,Simulation!$B$8)))))))","v":false},{"$f":"IF(D201=\"Grid\",Simulation!$C$2,IF(D201=\"WU\",Simulation!$C$3,IF(D201=1,Simulation!$C$4,IF(D201=2,Simulation!$C$5,IF(D201=3,Simulation!$C$6,IF(D201=4,Simulation!$C$7,IF(D201=5,Simulation!$C$8)))))))","v":false},0,null,null,null,"",null,null,null,null,0,null,0,0,"Inlap",null,null,"FL"]
[1,191,191,null,{"$f":"IF(D202=\"Grid\",Simulation!$B$2,IF(D202=\"WU\",Simulation!$B$3,IF(D202=1,Simulation!$B$4,IF(D202=2,Simulation!$B$5,IF(D202=3,Simulation!$B$6,IF(D202=4,Simulation!$B$7,IF(D202=5,Simulation!$B$8)))))))","v":false},{"$f":"IF(D202=\"Grid\",Simulation!$C$2,IF(D202=\"WU\",Simulation!$C$3,IF(D202=1,Simulation!$C$4,IF(D202=2,Simulation!$C$5,IF(D202=3,Simulation!$C$6,IF(D202=4,Simulation!$C$7,IF(D202=5,Simulation!$C$8)))))))","v":false},0,null,null,null,"",null,null,null,null,0,null,0,0,"Inlap",null,null,"FL"]
[1,192,192,null,{"$f":"IF(D203=\"Grid\",Simulation!$B$2,IF(D203=\"WU\",Simulation!$B$3,IF(D203=1,Simulation!$B$4,IF(D203=2,Simulation!$B$5,IF(D203=3,Simulation!$B$6,IF(D203=4,Simulation!$B$7,IF(D203=5,Simulation!$B$8)))))))","v":false},{"$f":"IF(D203=\"Grid\",Simulation!$C$2,IF(D203=\"WU\",Simulation!$C$3,IF(D203=1,Simulation!$C$4,IF(D203=2,Simulation!$C$5,IF(D203=3,Simulation!$C$6,IF(D203=4,Simulation!$C$7,IF(D203=5,Simulation!$C$8)))))))","v":false},0,null,null,null,"",null,null,null,null,0,null,0,0,"Inlap",null,null,"FL"]
[{"$f":"IF(O204>0,A203+1,A203)","v":1},193,193,null,{"$f":"IF(D204=\"Grid\",Simulation!$B$2,IF(D204=\"WU\",Simulation!$B$3,IF(D204=1,Simulation!$B$4,IF(D204=2,Simulation!$B$5,IF(D204=3,Simulation!$B$6,IF(D204=4,Simulation!$B$7,IF(D204=5,Simulation!$B$8)))))))","v":false},{"$f":"IF(D204=\"Grid\",Simulation!$C$2,IF(D204=\"WU\",Simulation!$C$3,IF(D204=1,Simulation!$C$4,IF(D204=2,Simulation!$C$5,IF(D204=3,Simulation!$C$6,IF(D204=4,Simulation!$C$7,IF(D204=5,Simulation!$C$8)))))))","v":false},{"$f":"G203+O203-P203","v":0},null,null,null,"",null,null,null,null,0,null,0,{"$f":"IF(O204>0,O204+S203-Q204,S203-P204)","v":0},{"$f":"IF(S204<=F204,\"Inlap\",IF(S204<=2*F204,\"Call: In this lap!\",IF(S204<=3*F204,\"Show in but don't call!\",\"\")))","v":"Inlap"},null,null,{"$f":"IF(J204=$Q$2,\"FL\",\"\")","v":"FL"}]
[1,194,194,null,{"$f":"IF(D205=\"Grid\",Simulation!$B$2,IF(D205=\"WU\",Simulation!$B$3,IF(D205=1,Simulation!$B$4,IF(D205=2,Simulation!$B$5,IF(D205=3,Simulation!$B$6,IF(D205=4,Simulation!$B$7,IF(D205=5,Simulation!$B$8)))))))","v":false},{"$f":"IF(D205=\"Grid\",Simulation!$C$2,IF(D205=\"WU\",Simulation!$C$3,IF(D205=1,Simulation!$C$4,IF(D205=2,Simulation!$C$5,IF(D205=3,Simulation!$C$6,IF(D205=4,Simulation!$C$7,IF(D205=5,Simulation!$C$8)))))))","v":false},0,null,null,null,{"$f":"IF(J205<>0,K204,\"\")","v":""},null,null,null,null,0,null,0,0,"Inlap",null,null,"FL"]
[1,195,{"$f":"IF(O206=\"\",C205+1,\"1\")","v":195},null,{"$f":"IF(D206=\"Grid\",Simulation!$B$2,IF(D206=\"WU\",Simulation!$B$3,IF(D206=1,Simulation!$B$4,IF(D206=2,Simulation!$B$5,IF(D206=3,Simulation!$B$6,IF(D206=4,Simulation!$B$7,IF(D206=5,Simulation!$B$8)))))))","v":false},{"$f":"IF(D206=\"Grid\",Simulation!$C$2,IF(D206=\"WU\",Simulation!$C$3,IF(D206=1,Simulation!$C$4,IF(D206=2,Simulation!$C$5,IF(D206=3,Simulation!$C$6,IF(D206=4,Simulation!$C$7,IF(D206=5,Simulation!$C$8)))))))","v":false},0,null,null,null,"",null,null,null,null,0,null,0,0,"Inlap",null,null,"FL"]
[1,196,196,null,{"$f":"IF(D207=\"Grid\",Simulation!$B$2,IF(D207=\"WU\",Simulation!$B$3,IF(D207=1,Simulation!$B$4,IF(D207=2,Simulation!$B$5,IF(D207=3,Simulation!$B$6,IF(D207=4,Simulation!$B$7,IF(D207=5,Simulation!$B$8)))))))","v":false},{"$f":"IF(D207=\"Grid\",Simulation!$C$2,IF(D207=\"WU\",Simulation!$C$3,IF(D207=1,Simulation!$C$4,IF(D207=2,Simulation!$C$5,IF(D207=3,Simulation!$C$6,IF(D207=4,Simulation!$C$7,IF(D207=5,Simulation!$C$8)))))))","v":false},0,null,null,null,"",null,null,null,null,0,null,0,0,"Inlap",null,null,"FL"]
[1,197,197,null,{"$f":"IF(D208=\"Grid\",Simulation!$B$2,IF(D208=\"WU\",Simulation!$B$3,IF(D208=1,Simulation!$B$4,IF(D208=2,Simulation!$B$5,IF(D208=3,Simulation!$B$6,IF(D208=4,Simulation!$B$7,IF(D208=5,Simulation!$B$8)))))))","v":false},{"$f":"IF(D208=\"Grid\",Simulation!$C$2,IF(D208=\"WU\",Simulation!$C$3,IF(D208=1,Simulation!$C$4,IF(D208=2,Simulation!$C$5,IF(D208=3,Simulation!$C$6,IF(D208=4,Simulation!$C$7,IF(D208=5,Simulation!$C$8)))))))","v":false},0,null,null,null,"",null,null,null,null,0,null,0,0,"Inlap",null,null,"FL"]
[1,198,198,null,{"$f":"IF(D209=\"Grid\",Simulation!$B$2,IF(D209=\"WU\",Simulation!$B$3,IF(D209=1,Simulation!$B$4,IF(D209=2,Simulation!$B$5,IF(D209=3,Simulation!$B$6,IF(D209=4,Simulation!$B$7,IF(D209=5,Simulation!$B$8)))))))","v":false},{"$f":"IF(D209=\"Grid\",Simulation!$C$2,IF(D209=\"WU\",Simulation!$C$3,IF(D209=1,Simulation!$C$4,IF(D209=2,Simulation!$C$5,IF(D209=3,Simulation!$C$6,IF(D209=4,Simulation!$C$7,IF(D209=5,Simulation!$C$8)))))))","v":false},0,null,null,null,"",null,null,null,null,0,null,0,0,"Inlap",null,null,"FL"]
[1,199,199,null,{"$f":"IF(D210=\"Grid\",Simulation!$B$2,IF(D210=\"WU\",Simulation!$B$3,IF(D210=1,Simulation!$B$4,IF(D210=2,Simulation!$B$5,IF(D210=3,Simulation!$B$6,IF(D210=4,Simulation!$B$7,IF(D210=5,Simulation!$B$8)))))))","v":false},{"$f":"IF(D210=\"Grid\",Simulation!$C$2,IF(D210=\"WU\",Simulation!$C$3,IF(D210=1,Simulation!$C$4,IF(D210=2,Simulation!$C$5,IF(D210=3,Simulation!$C$6,IF(D210=4,Simulation!$C$7,IF(D210=5,Simulation!$C$8)))))))","v":false},0,null,null,null,"",null,null,null,null,0,null,0,0,"Inlap",null,null,"FL"]
[1,200,200,null,{"$f":"IF(D211=\"Grid\",Simulation!$B$2,IF(D211=\"WU\",Simulation!$B$3,IF(D211=1,Simulation!$B$4,IF(D211=2,Simulation!$B$5,IF(D211=3,Simulation!$B$6,IF(D211=4,Simulation!$B$7,IF(D211=5,Simulation!$B$8)))))))","v":false},{"$f":"IF(D211=\"Grid\",Simulation!$C$2,IF(D211=\"WU\",Simulation!$C$3,IF(D211=1,Simulation!$C$4,IF(D211=2,Simulation!$C$5,IF(D211=3,Simulation!$C$6,IF(D211=4,Simulation!$C$7,IF(D211=5,Simulation!$C$8)))))))","v":false},0,null,null,null,"",null,null,null,null,0,null,0,0,"Inlap",null,null,"FL"]
[1,201,201,null,{"$f":"IF(D212=\"Grid\",Simulation!$B$2,IF(D212=\"WU\",Simulation!$B$3,IF(D212=1,Simulation!$B$4,IF(D212=2,Simulation!$B$5,IF(D212=3,Simulation!$B$6,IF(D212=4,Simulation!$B$7,IF(D212=5,Simulation!$B$8)))))))","v":false},{"$f":"IF(D212=\"Grid\",Simulation!$C$2,IF(D212=\"WU\",Simulation!$C$3,IF(D212=1,Simulation!$C$4,IF(D212=2,Simulation!$C$5,IF(D212=3,Simulation!$C$6,IF(D212=4,Simulation!$C$7,IF(D212=5,Simulation!$C$8)))))))","v":false},0,null,null,null,"",null,null,null,null,0,null,0,0,"Inlap",null,null,"FL"]
[1,202,202,null,{"$f":"IF(D213=\"Grid\",Simulation!$B$2,IF(D213=\"WU\",Simulation!$B$3,IF(D213=1,Simulation!$B$4,IF(D213=2,Simulation!$B$5,IF(D213=3,Simulation!$B$6,IF(D213=4,Simulation!$B$7,IF(D213=5,Simulation!$B$8)))))))","v":false},{"$f":"IF(D213=\"Grid\",Simulation!$C$2,IF(D213=\"WU\",Simulation!$C$3,IF(D213=1,Simulation!$C$4,IF(D213=2,Simulation!$C$5,IF(D213=3,Simulation!$C$6,IF(D213=4,Simulation!$C$7,IF(D213=5,Simulation!$C$8)))))))","v":false},0,null,null,null,"",null,null,null,null,0,null,0,0,"Inlap",null,null,"FL"]
[1,203,203,null,{"$f":"IF(D214=\"Grid\",Simulation!$B$2,IF(D214=\"WU\",Simulation!$B$3,IF(D214=1,Simulation!$B$4,IF(D214=2,Simulation!$B$5,IF(D214=3,Simulation!$B$6,IF(D214=4,Simulation!$B$7,IF(D214=5,Simulation!$B$8)))))))","v":false},{"$f":"IF(D214=\"Grid\",Simulation!$C$2,IF(D214=\"WU\",Simulation!$C$3,IF(D214=1,Simulation!$C$4,IF(D214=2,Simulation!$C$5,IF(D214=3,Simulation!$C$6,IF(D214=4,Simulation!$C$7,IF(D214=5,Simulation!$C$8)))))))","v":false},0,null,null,null,"",null,null,null,null,0,null,0,0,"Inlap",null,null,"FL"]
[1,204,204,null,{"$f":"IF(D215=\"Grid\",Simulation!$B$2,IF(D215=\"WU\",Simulation!$B$3,IF(D215=1,Simulation!$B$4,IF(D215=2,Simulation!$B$5,IF(D215=3,Simulation!$B$6,IF(D215=4,Simulation!$B$7,IF(D215=5,Simulation!$B$8)))))))","v":false},{"$f":"IF(D215=\"Grid\",Simulation!$C$2,IF(D215=\"WU\",Simulation!$C$3,IF(D215=1,Simulation!$C$4,IF(D215=2,Simulation!$C$5,IF(D215=3,Simulation!$C$6,IF(D215=4,Simulation!$C$7,IF(D215=5,Simulation!$C$8)))))))","v":false},0,null,null,null,"",null,null,null,null,0,null,0,0,"Inlap",null,null,"FL"]
[1,205,205,null,{"$f":"IF(D216=\"Grid\",Simulation!$B$2,IF(D216=\"WU\",Simulation!$B$3,IF(D216=1,Simulation!$B$4,IF(D216=2,Simulation!$B$5,IF(D216=3,Simulation!$B$6,IF(D216=4,Simulation!$B$7,IF(D216=5,Simulation!$B$8)))))))","v":false},{"$f":"IF(D216=\"Grid\",Simulation!$C$2,IF(D216=\"WU\",Simulation!$C$3,IF(D216=1,Simulation!$C$4,IF(D216=2,Simulation!$C$5,IF(D216=3,Simulation!$C$6,IF(D216=4,Simulation!$C$7,IF(D216=5,Simulation!$C$8)))))))","v":false},0,null,null,null,"",null,null,null,null,0,null,0,0,"Inlap",null,null,"FL"]
[1,206,206,null,{"$f":"IF(D217=\"Grid\",Simulation!$B$2,IF(D217=\"WU\",Simulation!$B$3,IF(D217=1,Simulation!$B$4,IF(D217=2,Simulation!$B$5,IF(D217=3,Simulation!$B$6,IF(D217=4,Simulation!$B$7,IF(D217=5,Simulation!$B$8)))))))","v":false},{"$f":"IF(D217=\"Grid\",Simulation!$C$2,IF(D217=\"WU\",Simulation!$C$3,IF(D217=1,Simulation!$C$4,IF(D217=2,Simulation!$C$5,IF(D217=3,Simulation!$C$6,IF(D217=4,Simulation!$C$7,IF(D217=5,Simulation!$C$8)))))))","v":false},0,null,null,null,"",null,null,null,null,0,null,0,0,"Inlap",null,null,"FL"]
[1,207,207,null,{"$f":"IF(D218=\"Grid\",Simulation!$B$2,IF(D218=\"WU\",Simulation!$B$3,IF(D218=1,Simulation!$B$4,IF(D218=2,Simulation!$B$5,IF(D218=3,Simulation!$B$6,IF(D218=4,Simulation!$B$7,IF(D218=5,Simulation!$B$8)))))))","v":false},{"$f":"IF(D218=\"Grid\",Simulation!$C$2,IF(D218=\"WU\",Simulation!$C$3,IF(D218=1,Simulation!$C$4,IF(D218=2,Simulation!$C$5,IF(D218=3,Simulation!$C$6,IF(D218=4,Simulation!$C$7,IF(D218=5,Simulation!$C$8)))))))","v":false},0,null,null,null,"",null,null,null,null,0,null,0,0,"Inlap",null,null,"FL"]
[1,208,208,null,{"$f":"IF(D219=\"Grid\",Simulation!$B$2,IF(D219=\"WU\",Simulation!$B$3,IF(D219=1,Simulation!$B$4,IF(D219=2,Simulation!$B$5,IF(D219=3,Simulation!$B$6,IF(D219=4,Simulation!$B$7,IF(D219=5,Simulation!$B$8)))))))","v":false},{"$f":"IF(D219=\"Grid\",Simulation!$C$2,IF(D219=\"WU\",Simulation!$C$3,IF(D219=1,Simulation!$C$4,IF(D219=2,Simulation!$C$5,IF(D219=3,Simulation!$C$6,IF(D219=4,Simulation!$C$7,IF(D219=5,Simulation!$C$8)))))))","v":false},0,null,null,null,"",null,null,null,null,0,null,0,0,"Inlap",null,null,"FL"]
[1,209,209,null,{"$f":"IF(D220=\"Grid\",Simulation!$B$2,IF(D220=\"WU\",Simulation!$B$3,IF(D220=1,Simulation!$B$4,IF(D220=2,Simulation!$B$5,IF(D220=3,Simulation!$B$6,IF(D220=4,Simulation!$B$7,IF(D220=5,Simulation!$B$8)))))))","v":false},{"$f":"IF(D220=\"Grid\",Simulation!$C$2,IF(D220=\"WU\",Simulation!$C$3,IF(D220=1,Simulation!$C$4,IF(D220=2,Simulation!$C$5,IF(D220=3,Simulation!$C$6,IF(D220=4,Simulation!$C$7,IF(D220=5,Simulation!$C$8)))))))","v":false},0,null,null,null,"",null,null,null,null,0,null,0,0,"Inlap",null,null,"FL"]
[1,210,210,null,{"$f":"IF(D221=\"Grid\",Simulation!$B$2,IF(D221=\"WU\",Simulation!$B$3,IF(D221=1,Simulation!$B$4,IF(D221=2,Simulation!$B$5,IF(D221=3,Simulation!$B$6,IF(D221=4,Simulation!$B$7,IF(D221=5,Simulation!$B$8)))))))","v":false},{"$f":"IF(D221=\"Grid\",Simulation!$C$2,IF(D221=\"WU\",Simulation!$C$3,IF(D221=1,Simulation!$C$4,IF(D221=2,Simulation!$C$5,IF(D221=3,Simulation!$C$6,IF(D221=4,Simulation!$C$7,IF(D221=5,Simulation!$C$8)))))))","v":false},0,null,null,null,"",null,null,null,null,0,null,0,0,"Inlap",null,null,"FL"]
[1,211,211,null,{"$f":"IF(D222=\"Grid\",Simulation!$B$2,IF(D222=\"WU\",Simulation!$B$3,IF(D222=1,Simulation!$B$4,IF(D222=2,Simulation!$B$5,IF(D222=3,Simulation!$B$6,IF(D222=4,Simulation!$B$7,IF(D222=5,Simulation!$B$8)))))))","v":false},{"$f":"IF(D222=\"Grid\",Simulation!$C$2,IF(D222=\"WU\",Simulation!$C$3,IF(D222=1,Simulation!$C$4,IF(D222=2,Simulation!$C$5,IF(D222=3,Simulation!$C$6,IF(D222=4,Simulation!$C$7,IF(D222=5,Simulation!$C$8)))))))","v":false},0,null,null,null,"",null,null,null,null,0,null,0,0,"Inlap",null,null,"FL"]
[1,212,212,null,{"$f":"IF(D223=\"Grid\",Simulation!$B$2,IF(D223=\"WU\",Simulation!$B$3,IF(D223=1,Simulation!$B$4,IF(D223=2,Simulation!$B$5,IF(D223=3,Simulation!$B$6,IF(D223=4,Simulation!$B$7,IF(D223=5,Simulation!$B$8)))))))","v":false},{"$f":"IF(D223=\"Grid\",Simulation!$C$2,IF(D223=\"WU\",Simulation!$C$3,IF(D223=1,Simulation!$C$4,IF(D223=2,Simulation!$C$5,IF(D223=3,Simulation!$C$6,IF(D223=4,Simulation!$C$7,IF(D223=5,Simulation!$C$8)))))))","v":false},0,null,null,null,"",null,null,null,null,0,null,0,0,"Inlap",null,null,"FL"]
[1,213,213,null,{"$f":"IF(D224=\"Grid\",Simulation!$B$2,IF(D224=\"WU\",Simulation!$B$3,IF(D224=1,Simulation!$B$4,IF(D224=2,Simulation!$B$5,IF(D224=3,Simulation!$B$6,IF(D224=4,Simulation!$B$7,IF(D224=5,Simulation!$B$8)))))))","v":false},{"$f":"IF(D224=\"Grid\",Simulation!$C$2,IF(D224=\"WU\",Simulation!$C$3,IF(D224=1,Simulation!$C$4,IF(D224=2,Simulation!$C$5,IF(D224=3,Simulation!$C$6,IF(D224=4,Simulation!$C$7,IF(D224=5,Simulation!$C$8)))))))","v":false},0,null,null,null,"",null,null,null,null,0,null,0,0,"Inlap",null,null,"FL"]
[1,214,214,null,{"$f":"IF(D225=\"Grid\",Simulation!$B$2,IF(D225=\"WU\",Simulation!$B$3,IF(D225=1,Simulation!$B$4,IF(D225=2,Simulation!$B$5,IF(D225=3,Simulation!$B$6,IF(D225=4,Simulation!$B$7,IF(D225=5,Simulation!$B$8)))))))","v":false},{"$f":"IF(D225=\"Grid\",Simulation!$C$2,IF(D225=\"WU\",Simulation!$C$3,IF(D225=1,Simulation!$C$4,IF(D225=2,Simulation!$C$5,IF(D225=3,Simulation!$C$6,IF(D225=4,Simulation!$C$7,IF(D225=5,Simulation!$C$8)))))))","v":false},0,null,null,null,"",null,null,null,null,0,null,0,0,"Inlap",null,null,"FL"]
[1,215,215,null,{"$f":"IF(D226=\"Grid\",Simulation!$B$2,IF(D226=\"WU\",Simulation!$B$3,IF(D226=1,Simulation!$B$4,IF(D226=2,Simulation!$B$5,IF(D226=3,Simulation!$B$6,IF(D226=4,Simulation!$B$7,IF(D226=5,Simulation!$B$8)))))))","v":false},{"$f":"IF(D226=\"Grid\",Simulation!$C$2,IF(D226=\"WU\",Simulation!$C$3,IF(D226=1,Simulation!$C$4,IF(D226=2,Simulation!$C$5,IF(D226=3,Simulation!$C$6,IF(D226=4,Simulation!$C$7,IF(D226=5,Simulation!$C$8)))))))","v":false},0,null,null,null,"",null,null,null,null,0,null,0,0,"Inlap",null,null,"FL"]
[1,216,216,null,{"$f":"IF(D227=\"Grid\",Simulation!$B$2,IF(D227=\"WU\",Simulation!$B$3,IF(D227=1,Simulation!$B$4,IF(D227=2,Simulation!$B$5,IF(D227=3,Simulation!$B$6,IF(D227=4,Simulation!$B$7,IF(D227=5,Simulation!$B$8)))))))","v":false},{"$f":"IF(D227=\"Grid\",Simulation!$C$2,IF(D227=\"WU\",Simulation!$C$3,IF(D227=1,Simulation!$C$4,IF(D227=2,Simulation!$C$5,IF(D227=3,Simulation!$C$6,IF(D227=4,Simulation!$C$7,IF(D227=5,Simulation!$C$8)))))))","v":false},0,null,null,null,"",null,null,null,null,0,null,0,0,"Inlap",null,null,"FL"]
[1,217,217,null,{"$f":"IF(D228=\"Grid\",Simulation!$B$2,IF(D228=\"WU\",Simulation!$B$3,IF(D228=1,Simulation!$B$4,IF(D228=2,Simulation!$B$5,IF(D228=3,Simulation!$B$6,IF(D228=4,Simulation!$B$7,IF(D228=5,Simulation!$B$8)))))))","v":false},{"$f":"IF(D228=\"Grid\",Simulation!$C$2,IF(D228=\"WU\",Simulation!$C$3,IF(D228=1,Simulation!$C$4,IF(D228=2,Simulation!$C$5,IF(D228=3,Simulation!$C$6,IF(D228=4,Simulation!$C$7,IF(D228=5,Simulation!$C$8)))))))","v":false},0,null,null,null,"",null,null,null,null,0,null,0,0,"Inlap",null,null,"FL"]
[1,218,218,null,{"$f":"IF(D229=\"Grid\",Simulation!$B$2,IF(D229=\"WU\",Simulation!$B$3,IF(D229=1,Simulation!$B$4,IF(D229=2,Simulation!$B$5,IF(D229=3,Simulation!$B$6,IF(D229=4,Simulation!$B$7,IF(D229=5,Simulation!$B$8)))))))","v":false},{"$f":"IF(D229=\"Grid\",Simulation!$C$2,IF(D229=\"WU\",Simulation!$C$3,IF(D229=1,Simulation!$C$4,IF(D229=2,Simulation!$C$5,IF(D229=3,Simulation!$C$6,IF(D229=4,Simulation!$C$7,IF(D229=5,Simulation!$C$8)))))))","v":false},0,null,null,null,"",null,null,null,null,0,null,0,0,"Inlap",null,null,"FL"]
[1,219,219,null,{"$f":"IF(D230=\"Grid\",Simulation!$B$2,IF(D230=\"WU\",Simulation!$B$3,IF(D230=1,Simulation!$B$4,IF(D230=2,Simulation!$B$5,IF(D230=3,Simulation!$B$6,IF(D230=4,Simulation!$B$7,IF(D230=5,Simulation!$B$8)))))))","v":false},{"$f":"IF(D230=\"Grid\",Simulation!$C$2,IF(D230=\"WU\",Simulation!$C$3,IF(D230=1,Simulation!$C$4,IF(D230=2,Simulation!$C$5,IF(D230=3,Simulation!$C$6,IF(D230=4,Simulation!$C$7,IF(D230=5,Simulation!$C$8)))))))","v":false},0,null,null,null,"",null,null,null,null,0,null,0,0,"Inlap",null,null,"FL"]
[1,220,220,null,{"$f":"IF(D231=\"Grid\",Simulation!$B$2,IF(D231=\"WU\",Simulation!$B$3,IF(D231=1,Simulation!$B$4,IF(D231=2,Simulation!$B$5,IF(D231=3,Simulation!$B$6,IF(D231=4,Simulation!$B$7,IF(D231=5,Simulation!$B$8)))))))","v":false},{"$f":"IF(D231=\"Grid\",Simulation!$C$2,IF(D231=\"WU\",Simulation!$C$3,IF(D231=1,Simulation!$C$4,IF(D231=2,Simulation!$C$5,IF(D231=3,Simulation!$C$6,IF(D231=4,Simulation!$C$7,IF(D231=5,Simulation!$C$8)))))))","v":false},0,null,null,null,"",null,null,null,null,0,null,0,0,"Inlap",null,null,"FL"]
[1,221,221,null,{"$f":"IF(D232=\"Grid\",Simulation!$B$2,IF(D232=\"WU\",Simulation!$B$3,IF(D232=1,Simulation!$B$4,IF(D232=2,Simulation!$B$5,IF(D232=3,Simulation!$B$6,IF(D232=4,Simulation!$B$7,IF(D232=5,Simulation!$B$8)))))))","v":false},{"$f":"IF(D232=\"Grid\",Simulation!$C$2,IF(D232=\"WU\",Simulation!$C$3,IF(D232=1,Simulation!$C$4,IF(D232=2,Simulation!$C$5,IF(D232=3,Simulation!$C$6,IF(D232=4,Simulation!$C$7,IF(D232=5,Simulation!$C$8)))))))","v":false},0,null,null,null,"",null,null,null,null,0,null,0,0,"Inlap",null,null,"FL"]
[1,222,222,null,{"$f":"IF(D233=\"Grid\",Simulation!$B$2,IF(D233=\"WU\",Simulation!$B$3,IF(D233=1,Simulation!$B$4,IF(D233=2,Simulation!$B$5,IF(D233=3,Simulation!$B$6,IF(D233=4,Simulation!$B$7,IF(D233=5,Simulation!$B$8)))))))","v":false},{"$f":"IF(D233=\"Grid\",Simulation!$C$2,IF(D233=\"WU\",Simulation!$C$3,IF(D233=1,Simulation!$C$4,IF(D233=2,Simulation!$C$5,IF(D233=3,Simulation!$C$6,IF(D233=4,Simulation!$C$7,IF(D233=5,Simulation!$C$8)))))))","v":false},0,null,null,null,"",null,null,null,null,0,null,0,0,"Inlap",null,null,"FL"]
[1,223,223,null,{"$f":"IF(D234=\"Grid\",Simulation!$B$2,IF(D234=\"WU\",Simulation!$B$3,IF(D234=1,Simulation!$B$4,IF(D234=2,Simulation!$B$5,IF(D234=3,Simulation!$B$6,IF(D234=4,Simulation!$B$7,IF(D234=5,Simulation!$B$8)))))))","v":false},{"$f":"IF(D234=\"Grid\",Simulation!$C$2,IF(D234=\"WU\",Simulation!$C$3,IF(D234=1,Simulation!$C$4,IF(D234=2,Simulation!$C$5,IF(D234=3,Simulation!$C$6,IF(D234=4,Simulation!$C$7,IF(D234=5,Simulation!$C$8)))))))","v":false},0,null,null,null,"",null,null,null,null,0,null,0,0,"Inlap",null,null,"FL"]
[1,224,224,null,{"$f":"IF(D235=\"Grid\",Simulation!$B$2,IF(D235=\"WU\",Simulation!$B$3,IF(D235=1,Simulation!$B$4,IF(D235=2,Simulation!$B$5,IF(D235=3,Simulation!$B$6,IF(D235=4,Simulation!$B$7,IF(D235=5,Simulation!$B$8)))))))","v":false},{"$f":"IF(D235=\"Grid\",Simulation!$C$2,IF(D235=\"WU\",Simulation!$C$3,IF(D235=1,Simulation!$C$4,IF(D235=2,Simulation!$C$5,IF(D235=3,Simulation!$C$6,IF(D235=4,Simulation!$C$7,IF(D235=5,Simulation!$C$8)))))))","v":false},0,null,null,null,"",null,null,null,null,0,null,0,0,"Inlap",null,null,"FL"]
[1,225,225,null,{"$f":"IF(D236=\"Grid\",Simulation!$B$2,IF(D236=\"WU\",Simulation!$B$3,IF(D236=1,Simulation!$B$4,IF(D236=2,Simulation!$B$5,IF(D236=3,Simulation!$B$6,IF(D236=4,Simulation!$B$7,IF(D236=5,Simulation!$B$8)))))))","v":false},{"$f":"IF(D236=\"Grid\",Simulation!$C$2,IF(D236=\"WU\",Simulation!$C$3,IF(D236=1,Simulation!$C$4,IF(D236=2,Simulation!$C$5,IF(D236=3,Simulation!$C$6,IF(D236=4,Simulation!$C$7,IF(D236=5,Simulation!$C$8)))))))","v":false},0,null,null,null,"",null,null,null,null,0,null,0,0,"Inlap",null,null,"FL"]
[1,226,226,null,{"$f":"IF(D237=\"Grid\",Simulation!$B$2,IF(D237=\"WU\",Simulation!$B$3,IF(D237=1,Simulation!$B$4,IF(D237=2,Simulation!$B$5,IF(D237=3,Simulation!$B$6,IF(D237=4,Simulation!$B$7,IF(D237=5,Simulation!$B$8)))))))","v":false},{"$f":"IF(D237=\"Grid\",Simulation!$C$2,IF(D237=\"WU\",Simulation!$C$3,IF(D237=1,Simulation!$C$4,IF(D237=2,Simulation!$C$5,IF(D237=3,Simulation!$C$6,IF(D237=4,Simulation!$C$7,IF(D237=5,Simulation!$C$8)))))))","v":false},0,null,null,null,"",null,null,null,null,0,null,0,0,"Inlap",null,null,"FL"]
[1,227,227,null,{"$f":"IF(D238=\"Grid\",Simulation!$B$2,IF(D238=\"WU\",Simulation!$B$3,IF(D238=1,Simulation!$B$4,IF(D238=2,Simulation!$B$5,IF(D238=3,Simulation!$B$6,IF(D238=4,Simulation!$B$7,IF(D238=5,Simulation!$B$8)))))))","v":false},{"$f":"IF(D238=\"Grid\",Simulation!$C$2,IF(D238=\"WU\",Simulation!$C$3,IF(D238=1,Simulation!$C$4,IF(D238=2,Simulation!$C$5,IF(D238=3,Simulation!$C$6,IF(D238=4,Simulation!$C$7,IF(D238=5,Simulation!$C$8)))))))","v":false},0,null,null,null,"",null,null,null,null,{"$f":"IF(O238>0,Q238,Q238-Q237)","v":0},null,{"$f":"IF(O238>0,Q238,Q238-Q237)","v":0},0,"Inlap",null,null,"FL"]
[1,228,228,null,{"$f":"IF(D239=\"Grid\",Simulation!$B$2,IF(D239=\"WU\",Simulation!$B$3,IF(D239=1,Simulation!$B$4,IF(D239=2,Simulation!$B$5,IF(D239=3,Simulation!$B$6,IF(D239=4,Simulation!$B$7,IF(D239=5,Simulation!$B$8)))))))","v":false},{"$f":"IF(D239=\"Grid\",Simulation!$C$2,IF(D239=\"WU\",Simulation!$C$3,IF(D239=1,Simulation!$C$4,IF(D239=2,Simulation!$C$5,IF(D239=3,Simulation!$C$6,IF(D239=4,Simulation!$C$7,IF(D239=5,Simulation!$C$8)))))))","v":false},0,null,null,null,"",null,null,null,null,0,null,0,0,"Inlap",null,null,"FL"]
[1,229,229,null,{"$f":"IF(D240=\"Grid\",Simulation!$B$2,IF(D240=\"WU\",Simulation!$B$3,IF(D240=1,Simulation!$B$4,IF(D240=2,Simulation!$B$5,IF(D240=3,Simulation!$B$6,IF(D240=4,Simulation!$B$7,IF(D240=5,Simulation!$B$8)))))))","v":false},{"$f":"IF(D240=\"Grid\",Simulation!$C$2,IF(D240=\"WU\",Simulation!$C$3,IF(D240=1,Simulation!$C$4,IF(D240=2,Simulation!$C$5,IF(D240=3,Simulation!$C$6,IF(D240=4,Simulation!$C$7,IF(D240=5,Simulation!$C$8)))))))","v":false},0,null,null,null,"",null,null,null,null,0,null,0,0,"Inlap",null,null,"FL"]
[1,230,230,null,{"$f":"IF(D241=\"Grid\",Simulation!$B$2,IF(D241=\"WU\",Simulation!$B$3,IF(D241=1,Simulation!$B$4,IF(D241=2,Simulation!$B$5,IF(D241=3,Simulation!$B$6,IF(D241=4,Simulation!$B$7,IF(D241=5,Simulation!$B$8)))))))","v":false},{"$f":"IF(D241=\"Grid\",Simulation!$C$2,IF(D241=\"WU\",Simulation!$C$3,IF(D241=1,Simulation!$C$4,IF(D241=2,Simulation!$C$5,IF(D241=3,Simulation!$C$6,IF(D241=4,Simulation!$C$7,IF(D241=5,Simulation!$C$8)))))))","v":false},0,null,null,null,"",null,null,null,null,0,null,0,0,"Inlap",null,null,"FL"]
[1,231,231,null,{"$f":"IF(D242=\"Grid\",Simulation!$B$2,IF(D242=\"WU\",Simulation!$B$3,IF(D242=1,Simulation!$B$4,IF(D242=2,Simulation!$B$5,IF(D242=3,Simulation!$B$6,IF(D242=4,Simulation!$B$7,IF(D242=5,Simulation!$B$8)))))))","v":false},{"$f":"IF(D242=\"Grid\",Simulation!$C$2,IF(D242=\"WU\",Simulation!$C$3,IF(D242=1,Simulation!$C$4,IF(D242=2,Simulation!$C$5,IF(D242=3,Simulation!$C$6,IF(D242=4,Simulation!$C$7,IF(D242=5,Simulation!$C$8)))))))","v":false},0,null,null,null,"",null,null,null,null,0,null,0,0,"Inlap",null,null,"FL"]
[1,232,232,null,{"$f":"IF(D243=\"Grid\",Simulation!$B$2,IF(D243=\"WU\",Simulation!$B$3,IF(D243=1,Simulation!$B$4,IF(D243=2,Simulation!$B$5,IF(D243=3,Simulation!$B$6,IF(D243=4,Simulation!$B$7,IF(D243=5,Simulation!$B$8)))))))","v":false},{"$f":"IF(D243=\"Grid\",Simulation!$C$2,IF(D243=\"WU\",Simulation!$C$3,IF(D243=1,Simulation!$C$4,IF(D243=2,Simulation!$C$5,IF(D243=3,Simulation!$C$6,IF(D243=4,Simulation!$C$7,IF(D243=5,Simulation!$C$8)))))))","v":false},0,null,null,null,"",null,null,null,null,0,null,0,0,"Inlap",null,null,"FL"]
[1,233,233,null,{"$f":"IF(D244=\"Grid\",Simulation!$B$2,IF(D244=\"WU\",Simulation!$B$3,IF(D244=1,Simulation!$B$4,IF(D244=2,Simulation!$B$5,IF(D244=3,Simulation!$B$6,IF(D244=4,Simulation!$B$7,IF(D244=5,Simulation!$B$8)))))))","v":false},{"$f":"IF(D244=\"Grid\",Simulation!$C$2,IF(D244=\"WU\",Simulation!$C$3,IF(D244=1,Simulation!$C$4,IF(D244=2,Simulation!$C$5,IF(D244=3,Simulation!$C$6,IF(D244=4,Simulation!$C$7,IF(D244=5,Simulation!$C$8)))))))","v":false},0,null,null,null,"",null,null,null,null,0,null,0,0,"Inlap",null,null,"FL"]
[1,234,234,null,{"$f":"IF(D245=\"Grid\",Simulation!$B$2,IF(D245=\"WU\",Simulation!$B$3,IF(D245=1,Simulation!$B$4,IF(D245=2,Simulation!$B$5,IF(D245=3,Simulation!$B$6,IF(D245=4,Simulation!$B$7,IF(D245=5,Simulation!$B$8)))))))","v":false},{"$f":"IF(D245=\"Grid\",Simulation!$C$2,IF(D245=\"WU\",Simulation!$C$3,IF(D245=1,Simulation!$C$4,IF(D245=2,Simulation!$C$5,IF(D245=3,Simulation!$C$6,IF(D245=4,Simulation!$C$7,IF(D245=5,Simulation!$C$8)))))))","v":false},0,null,null,null,"",null,null,null,null,0,null,0,0,"Inlap",null,null,"FL"]
[1,235,235,null,{"$f":"IF(D246=\"Grid\",Simulation!$B$2,IF(D246=\"WU\",Simulation!$B$3,IF(D246=1,Simulation!$B$4,IF(D246=2,Simulation!$B$5,IF(D246=3,Simulation!$B$6,IF(D246=4,Simulation!$B$7,IF(D246=5,Simulation!$B$8)))))))","v":false},{"$f":"IF(D246=\"Grid\",Simulation!$C$2,IF(D246=\"WU\",Simulation!$C$3,IF(D246=1,Simulation!$C$4,IF(D246=2,Simulation!$C$5,IF(D246=3,Simulation!$C$6,IF(D246=4,Simulation!$C$7,IF(D246=5,Simulation!$C$8)))))))","v":false},0,null,null,null,"",null,null,null,null,0,null,0,0,"Inlap",null,null,"FL"]
[1,236,236,null,{"$f":"IF(D247=\"Grid\",Simulation!$B$2,IF(D247=\"WU\",Simulation!$B$3,IF(D247=1,Simulation!$B$4,IF(D247=2,Simulation!$B$5,IF(D247=3,Simulation!$B$6,IF(D247=4,Simulation!$B$7,IF(D247=5,Simulation!$B$8)))))))","v":false},{"$f":"IF(D247=\"Grid\",Simulation!$C$2,IF(D247=\"WU\",Simulation!$C$3,IF(D247=1,Simulation!$C$4,IF(D247=2,Simulation!$C$5,IF(D247=3,Simulation!$C$6,IF(D247=4,Simulation!$C$7,IF(D247=5,Simulation!$C$8)))))))","v":false},0,null,null,null,"",null,null,null,null,0,null,0,0,"Inlap",null,null,"FL"]
[1,237,237,null,{"$f":"IF(D248=\"Grid\",Simulation!$B$2,IF(D248=\"WU\",Simulation!$B$3,IF(D248=1,Simulation!$B$4,IF(D248=2,Simulation!$B$5,IF(D248=3,Simulation!$B$6,IF(D248=4,Simulation!$B$7,IF(D248=5,Simulation!$B$8)))))))","v":false},{"$f":"IF(D248=\"Grid\",Simulation!$C$2,IF(D248=\"WU\",Simulation!$C$3,IF(D248=1,Simulation!$C$4,IF(D248=2,Simulation!$C$5,IF(D248=3,Simulation!$C$6,IF(D248=4,Simulation!$C$7,IF(D248=5,Simulation!$C$8)))))))","v":false},0,null,null,null,"",null,null,null,null,0,null,0,0,"Inlap",null,null,"FL"]
[1,238,238,null,{"$f":"IF(D249=\"Grid\",Simulation!$B$2,IF(D249=\"WU\",Simulation!$B$3,IF(D249=1,Simulation!$B$4,IF(D249=2,Simulation!$B$5,IF(D249=3,Simulation!$B$6,IF(D249=4,Simulation!$B$7,IF(D249=5,Simulation!$B$8)))))))","v":false},{"$f":"IF(D249=\"Grid\",Simulation!$C$2,IF(D249=\"WU\",Simulation!$C$3,IF(D249=1,Simulation!$C$4,IF(D249=2,Simulation!$C$5,IF(D249=3,Simulation!$C$6,IF(D249=4,Simulation!$C$7,IF(D249=5,Simulation!$C$8)))))))","v":false},0,null,null,null,"",null,null,null,null,0,null,0,0,"Inlap",null,null,"FL"]
[1,239,239,null,{"$f":"IF(D250=\"Grid\",Simulation!$B$2,IF(D250=\"WU\",Simulation!$B$3,IF(D250=1,Simulation!$B$4,IF(D250=2,Simulation!$B$5,IF(D250=3,Simulation!$B$6,IF(D250=4,Simulation!$B$7,IF(D250=5,Simulation!$B$8)))))))","v":false},{"$f":"IF(D250=\"Grid\",Simulation!$C$2,IF(D250=\"WU\",Simulation!$C$3,IF(D250=1,Simulation!$C$4,IF(D250=2,Simulation!$C$5,IF(D250=3,Simulation!$C$6,IF(D250=4,Simulation!$C$7,IF(D250=5,Simulation!$C$8)))))))","v":false},0,null,null,null,"",null,null,null,null,0,null,0,0,"Inlap",null,null,"FL"]
[1,240,240,null,{"$f":"IF(D251=\"Grid\",Simulation!$B$2,IF(D251=\"WU\",Simulation!$B$3,IF(D251=1,Simulation!$B$4,IF(D251=2,Simulation!$B$5,IF(D251=3,Simulation!$B$6,IF(D251=4,Simulation!$B$7,IF(D251=5,Simulation!$B$8)))))))","v":false},{"$f":"IF(D251=\"Grid\",Simulation!$C$2,IF(D251=\"WU\",Simulation!$C$3,IF(D251=1,Simulation!$C$4,IF(D251=2,Simulation!$C$5,IF(D251=3,Simulation!$C$6,IF(D251=4,Simulation!$C$7,IF(D251=5,Simulation!$C$8)))))))","v":false},0,null,null,null,"",null,null,null,null,0,null,0,0,"Inlap",null,null,"FL"]
[1,241,241,null,{"$f":"IF(D252=\"Grid\",Simulation!$B$2,IF(D252=\"WU\",Simulation!$B$3,IF(D252=1,Simulation!$B$4,IF(D252=2,Simulation!$B$5,IF(D252=3,Simulation!$B$6,IF(D252=4,Simulation!$B$7,IF(D252=5,Simulation!$B$8)))))))","v":false},{"$f":"IF(D252=\"Grid\",Simulation!$C$2,IF(D252=\"WU\",Simulation!$C$3,IF(D252=1,Simulation!$C$4,IF(D252=2,Simulation!$C$5,IF(D252=3,Simulation!$C$6,IF(D252=4,Simulation!$C$7,IF(D252=5,Simulation!$C$8)))))))","v":false},0,null,null,null,"",null,null,null,null,0,null,0,0,"Inlap",null,null,"FL"]
[1,242,242,null,{"$f":"IF(D253=\"Grid\",Simulation!$B$2,IF(D253=\"WU\",Simulation!$B$3,IF(D253=1,Simulation!$B$4,IF(D253=2,Simulation!$B$5,IF(D253=3,Simulation!$B$6,IF(D253=4,Simulation!$B$7,IF(D253=5,Simulation!$B$8)))))))","v":false},{"$f":"IF(D253=\"Grid\",Simulation!$C$2,IF(D253=\"WU\",Simulation!$C$3,IF(D253=1,Simulation!$C$4,IF(D253=2,Simulation!$C$5,IF(D253=3,Simulation!$C$6,IF(D253=4,Simulation!$C$7,IF(D253=5,Simulation!$C$8)))))))","v":false},0,null,null,null,"",null,null,null,null,0,null,0,0,"Inlap",null,null,"FL"]
[1,243,243,null,{"$f":"IF(D254=\"Grid\",Simulation!$B$2,IF(D254=\"WU\",Simulation!$B$3,IF(D254=1,Simulation!$B$4,IF(D254=2,Simulation!$B$5,IF(D254=3,Simulation!$B$6,IF(D254=4,Simulation!$B$7,IF(D254=5,Simulation!$B$8)))))))","v":false},{"$f":"IF(D254=\"Grid\",Simulation!$C$2,IF(D254=\"WU\",Simulation!$C$3,IF(D254=1,Simulation!$C$4,IF(D254=2,Simulation!$C$5,IF(D254=3,Simulation!$C$6,IF(D254=4,Simulation!$C$7,IF(D254=5,Simulation!$C$8)))))))","v":false},0,null,null,null,"",null,null,null,null,0,null,0,0,"Inlap",null,null,"FL"]
[1,244,244,null,{"$f":"IF(D255=\"Grid\",Simulation!$B$2,IF(D255=\"WU\",Simulation!$B$3,IF(D255=1,Simulation!$B$4,IF(D255=2,Simulation!$B$5,IF(D255=3,Simulation!$B$6,IF(D255=4,Simulation!$B$7,IF(D255=5,Simulation!$B$8)))))))","v":false},{"$f":"IF(D255=\"Grid\",Simulation!$C$2,IF(D255=\"WU\",Simulation!$C$3,IF(D255=1,Simulation!$C$4,IF(D255=2,Simulation!$C$5,IF(D255=3,Simulation!$C$6,IF(D255=4,Simulation!$C$7,IF(D255=5,Simulation!$C$8)))))))","v":false},0,null,null,null,"",null,null,null,null,0,null,0,0,"Inlap",null,null,"FL"]
[1,245,245,null,{"$f":"IF(D256=\"Grid\",Simulation!$B$2,IF(D256=\"WU\",Simulation!$B$3,IF(D256=1,Simulation!$B$4,IF(D256=2,Simulation!$B$5,IF(D256=3,Simulation!$B$6,IF(D256=4,Simulation!$B$7,IF(D256=5,Simulation!$B$8)))))))","v":false},{"$f":"IF(D256=\"Grid\",Simulation!$C$2,IF(D256=\"WU\",Simulation!$C$3,IF(D256=1,Simulation!$C$4,IF(D256=2,Simulation!$C$5,IF(D256=3,Simulation!$C$6,IF(D256=4,Simulation!$C$7,IF(D256=5,Simulation!$C$8)))))))","v":false},0,null,null,null,"",null,null,null,null,0,null,0,0,"Inlap",null,null,"FL"]
[1,246,246,null,{"$f":"IF(D257=\"Grid\",Simulation!$B$2,IF(D257=\"WU\",Simulation!$B$3,IF(D257=1,Simulation!$B$4,IF(D257=2,Simulation!$B$5,IF(D257=3,Simulation!$B$6,IF(D257=4,Simulation!$B$7,IF(D257=5,Simulation!$B$8)))))))","v":false},{"$f":"IF(D257=\"Grid\",Simulation!$C$2,IF(D257=\"WU\",Simulation!$C$3,IF(D257=1,Simulation!$C$4,IF(D257=2,Simulation!$C$5,IF(D257=3,Simulation!$C$6,IF(D257=4,Simulation!$C$7,IF(D257=5,Simulation!$C$8)))))))","v":false},0,null,null,null,"",null,null,null,null,0,null,0,0,"Inlap",null,null,"FL"]
[1,247,247,null,{"$f":"IF(D258=\"Grid\",Simulation!$B$2,IF(D258=\"WU\",Simulation!$B$3,IF(D258=1,Simulation!$B$4,IF(D258=2,Simulation!$B$5,IF(D258=3,Simulation!$B$6,IF(D258=4,Simulation!$B$7,IF(D258=5,Simulation!$B$8)))))))","v":false},{"$f":"IF(D258=\"Grid\",Simulation!$C$2,IF(D258=\"WU\",Simulation!$C$3,IF(D258=1,Simulation!$C$4,IF(D258=2,Simulation!$C$5,IF(D258=3,Simulation!$C$6,IF(D258=4,Simulation!$C$7,IF(D258=5,Simulation!$C$8)))))))","v":false},0,null,null,null,"",null,null,null,null,0,null,0,0,"Inlap",null,null,"FL"]
[1,248,248,null,{"$f":"IF(D259=\"Grid\",Simulation!$B$2,IF(D259=\"WU\",Simulation!$B$3,IF(D259=1,Simulation!$B$4,IF(D259=2,Simulation!$B$5,IF(D259=3,Simulation!$B$6,IF(D259=4,Simulation!$B$7,IF(D259=5,Simulation!$B$8)))))))","v":false},{"$f":"IF(D259=\"Grid\",Simulation!$C$2,IF(D259=\"WU\",Simulation!$C$3,IF(D259=1,Simulation!$C$4,IF(D259=2,Simulation!$C$5,IF(D259=3,Simulation!$C$6,IF(D259=4,Simulation!$C$7,IF(D259=5,Simulation!$C$8)))))))","v":false},0,null,null,null,"",null,null,null,null,0,null,0,0,"Inlap",null,null,"FL"]
[1,249,249,null,{"$f":"IF(D260=\"Grid\",Simulation!$B$2,IF(D260=\"WU\",Simulation!$B$3,IF(D260=1,Simulation!$B$4,IF(D260=2,Simulation!$B$5,IF(D260=3,Simulation!$B$6,IF(D260=4,Simulation!$B$7,IF(D260=5,Simulation!$B$8)))))))","v":false},{"$f":"IF(D260=\"Grid\",Simulation!$C$2,IF(D260=\"WU\",Simulation!$C$3,IF(D260=1,Simulation!$C$4,IF(D260=2,Simulation!$C$5,IF(D260=3,Simulation!$C$6,IF(D260=4,Simulation!$C$7,IF(D260=5,Simulation!$C$8)))))))","v":false},0,null,null,null,"",null,null,null,null,0,null,0,0,"Inlap",null,null,"FL"]
[1,250,250,null,{"$f":"IF(D261=\"Grid\",Simulation!$B$2,IF(D261=\"WU\",Simulation!$B$3,IF(D261=1,Simulation!$B$4,IF(D261=2,Simulation!$B$5,IF(D261=3,Simulation!$B$6,IF(D261=4,Simulation!$B$7,IF(D261=5,Simulation!$B$8)))))))","v":false},{"$f":"IF(D261=\"Grid\",Simulation!$C$2,IF(D261=\"WU\",Simulation!$C$3,IF(D261=1,Simulation!$C$4,IF(D261=2,Simulation!$C$5,IF(D261=3,Simulation!$C$6,IF(D261=4,Simulation!$C$7,IF(D261=5,Simulation!$C$8)))))))","v":false},0,null,null,null,"",null,null,null,null,0,null,0,0,"Inlap",null,null,"FL"]
[1,251,251,null,{"$f":"IF(D262=\"Grid\",Simulation!$B$2,IF(D262=\"WU\",Simulation!$B$3,IF(D262=1,Simulation!$B$4,IF(D262=2,Simulation!$B$5,IF(D262=3,Simulation!$B$6,IF(D262=4,Simulation!$B$7,IF(D262=5,Simulation!$B$8)))))))","v":false},{"$f":"IF(D262=\"Grid\",Simulation!$C$2,IF(D262=\"WU\",Simulation!$C$3,IF(D262=1,Simulation!$C$4,IF(D262=2,Simulation!$C$5,IF(D262=3,Simulation!$C$6,IF(D262=4,Simulation!$C$7,IF(D262=5,Simulation!$C$8)))))))","v":false},0,null,null,null,"",null,null,null,null,0,null,0,0,"Inlap",null,null,"FL"]
[1,252,252,null,{"$f":"IF(D263=\"Grid\",Simulation!$B$2,IF(D263=\"WU\",Simulation!$B$3,IF(D263=1,Simulation!$B$4,IF(D263=2,Simulation!$B$5,IF(D263=3,Simulation!$B$6,IF(D263=4,Simulation!$B$7,IF(D263=5,Simulation!$B$8)))))))","v":false},{"$f":"IF(D263=\"Grid\",Simulation!$C$2,IF(D263=\"WU\",Simulation!$C$3,IF(D263=1,Simulation!$C$4,IF(D263=2,Simulation!$C$5,IF(D263=3,Simulation!$C$6,IF(D263=4,Simulation!$C$7,IF(D263=5,Simulation!$C$8)))))))","v":false},0,null,null,null,"",null,null,null,null,0,null,0,0,"Inlap",null,null,"FL"]
[1,253,253,null,{"$f":"IF(D264=\"Grid\",Simulation!$B$2,IF(D264=\"WU\",Simulation!$B$3,IF(D264=1,Simulation!$B$4,IF(D264=2,Simulation!$B$5,IF(D264=3,Simulation!$B$6,IF(D264=4,Simulation!$B$7,IF(D264=5,Simulation!$B$8)))))))","v":false},{"$f":"IF(D264=\"Grid\",Simulation!$C$2,IF(D264=\"WU\",Simulation!$C$3,IF(D264=1,Simulation!$C$4,IF(D264=2,Simulation!$C$5,IF(D264=3,Simulation!$C$6,IF(D264=4,Simulation!$C$7,IF(D264=5,Simulation!$C$8)))))))","v":false},0,null,null,null,"",null,null,null,null,0,null,0,0,"Inlap",null,null,"FL"]
[1,254,254,null,{"$f":"IF(D265=\"Grid\",Simulation!$B$2,IF(D265=\"WU\",Simulation!$B$3,IF(D265=1,Simulation!$B$4,IF(D265=2,Simulation!$B$5,IF(D265=3,Simulation!$B$6,IF(D265=4,Simulation!$B$7,IF(D265=5,Simulation!$B$8)))))))","v":false},{"$f":"IF(D265=\"Grid\",Simulation!$C$2,IF(D265=\"WU\",Simulation!$C$3,IF(D265=1,Simulation!$C$4,IF(D265=2,Simulation!$C$5,IF(D265=3,Simulation!$C$6,IF(D265=4,Simulation!$C$7,IF(D265=5,Simulation!$C$8)))))))","v":false},0,null,null,null,"",null,null,null,null,0,null,0,0,"Inlap",null,null,"FL"]
[1,255,255,null,{"$f":"IF(D266=\"Grid\",Simulation!$B$2,IF(D266=\"WU\",Simulation!$B$3,IF(D266=1,Simulation!$B$4,IF(D266=2,Simulation!$B$5,IF(D266=3,Simulation!$B$6,IF(D266=4,Simulation!$B$7,IF(D266=5,Simulation!$B$8)))))))","v":false},{"$f":"IF(D266=\"Grid\",Simulation!$C$2,IF(D266=\"WU\",Simulation!$C$3,IF(D266=1,Simulation!$C$4,IF(D266=2,Simulation!$C$5,IF(D266=3,Simulation!$C$6,IF(D266=4,Simulation!$C$7,IF(D266=5,Simulation!$C$8)))))))","v":false},0,null,null,null,"",null,null,null,null,0,null,0,0,"Inlap",null,null,"FL"]
[1,256,256,null,{"$f":"IF(D267=\"Grid\",Simulation!$B$2,IF(D267=\"WU\",Simulation!$B$3,IF(D267=1,Simulation!$B$4,IF(D267=2,Simulation!$B$5,IF(D267=3,Simulation!$B$6,IF(D267=4,Simulation!$B$7,IF(D267=5,Simulation!$B$8)))))))","v":false},{"$f":"IF(D267=\"Grid\",Simulation!$C$2,IF(D267=\"WU\",Simulation!$C$3,IF(D267=1,Simulation!$C$4,IF(D267=2,Simulation!$C$5,IF(D267=3,Simulation!$C$6,IF(D267=4,Simulation!$C$7,IF(D267=5,Simulation!$C$8)))))))","v":false},0,null,null,null,"",null,null,null,null,0,null,0,0,"Inlap",null,null,"FL"]
[{"$f":"IF(O268>0,A267+1,A267)","v":1},257,257,null,{"$f":"IF(D268=\"Grid\",Simulation!$B$2,IF(D268=\"WU\",Simulation!$B$3,IF(D268=1,Simulation!$B$4,IF(D268=2,Simulation!$B$5,IF(D268=3,Simulation!$B$6,IF(D268=4,Simulation!$B$7,IF(D268=5,Simulation!$B$8)))))))","v":false},{"$f":"IF(D268=\"Grid\",Simulation!$C$2,IF(D268=\"WU\",Simulation!$C$3,IF(D268=1,Simulation!$C$4,IF(D268=2,Simulation!$C$5,IF(D268=3,Simulation!$C$6,IF(D268=4,Simulation!$C$7,IF(D268=5,Simulation!$C$8)))))))","v":false},{"$f":"G267+O267-P267","v":0},null,null,null,"",null,null,null,null,0,null,0,{"$f":"IF(O268>0,O268+S267-Q268,S267-P268)","v":0},{"$f":"IF(S268<=F268,\"Inlap\",IF(S268<=2*F268,\"Call: In this lap!\",IF(S268<=3*F268,\"Show in but don't call!\",\"\")))","v":"Inlap"},null,null,{"$f":"IF(J268=$Q$2,\"FL\",\"\")","v":"FL"}]
[1,258,258,null,{"$f":"IF(D269=\"Grid\",Simulation!$B$2,IF(D269=\"WU\",Simulation!$B$3,IF(D269=1,Simulation!$B$4,IF(D269=2,Simulation!$B$5,IF(D269=3,Simulation!$B$6,IF(D269=4,Simulation!$B$7,IF(D269=5,Simulation!$B$8)))))))","v":false},{"$f":"IF(D269=\"Grid\",Simulation!$C$2,IF(D269=\"WU\",Simulation!$C$3,IF(D269=1,Simulation!$C$4,IF(D269=2,Simulation!$C$5,IF(D269=3,Simulation!$C$6,IF(D269=4,Simulation!$C$7,IF(D269=5,Simulation!$C$8)))))))","v":false},0,null,null,null,{"$f":"IF(J269<>0,K268,\"\")","v":""},null,null,null,null,0,null,0,0,"Inlap",null,null,"FL"]
[1,259,{"$f":"IF(O270=\"\",C269+1,\"1\")","v":259},null,{"$f":"IF(D270=\"Grid\",Simulation!$B$2,IF(D270=\"WU\",Simulation!$B$3,IF(D270=1,Simulation!$B$4,IF(D270=2,Simulation!$B$5,IF(D270=3,Simulation!$B$6,IF(D270=4,Simulation!$B$7,IF(D270=5,Simulation!$B$8)))))))","v":false},{"$f":"IF(D270=\"Grid\",Simulation!$C$2,IF(D270=\"WU\",Simulation!$C$3,IF(D270=1,Simulation!$C$4,IF(D270=2,Simulation!$C$5,IF(D270=3,Simulation!$C$6,IF(D270=4,Simulation!$C$7,IF(D270=5,Simulation!$C$8)))))))","v":false},0,null,null,null,"",null,null,null,null,0,null,0,0,"Inlap",null,null,"FL"]
[1,260,260,null,{"$f":"IF(D271=\"Grid\",Simulation!$B$2,IF(D271=\"WU\",Simulation!$B$3,IF(D271=1,Simulation!$B$4,IF(D271=2,Simulation!$B$5,IF(D271=3,Simulation!$B$6,IF(D271=4,Simulation!$B$7,IF(D271=5,Simulation!$B$8)))))))","v":false},{"$f":"IF(D271=\"Grid\",Simulation!$C$2,IF(D271=\"WU\",Simulation!$C$3,IF(D271=1,Simulation!$C$4,IF(D271=2,Simulation!$C$5,IF(D271=3,Simulation!$C$6,IF(D271=4,Simulation!$C$7,IF(D271=5,Simulation!$C$8)))))))","v":false},0,null,null,null,"",null,null,null,null,0,null,0,0,"Inlap",null,null,"FL"]
[1,261,261,null,{"$f":"IF(D272=\"Grid\",Simulation!$B$2,IF(D272=\"WU\",Simulation!$B$3,IF(D272=1,Simulation!$B$4,IF(D272=2,Simulation!$B$5,IF(D272=3,Simulation!$B$6,IF(D272=4,Simulation!$B$7,IF(D272=5,Simulation!$B$8)))))))","v":false},{"$f":"IF(D272=\"Grid\",Simulation!$C$2,IF(D272=\"WU\",Simulation!$C$3,IF(D272=1,Simulation!$C$4,IF(D272=2,Simulation!$C$5,IF(D272=3,Simulation!$C$6,IF(D272=4,Simulation!$C$7,IF(D272=5,Simulation!$C$8)))))))","v":false},0,null,null,null,"",null,null,null,null,0,null,0,0,"Inlap",null,null,"FL"]
[1,262,262,null,{"$f":"IF(D273=\"Grid\",Simulation!$B$2,IF(D273=\"WU\",Simulation!$B$3,IF(D273=1,Simulation!$B$4,IF(D273=2,Simulation!$B$5,IF(D273=3,Simulation!$B$6,IF(D273=4,Simulation!$B$7,IF(D273=5,Simulation!$B$8)))))))","v":false},{"$f":"IF(D273=\"Grid\",Simulation!$C$2,IF(D273=\"WU\",Simulation!$C$3,IF(D273=1,Simulation!$C$4,IF(D273=2,Simulation!$C$5,IF(D273=3,Simulation!$C$6,IF(D273=4,Simulation!$C$7,IF(D273=5,Simulation!$C$8)))))))","v":false},0,null,null,null,"",null,null,null,null,0,null,0,0,"Inlap",null,null,"FL"]
[1,263,263,null,{"$f":"IF(D274=\"Grid\",Simulation!$B$2,IF(D274=\"WU\",Simulation!$B$3,IF(D274=1,Simulation!$B$4,IF(D274=2,Simulation!$B$5,IF(D274=3,Simulation!$B$6,IF(D274=4,Simulation!$B$7,IF(D274=5,Simulation!$B$8)))))))","v":false},{"$f":"IF(D274=\"Grid\",Simulation!$C$2,IF(D274=\"WU\",Simulation!$C$3,IF(D274=1,Simulation!$C$4,IF(D274=2,Simulation!$C$5,IF(D274=3,Simulation!$C$6,IF(D274=4,Simulation!$C$7,IF(D274=5,Simulation!$C$8)))))))","v":false},0,null,null,null,"",null,null,null,null,0,null,0,0,"Inlap",null,null,"FL"]
[1,264,264,null,{"$f":"IF(D275=\"Grid\",Simulation!$B$2,IF(D275=\"WU\",Simulation!$B$3,IF(D275=1,Simulation!$B$4,IF(D275=2,Simulation!$B$5,IF(D275=3,Simulation!$B$6,IF(D275=4,Simulation!$B$7,IF(D275=5,Simulation!$B$8)))))))","v":false},{"$f":"IF(D275=\"Grid\",Simulation!$C$2,IF(D275=\"WU\",Simulation!$C$3,IF(D275=1,Simulation!$C$4,IF(D275=2,Simulation!$C$5,IF(D275=3,Simulation!$C$6,IF(D275=4,Simulation!$C$7,IF(D275=5,Simulation!$C$8)))))))","v":false},0,null,null,null,"",null,null,null,null,0,null,0,0,"Inlap",null,null,"FL"]
[1,265,265,null,{"$f":"IF(D276=\"Grid\",Simulation!$B$2,IF(D276=\"WU\",Simulation!$B$3,IF(D276=1,Simulation!$B$4,IF(D276=2,Simulation!$B$5,IF(D276=3,Simulation!$B$6,IF(D276=4,Simulation!$B$7,IF(D276=5,Simulation!$B$8)))))))","v":false},{"$f":"IF(D276=\"Grid\",Simulation!$C$2,IF(D276=\"WU\",Simulation!$C$3,IF(D276=1,Simulation!$C$4,IF(D276=2,Simulation!$C$5,IF(D276=3,Simulation!$C$6,IF(D276=4,Simulation!$C$7,IF(D276=5,Simulation!$C$8)))))))","v":false},0,null,null,null,"",null,null,null,null,0,null,0,0,"Inlap",null,null,"FL"]
[1,266,266,null,{"$f":"IF(D277=\"Grid\",Simulation!$B$2,IF(D277=\"WU\",Simulation!$B$3,IF(D277=1,Simulation!$B$4,IF(D277=2,Simulation!$B$5,IF(D277=3,Simulation!$B$6,IF(D277=4,Simulation!$B$7,IF(D277=5,Simulation!$B$8)))))))","v":false},{"$f":"IF(D277=\"Grid\",Simulation!$C$2,IF(D277=\"WU\",Simulation!$C$3,IF(D277=1,Simulation!$C$4,IF(D277=2,Simulation!$C$5,IF(D277=3,Simulation!$C$6,IF(D277=4,Simulation!$C$7,IF(D277=5,Simulation!$C$8)))))))","v":false},0,null,null,null,"",null,null,null,null,0,null,0,0,"Inlap",null,null,"FL"]
[1,267,267,null,{"$f":"IF(D278=\"Grid\",Simulation!$B$2,IF(D278=\"WU\",Simulation!$B$3,IF(D278=1,Simulation!$B$4,IF(D278=2,Simulation!$B$5,IF(D278=3,Simulation!$B$6,IF(D278=4,Simulation!$B$7,IF(D278=5,Simulation!$B$8)))))))","v":false},{"$f":"IF(D278=\"Grid\",Simulation!$C$2,IF(D278=\"WU\",Simulation!$C$3,IF(D278=1,Simulation!$C$4,IF(D278=2,Simulation!$C$5,IF(D278=3,Simulation!$C$6,IF(D278=4,Simulation!$C$7,IF(D278=5,Simulation!$C$8)))))))","v":false},0,null,null,null,"",null,null,null,null,0,null,0,0,"Inlap",null,null,"FL"]
[1,268,268,null,{"$f":"IF(D279=\"Grid\",Simulation!$B$2,IF(D279=\"WU\",Simulation!$B$3,IF(D279=1,Simulation!$B$4,IF(D279=2,Simulation!$B$5,IF(D279=3,Simulation!$B$6,IF(D279=4,Simulation!$B$7,IF(D279=5,Simulation!$B$8)))))))","v":false},{"$f":"IF(D279=\"Grid\",Simulation!$C$2,IF(D279=\"WU\",Simulation!$C$3,IF(D279=1,Simulation!$C$4,IF(D279=2,Simulation!$C$5,IF(D279=3,Simulation!$C$6,IF(D279=4,Simulation!$C$7,IF(D279=5,Simulation!$C$8)))))))","v":false},0,null,null,null,"",null,null,null,null,0,null,0,0,"Inlap",null,null,"FL"]
[1,269,269,null,{"$f":"IF(D280=\"Grid\",Simulation!$B$2,IF(D280=\"WU\",Simulation!$B$3,IF(D280=1,Simulation!$B$4,IF(D280=2,Simulation!$B$5,IF(D280=3,Simulation!$B$6,IF(D280=4,Simulation!$B$7,IF(D280=5,Simulation!$B$8)))))))","v":false},{"$f":"IF(D280=\"Grid\",Simulation!$C$2,IF(D280=\"WU\",Simulation!$C$3,IF(D280=1,Simulation!$C$4,IF(D280=2,Simulation!$C$5,IF(D280=3,Simulation!$C$6,IF(D280=4,Simulation!$C$7,IF(D280=5,Simulation!$C$8)))))))","v":false},0,null,null,null,"",null,null,null,null,0,null,0,0,"Inlap",null,null,"FL"]
[1,270,270,null,{"$f":"IF(D281=\"Grid\",Simulation!$B$2,IF(D281=\"WU\",Simulation!$B$3,IF(D281=1,Simulation!$B$4,IF(D281=2,Simulation!$B$5,IF(D281=3,Simulation!$B$6,IF(D281=4,Simulation!$B$7,IF(D281=5,Simulation!$B$8)))))))","v":false},{"$f":"IF(D281=\"Grid\",Simulation!$C$2,IF(D281=\"WU\",Simulation!$C$3,IF(D281=1,Simulation!$C$4,IF(D281=2,Simulation!$C$5,IF(D281=3,Simulation!$C$6,IF(D281=4,Simulation!$C$7,IF(D281=5,Simulation!$C$8)))))))","v":false},0,null,null,null,"",null,null,null,null,0,null,0,0,"Inlap",null,null,"FL"]
[1,271,271,null,{"$f":"IF(D282=\"Grid\",Simulation!$B$2,IF(D282=\"WU\",Simulation!$B$3,IF(D282=1,Simulation!$B$4,IF(D282=2,Simulation!$B$5,IF(D282=3,Simulation!$B$6,IF(D282=4,Simulation!$B$7,IF(D282=5,Simulation!$B$8)))))))","v":false},{"$f":"IF(D282=\"Grid\",Simulation!$C$2,IF(D282=\"WU\",Simulation!$C$3,IF(D282=1,Simulation!$C$4,IF(D282=2,Simulation!$C$5,IF(D282=3,Simulation!$C$6,IF(D282=4,Simulation!$C$7,IF(D282=5,Simulation!$C$8)))))))","v":false},0,null,null,null,"",null,null,null,null,0,null,0,0,"Inlap",null,null,"FL"]
[1,272,272,null,{"$f":"IF(D283=\"Grid\",Simulation!$B$2,IF(D283=\"WU\",Simulation!$B$3,IF(D283=1,Simulation!$B$4,IF(D283=2,Simulation!$B$5,IF(D283=3,Simulation!$B$6,IF(D283=4,Simulation!$B$7,IF(D283=5,Simulation!$B$8)))))))","v":false},{"$f":"IF(D283=\"Grid\",Simulation!$C$2,IF(D283=\"WU\",Simulation!$C$3,IF(D283=1,Simulation!$C$4,IF(D283=2,Simulation!$C$5,IF(D283=3,Simulation!$C$6,IF(D283=4,Simulation!$C$7,IF(D283=5,Simulation!$C$8)))))))","v":false},0,null,null,null,"",null,null,null,null,0,null,0,0,"Inlap",null,null,"FL"]
[1,273,273,null,{"$f":"IF(D284=\"Grid\",Simulation!$B$2,IF(D284=\"WU\",Simulation!$B$3,IF(D284=1,Simulation!$B$4,IF(D284=2,Simulation!$B$5,IF(D284=3,Simulation!$B$6,IF(D284=4,Simulation!$B$7,IF(D284=5,Simulation!$B$8)))))))","v":false},{"$f":"IF(D284=\"Grid\",Simulation!$C$2,IF(D284=\"WU\",Simulation!$C$3,IF(D284=1,Simulation!$C$4,IF(D284=2,Simulation!$C$5,IF(D284=3,Simulation!$C$6,IF(D284=4,Simulation!$C$7,IF(D284=5,Simulation!$C$8)))))))","v":false},0,null,null,null,"",null,null,null,null,0,null,0,0,"Inlap",null,null,"FL"]
[1,274,274,null,{"$f":"IF(D285=\"Grid\",Simulation!$B$2,IF(D285=\"WU\",Simulation!$B$3,IF(D285=1,Simulation!$B$4,IF(D285=2,Simulation!$B$5,IF(D285=3,Simulation!$B$6,IF(D285=4,Simulation!$B$7,IF(D285=5,Simulation!$B$8)))))))","v":false},{"$f":"IF(D285=\"Grid\",Simulation!$C$2,IF(D285=\"WU\",Simulation!$C$3,IF(D285=1,Simulation!$C$4,IF(D285=2,Simulation!$C$5,IF(D285=3,Simulation!$C$6,IF(D285=4,Simulation!$C$7,IF(D285=5,Simulation!$C$8)))))))","v":false},0,null,null,null,"",null,null,null,null,0,null,0,0,"Inlap",null,null,"FL"]
[1,275,275,null,{"$f":"IF(D286=\"Grid\",Simulation!$B$2,IF(D286=\"WU\",Simulation!$B$3,IF(D286=1,Simulation!$B$4,IF(D286=2,Simulation!$B$5,IF(D286=3,Simulation!$B$6,IF(D286=4,Simulation!$B$7,IF(D286=5,Simulation!$B$8)))))))","v":false},{"$f":"IF(D286=\"Grid\",Simulation!$C$2,IF(D286=\"WU\",Simulation!$C$3,IF(D286=1,Simulation!$C$4,IF(D286=2,Simulation!$C$5,IF(D286=3,Simulation!$C$6,IF(D286=4,Simulation!$C$7,IF(D286=5,Simulation!$C$8)))))))","v":false},0,null,null,null,"",null,null,null,null,0,null,0,0,"Inlap",null,null,"FL"]
[1,276,276,null,{"$f":"IF(D287=\"Grid\",Simulation!$B$2,IF(D287=\"WU\",Simulation!$B$3,IF(D287=1,Simulation!$B$4,IF(D287=2,Simulation!$B$5,IF(D287=3,Simulation!$B$6,IF(D287=4,Simulation!$B$7,IF(D287=5,Simulation!$B$8)))))))","v":false},{"$f":"IF(D287=\"Grid\",Simulation!$C$2,IF(D287=\"WU\",Simulation!$C$3,IF(D287=1,Simulation!$C$4,IF(D287=2,Simulation!$C$5,IF(D287=3,Simulation!$C$6,IF(D287=4,Simulation!$C$7,IF(D287=5,Simulation!$C$8)))))))","v":false},0,null,null,null,"",null,null,null,null,0,null,0,0,"Inlap",null,null,"FL"]
[1,277,277,null,{"$f":"IF(D288=\"Grid\",Simulation!$B$2,IF(D288=\"WU\",Simulation!$B$3,IF(D288=1,Simulation!$B$4,IF(D288=2,Simulation!$B$5,IF(D288=3,Simulation!$B$6,IF(D288=4,Simulation!$B$7,IF(D288=5,Simulation!$B$8)))))))","v":false},{"$f":"IF(D288=\"Grid\",Simulation!$C$2,IF(D288=\"WU\",Simulation!$C$3,IF(D288=1,Simulation!$C$4,IF(D288=2,Simulation!$C$5,IF(D288=3,Simulation!$C$6,IF(D288=4,Simulation!$C$7,IF(D288=5,Simulation!$C$8)))))))","v":false},0,null,null,null,"",null,null,null,null,0,null,0,0,"Inlap",null,null,"FL"]
[1,278,278,null,{"$f":"IF(D289=\"Grid\",Simulation!$B$2,IF(D289=\"WU\",Simulation!$B$3,IF(D289=1,Simulation!$B$4,IF(D289=2,Simulation!$B$5,IF(D289=3,Simulation!$B$6,IF(D289=4,Simulation!$B$7,IF(D289=5,Simulation!$B$8)))))))","v":false},{"$f":"IF(D289=\"Grid\",Simulation!$C$2,IF(D289=\"WU\",Simulation!$C$3,IF(D289=1,Simulation!$C$4,IF(D289=2,Simulation!$C$5,IF(D289=3,Simulation!$C$6,IF(D289=4,Simulation!$C$7,IF(D289=5,Simulation!$C$8)))))))","v":false},0,null,null,null,"",null,null,null,null,0,null,0,0,"Inlap",null,null,"FL"]
[1,279,279,null,{"$f":"IF(D290=\"Grid\",Simulation!$B$2,IF(D290=\"WU\",Simulation!$B$3,IF(D290=1,Simulation!$B$4,IF(D290=2,Simulation!$B$5,IF(D290=3,Simulation!$B$6,IF(D290=4,Simulation!$B$7,IF(D290=5,Simulation!$B$8)))))))","v":false},{"$f":"IF(D290=\"Grid\",Simulation!$C$2,IF(D290=\"WU\",Simulation!$C$3,IF(D290=1,Simulation!$C$4,IF(D290=2,Simulation!$C$5,IF(D290=3,Simulation!$C$6,IF(D290=4,Simulation!$C$7,IF(D290=5,Simulation!$C$8)))))))","v":false},0,null,null,null,"",null,null,null,null,0,null,0,0,"Inlap",null,null,"FL"]
[1,280,280,null,{"$f":"IF(D291=\"Grid\",Simulation!$B$2,IF(D291=\"WU\",Simulation!$B$3,IF(D291=1,Simulation!$B$4,IF(D291=2,Simulation!$B$5,IF(D291=3,Simulation!$B$6,IF(D291=4,Simulation!$B$7,IF(D291=5,Simulation!$B$8)))))))","v":false},{"$f":"IF(D291=\"Grid\",Simulation!$C$2,IF(D291=\"WU\",Simulation!$C$3,IF(D291=1,Simulation!$C$4,IF(D291=2,Simulation!$C$5,IF(D291=3,Simulation!$C$6,IF(D291=4,Simulation!$C$7,IF(D291=5,Simulation!$C$8)))))))","v":false},0,null,null,null,"",null,null,null,null,0,null,0,0,"Inlap",null,null,"FL"]
[1,281,281,null,{"$f":"IF(D292=\"Grid\",Simulation!$B$2,IF(D292=\"WU\",Simulation!$B$3,IF(D292=1,Simulation!$B$4,IF(D292=2,Simulation!$B$5,IF(D292=3,Simulation!$B$6,IF(D292=4,Simulation!$B$7,IF(D292=5,Simulation!$B$8)))))))","v":false},{"$f":"IF(D292=\"Grid\",Simulation!$C$2,IF(D292=\"WU\",Simulation!$C$3,IF(D292=1,Simulation!$C$4,IF(D292=2,Simulation!$C$5,IF(D292=3,Simulation!$C$6,IF(D292=4,Simulation!$C$7,IF(D292=5,Simulation!$C$8)))))))","v":false},0,null,null,null,"",null,null,null,null,0,null,0,0,"Inlap",null,null,"FL"]
[1,282,282,null,{"$f":"IF(D293=\"Grid\",Simulation!$B$2,IF(D293=\"WU\",Simulation!$B$3,IF(D293=1,Simulation!$B$4,IF(D293=2,Simulation!$B$5,IF(D293=3,Simulation!$B$6,IF(D293=4,Simulation!$B$7,IF(D293=5,Simulation!$B$8)))))))","v":false},{"$f":"IF(D293=\"Grid\",Simulation!$C$2,IF(D293=\"WU\",Simulation!$C$3,IF(D293=1,Simulation!$C$4,IF(D293=2,Simulation!$C$5,IF(D293=3,Simulation!$C$6,IF(D293=4,Simulation!$C$7,IF(D293=5,Simulation!$C$8)))))))","v":false},0,null,null,null,"",null,null,null,null,0,null,0,0,"Inlap",null,null,"FL"]
[1,283,283,null,{"$f":"IF(D294=\"Grid\",Simulation!$B$2,IF(D294=\"WU\",Simulation!$B$3,IF(D294=1,Simulation!$B$4,IF(D294=2,Simulation!$B$5,IF(D294=3,Simulation!$B$6,IF(D294=4,Simulation!$B$7,IF(D294=5,Simulation!$B$8)))))))","v":false},{"$f":"IF(D294=\"Grid\",Simulation!$C$2,IF(D294=\"WU\",Simulation!$C$3,IF(D294=1,Simulation!$C$4,IF(D294=2,Simulation!$C$5,IF(D294=3,Simulation!$C$6,IF(D294=4,Simulation!$C$7,IF(D294=5,Simulation!$C$8)))))))","v":false},0,null,null,null,"",null,null,null,null,0,null,0,0,"Inlap",null,null,"FL"]
[1,284,284,null,{"$f":"IF(D295=\"Grid\",Simulation!$B$2,IF(D295=\"WU\",Simulation!$B$3,IF(D295=1,Simulation!$B$4,IF(D295=2,Simulation!$B$5,IF(D295=3,Simulation!$B$6,IF(D295=4,Simulation!$B$7,IF(D295=5,Simulation!$B$8)))))))","v":false},{"$f":"IF(D295=\"Grid\",Simulation!$C$2,IF(D295=\"WU\",Simulation!$C$3,IF(D295=1,Simulation!$C$4,IF(D295=2,Simulation!$C$5,IF(D295=3,Simulation!$C$6,IF(D295=4,Simulation!$C$7,IF(D295=5,Simulation!$C$8)))))))","v":false},0,null,null,null,"",null,null,null,null,0,null,0,0,"Inlap",null,null,"FL"]
[1,285,285,null,{"$f":"IF(D296=\"Grid\",Simulation!$B$2,IF(D296=\"WU\",Simulation!$B$3,IF(D296=1,Simulation!$B$4,IF(D296=2,Simulation!$B$5,IF(D296=3,Simulation!$B$6,IF(D296=4,Simulation!$B$7,IF(D296=5,Simulation!$B$8)))))))","v":false},{"$f":"IF(D296=\"Grid\",Simulation!$C$2,IF(D296=\"WU\",Simulation!$C$3,IF(D296=1,Simulation!$C$4,IF(D296=2,Simulation!$C$5,IF(D296=3,Simulation!$C$6,IF(D296=4,Simulation!$C$7,IF(D296=5,Simulation!$C$8)))))))","v":false},0,null,null,null,"",null,null,null,null,0,null,0,0,"Inlap",null,null,"FL"]
[1,286,286,null,{"$f":"IF(D297=\"Grid\",Simulation!$B$2,IF(D297=\"WU\",Simulation!$B$3,IF(D297=1,Simulation!$B$4,IF(D297=2,Simulation!$B$5,IF(D297=3,Simulation!$B$6,IF(D297=4,Simulation!$B$7,IF(D297=5,Simulation!$B$8)))))))","v":false},{"$f":"IF(D297=\"Grid\",Simulation!$C$2,IF(D297=\"WU\",Simulation!$C$3,IF(D297=1,Simulation!$C$4,IF(D297=2,Simulation!$C$5,IF(D297=3,Simulation!$C$6,IF(D297=4,Simulation!$C$7,IF(D297=5,Simulation!$C$8)))))))","v":false},0,null,null,null,"",null,null,null,null,0,null,0,0,"Inlap",null,null,"FL"]
[1,287,287,null,{"$f":"IF(D298=\"Grid\",Simulation!$B$2,IF(D298=\"WU\",Simulation!$B$3,IF(D298=1,Simulation!$B$4,IF(D298=2,Simulation!$B$5,IF(D298=3,Simulation!$B$6,IF(D298=4,Simulation!$B$7,IF(D298=5,Simulation!$B$8)))))))","v":false},{"$f":"IF(D298=\"Grid\",Simulation!$C$2,IF(D298=\"WU\",Simulation!$C$3,IF(D298=1,Simulation!$C$4,IF(D298=2,Simulation!$C$5,IF(D298=3,Simulation!$C$6,IF(D298=4,Simulation!$C$7,IF(D298=5,Simulation!$C$8)))))))","v":false},0,null,null,null,"",null,null,null,null,0,null,0,0,"Inlap",null,null,"FL"]
[1,288,288,null,{"$f":"IF(D299=\"Grid\",Simulation!$B$2,IF(D299=\"WU\",Simulation!$B$3,IF(D299=1,Simulation!$B$4,IF(D299=2,Simulation!$B$5,IF(D299=3,Simulation!$B$6,IF(D299=4,Simulation!$B$7,IF(D299=5,Simulation!$B$8)))))))","v":false},{"$f":"IF(D299=\"Grid\",Simulation!$C$2,IF(D299=\"WU\",Simulation!$C$3,IF(D299=1,Simulation!$C$4,IF(D299=2,Simulation!$C$5,IF(D299=3,Simulation!$C$6,IF(D299=4,Simulation!$C$7,IF(D299=5,Simulation!$C$8)))))))","v":false},0,null,null,null,"",null,null,null,null,0,null,0,0,"Inlap",null,null,"FL"]
[1,289,289,null,{"$f":"IF(D300=\"Grid\",Simulation!$B$2,IF(D300=\"WU\",Simulation!$B$3,IF(D300=1,Simulation!$B$4,IF(D300=2,Simulation!$B$5,IF(D300=3,Simulation!$B$6,IF(D300=4,Simulation!$B$7,IF(D300=5,Simulation!$B$8)))))))","v":false},{"$f":"IF(D300=\"Grid\",Simulation!$C$2,IF(D300=\"WU\",Simulation!$C$3,IF(D300=1,Simulation!$C$4,IF(D300=2,Simulation!$C$5,IF(D300=3,Simulation!$C$6,IF(D300=4,Simulation!$C$7,IF(D300=5,Simulation!$C$8)))))))","v":false},0,null,null,null,"",null,null,null,null,0,null,0,0,"Inlap",null,null,"FL"]
[1,290,290,null,{"$f":"IF(D301=\"Grid\",Simulation!$B$2,IF(D301=\"WU\",Simulation!$B$3,IF(D301=1,Simulation!$B$4,IF(D301=2,Simulation!$B$5,IF(D301=3,Simulation!$B$6,IF(D301=4,Simulation!$B$7,IF(D301=5,Simulation!$B$8)))))))","v":false},{"$f":"IF(D301=\"Grid\",Simulation!$C$2,IF(D301=\"WU\",Simulation!$C$3,IF(D301=1,Simulation!$C$4,IF(D301=2,Simulation!$C$5,IF(D301=3,Simulation!$C$6,IF(D301=4,Simulation!$C$7,IF(D301=5,Simulation!$C$8)))))))","v":false},0,null,null,null,"",null,null,null,null,0,null,0,0,"Inlap",null,null,"FL"]
[1,291,291,null,{"$f":"IF(D302=\"Grid\",Simulation!$B$2,IF(D302=\"WU\",Simulation!$B$3,IF(D302=1,Simulation!$B$4,IF(D302=2,Simulation!$B$5,IF(D302=3,Simulation!$B$6,IF(D302=4,Simulation!$B$7,IF(D302=5,Simulation!$B$8)))))))","v":false},{"$f":"IF(D302=\"Grid\",Simulation!$C$2,IF(D302=\"WU\",Simulation!$C$3,IF(D302=1,Simulation!$C$4,IF(D302=2,Simulation!$C$5,IF(D302=3,Simulation!$C$6,IF(D302=4,Simulation!$C$7,IF(D302=5,Simulation!$C$8)))))))","v":false},0,null,null,null,"",null,null,null,null,{"$f":"IF(O302>0,Q302,Q302-Q301)","v":0},null,{"$f":"IF(O302>0,Q302,Q302-Q301)","v":0},0,"Inlap",null,null,"FL"]
[1,292,292,null,{"$f":"IF(D303=\"Grid\",Simulation!$B$2,IF(D303=\"WU\",Simulation!$B$3,IF(D303=1,Simulation!$B$4,IF(D303=2,Simulation!$B$5,IF(D303=3,Simulation!$B$6,IF(D303=4,Simulation!$B$7,IF(D303=5,Simulation!$B$8)))))))","v":false},{"$f":"IF(D303=\"Grid\",Simulation!$C$2,IF(D303=\"WU\",Simulation!$C$3,IF(D303=1,Simulation!$C$4,IF(D303=2,Simulation!$C$5,IF(D303=3,Simulation!$C$6,IF(D303=4,Simulation!$C$7,IF(D303=5,Simulation!$C$8)))))))","v":false},0,null,null,null,"",null,null,null,null,0,null,0,0,"Inlap",null,null,"FL"]
[1,293,293,null,{"$f":"IF(D304=\"Grid\",Simulation!$B$2,IF(D304=\"WU\",Simulation!$B$3,IF(D304=1,Simulation!$B$4,IF(D304=2,Simulation!$B$5,IF(D304=3,Simulation!$B$6,IF(D304=4,Simulation!$B$7,IF(D304=5,Simulation!$B$8)))))))","v":false},{"$f":"IF(D304=\"Grid\",Simulation!$C$2,IF(D304=\"WU\",Simulation!$C$3,IF(D304=1,Simulation!$C$4,IF(D304=2,Simulation!$C$5,IF(D304=3,Simulation!$C$6,IF(D304=4,Simulation!$C$7,IF(D304=5,Simulation!$C$8)))))))","v":false},0,null,null,null,"",null,null,null,null,0,null,0,0,"Inlap",null,null,"FL"]
[1,294,294,null,{"$f":"IF(D305=\"Grid\",Simulation!$B$2,IF(D305=\"WU\",Simulation!$B$3,IF(D305=1,Simulation!$B$4,IF(D305=2,Simulation!$B$5,IF(D305=3,Simulation!$B$6,IF(D305=4,Simulation!$B$7,IF(D305=5,Simulation!$B$8)))))))","v":false},{"$f":"IF(D305=\"Grid\",Simulation!$C$2,IF(D305=\"WU\",Simulation!$C$3,IF(D305=1,Simulation!$C$4,IF(D305=2,Simulation!$C$5,IF(D305=3,Simulation!$C$6,IF(D305=4,Simulation!$C$7,IF(D305=5,Simulation!$C$8)))))))","v":false},0,null,null,null,"",null,null,null,null,0,null,0,0,"Inlap",null,null,"FL"]
[1,295,295,null,{"$f":"IF(D306=\"Grid\",Simulation!$B$2,IF(D306=\"WU\",Simulation!$B$3,IF(D306=1,Simulation!$B$4,IF(D306=2,Simulation!$B$5,IF(D306=3,Simulation!$B$6,IF(D306=4,Simulation!$B$7,IF(D306=5,Simulation!$B$8)))))))","v":false},{"$f":"IF(D306=\"Grid\",Simulation!$C$2,IF(D306=\"WU\",Simulation!$C$3,IF(D306=1,Simulation!$C$4,IF(D306=2,Simulation!$C$5,IF(D306=3,Simulation!$C$6,IF(D306=4,Simulation!$C$7,IF(D306=5,Simulation!$C$8)))))))","v":false},0,null,null,null,"",null,null,null,null,0,null,0,0,"Inlap",null,null,"FL"]
[1,296,296,null,{"$f":"IF(D307=\"Grid\",Simulation!$B$2,IF(D307=\"WU\",Simulation!$B$3,IF(D307=1,Simulation!$B$4,IF(D307=2,Simulation!$B$5,IF(D307=3,Simulation!$B$6,IF(D307=4,Simulation!$B$7,IF(D307=5,Simulation!$B$8)))))))","v":false},{"$f":"IF(D307=\"Grid\",Simulation!$C$2,IF(D307=\"WU\",Simulation!$C$3,IF(D307=1,Simulation!$C$4,IF(D307=2,Simulation!$C$5,IF(D307=3,Simulation!$C$6,IF(D307=4,Simulation!$C$7,IF(D307=5,Simulation!$C$8)))))))","v":false},0,null,null,null,"",null,null,null,null,0,null,0,0,"Inlap",null,null,"FL"]
[1,297,297,null,{"$f":"IF(D308=\"Grid\",Simulation!$B$2,IF(D308=\"WU\",Simulation!$B$3,IF(D308=1,Simulation!$B$4,IF(D308=2,Simulation!$B$5,IF(D308=3,Simulation!$B$6,IF(D308=4,Simulation!$B$7,IF(D308=5,Simulation!$B$8)))))))","v":false},{"$f":"IF(D308=\"Grid\",Simulation!$C$2,IF(D308=\"WU\",Simulation!$C$3,IF(D308=1,Simulation!$C$4,IF(D308=2,Simulation!$C$5,IF(D308=3,Simulation!$C$6,IF(D308=4,Simulation!$C$7,IF(D308=5,Simulation!$C$8)))))))","v":false},0,null,null,null,"",null,null,null,null,0,null,0,0,"Inlap",null,null,"FL"]
[1,298,298,null,{"$f":"IF(D309=\"Grid\",Simulation!$B$2,IF(D309=\"WU\",Simulation!$B$3,IF(D309=1,Simulation!$B$4,IF(D309=2,Simulation!$B$5,IF(D309=3,Simulation!$B$6,IF(D309=4,Simulation!$B$7,IF(D309=5,Simulation!$B$8)))))))","v":false},{"$f":"IF(D309=\"Grid\",Simulation!$C$2,IF(D309=\"WU\",Simulation!$C$3,IF(D309=1,Simulation!$C$4,IF(D309=2,Simulation!$C$5,IF(D309=3,Simulation!$C$6,IF(D309=4,Simulation!$C$7,IF(D309=5,Simulation!$C$8)))))))","v":false},0,null,null,null,"",null,null,null,null,0,null,0,0,"Inlap",null,null,"FL"]
[1,299,299,null,{"$f":"IF(D310=\"Grid\",Simulation!$B$2,IF(D310=\"WU\",Simulation!$B$3,IF(D310=1,Simulation!$B$4,IF(D310=2,Simulation!$B$5,IF(D310=3,Simulation!$B$6,IF(D310=4,Simulation!$B$7,IF(D310=5,Simulation!$B$8)))))))","v":false},{"$f":"IF(D310=\"Grid\",Simulation!$C$2,IF(D310=\"WU\",Simulation!$C$3,IF(D310=1,Simulation!$C$4,IF(D310=2,Simulation!$C$5,IF(D310=3,Simulation!$C$6,IF(D310=4,Simulation!$C$7,IF(D310=5,Simulation!$C$8)))))))","v":false},0,null,null,null,"",null,null,null,null,0,null,0,0,"Inlap",null,null,"FL"]
[1,300,300,null,{"$f":"IF(D311=\"Grid\",Simulation!$B$2,IF(D311=\"WU\",Simulation!$B$3,IF(D311=1,Simulation!$B$4,IF(D311=2,Simulation!$B$5,IF(D311=3,Simulation!$B$6,IF(D311=4,Simulation!$B$7,IF(D311=5,Simulation!$B$8)))))))","v":false},{"$f":"IF(D311=\"Grid\",Simulation!$C$2,IF(D311=\"WU\",Simulation!$C$3,IF(D311=1,Simulation!$C$4,IF(D311=2,Simulation!$C$5,IF(D311=3,Simulation!$C$6,IF(D311=4,Simulation!$C$7,IF(D311=5,Simulation!$C$8)))))))","v":false},0,null,null,null,"",null,null,null,null,0,null,0,0,"Inlap",null,null,"FL"]
[1,301,301,null,{"$f":"IF(D312=\"Grid\",Simulation!$B$2,IF(D312=\"WU\",Simulation!$B$3,IF(D312=1,Simulation!$B$4,IF(D312=2,Simulation!$B$5,IF(D312=3,Simulation!$B$6,IF(D312=4,Simulation!$B$7,IF(D312=5,Simulation!$B$8)))))))","v":false},{"$f":"IF(D312=\"Grid\",Simulation!$C$2,IF(D312=\"WU\",Simulation!$C$3,IF(D312=1,Simulation!$C$4,IF(D312=2,Simulation!$C$5,IF(D312=3,Simulation!$C$6,IF(D312=4,Simulation!$C$7,IF(D312=5,Simulation!$C$8)))))))","v":false},0,null,null,null,"",null,null,null,null,0,null,0,0,"Inlap",null,null,"FL"]
[1,302,302,null,{"$f":"IF(D313=\"Grid\",Simulation!$B$2,IF(D313=\"WU\",Simulation!$B$3,IF(D313=1,Simulation!$B$4,IF(D313=2,Simulation!$B$5,IF(D313=3,Simulation!$B$6,IF(D313=4,Simulation!$B$7,IF(D313=5,Simulation!$B$8)))))))","v":false},{"$f":"IF(D313=\"Grid\",Simulation!$C$2,IF(D313=\"WU\",Simulation!$C$3,IF(D313=1,Simulation!$C$4,IF(D313=2,Simulation!$C$5,IF(D313=3,Simulation!$C$6,IF(D313=4,Simulation!$C$7,IF(D313=5,Simulation!$C$8)))))))","v":false},0,null,null,null,"",null,null,null,null,0,null,0,0,"Inlap",null,null,"FL"]
[1,303,303,null,{"$f":"IF(D314=\"Grid\",Simulation!$B$2,IF(D314=\"WU\",Simulation!$B$3,IF(D314=1,Simulation!$B$4,IF(D314=2,Simulation!$B$5,IF(D314=3,Simulation!$B$6,IF(D314=4,Simulation!$B$7,IF(D314=5,Simulation!$B$8)))))))","v":false},{"$f":"IF(D314=\"Grid\",Simulation!$C$2,IF(D314=\"WU\",Simulation!$C$3,IF(D314=1,Simulation!$C$4,IF(D314=2,Simulation!$C$5,IF(D314=3,Simulation!$C$6,IF(D314=4,Simulation!$C$7,IF(D314=5,Simulation!$C$8)))))))","v":false},0,null,null,null,"",null,null,null,null,0,null,0,0,"Inlap",null,null,"FL"]
[1,304,304,null,{"$f":"IF(D315=\"Grid\",Simulation!$B$2,IF(D315=\"WU\",Simulation!$B$3,IF(D315=1,Simulation!$B$4,IF(D315=2,Simulation!$B$5,IF(D315=3,Simulation!$B$6,IF(D315=4,Simulation!$B$7,IF(D315=5,Simulation!$B$8)))))))","v":false},{"$f":"IF(D315=\"Grid\",Simulation!$C$2,IF(D315=\"WU\",Simulation!$C$3,IF(D315=1,Simulation!$C$4,IF(D315=2,Simulation!$C$5,IF(D315=3,Simulation!$C$6,IF(D315=4,Simulation!$C$7,IF(D315=5,Simulation!$C$8)))))))","v":false},0,null,null,null,"",null,null,null,null,0,null,0,0,"Inlap",null,null,"FL"]
[1,305,305,null,{"$f":"IF(D316=\"Grid\",Simulation!$B$2,IF(D316=\"WU\",Simulation!$B$3,IF(D316=1,Simulation!$B$4,IF(D316=2,Simulation!$B$5,IF(D316=3,Simulation!$B$6,IF(D316=4,Simulation!$B$7,IF(D316=5,Simulation!$B$8)))))))","v":false},{"$f":"IF(D316=\"Grid\",Simulation!$C$2,IF(D316=\"WU\",Simulation!$C$3,IF(D316=1,Simulation!$C$4,IF(D316=2,Simulation!$C$5,IF(D316=3,Simulation!$C$6,IF(D316=4,Simulation!$C$7,IF(D316=5,Simulation!$C$8)))))))","v":false},0,null,null,null,"",null,null,null,null,0,null,0,0,"Inlap",null,null,"FL"]
[1,306,306,null,{"$f":"IF(D317=\"Grid\",Simulation!$B$2,IF(D317=\"WU\",Simulation!$B$3,IF(D317=1,Simulation!$B$4,IF(D317=2,Simulation!$B$5,IF(D317=3,Simulation!$B$6,IF(D317=4,Simulation!$B$7,IF(D317=5,Simulation!$B$8)))))))","v":false},{"$f":"IF(D317=\"Grid\",Simulation!$C$2,IF(D317=\"WU\",Simulation!$C$3,IF(D317=1,Simulation!$C$4,IF(D317=2,Simulation!$C$5,IF(D317=3,Simulation!$C$6,IF(D317=4,Simulation!$C$7,IF(D317=5,Simulation!$C$8)))))))","v":false},0,null,null,null,"",null,null,null,null,0,null,0,0,"Inlap",null,null,"FL"]
[1,307,307,null,{"$f":"IF(D318=\"Grid\",Simulation!$B$2,IF(D318=\"WU\",Simulation!$B$3,IF(D318=1,Simulation!$B$4,IF(D318=2,Simulation!$B$5,IF(D318=3,Simulation!$B$6,IF(D318=4,Simulation!$B$7,IF(D318=5,Simulation!$B$8)))))))","v":false},{"$f":"IF(D318=\"Grid\",Simulation!$C$2,IF(D318=\"WU\",Simulation!$C$3,IF(D318=1,Simulation!$C$4,IF(D318=2,Simulation!$C$5,IF(D318=3,Simulation!$C$6,IF(D318=4,Simulation!$C$7,IF(D318=5,Simulation!$C$8)))))))","v":false},0,null,null,null,"",null,null,null,null,0,null,0,0,"Inlap",null,null,"FL"]
[1,308,308,null,{"$f":"IF(D319=\"Grid\",Simulation!$B$2,IF(D319=\"WU\",Simulation!$B$3,IF(D319=1,Simulation!$B$4,IF(D319=2,Simulation!$B$5,IF(D319=3,Simulation!$B$6,IF(D319=4,Simulation!$B$7,IF(D319=5,Simulation!$B$8)))))))","v":false},{"$f":"IF(D319=\"Grid\",Simulation!$C$2,IF(D319=\"WU\",Simulation!$C$3,IF(D319=1,Simulation!$C$4,IF(D319=2,Simulation!$C$5,IF(D319=3,Simulation!$C$6,IF(D319=4,Simulation!$C$7,IF(D319=5,Simulation!$C$8)))))))","v":false},0,null,null,null,"",null,null,null,null,0,null,0,0,"Inlap",null,null,"FL"]
[1,309,309,null,{"$f":"IF(D320=\"Grid\",Simulation!$B$2,IF(D320=\"WU\",Simulation!$B$3,IF(D320=1,Simulation!$B$4,IF(D320=2,Simulation!$B$5,IF(D320=3,Simulation!$B$6,IF(D320=4,Simulation!$B$7,IF(D320=5,Simulation!$B$8)))))))","v":false},{"$f":"IF(D320=\"Grid\",Simulation!$C$2,IF(D320=\"WU\",Simulation!$C$3,IF(D320=1,Simulation!$C$4,IF(D320=2,Simulation!$C$5,IF(D320=3,Simulation!$C$6,IF(D320=4,Simulation!$C$7,IF(D320=5,Simulation!$C$8)))))))","v":false},0,null,null,null,"",null,null,null,null,0,null,0,0,"Inlap",null,null,"FL"]
[1,310,310,null,{"$f":"IF(D321=\"Grid\",Simulation!$B$2,IF(D321=\"WU\",Simulation!$B$3,IF(D321=1,Simulation!$B$4,IF(D321=2,Simulation!$B$5,IF(D321=3,Simulation!$B$6,IF(D321=4,Simulation!$B$7,IF(D321=5,Simulation!$B$8)))))))","v":false},{"$f":"IF(D321=\"Grid\",Simulation!$C$2,IF(D321=\"WU\",Simulation!$C$3,IF(D321=1,Simulation!$C$4,IF(D321=2,Simulation!$C$5,IF(D321=3,Simulation!$C$6,IF(D321=4,Simulation!$C$7,IF(D321=5,Simulation!$C$8)))))))","v":false},0,null,null,null,"",null,null,null,null,0,null,0,0,"Inlap",null,null,"FL"]
[1,311,311,null,{"$f":"IF(D322=\"Grid\",Simulation!$B$2,IF(D322=\"WU\",Simulation!$B$3,IF(D322=1,Simulation!$B$4,IF(D322=2,Simulation!$B$5,IF(D322=3,Simulation!$B$6,IF(D322=4,Simulation!$B$7,IF(D322=5,Simulation!$B$8)))))))","v":false},{"$f":"IF(D322=\"Grid\",Simulation!$C$2,IF(D322=\"WU\",Simulation!$C$3,IF(D322=1,Simulation!$C$4,IF(D322=2,Simulation!$C$5,IF(D322=3,Simulation!$C$6,IF(D322=4,Simulation!$C$7,IF(D322=5,Simulation!$C$8)))))))","v":false},0,null,null,null,"",null,null,null,null,0,null,0,0,"Inlap",null,null,"FL"]
[1,312,312,null,{"$f":"IF(D323=\"Grid\",Simulation!$B$2,IF(D323=\"WU\",Simulation!$B$3,IF(D323=1,Simulation!$B$4,IF(D323=2,Simulation!$B$5,IF(D323=3,Simulation!$B$6,IF(D323=4,Simulation!$B$7,IF(D323=5,Simulation!$B$8)))))))","v":false},{"$f":"IF(D323=\"Grid\",Simulation!$C$2,IF(D323=\"WU\",Simulation!$C$3,IF(D323=1,Simulation!$C$4,IF(D323=2,Simulation!$C$5,IF(D323=3,Simulation!$C$6,IF(D323=4,Simulation!$C$7,IF(D323=5,Simulation!$C$8)))))))","v":false},0,null,null,null,"",null,null,null,null,0,null,0,0,"Inlap",null,null,"FL"]
[1,313,313,null,{"$f":"IF(D324=\"Grid\",Simulation!$B$2,IF(D324=\"WU\",Simulation!$B$3,IF(D324=1,Simulation!$B$4,IF(D324=2,Simulation!$B$5,IF(D324=3,Simulation!$B$6,IF(D324=4,Simulation!$B$7,IF(D324=5,Simulation!$B$8)))))))","v":false},{"$f":"IF(D324=\"Grid\",Simulation!$C$2,IF(D324=\"WU\",Simulation!$C$3,IF(D324=1,Simulation!$C$4,IF(D324=2,Simulation!$C$5,IF(D324=3,Simulation!$C$6,IF(D324=4,Simulation!$C$7,IF(D324=5,Simulation!$C$8)))))))","v":false},0,null,null,null,"",null,null,null,null,0,null,0,0,"Inlap",null,null,"FL"]
[1,314,314,null,{"$f":"IF(D325=\"Grid\",Simulation!$B$2,IF(D325=\"WU\",Simulation!$B$3,IF(D325=1,Simulation!$B$4,IF(D325=2,Simulation!$B$5,IF(D325=3,Simulation!$B$6,IF(D325=4,Simulation!$B$7,IF(D325=5,Simulation!$B$8)))))))","v":false},{"$f":"IF(D325=\"Grid\",Simulation!$C$2,IF(D325=\"WU\",Simulation!$C$3,IF(D325=1,Simulation!$C$4,IF(D325=2,Simulation!$C$5,IF(D325=3,Simulation!$C$6,IF(D325=4,Simulation!$C$7,IF(D325=5,Simulation!$C$8)))))))","v":false},0,null,null,null,"",null,null,null,null,0,null,0,0,"Inlap",null,null,"FL"]
[1,315,315,null,{"$f":"IF(D326=\"Grid\",Simulation!$B$2,IF(D326=\"WU\",Simulation!$B$3,IF(D326=1,Simulation!$B$4,IF(D326=2,Simulation!$B$5,IF(D326=3,Simulation!$B$6,IF(D326=4,Simulation!$B$7,IF(D326=5,Simulation!$B$8)))))))","v":false},{"$f":"IF(D326=\"Grid\",Simulation!$C$2,IF(D326=\"WU\",Simulation!$C$3,IF(D326=1,Simulation!$C$4,IF(D326=2,Simulation!$C$5,IF(D326=3,Simulation!$C$6,IF(D326=4,Simulation!$C$7,IF(D326=5,Simulation!$C$8)))))))","v":false},0,null,null,null,"",null,null,null,null,0,null,0,0,"Inlap",null,null,"FL"]
[1,316,316,null,{"$f":"IF(D327=\"Grid\",Simulation!$B$2,IF(D327=\"WU\",Simulation!$B$3,IF(D327=1,Simulation!$B$4,IF(D327=2,Simulation!$B$5,IF(D327=3,Simulation!$B$6,IF(D327=4,Simulation!$B$7,IF(D327=5,Simulation!$B$8)))))))","v":false},{"$f":"IF(D327=\"Grid\",Simulation!$C$2,IF(D327=\"WU\",Simulation!$C$3,IF(D327=1,Simulation!$C$4,IF(D327=2,Simulation!$C$5,IF(D327=3,Simulation!$C$6,IF(D327=4,Simulation!$C$7,IF(D327=5,Simulation!$C$8)))))))","v":false},0,null,null,null,"",null,null,null,null,0,null,0,0,"Inlap",null,null,"FL"]
[1,317,317,null,{"$f":"IF(D328=\"Grid\",Simulation!$B$2,IF(D328=\"WU\",Simulation!$B$3,IF(D328=1,Simulation!$B$4,IF(D328=2,Simulation!$B$5,IF(D328=3,Simulation!$B$6,IF(D328=4,Simulation!$B$7,IF(D328=5,Simulation!$B$8)))))))","v":false},{"$f":"IF(D328=\"Grid\",Simulation!$C$2,IF(D328=\"WU\",Simulation!$C$3,IF(D328=1,Simulation!$C$4,IF(D328=2,Simulation!$C$5,IF(D328=3,Simulation!$C$6,IF(D328=4,Simulation!$C$7,IF(D328=5,Simulation!$C$8)))))))","v":false},0,null,null,null,"",null,null,null,null,0,null,0,0,"Inlap",null,null,"FL"]
[1,318,318,null,{"$f":"IF(D329=\"Grid\",Simulation!$B$2,IF(D329=\"WU\",Simulation!$B$3,IF(D329=1,Simulation!$B$4,IF(D329=2,Simulation!$B$5,IF(D329=3,Simulation!$B$6,IF(D329=4,Simulation!$B$7,IF(D329=5,Simulation!$B$8)))))))","v":false},{"$f":"IF(D329=\"Grid\",Simulation!$C$2,IF(D329=\"WU\",Simulation!$C$3,IF(D329=1,Simulation!$C$4,IF(D329=2,Simulation!$C$5,IF(D329=3,Simulation!$C$6,IF(D329=4,Simulation!$C$7,IF(D329=5,Simulation!$C$8)))))))","v":false},0,null,null,null,"",null,null,null,null,0,null,0,0,"Inlap",null,null,"FL"]
[1,319,319,null,{"$f":"IF(D330=\"Grid\",Simulation!$B$2,IF(D330=\"WU\",Simulation!$B$3,IF(D330=1,Simulation!$B$4,IF(D330=2,Simulation!$B$5,IF(D330=3,Simulation!$B$6,IF(D330=4,Simulation!$B$7,IF(D330=5,Simulation!$B$8)))))))","v":false},{"$f":"IF(D330=\"Grid\",Simulation!$C$2,IF(D330=\"WU\",Simulation!$C$3,IF(D330=1,Simulation!$C$4,IF(D330=2,Simulation!$C$5,IF(D330=3,Simulation!$C$6,IF(D330=4,Simulation!$C$7,IF(D330=5,Simulation!$C$8)))))))","v":false},0,null,null,null,"",null,null,null,null,0,null,0,0,"Inlap",null,null,"FL"]
[1,320,320,null,{"$f":"IF(D331=\"Grid\",Simulation!$B$2,IF(D331=\"WU\",Simulation!$B$3,IF(D331=1,Simulation!$B$4,IF(D331=2,Simulation!$B$5,IF(D331=3,Simulation!$B$6,IF(D331=4,Simulation!$B$7,IF(D331=5,Simulation!$B$8)))))))","v":false},{"$f":"IF(D331=\"Grid\",Simulation!$C$2,IF(D331=\"WU\",Simulation!$C$3,IF(D331=1,Simulation!$C$4,IF(D331=2,Simulation!$C$5,IF(D331=3,Simulation!$C$6,IF(D331=4,Simulation!$C$7,IF(D331=5,Simulation!$C$8)))))))","v":false},0,null,null,null,"",null,null,null,null,0,null,0,0,"Inlap",null,null,"FL"]
[{"$f":"IF(O332>0,A331+1,A331)","v":1},321,321,null,{"$f":"IF(D332=\"Grid\",Simulation!$B$2,IF(D332=\"WU\",Simulation!$B$3,IF(D332=1,Simulation!$B$4,IF(D332=2,Simulation!$B$5,IF(D332=3,Simulation!$B$6,IF(D332=4,Simulation!$B$7,IF(D332=5,Simulation!$B$8)))))))","v":false},{"$f":"IF(D332=\"Grid\",Simulation!$C$2,IF(D332=\"WU\",Simulation!$C$3,IF(D332=1,Simulation!$C$4,IF(D332=2,Simulation!$C$5,IF(D332=3,Simulation!$C$6,IF(D332=4,Simulation!$C$7,IF(D332=5,Simulation!$C$8)))))))","v":false},{"$f":"G331+O331-P331","v":0},null,null,null,"",null,null,null,null,0,null,0,{"$f":"IF(O332>0,O332+S331-Q332,S331-P332)","v":0},{"$f":"IF(S332<=F332,\"Inlap\",IF(S332<=2*F332,\"Call: In this lap!\",IF(S332<=3*F332,\"Show in but don't call!\",\"\")))","v":"Inlap"},null,null,{"$f":"IF(J332=$Q$2,\"FL\",\"\")","v":"FL"}]
[1,322,322,null,{"$f":"IF(D333=\"Grid\",Simulation!$B$2,IF(D333=\"WU\",Simulation!$B$3,IF(D333=1,Simulation!$B$4,IF(D333=2,Simulation!$B$5,IF(D333=3,Simulation!$B$6,IF(D333=4,Simulation!$B$7,IF(D333=5,Simulation!$B$8)))))))","v":false},{"$f":"IF(D333=\"Grid\",Simulation!$C$2,IF(D333=\"WU\",Simulation!$C$3,IF(D333=1,Simulation!$C$4,IF(D333=2,Simulation!$C$5,IF(D333=3,Simulation!$C$6,IF(D333=4,Simulation!$C$7,IF(D333=5,Simulation!$C$8)))))))","v":false},0,null,null,null,{"$f":"IF(J333<>0,K332,\"\")","v":""},null,null,null,null,0,null,0,0,"Inlap",null,null,"FL"]
[1,323,{"$f":"IF(O334=\"\",C333+1,\"1\")","v":323},null,{"$f":"IF(D334=\"Grid\",Simulation!$B$2,IF(D334=\"WU\",Simulation!$B$3,IF(D334=1,Simulation!$B$4,IF(D334=2,Simulation!$B$5,IF(D334=3,Simulation!$B$6,IF(D334=4,Simulation!$B$7,IF(D334=5,Simulation!$B$8)))))))","v":false},{"$f":"IF(D334=\"Grid\",Simulation!$C$2,IF(D334=\"WU\",Simulation!$C$3,IF(D334=1,Simulation!$C$4,IF(D334=2,Simulation!$C$5,IF(D334=3,Simulation!$C$6,IF(D334=4,Simulation!$C$7,IF(D334=5,Simulation!$C$8)))))))","v":false},0,null,null,null,"",null,null,null,null,0,null,0,0,"Inlap",null,null,"FL"]
[1,324,324,null,{"$f":"IF(D335=\"Grid\",Simulation!$B$2,IF(D335=\"WU\",Simulation!$B$3,IF(D335=1,Simulation!$B$4,IF(D335=2,Simulation!$B$5,IF(D335=3,Simulation!$B$6,IF(D335=4,Simulation!$B$7,IF(D335=5,Simulation!$B$8)))))))","v":false},{"$f":"IF(D335=\"Grid\",Simulation!$C$2,IF(D335=\"WU\",Simulation!$C$3,IF(D335=1,Simulation!$C$4,IF(D335=2,Simulation!$C$5,IF(D335=3,Simulation!$C$6,IF(D335=4,Simulation!$C$7,IF(D335=5,Simulation!$C$8)))))))","v":false},0,null,null,null,"",null,null,null,null,0,null,0,0,"Inlap",null,null,"FL"]
[1,325,325,null,{"$f":"IF(D336=\"Grid\",Simulation!$B$2,IF(D336=\"WU\",Simulation!$B$3,IF(D336=1,Simulation!$B$4,IF(D336=2,Simulation!$B$5,IF(D336=3,Simulation!$B$6,IF(D336=4,Simulation!$B$7,IF(D336=5,Simulation!$B$8)))))))","v":false},{"$f":"IF(D336=\"Grid\",Simulation!$C$2,IF(D336=\"WU\",Simulation!$C$3,IF(D336=1,Simulation!$C$4,IF(D336=2,Simulation!$C$5,IF(D336=3,Simulation!$C$6,IF(D336=4,Simulation!$C$7,IF(D336=5,Simulation!$C$8)))))))","v":false},0,null,null,null,"",null,null,null,null,0,null,0,0,"Inlap",null,null,"FL"]
[1,326,326,null,{"$f":"IF(D337=\"Grid\",Simulation!$B$2,IF(D337=\"WU\",Simulation!$B$3,IF(D337=1,Simulation!$B$4,IF(D337=2,Simulation!$B$5,IF(D337=3,Simulation!$B$6,IF(D337=4,Simulation!$B$7,IF(D337=5,Simulation!$B$8)))))))","v":false},{"$f":"IF(D337=\"Grid\",Simulation!$C$2,IF(D337=\"WU\",Simulation!$C$3,IF(D337=1,Simulation!$C$4,IF(D337=2,Simulation!$C$5,IF(D337=3,Simulation!$C$6,IF(D337=4,Simulation!$C$7,IF(D337=5,Simulation!$C$8)))))))","v":false},0,null,null,null,"",null,null,null,null,0,null,0,0,"Inlap",null,null,"FL"]
[1,327,327,null,{"$f":"IF(D338=\"Grid\",Simulation!$B$2,IF(D338=\"WU\",Simulation!$B$3,IF(D338=1,Simulation!$B$4,IF(D338=2,Simulation!$B$5,IF(D338=3,Simulation!$B$6,IF(D338=4,Simulation!$B$7,IF(D338=5,Simulation!$B$8)))))))","v":false},{"$f":"IF(D338=\"Grid\",Simulation!$C$2,IF(D338=\"WU\",Simulation!$C$3,IF(D338=1,Simulation!$C$4,IF(D338=2,Simulation!$C$5,IF(D338=3,Simulation!$C$6,IF(D338=4,Simulation!$C$7,IF(D338=5,Simulation!$C$8)))))))","v":false},0,null,null,null,"",null,null,null,null,0,null,0,0,"Inlap",null,null,"FL"]
[1,328,328,null,{"$f":"IF(D339=\"Grid\",Simulation!$B$2,IF(D339=\"WU\",Simulation!$B$3,IF(D339=1,Simulation!$B$4,IF(D339=2,Simulation!$B$5,IF(D339=3,Simulation!$B$6,IF(D339=4,Simulation!$B$7,IF(D339=5,Simulation!$B$8)))))))","v":false},{"$f":"IF(D339=\"Grid\",Simulation!$C$2,IF(D339=\"WU\",Simulation!$C$3,IF(D339=1,Simulation!$C$4,IF(D339=2,Simulation!$C$5,IF(D339=3,Simulation!$C$6,IF(D339=4,Simulation!$C$7,IF(D339=5,Simulation!$C$8)))))))","v":false},0,null,null,null,"",null,null,null,null,0,null,0,0,"Inlap",null,null,"FL"]
[1,329,329,null,{"$f":"IF(D340=\"Grid\",Simulation!$B$2,IF(D340=\"WU\",Simulation!$B$3,IF(D340=1,Simulation!$B$4,IF(D340=2,Simulation!$B$5,IF(D340=3,Simulation!$B$6,IF(D340=4,Simulation!$B$7,IF(D340=5,Simulation!$B$8)))))))","v":false},{"$f":"IF(D340=\"Grid\",Simulation!$C$2,IF(D340=\"WU\",Simulation!$C$3,IF(D340=1,Simulation!$C$4,IF(D340=2,Simulation!$C$5,IF(D340=3,Simulation!$C$6,IF(D340=4,Simulation!$C$7,IF(D340=5,Simulation!$C$8)))))))","v":false},0,null,null,null,"",null,null,null,null,0,null,0,0,"Inlap",null,null,"FL"]
[1,330,330,null,{"$f":"IF(D341=\"Grid\",Simulation!$B$2,IF(D341=\"WU\",Simulation!$B$3,IF(D341=1,Simulation!$B$4,IF(D341=2,Simulation!$B$5,IF(D341=3,Simulation!$B$6,IF(D341=4,Simulation!$B$7,IF(D341=5,Simulation!$B$8)))))))","v":false},{"$f":"IF(D341=\"Grid\",Simulation!$C$2,IF(D341=\"WU\",Simulation!$C$3,IF(D341=1,Simulation!$C$4,IF(D341=2,Simulation!$C$5,IF(D341=3,Simulation!$C$6,IF(D341=4,Simulation!$C$7,IF(D341=5,Simulation!$C$8)))))))","v":false},0,null,null,null,"",null,null,null,null,0,null,0,0,"Inlap",null,null,"FL"]
[1,331,331,null,{"$f":"IF(D342=\"Grid\",Simulation!$B$2,IF(D342=\"WU\",Simulation!$B$3,IF(D342=1,Simulation!$B$4,IF(D342=2,Simulation!$B$5,IF(D342=3,Simulation!$B$6,IF(D342=4,Simulation!$B$7,IF(D342=5,Simulation!$B$8)))))))","v":false},{"$f":"IF(D342=\"Grid\",Simulation!$C$2,IF(D342=\"WU\",Simulation!$C$3,IF(D342=1,Simulation!$C$4,IF(D342=2,Simulation!$C$5,IF(D342=3,Simulation!$C$6,IF(D342=4,Simulation!$C$7,IF(D342=5,Simulation!$C$8)))))))","v":false},0,null,null,null,"",null,null,null,null,0,null,0,0,"Inlap",null,null,"FL"]
[1,332,332,null,{"$f":"IF(D343=\"Grid\",Simulation!$B$2,IF(D343=\"WU\",Simulation!$B$3,IF(D343=1,Simulation!$B$4,IF(D343=2,Simulation!$B$5,IF(D343=3,Simulation!$B$6,IF(D343=4,Simulation!$B$7,IF(D343=5,Simulation!$B$8)))))))","v":false},{"$f":"IF(D343=\"Grid\",Simulation!$C$2,IF(D343=\"WU\",Simulation!$C$3,IF(D343=1,Simulation!$C$4,IF(D343=2,Simulation!$C$5,IF(D343=3,Simulation!$C$6,IF(D343=4,Simulation!$C$7,IF(D343=5,Simulation!$C$8)))))))","v":false},0,null,null,null,"",null,null,null,null,0,null,0,0,"Inlap",null,null,"FL"]
[1,333,333,null,{"$f":"IF(D344=\"Grid\",Simulation!$B$2,IF(D344=\"WU\",Simulation!$B$3,IF(D344=1,Simulation!$B$4,IF(D344=2,Simulation!$B$5,IF(D344=3,Simulation!$B$6,IF(D344=4,Simulation!$B$7,IF(D344=5,Simulation!$B$8)))))))","v":false},{"$f":"IF(D344=\"Grid\",Simulation!$C$2,IF(D344=\"WU\",Simulation!$C$3,IF(D344=1,Simulation!$C$4,IF(D344=2,Simulation!$C$5,IF(D344=3,Simulation!$C$6,IF(D344=4,Simulation!$C$7,IF(D344=5,Simulation!$C$8)))))))","v":false},0,null,null,null,"",null,null,null,null,0,null,0,0,"Inlap",null,null,"FL"]
[1,334,334,null,{"$f":"IF(D345=\"Grid\",Simulation!$B$2,IF(D345=\"WU\",Simulation!$B$3,IF(D345=1,Simulation!$B$4,IF(D345=2,Simulation!$B$5,IF(D345=3,Simulation!$B$6,IF(D345=4,Simulation!$B$7,IF(D345=5,Simulation!$B$8)))))))","v":false},{"$f":"IF(D345=\"Grid\",Simulation!$C$2,IF(D345=\"WU\",Simulation!$C$3,IF(D345=1,Simulation!$C$4,IF(D345=2,Simulation!$C$5,IF(D345=3,Simulation!$C$6,IF(D345=4,Simulation!$C$7,IF(D345=5,Simulation!$C$8)))))))","v":false},0,null,null,null,"",null,null,null,null,0,null,0,0,"Inlap",null,null,"FL"]
[1,335,335,null,{"$f":"IF(D346=\"Grid\",Simulation!$B$2,IF(D346=\"WU\",Simulation!$B$3,IF(D346=1,Simulation!$B$4,IF(D346=2,Simulation!$B$5,IF(D346=3,Simulation!$B$6,IF(D346=4,Simulation!$B$7,IF(D346=5,Simulation!$B$8)))))))","v":false},{"$f":"IF(D346=\"Grid\",Simulation!$C$2,IF(D346=\"WU\",Simulation!$C$3,IF(D346=1,Simulation!$C$4,IF(D346=2,Simulation!$C$5,IF(D346=3,Simulation!$C$6,IF(D346=4,Simulation!$C$7,IF(D346=5,Simulation!$C$8)))))))","v":false},0,null,null,null,"",null,null,null,null,0,null,0,0,"Inlap",null,null,"FL"]
[1,336,336,null,{"$f":"IF(D347=\"Grid\",Simulation!$B$2,IF(D347=\"WU\",Simulation!$B$3,IF(D347=1,Simulation!$B$4,IF(D347=2,Simulation!$B$5,IF(D347=3,Simulation!$B$6,IF(D347=4,Simulation!$B$7,IF(D347=5,Simulation!$B$8)))))))","v":false},{"$f":"IF(D347=\"Grid\",Simulation!$C$2,IF(D347=\"WU\",Simulation!$C$3,IF(D347=1,Simulation!$C$4,IF(D347=2,Simulation!$C$5,IF(D347=3,Simulation!$C$6,IF(D347=4,Simulation!$C$7,IF(D347=5,Simulation!$C$8)))))))","v":false},0,null,null,null,"",null,null,null,null,0,null,0,0,"Inlap",null,null,"FL"]
[1,337,337,null,{"$f":"IF(D348=\"Grid\",Simulation!$B$2,IF(D348=\"WU\",Simulation!$B$3,IF(D348=1,Simulation!$B$4,IF(D348=2,Simulation!$B$5,IF(D348=3,Simulation!$B$6,IF(D348=4,Simulation!$B$7,IF(D348=5,Simulation!$B$8)))))))","v":false},{"$f":"IF(D348=\"Grid\",Simulation!$C$2,IF(D348=\"WU\",Simulation!$C$3,IF(D348=1,Simulation!$C$4,IF(D348=2,Simulation!$C$5,IF(D348=3,Simulation!$C$6,IF(D348=4,Simulation!$C$7,IF(D348=5,Simulation!$C$8)))))))","v":false},0,null,null,null,"",null,null,null,null,0,null,0,0,"Inlap",null,null,"FL"]
[1,338,338,null,{"$f":"IF(D349=\"Grid\",Simulation!$B$2,IF(D349=\"WU\",Simulation!$B$3,IF(D349=1,Simulation!$B$4,IF(D349=2,Simulation!$B$5,IF(D349=3,Simulation!$B$6,IF(D349=4,Simulation!$B$7,IF(D349=5,Simulation!$B$8)))))))","v":false},{"$f":"IF(D349=\"Grid\",Simulation!$C$2,IF(D349=\"WU\",Simulation!$C$3,IF(D349=1,Simulation!$C$4,IF(D349=2,Simulation!$C$5,IF(D349=3,Simulation!$C$6,IF(D349=4,Simulation!$C$7,IF(D349=5,Simulation!$C$8)))))))","v":false},0,null,null,null,"",null,null,null,null,0,null,0,0,"Inlap",null,null,"FL"]
[1,339,339,null,{"$f":"IF(D350=\"Grid\",Simulation!$B$2,IF(D350=\"WU\",Simulation!$B$3,IF(D350=1,Simulation!$B$4,IF(D350=2,Simulation!$B$5,IF(D350=3,Simulation!$B$6,IF(D350=4,Simulation!$B$7,IF(D350=5,Simulation!$B$8)))))))","v":false},{"$f":"IF(D350=\"Grid\",Simulation!$C$2,IF(D350=\"WU\",Simulation!$C$3,IF(D350=1,Simulation!$C$4,IF(D350=2,Simulation!$C$5,IF(D350=3,Simulation!$C$6,IF(D350=4,Simulation!$C$7,IF(D350=5,Simulation!$C$8)))))))","v":false},0,null,null,null,"",null,null,null,null,0,null,0,0,"Inlap",null,null,"FL"]
[1,340,340,null,{"$f":"IF(D351=\"Grid\",Simulation!$B$2,IF(D351=\"WU\",Simulation!$B$3,IF(D351=1,Simulation!$B$4,IF(D351=2,Simulation!$B$5,IF(D351=3,Simulation!$B$6,IF(D351=4,Simulation!$B$7,IF(D351=5,Simulation!$B$8)))))))","v":false},{"$f":"IF(D351=\"Grid\",Simulation!$C$2,IF(D351=\"WU\",Simulation!$C$3,IF(D351=1,Simulation!$C$4,IF(D351=2,Simulation!$C$5,IF(D351=3,Simulation!$C$6,IF(D351=4,Simulation!$C$7,IF(D351=5,Simulation!$C$8)))))))","v":false},0,null,null,null,"",null,null,null,null,0,null,0,0,"Inlap",null,null,"FL"]
[1,341,341,null,{"$f":"IF(D352=\"Grid\",Simulation!$B$2,IF(D352=\"WU\",Simulation!$B$3,IF(D352=1,Simulation!$B$4,IF(D352=2,Simulation!$B$5,IF(D352=3,Simulation!$B$6,IF(D352=4,Simulation!$B$7,IF(D352=5,Simulation!$B$8)))))))","v":false},{"$f":"IF(D352=\"Grid\",Simulation!$C$2,IF(D352=\"WU\",Simulation!$C$3,IF(D352=1,Simulation!$C$4,IF(D352=2,Simulation!$C$5,IF(D352=3,Simulation!$C$6,IF(D352=4,Simulation!$C$7,IF(D352=5,Simulation!$C$8)))))))","v":false},0,null,null,null,"",null,null,null,null,0,null,0,0,"Inlap",null,null,"FL"]
[1,342,342,null,{"$f":"IF(D353=\"Grid\",Simulation!$B$2,IF(D353=\"WU\",Simulation!$B$3,IF(D353=1,Simulation!$B$4,IF(D353=2,Simulation!$B$5,IF(D353=3,Simulation!$B$6,IF(D353=4,Simulation!$B$7,IF(D353=5,Simulation!$B$8)))))))","v":false},{"$f":"IF(D353=\"Grid\",Simulation!$C$2,IF(D353=\"WU\",Simulation!$C$3,IF(D353=1,Simulation!$C$4,IF(D353=2,Simulation!$C$5,IF(D353=3,Simulation!$C$6,IF(D353=4,Simulation!$C$7,IF(D353=5,Simulation!$C$8)))))))","v":false},0,null,null,null,"",null,null,null,null,0,null,0,0,"Inlap",null,null,"FL"]
[1,343,343,null,{"$f":"IF(D354=\"Grid\",Simulation!$B$2,IF(D354=\"WU\",Simulation!$B$3,IF(D354=1,Simulation!$B$4,IF(D354=2,Simulation!$B$5,IF(D354=3,Simulation!$B$6,IF(D354=4,Simulation!$B$7,IF(D354=5,Simulation!$B$8)))))))","v":false},{"$f":"IF(D354=\"Grid\",Simulation!$C$2,IF(D354=\"WU\",Simulation!$C$3,IF(D354=1,Simulation!$C$4,IF(D354=2,Simulation!$C$5,IF(D354=3,Simulation!$C$6,IF(D354=4,Simulation!$C$7,IF(D354=5,Simulation!$C$8)))))))","v":false},0,null,null,null,"",null,null,null,null,0,null,0,0,"Inlap",null,null,"FL"]
[1,344,344,null,{"$f":"IF(D355=\"Grid\",Simulation!$B$2,IF(D355=\"WU\",Simulation!$B$3,IF(D355=1,Simulation!$B$4,IF(D355=2,Simulation!$B$5,IF(D355=3,Simulation!$B$6,IF(D355=4,Simulation!$B$7,IF(D355=5,Simulation!$B$8)))))))","v":false},{"$f":"IF(D355=\"Grid\",Simulation!$C$2,IF(D355=\"WU\",Simulation!$C$3,IF(D355=1,Simulation!$C$4,IF(D355=2,Simulation!$C$5,IF(D355=3,Simulation!$C$6,IF(D355=4,Simulation!$C$7,IF(D355=5,Simulation!$C$8)))))))","v":false},0,null,null,null,"",null,null,null,null,0,null,0,0,"Inlap",null,null,"FL"]
[1,345,345,null,{"$f":"IF(D356=\"Grid\",Simulation!$B$2,IF(D356=\"WU\",Simulation!$B$3,IF(D356=1,Simulation!$B$4,IF(D356=2,Simulation!$B$5,IF(D356=3,Simulation!$B$6,IF(D356=4,Simulation!$B$7,IF(D356=5,Simulation!$B$8)))))))","v":false},{"$f":"IF(D356=\"Grid\",Simulation!$C$2,IF(D356=\"WU\",Simulation!$C$3,IF(D356=1,Simulation!$C$4,IF(D356=2,Simulation!$C$5,IF(D356=3,Simulation!$C$6,IF(D356=4,Simulation!$C$7,IF(D356=5,Simulation!$C$8)))))))","v":false},0,null,null,null,"",null,null,null,null,0,null,0,0,"Inlap",null,null,"FL"]
[1,346,346,null,{"$f":"IF(D357=\"Grid\",Simulation!$B$2,IF(D357=\"WU\",Simulation!$B$3,IF(D357=1,Simulation!$B$4,IF(D357=2,Simulation!$B$5,IF(D357=3,Simulation!$B$6,IF(D357=4,Simulation!$B$7,IF(D357=5,Simulation!$B$8)))))))","v":false},{"$f":"IF(D357=\"Grid\",Simulation!$C$2,IF(D357=\"WU\",Simulation!$C$3,IF(D357=1,Simulation!$C$4,IF(D357=2,Simulation!$C$5,IF(D357=3,Simulation!$C$6,IF(D357=4,Simulation!$C$7,IF(D357=5,Simulation!$C$8)))))))","v":false},0,null,null,null,"",null,null,null,null,0,null,0,0,"Inlap",null,null,"FL"]
[1,347,347,null,{"$f":"IF(D358=\"Grid\",Simulation!$B$2,IF(D358=\"WU\",Simulation!$B$3,IF(D358=1,Simulation!$B$4,IF(D358=2,Simulation!$B$5,IF(D358=3,Simulation!$B$6,IF(D358=4,Simulation!$B$7,IF(D358=5,Simulation!$B$8)))))))","v":false},{"$f":"IF(D358=\"Grid\",Simulation!$C$2,IF(D358=\"WU\",Simulation!$C$3,IF(D358=1,Simulation!$C$4,IF(D358=2,Simulation!$C$5,IF(D358=3,Simulation!$C$6,IF(D358=4,Simulation!$C$7,IF(D358=5,Simulation!$C$8)))))))","v":false},0,null,null,null,"",null,null,null,null,0,null,0,0,"Inlap",null,null,"FL"]
[1,348,348,null,{"$f":"IF(D359=\"Grid\",Simulation!$B$2,IF(D359=\"WU\",Simulation!$B$3,IF(D359=1,Simulation!$B$4,IF(D359=2,Simulation!$B$5,IF(D359=3,Simulation!$B$6,IF(D359=4,Simulation!$B$7,IF(D359=5,Simulation!$B$8)))))))","v":false},{"$f":"IF(D359=\"Grid\",Simulation!$C$2,IF(D359=\"WU\",Simulation!$C$3,IF(D359=1,Simulation!$C$4,IF(D359=2,Simulation!$C$5,IF(D359=3,Simulation!$C$6,IF(D359=4,Simulation!$C$7,IF(D359=5,Simulation!$C$8)))))))","v":false},0,null,null,null,"",null,null,null,null,0,null,0,0,"Inlap",null,null,"FL"]
[1,349,349,null,{"$f":"IF(D360=\"Grid\",Simulation!$B$2,IF(D360=\"WU\",Simulation!$B$3,IF(D360=1,Simulation!$B$4,IF(D360=2,Simulation!$B$5,IF(D360=3,Simulation!$B$6,IF(D360=4,Simulation!$B$7,IF(D360=5,Simulation!$B$8)))))))","v":false},{"$f":"IF(D360=\"Grid\",Simulation!$C$2,IF(D360=\"WU\",Simulation!$C$3,IF(D360=1,Simulation!$C$4,IF(D360=2,Simulation!$C$5,IF(D360=3,Simulation!$C$6,IF(D360=4,Simulation!$C$7,IF(D360=5,Simulation!$C$8)))))))","v":false},0,null,null,null,"",null,null,null,null,0,null,0,0,"Inlap",null,null,"FL"]
[1,350,350,null,{"$f":"IF(D361=\"Grid\",Simulation!$B$2,IF(D361=\"WU\",Simulation!$B$3,IF(D361=1,Simulation!$B$4,IF(D361=2,Simulation!$B$5,IF(D361=3,Simulation!$B$6,IF(D361=4,Simulation!$B$7,IF(D361=5,Simulation!$B$8)))))))","v":false},{"$f":"IF(D361=\"Grid\",Simulation!$C$2,IF(D361=\"WU\",Simulation!$C$3,IF(D361=1,Simulation!$C$4,IF(D361=2,Simulation!$C$5,IF(D361=3,Simulation!$C$6,IF(D361=4,Simulation!$C$7,IF(D361=5,Simulation!$C$8)))))))","v":false},0,null,null,null,"",null,null,null,null,0,null,0,0,"Inlap",null,null,"FL"]
[1,351,351,null,{"$f":"IF(D362=\"Grid\",Simulation!$B$2,IF(D362=\"WU\",Simulation!$B$3,IF(D362=1,Simulation!$B$4,IF(D362=2,Simulation!$B$5,IF(D362=3,Simulation!$B$6,IF(D362=4,Simulation!$B$7,IF(D362=5,Simulation!$B$8)))))))","v":false},{"$f":"IF(D362=\"Grid\",Simulation!$C$2,IF(D362=\"WU\",Simulation!$C$3,IF(D362=1,Simulation!$C$4,IF(D362=2,Simulation!$C$5,IF(D362=3,Simulation!$C$6,IF(D362=4,Simulation!$C$7,IF(D362=5,Simulation!$C$8)))))))","v":false},0,null,null,null,"",null,null,null,null,0,null,0,0,"Inlap",null,null,"FL"]
[1,352,352,null,{"$f":"IF(D363=\"Grid\",Simulation!$B$2,IF(D363=\"WU\",Simulation!$B$3,IF(D363=1,Simulation!$B$4,IF(D363=2,Simulation!$B$5,IF(D363=3,Simulation!$B$6,IF(D363=4,Simulation!$B$7,IF(D363=5,Simulation!$B$8)))))))","v":false},{"$f":"IF(D363=\"Grid\",Simulation!$C$2,IF(D363=\"WU\",Simulation!$C$3,IF(D363=1,Simulation!$C$4,IF(D363=2,Simulation!$C$5,IF(D363=3,Simulation!$C$6,IF(D363=4,Simulation!$C$7,IF(D363=5,Simulation!$C$8)))))))","v":false},0,null,null,null,"",null,null,null,null,0,null,0,0,"Inlap",null,null,"FL"]
[1,353,353,null,{"$f":"IF(D364=\"Grid\",Simulation!$B$2,IF(D364=\"WU\",Simulation!$B$3,IF(D364=1,Simulation!$B$4,IF(D364=2,Simulation!$B$5,IF(D364=3,Simulation!$B$6,IF(D364=4,Simulation!$B$7,IF(D364=5,Simulation!$B$8)))))))","v":false},{"$f":"IF(D364=\"Grid\",Simulation!$C$2,IF(D364=\"WU\",Simulation!$C$3,IF(D364=1,Simulation!$C$4,IF(D364=2,Simulation!$C$5,IF(D364=3,Simulation!$C$6,IF(D364=4,Simulation!$C$7,IF(D364=5,Simulation!$C$8)))))))","v":false},0,null,null,null,"",null,null,null,null,0,null,0,0,"Inlap",null,null,"FL"]
[1,354,354,null,{"$f":"IF(D365=\"Grid\",Simulation!$B$2,IF(D365=\"WU\",Simulation!$B$3,IF(D365=1,Simulation!$B$4,IF(D365=2,Simulation!$B$5,IF(D365=3,Simulation!$B$6,IF(D365=4,Simulation!$B$7,IF(D365=5,Simulation!$B$8)))))))","v":false},{"$f":"IF(D365=\"Grid\",Simulation!$C$2,IF(D365=\"WU\",Simulation!$C$3,IF(D365=1,Simulation!$C$4,IF(D365=2,Simulation!$C$5,IF(D365=3,Simulation!$C$6,IF(D365=4,Simulation!$C$7,IF(D365=5,Simulation!$C$8)))))))","v":false},0,null,null,null,"",null,null,null,null,0,null,0,0,"Inlap",null,null,"FL"]
[1,355,355,null,{"$f":"IF(D366=\"Grid\",Simulation!$B$2,IF(D366=\"WU\",Simulation!$B$3,IF(D366=1,Simulation!$B$4,IF(D366=2,Simulation!$B$5,IF(D366=3,Simulation!$B$6,IF(D366=4,Simulation!$B$7,IF(D366=5,Simulation!$B$8)))))))","v":false},{"$f":"IF(D366=\"Grid\",Simulation!$C$2,IF(D366=\"WU\",Simulation!$C$3,IF(D366=1,Simulation!$C$4,IF(D366=2,Simulation!$C$5,IF(D366=3,Simulation!$C$6,IF(D366=4,Simulation!$C$7,IF(D366=5,Simulation!$C$8)))))))","v":false},0,null,null,null,"",null,null,null,null,{"$f":"IF(O366>0,Q366,Q366-Q365)","v":0},null,{"$f":"IF(O366>0,Q366,Q366-Q365)","v":0},0,"Inlap",null,null,"FL"]
[1,356,356,null,{"$f":"IF(D367=\"Grid\",Simulation!$B$2,IF(D367=\"WU\",Simulation!$B$3,IF(D367=1,Simulation!$B$4,IF(D367=2,Simulation!$B$5,IF(D367=3,Simulation!$B$6,IF(D367=4,Simulation!$B$7,IF(D367=5,Simulation!$B$8)))))))","v":false},{"$f":"IF(D367=\"Grid\",Simulation!$C$2,IF(D367=\"WU\",Simulation!$C$3,IF(D367=1,Simulation!$C$4,IF(D367=2,Simulation!$C$5,IF(D367=3,Simulation!$C$6,IF(D367=4,Simulation!$C$7,IF(D367=5,Simulation!$C$8)))))))","v":false},0,null,null,null,"",null,null,null,null,0,null,0,0,"Inlap",null,null,"FL"]
[1,357,357,null,{"$f":"IF(D368=\"Grid\",Simulation!$B$2,IF(D368=\"WU\",Simulation!$B$3,IF(D368=1,Simulation!$B$4,IF(D368=2,Simulation!$B$5,IF(D368=3,Simulation!$B$6,IF(D368=4,Simulation!$B$7,IF(D368=5,Simulation!$B$8)))))))","v":false},{"$f":"IF(D368=\"Grid\",Simulation!$C$2,IF(D368=\"WU\",Simulation!$C$3,IF(D368=1,Simulation!$C$4,IF(D368=2,Simulation!$C$5,IF(D368=3,Simulation!$C$6,IF(D368=4,Simulation!$C$7,IF(D368=5,Simulation!$C$8)))))))","v":false},0,null,null,null,"",null,null,null,null,0,null,0,0,"Inlap",null,null,"FL"]
[1,358,358,null,{"$f":"IF(D369=\"Grid\",Simulation!$B$2,IF(D369=\"WU\",Simulation!$B$3,IF(D369=1,Simulation!$B$4,IF(D369=2,Simulation!$B$5,IF(D369=3,Simulation!$B$6,IF(D369=4,Simulation!$B$7,IF(D369=5,Simulation!$B$8)))))))","v":false},{"$f":"IF(D369=\"Grid\",Simulation!$C$2,IF(D369=\"WU\",Simulation!$C$3,IF(D369=1,Simulation!$C$4,IF(D369=2,Simulation!$C$5,IF(D369=3,Simulation!$C$6,IF(D369=4,Simulation!$C$7,IF(D369=5,Simulation!$C$8)))))))","v":false},0,null,null,null,"",null,null,null,null,0,null,0,0,"Inlap",null,null,"FL"]
[1,359,359,null,{"$f":"IF(D370=\"Grid\",Simulation!$B$2,IF(D370=\"WU\",Simulation!$B$3,IF(D370=1,Simulation!$B$4,IF(D370=2,Simulation!$B$5,IF(D370=3,Simulation!$B$6,IF(D370=4,Simulation!$B$7,IF(D370=5,Simulation!$B$8)))))))","v":false},{"$f":"IF(D370=\"Grid\",Simulation!$C$2,IF(D370=\"WU\",Simulation!$C$3,IF(D370=1,Simulation!$C$4,IF(D370=2,Simulation!$C$5,IF(D370=3,Simulation!$C$6,IF(D370=4,Simulation!$C$7,IF(D370=5,Simulation!$C$8)))))))","v":false},0,null,null,null,"",null,null,null,null,0,null,0,0,"Inlap",null,null,"FL"]
[1,360,360,null,{"$f":"IF(D371=\"Grid\",Simulation!$B$2,IF(D371=\"WU\",Simulation!$B$3,IF(D371=1,Simulation!$B$4,IF(D371=2,Simulation!$B$5,IF(D371=3,Simulation!$B$6,IF(D371=4,Simulation!$B$7,IF(D371=5,Simulation!$B$8)))))))","v":false},{"$f":"IF(D371=\"Grid\",Simulation!$C$2,IF(D371=\"WU\",Simulation!$C$3,IF(D371=1,Simulation!$C$4,IF(D371=2,Simulation!$C$5,IF(D371=3,Simulation!$C$6,IF(D371=4,Simulation!$C$7,IF(D371=5,Simulation!$C$8)))))))","v":false},0,null,null,null,"",null,null,null,null,0,null,0,0,"Inlap",null,null,"FL"]
[1,361,361,null,{"$f":"IF(D372=\"Grid\",Simulation!$B$2,IF(D372=\"WU\",Simulation!$B$3,IF(D372=1,Simulation!$B$4,IF(D372=2,Simulation!$B$5,IF(D372=3,Simulation!$B$6,IF(D372=4,Simulation!$B$7,IF(D372=5,Simulation!$B$8)))))))","v":false},{"$f":"IF(D372=\"Grid\",Simulation!$C$2,IF(D372=\"WU\",Simulation!$C$3,IF(D372=1,Simulation!$C$4,IF(D372=2,Simulation!$C$5,IF(D372=3,Simulation!$C$6,IF(D372=4,Simulation!$C$7,IF(D372=5,Simulation!$C$8)))))))","v":false},0,null,null,null,"",null,null,null,null,0,null,0,0,"Inlap",null,null,"FL"]
[1,362,362,null,{"$f":"IF(D373=\"Grid\",Simulation!$B$2,IF(D373=\"WU\",Simulation!$B$3,IF(D373=1,Simulation!$B$4,IF(D373=2,Simulation!$B$5,IF(D373=3,Simulation!$B$6,IF(D373=4,Simulation!$B$7,IF(D373=5,Simulation!$B$8)))))))","v":false},{"$f":"IF(D373=\"Grid\",Simulation!$C$2,IF(D373=\"WU\",Simulation!$C$3,IF(D373=1,Simulation!$C$4,IF(D373=2,Simulation!$C$5,IF(D373=3,Simulation!$C$6,IF(D373=4,Simulation!$C$7,IF(D373=5,Simulation!$C$8)))))))","v":false},0,null,null,null,"",null,null,null,null,0,null,0,0,"Inlap",null,null,"FL"]
[1,363,363,null,{"$f":"IF(D374=\"Grid\",Simulation!$B$2,IF(D374=\"WU\",Simulation!$B$3,IF(D374=1,Simulation!$B$4,IF(D374=2,Simulation!$B$5,IF(D374=3,Simulation!$B$6,IF(D374=4,Simulation!$B$7,IF(D374=5,Simulation!$B$8)))))))","v":false},{"$f":"IF(D374=\"Grid\",Simulation!$C$2,IF(D374=\"WU\",Simulation!$C$3,IF(D374=1,Simulation!$C$4,IF(D374=2,Simulation!$C$5,IF(D374=3,Simulation!$C$6,IF(D374=4,Simulation!$C$7,IF(D374=5,Simulation!$C$8)))))))","v":false},0,null,null,null,"",null,null,null,null,0,null,0,0,"Inlap",null,null,"FL"]
[1,364,364,null,{"$f":"IF(D375=\"Grid\",Simulation!$B$2,IF(D375=\"WU\",Simulation!$B$3,IF(D375=1,Simulation!$B$4,IF(D375=2,Simulation!$B$5,IF(D375=3,Simulation!$B$6,IF(D375=4,Simulation!$B$7,IF(D375=5,Simulation!$B$8)))))))","v":false},{"$f":"IF(D375=\"Grid\",Simulation!$C$2,IF(D375=\"WU\",Simulation!$C$3,IF(D375=1,Simulation!$C$4,IF(D375=2,Simulation!$C$5,IF(D375=3,Simulation!$C$6,IF(D375=4,Simulation!$C$7,IF(D375=5,Simulation!$C$8)))))))","v":false},0,null,null,null,"",null,null,null,null,0,null,0,0,"Inlap",null,null,"FL"]
[1,365,365,null,{"$f":"IF(D376=\"Grid\",Simulation!$B$2,IF(D376=\"WU\",Simulation!$B$3,IF(D376=1,Simulation!$B$4,IF(D376=2,Simulation!$B$5,IF(D376=3,Simulation!$B$6,IF(D376=4,Simulation!$B$7,IF(D376=5,Simulation!$B$8)))))))","v":false},{"$f":"IF(D376=\"Grid\",Simulation!$C$2,IF(D376=\"WU\",Simulation!$C$3,IF(D376=1,Simulation!$C$4,IF(D376=2,Simulation!$C$5,IF(D376=3,Simulation!$C$6,IF(D376=4,Simulation!$C$7,IF(D376=5,Simulation!$C$8)))))))","v":false},0,null,null,null,"",null,null,null,null,0,null,0,0,"Inlap",null,null,"FL"]
[1,366,366,null,{"$f":"IF(D377=\"Grid\",Simulation!$B$2,IF(D377=\"WU\",Simulation!$B$3,IF(D377=1,Simulation!$B$4,IF(D377=2,Simulation!$B$5,IF(D377=3,Simulation!$B$6,IF(D377=4,Simulation!$B$7,IF(D377=5,Simulation!$B$8)))))))","v":false},{"$f":"IF(D377=\"Grid\",Simulation!$C$2,IF(D377=\"WU\",Simulation!$C$3,IF(D377=1,Simulation!$C$4,IF(D377=2,Simulation!$C$5,IF(D377=3,Simulation!$C$6,IF(D377=4,Simulation!$C$7,IF(D377=5,Simulation!$C$8)))))))","v":false},0,null,null,null,"",null,null,null,null,0,null,0,0,"Inlap",null,null,"FL"]
[1,367,367,null,{"$f":"IF(D378=\"Grid\",Simulation!$B$2,IF(D378=\"WU\",Simulation!$B$3,IF(D378=1,Simulation!$B$4,IF(D378=2,Simulation!$B$5,IF(D378=3,Simulation!$B$6,IF(D378=4,Simulation!$B$7,IF(D378=5,Simulation!$B$8)))))))","v":false},{"$f":"IF(D378=\"Grid\",Simulation!$C$2,IF(D378=\"WU\",Simulation!$C$3,IF(D378=1,Simulation!$C$4,IF(D378=2,Simulation!$C$5,IF(D378=3,Simulation!$C$6,IF(D378=4,Simulation!$C$7,IF(D378=5,Simulation!$C$8)))))))","v":false},0,null,null,null,"",null,null,null,null,0,null,0,0,"Inlap",null,null,"FL"]
[1,368,368,null,{"$f":"IF(D379=\"Grid\",Simulation!$B$2,IF(D379=\"WU\",Simulation!$B$3,IF(D379=1,Simulation!$B$4,IF(D379=2,Simulation!$B$5,IF(D379=3,Simulation!$B$6,IF(D379=4,Simulation!$B$7,IF(D379=5,Simulation!$B$8)))))))","v":false},{"$f":"IF(D379=\"Grid\",Simulation!$C$2,IF(D379=\"WU\",Simulation!$C$3,IF(D379=1,Simulation!$C$4,IF(D379=2,Simulation!$C$5,IF(D379=3,Simulation!$C$6,IF(D379=4,Simulation!$C$7,IF(D379=5,Simulation!$C$8)))))))","v":false},0,null,null,null,"",null,null,null,null,0,null,0,0,"Inlap",null,null,"FL"]
[1,369,369,null,{"$f":"IF(D380=\"Grid\",Simulation!$B$2,IF(D380=\"WU\",Simulation!$B$3,IF(D380=1,Simulation!$B$4,IF(D380=2,Simulation!$B$5,IF(D380=3,Simulation!$B$6,IF(D380=4,Simulation!$B$7,IF(D380=5,Simulation!$B$8)))))))","v":false},{"$f":"IF(D380=\"Grid\",Simulation!$C$2,IF(D380=\"WU\",Simulation!$C$3,IF(D380=1,Simulation!$C$4,IF(D380=2,Simulation!$C$5,IF(D380=3,Simulation!$C$6,IF(D380=4,Simulation!$C$7,IF(D380=5,Simulation!$C$8)))))))","v":false},0,null,null,null,"",null,null,null,null,0,null,0,0,"Inlap",null,null,"FL"]
[1,370,370,null,{"$f":"IF(D381=\"Grid\",Simulation!$B$2,IF(D381=\"WU\",Simulation!$B$3,IF(D381=1,Simulation!$B$4,IF(D381=2,Simulation!$B$5,IF(D381=3,Simulation!$B$6,IF(D381=4,Simulation!$B$7,IF(D381=5,Simulation!$B$8)))))))","v":false},{"$f":"IF(D381=\"Grid\",Simulation!$C$2,IF(D381=\"WU\",Simulation!$C$3,IF(D381=1,Simulation!$C$4,IF(D381=2,Simulation!$C$5,IF(D381=3,Simulation!$C$6,IF(D381=4,Simulation!$C$7,IF(D381=5,Simulation!$C$8)))))))","v":false},0,null,null,null,"",null,null,null,null,0,null,0,0,"Inlap",null,null,"FL"]
[1,371,371,null,{"$f":"IF(D382=\"Grid\",Simulation!$B$2,IF(D382=\"WU\",Simulation!$B$3,IF(D382=1,Simulation!$B$4,IF(D382=2,Simulation!$B$5,IF(D382=3,Simulation!$B$6,IF(D382=4,Simulation!$B$7,IF(D382=5,Simulation!$B$8)))))))","v":false},{"$f":"IF(D382=\"Grid\",Simulation!$C$2,IF(D382=\"WU\",Simulation!$C$3,IF(D382=1,Simulation!$C$4,IF(D382=2,Simulation!$C$5,IF(D382=3,Simulation!$C$6,IF(D382=4,Simulation!$C$7,IF(D382=5,Simulation!$C$8)))))))","v":false},0,null,null,null,"",null,null,null,null,0,null,0,0,"Inlap",null,null,"FL"]
[1,372,372,null,{"$f":"IF(D383=\"Grid\",Simulation!$B$2,IF(D383=\"WU\",Simulation!$B$3,IF(D383=1,Simulation!$B$4,IF(D383=2,Simulation!$B$5,IF(D383=3,Simulation!$B$6,IF(D383=4,Simulation!$B$7,IF(D383=5,Simulation!$B$8)))))))","v":false},{"$f":"IF(D383=\"Grid\",Simulation!$C$2,IF(D383=\"WU\",Simulation!$C$3,IF(D383=1,Simulation!$C$4,IF(D383=2,Simulation!$C$5,IF(D383=3,Simulation!$C$6,IF(D383=4,Simulation!$C$7,IF(D383=5,Simulation!$C$8)))))))","v":false},0,null,null,null,"",null,null,null,null,0,null,0,0,"Inlap",null,null,"FL"]
[1,373,373,null,{"$f":"IF(D384=\"Grid\",Simulation!$B$2,IF(D384=\"WU\",Simulation!$B$3,IF(D384=1,Simulation!$B$4,IF(D384=2,Simulation!$B$5,IF(D384=3,Simulation!$B$6,IF(D384=4,Simulation!$B$7,IF(D384=5,Simulation!$B$8)))))))","v":false},{"$f":"IF(D384=\"Grid\",Simulation!$C$2,IF(D384=\"WU\",Simulation!$C$3,IF(D384=1,Simulation!$C$4,IF(D384=2,Simulation!$C$5,IF(D384=3,Simulation!$C$6,IF(D384=4,Simulation!$C$7,IF(D384=5,Simulation!$C$8)))))))","v":false},0,null,null,null,"",null,null,null,null,0,null,0,0,"Inlap",null,null,"FL"]
[1,374,374,null,{"$f":"IF(D385=\"Grid\",Simulation!$B$2,IF(D385=\"WU\",Simulation!$B$3,IF(D385=1,Simulation!$B$4,IF(D385=2,Simulation!$B$5,IF(D385=3,Simulation!$B$6,IF(D385=4,Simulation!$B$7,IF(D385=5,Simulation!$B$8)))))))","v":false},{"$f":"IF(D385=\"Grid\",Simulation!$C$2,IF(D385=\"WU\",Simulation!$C$3,IF(D385=1,Simulation!$C$4,IF(D385=2,Simulation!$C$5,IF(D385=3,Simulation!$C$6,IF(D385=4,Simulation!$C$7,IF(D385=5,Simulation!$C$8)))))))","v":false},0,null,null,null,"",null,null,null,null,0,null,0,0,"Inlap",null,null,"FL"]
[1,375,375,null,{"$f":"IF(D386=\"Grid\",Simulation!$B$2,IF(D386=\"WU\",Simulation!$B$3,IF(D386=1,Simulation!$B$4,IF(D386=2,Simulation!$B$5,IF(D386=3,Simulation!$B$6,IF(D386=4,Simulation!$B$7,IF(D386=5,Simulation!$B$8)))))))","v":false},{"$f":"IF(D386=\"Grid\",Simulation!$C$2,IF(D386=\"WU\",Simulation!$C$3,IF(D386=1,Simulation!$C$4,IF(D386=2,Simulation!$C$5,IF(D386=3,Simulation!$C$6,IF(D386=4,Simulation!$C$7,IF(D386=5,Simulation!$C$8)))))))","v":false},0,null,null,null,"",null,null,null,null,0,null,0,0,"Inlap",null,null,"FL"]
[1,376,376,null,{"$f":"IF(D387=\"Grid\",Simulation!$B$2,IF(D387=\"WU\",Simulation!$B$3,IF(D387=1,Simulation!$B$4,IF(D387=2,Simulation!$B$5,IF(D387=3,Simulation!$B$6,IF(D387=4,Simulation!$B$7,IF(D387=5,Simulation!$B$8)))))))","v":false},{"$f":"IF(D387=\"Grid\",Simulation!$C$2,IF(D387=\"WU\",Simulation!$C$3,IF(D387=1,Simulation!$C$4,IF(D387=2,Simulation!$C$5,IF(D387=3,Simulation!$C$6,IF(D387=4,Simulation!$C$7,IF(D387=5,Simulation!$C$8)))))))","v":false},0,null,null,null,"",null,null,null,null,0,null,0,0,"Inlap",null,null,"FL"]
[1,377,377,null,{"$f":"IF(D388=\"Grid\",Simulation!$B$2,IF(D388=\"WU\",Simulation!$B$3,IF(D388=1,Simulation!$B$4,IF(D388=2,Simulation!$B$5,IF(D388=3,Simulation!$B$6,IF(D388=4,Simulation!$B$7,IF(D388=5,Simulation!$B$8)))))))","v":false},{"$f":"IF(D388=\"Grid\",Simulation!$C$2,IF(D388=\"WU\",Simulation!$C$3,IF(D388=1,Simulation!$C$4,IF(D388=2,Simulation!$C$5,IF(D388=3,Simulation!$C$6,IF(D388=4,Simulation!$C$7,IF(D388=5,Simulation!$C$8)))))))","v":false},0,null,null,null,"",null,null,null,null,0,null,0,0,"Inlap",null,null,"FL"]
[1,378,378,null,{"$f":"IF(D389=\"Grid\",Simulation!$B$2,IF(D389=\"WU\",Simulation!$B$3,IF(D389=1,Simulation!$B$4,IF(D389=2,Simulation!$B$5,IF(D389=3,Simulation!$B$6,IF(D389=4,Simulation!$B$7,IF(D389=5,Simulation!$B$8)))))))","v":false},{"$f":"IF(D389=\"Grid\",Simulation!$C$2,IF(D389=\"WU\",Simulation!$C$3,IF(D389=1,Simulation!$C$4,IF(D389=2,Simulation!$C$5,IF(D389=3,Simulation!$C$6,IF(D389=4,Simulation!$C$7,IF(D389=5,Simulation!$C$8)))))))","v":false},0,null,null,null,"",null,null,null,null,0,null,0,0,"Inlap",null,null,"FL"]
[1,379,379,null,{"$f":"IF(D390=\"Grid\",Simulation!$B$2,IF(D390=\"WU\",Simulation!$B$3,IF(D390=1,Simulation!$B$4,IF(D390=2,Simulation!$B$5,IF(D390=3,Simulation!$B$6,IF(D390=4,Simulation!$B$7,IF(D390=5,Simulation!$B$8)))))))","v":false},{"$f":"IF(D390=\"Grid\",Simulation!$C$2,IF(D390=\"WU\",Simulation!$C$3,IF(D390=1,Simulation!$C$4,IF(D390=2,Simulation!$C$5,IF(D390=3,Simulation!$C$6,IF(D390=4,Simulation!$C$7,IF(D390=5,Simulation!$C$8)))))))","v":false},0,null,null,null,"",null,null,null,null,0,null,0,0,"Inlap",null,null,"FL"]
[1,380,380,null,{"$f":"IF(D391=\"Grid\",Simulation!$B$2,IF(D391=\"WU\",Simulation!$B$3,IF(D391=1,Simulation!$B$4,IF(D391=2,Simulation!$B$5,IF(D391=3,Simulation!$B$6,IF(D391=4,Simulation!$B$7,IF(D391=5,Simulation!$B$8)))))))","v":false},{"$f":"IF(D391=\"Grid\",Simulation!$C$2,IF(D391=\"WU\",Simulation!$C$3,IF(D391=1,Simulation!$C$4,IF(D391=2,Simulation!$C$5,IF(D391=3,Simulation!$C$6,IF(D391=4,Simulation!$C$7,IF(D391=5,Simulation!$C$8)))))))","v":false},0,null,null,null,"",null,null,null,null,0,null,0,0,"Inlap",null,null,"FL"]
[1,381,381,null,{"$f":"IF(D392=\"Grid\",Simulation!$B$2,IF(D392=\"WU\",Simulation!$B$3,IF(D392=1,Simulation!$B$4,IF(D392=2,Simulation!$B$5,IF(D392=3,Simulation!$B$6,IF(D392=4,Simulation!$B$7,IF(D392=5,Simulation!$B$8)))))))","v":false},{"$f":"IF(D392=\"Grid\",Simulation!$C$2,IF(D392=\"WU\",Simulation!$C$3,IF(D392=1,Simulation!$C$4,IF(D392=2,Simulation!$C$5,IF(D392=3,Simulation!$C$6,IF(D392=4,Simulation!$C$7,IF(D392=5,Simulation!$C$8)))))))","v":false},0,null,null,null,"",null,null,null,null,0,null,0,0,"Inlap",null,null,"FL"]
[1,382,382,null,{"$f":"IF(D393=\"Grid\",Simulation!$B$2,IF(D393=\"WU\",Simulation!$B$3,IF(D393=1,Simulation!$B$4,IF(D393=2,Simulation!$B$5,IF(D393=3,Simulation!$B$6,IF(D393=4,Simulation!$B$7,IF(D393=5,Simulation!$B$8)))))))","v":false},{"$f":"IF(D393=\"Grid\",Simulation!$C$2,IF(D393=\"WU\",Simulation!$C$3,IF(D393=1,Simulation!$C$4,IF(D393=2,Simulation!$C$5,IF(D393=3,Simulation!$C$6,IF(D393=4,Simulation!$C$7,IF(D393=5,Simulation!$C$8)))))))","v":false},0,null,null,null,"",null,null,null,null,0,null,0,0,"Inlap",null,null,"FL"]
[1,383,383,null,{"$f":"IF(D394=\"Grid\",Simulation!$B$2,IF(D394=\"WU\",Simulation!$B$3,IF(D394=1,Simulation!$B$4,IF(D394=2,Simulation!$B$5,IF(D394=3,Simulation!$B$6,IF(D394=4,Simulation!$B$7,IF(D394=5,Simulation!$B$8)))))))","v":false},{"$f":"IF(D394=\"Grid\",Simulation!$C$2,IF(D394=\"WU\",Simulation!$C$3,IF(D394=1,Simulation!$C$4,IF(D394=2,Simulation!$C$5,IF(D394=3,Simulation!$C$6,IF(D394=4,Simulation!$C$7,IF(D394=5,Simulation!$C$8)))))))","v":false},0,null,null,null,"",null,null,null,null,0,null,0,0,"Inlap",null,null,"FL"]
[1,384,384,null,{"$f":"IF(D395=\"Grid\",Simulation!$B$2,IF(D395=\"WU\",Simulation!$B$3,IF(D395=1,Simulation!$B$4,IF(D395=2,Simulation!$B$5,IF(D395=3,Simulation!$B$6,IF(D395=4,Simulation!$B$7,IF(D395=5,Simulation!$B$8)))))))","v":false},{"$f":"IF(D395=\"Grid\",Simulation!$C$2,IF(D395=\"WU\",Simulation!$C$3,IF(D395=1,Simulation!$C$4,IF(D395=2,Simulation!$C$5,IF(D395=3,Simulation!$C$6,IF(D395=4,Simulation!$C$7,IF(D395=5,Simulation!$C$8)))))))","v":false},0,null,null,null,"",null,null,null,null,0,null,0,0,"Inlap",null,null,"FL"]
[{"$f":"IF(O396>0,A395+1,A395)","v":1},385,385,null,{"$f":"IF(D396=\"Grid\",Simulation!$B$2,IF(D396=\"WU\",Simulation!$B$3,IF(D396=1,Simulation!$B$4,IF(D396=2,Simulation!$B$5,IF(D396=3,Simulation!$B$6,IF(D396=4,Simulation!$B$7,IF(D396=5,Simulation!$B$8)))))))","v":false},{"$f":"IF(D396=\"Grid\",Simulation!$C$2,IF(D396=\"WU\",Simulation!$C$3,IF(D396=1,Simulation!$C$4,IF(D396=2,Simulation!$C$5,IF(D396=3,Simulation!$C$6,IF(D396=4,Simulation!$C$7,IF(D396=5,Simulation!$C$8)))))))","v":false},{"$f":"G395+O395-P395","v":0},null,null,null,"",null,null,null,null,0,null,0,{"$f":"IF(O396>0,O396+S395-Q396,S395-P396)","v":0},{"$f":"IF(S396<=F396,\"Inlap\",IF(S396<=2*F396,\"Call: In this lap!\",IF(S396<=3*F396,\"Show in but don't call!\",\"\")))","v":"Inlap"},null,null,{"$f":"IF(J396=$Q$2,\"FL\",\"\")","v":"FL"}]
[1,386,386,null,{"$f":"IF(D397=\"Grid\",Simulation!$B$2,IF(D397=\"WU\",Simulation!$B$3,IF(D397=1,Simulation!$B$4,IF(D397=2,Simulation!$B$5,IF(D397=3,Simulation!$B$6,IF(D397=4,Simulation!$B$7,IF(D397=5,Simulation!$B$8)))))))","v":false},{"$f":"IF(D397=\"Grid\",Simulation!$C$2,IF(D397=\"WU\",Simulation!$C$3,IF(D397=1,Simulation!$C$4,IF(D397=2,Simulation!$C$5,IF(D397=3,Simulation!$C$6,IF(D397=4,Simulation!$C$7,IF(D397=5,Simulation!$C$8)))))))","v":false},0,null,null,null,{"$f":"IF(J397<>0,K396,\"\")","v":""},null,null,null,null,0,null,0,0,"Inlap",null,null,"FL"]
[1,387,{"$f":"IF(O398=\"\",C397+1,\"1\")","v":387},null,{"$f":"IF(D398=\"Grid\",Simulation!$B$2,IF(D398=\"WU\",Simulation!$B$3,IF(D398=1,Simulation!$B$4,IF(D398=2,Simulation!$B$5,IF(D398=3,Simulation!$B$6,IF(D398=4,Simulation!$B$7,IF(D398=5,Simulation!$B$8)))))))","v":false},{"$f":"IF(D398=\"Grid\",Simulation!$C$2,IF(D398=\"WU\",Simulation!$C$3,IF(D398=1,Simulation!$C$4,IF(D398=2,Simulation!$C$5,IF(D398=3,Simulation!$C$6,IF(D398=4,Simulation!$C$7,IF(D398=5,Simulation!$C$8)))))))","v":false},0,null,null,null,"",null,null,null,null,0,null,0,0,"Inlap",null,null,"FL"]
[1,388,388,null,{"$f":"IF(D399=\"Grid\",Simulation!$B$2,IF(D399=\"WU\",Simulation!$B$3,IF(D399=1,Simulation!$B$4,IF(D399=2,Simulation!$B$5,IF(D399=3,Simulation!$B$6,IF(D399=4,Simulation!$B$7,IF(D399=5,Simulation!$B$8)))))))","v":false},{"$f":"IF(D399=\"Grid\",Simulation!$C$2,IF(D399=\"WU\",Simulation!$C$3,IF(D399=1,Simulation!$C$4,IF(D399=2,Simulation!$C$5,IF(D399=3,Simulation!$C$6,IF(D399=4,Simulation!$C$7,IF(D399=5,Simulation!$C$8)))))))","v":false},0,null,null,null,"",null,null,null,null,0,null,0,0,"Inlap",null,null,"FL"]
[1,389,389,null,{"$f":"IF(D400=\"Grid\",Simulation!$B$2,IF(D400=\"WU\",Simulation!$B$3,IF(D400=1,Simulation!$B$4,IF(D400=2,Simulation!$B$5,IF(D400=3,Simulation!$B$6,IF(D400=4,Simulation!$B$7,IF(D400=5,Simulation!$B$8)))))))","v":false},{"$f":"IF(D400=\"Grid\",Simulation!$C$2,IF(D400=\"WU\",Simulation!$C$3,IF(D400=1,Simulation!$C$4,IF(D400=2,Simulation!$C$5,IF(D400=3,Simulation!$C$6,IF(D400=4,Simulation!$C$7,IF(D400=5,Simulation!$C$8)))))))","v":false},0,null,null,null,"",null,null,null,null,0,null,0,0,"Inlap",null,null,"FL"]
[1,390,390,null,{"$f":"IF(D401=\"Grid\",Simulation!$B$2,IF(D401=\"WU\",Simulation!$B$3,IF(D401=1,Simulation!$B$4,IF(D401=2,Simulation!$B$5,IF(D401=3,Simulation!$B$6,IF(D401=4,Simulation!$B$7,IF(D401=5,Simulation!$B$8)))))))","v":false},{"$f":"IF(D401=\"Grid\",Simulation!$C$2,IF(D401=\"WU\",Simulation!$C$3,IF(D401=1,Simulation!$C$4,IF(D401=2,Simulation!$C$5,IF(D401=3,Simulation!$C$6,IF(D401=4,Simulation!$C$7,IF(D401=5,Simulation!$C$8)))))))","v":false},0,null,null,null,"",null,null,null,null,0,null,0,0,"Inlap",null,null,"FL"]
[1,391,391,null,{"$f":"IF(D402=\"Grid\",Simulation!$B$2,IF(D402=\"WU\",Simulation!$B$3,IF(D402=1,Simulation!$B$4,IF(D402=2,Simulation!$B$5,IF(D402=3,Simulation!$B$6,IF(D402=4,Simulation!$B$7,IF(D402=5,Simulation!$B$8)))))))","v":false},{"$f":"IF(D402=\"Grid\",Simulation!$C$2,IF(D402=\"WU\",Simulation!$C$3,IF(D402=1,Simulation!$C$4,IF(D402=2,Simulation!$C$5,IF(D402=3,Simulation!$C$6,IF(D402=4,Simulation!$C$7,IF(D402=5,Simulation!$C$8)))))))","v":false},0,null,null,null,"",null,null,null,null,0,null,0,0,"Inlap",null,null,"FL"]
[1,392,392,null,{"$f":"IF(D403=\"Grid\",Simulation!$B$2,IF(D403=\"WU\",Simulation!$B$3,IF(D403=1,Simulation!$B$4,IF(D403=2,Simulation!$B$5,IF(D403=3,Simulation!$B$6,IF(D403=4,Simulation!$B$7,IF(D403=5,Simulation!$B$8)))))))","v":false},{"$f":"IF(D403=\"Grid\",Simulation!$C$2,IF(D403=\"WU\",Simulation!$C$3,IF(D403=1,Simulation!$C$4,IF(D403=2,Simulation!$C$5,IF(D403=3,Simulation!$C$6,IF(D403=4,Simulation!$C$7,IF(D403=5,Simulation!$C$8)))))))","v":false},0,null,null,null,"",null,null,null,null,0,null,0,0,"Inlap",null,null,"FL"]
[1,393,393,null,{"$f":"IF(D404=\"Grid\",Simulation!$B$2,IF(D404=\"WU\",Simulation!$B$3,IF(D404=1,Simulation!$B$4,IF(D404=2,Simulation!$B$5,IF(D404=3,Simulation!$B$6,IF(D404=4,Simulation!$B$7,IF(D404=5,Simulation!$B$8)))))))","v":false},{"$f":"IF(D404=\"Grid\",Simulation!$C$2,IF(D404=\"WU\",Simulation!$C$3,IF(D404=1,Simulation!$C$4,IF(D404=2,Simulation!$C$5,IF(D404=3,Simulation!$C$6,IF(D404=4,Simulation!$C$7,IF(D404=5,Simulation!$C$8)))))))","v":false},0,null,null,null,"",null,null,null,null,0,null,0,0,"Inlap",null,null,"FL"]
[1,394,394,null,{"$f":"IF(D405=\"Grid\",Simulation!$B$2,IF(D405=\"WU\",Simulation!$B$3,IF(D405=1,Simulation!$B$4,IF(D405=2,Simulation!$B$5,IF(D405=3,Simulation!$B$6,IF(D405=4,Simulation!$B$7,IF(D405=5,Simulation!$B$8)))))))","v":false},{"$f":"IF(D405=\"Grid\",Simulation!$C$2,IF(D405=\"WU\",Simulation!$C$3,IF(D405=1,Simulation!$C$4,IF(D405=2,Simulation!$C$5,IF(D405=3,Simulation!$C$6,IF(D405=4,Simulation!$C$7,IF(D405=5,Simulation!$C$8)))))))","v":false},0,null,null,null,"",null,null,null,null,0,null,0,0,"Inlap",null,null,"FL"]
[1,395,395,null,{"$f":"IF(D406=\"Grid\",Simulation!$B$2,IF(D406=\"WU\",Simulation!$B$3,IF(D406=1,Simulation!$B$4,IF(D406=2,Simulation!$B$5,IF(D406=3,Simulation!$B$6,IF(D406=4,Simulation!$B$7,IF(D406=5,Simulation!$B$8)))))))","v":false},{"$f":"IF(D406=\"Grid\",Simulation!$C$2,IF(D406=\"WU\",Simulation!$C$3,IF(D406=1,Simulation!$C$4,IF(D406=2,Simulation!$C$5,IF(D406=3,Simulation!$C$6,IF(D406=4,Simulation!$C$7,IF(D406=5,Simulation!$C$8)))))))","v":false},0,null,null,null,"",null,null,null,null,0,null,0,0,"Inlap",null,null,"FL"]
[1,396,396,null,{"$f":"IF(D407=\"Grid\",Simulation!$B$2,IF(D407=\"WU\",Simulation!$B$3,IF(D407=1,Simulation!$B$4,IF(D407=2,Simulation!$B$5,IF(D407=3,Simulation!$B$6,IF(D407=4,Simulation!$B$7,IF(D407=5,Simulation!$B$8)))))))","v":false},{"$f":"IF(D407=\"Grid\",Simulation!$C$2,IF(D407=\"WU\",Simulation!$C$3,IF(D407=1,Simulation!$C$4,IF(D407=2,Simulation!$C$5,IF(D407=3,Simulation!$C$6,IF(D407=4,Simulation!$C$7,IF(D407=5,Simulation!$C$8)))))))","v":false},0,null,null,null,"",null,null,null,null,0,null,0,0,"Inlap",null,null,"FL"]
[1,397,397,null,{"$f":"IF(D408=\"Grid\",Simulation!$B$2,IF(D408=\"WU\",Simulation!$B$3,IF(D408=1,Simulation!$B$4,IF(D408=2,Simulation!$B$5,IF(D408=3,Simulation!$B$6,IF(D408=4,Simulation!$B$7,IF(D408=5,Simulation!$B$8)))))))","v":false},{"$f":"IF(D408=\"Grid\",Simulation!$C$2,IF(D408=\"WU\",Simulation!$C$3,IF(D408=1,Simulation!$C$4,IF(D408=2,Simulation!$C$5,IF(D408=3,Simulation!$C$6,IF(D408=4,Simulation!$C$7,IF(D408=5,Simulation!$C$8)))))))","v":false},0,null,null,null,"",null,null,null,null,0,null,0,0,"Inlap",null,null,"FL"]
[1,398,398,null,{"$f":"IF(D409=\"Grid\",Simulation!$B$2,IF(D409=\"WU\",Simulation!$B$3,IF(D409=1,Simulation!$B$4,IF(D409=2,Simulation!$B$5,IF(D409=3,Simulation!$B$6,IF(D409=4,Simulation!$B$7,IF(D409=5,Simulation!$B$8)))))))","v":false},{"$f":"IF(D409=\"Grid\",Simulation!$C$2,IF(D409=\"WU\",Simulation!$C$3,IF(D409=1,Simulation!$C$4,IF(D409=2,Simulation!$C$5,IF(D409=3,Simulation!$C$6,IF(D409=4,Simulation!$C$7,IF(D409=5,Simulation!$C$8)))))))","v":false},0,null,null,null,"",null,null,null,null,0,null,0,0,"Inlap",null,null,"FL"]
[1,399,399,null,{"$f":"IF(D410=\"Grid\",Simulation!$B$2,IF(D410=\"WU\",Simulation!$B$3,IF(D410=1,Simulation!$B$4,IF(D410=2,Simulation!$B$5,IF(D410=3,Simulation!$B$6,IF(D410=4,Simulation!$B$7,IF(D410=5,Simulation!$B$8)))))))","v":false},{"$f":"IF(D410=\"Grid\",Simulation!$C$2,IF(D410=\"WU\",Simulation!$C$3,IF(D410=1,Simulation!$C$4,IF(D410=2,Simulation!$C$5,IF(D410=3,Simulation!$C$6,IF(D410=4,Simulation!$C$7,IF(D410=5,Simulation!$C$8)))))))","v":false},0,null,null,null,"",null,null,null,null,0,null,0,0,"Inlap",null,null,"FL"]
[1,400,400,null,{"$f":"IF(D411=\"Grid\",Simulation!$B$2,IF(D411=\"WU\",Simulation!$B$3,IF(D411=1,Simulation!$B$4,IF(D411=2,Simulation!$B$5,IF(D411=3,Simulation!$B$6,IF(D411=4,Simulation!$B$7,IF(D411=5,Simulation!$B$8)))))))","v":false},{"$f":"IF(D411=\"Grid\",Simulation!$C$2,IF(D411=\"WU\",Simulation!$C$3,IF(D411=1,Simulation!$C$4,IF(D411=2,Simulation!$C$5,IF(D411=3,Simulation!$C$6,IF(D411=4,Simulation!$C$7,IF(D411=5,Simulation!$C$8)))))))","v":false},0,null,null,null,"",null,null,null,null,0,null,0,0,"Inlap",null,null,"FL"]
[1,401,401,null,{"$f":"IF(D412=\"Grid\",Simulation!$B$2,IF(D412=\"WU\",Simulation!$B$3,IF(D412=1,Simulation!$B$4,IF(D412=2,Simulation!$B$5,IF(D412=3,Simulation!$B$6,IF(D412=4,Simulation!$B$7,IF(D412=5,Simulation!$B$8)))))))","v":false},{"$f":"IF(D412=\"Grid\",Simulation!$C$2,IF(D412=\"WU\",Simulation!$C$3,IF(D412=1,Simulation!$C$4,IF(D412=2,Simulation!$C$5,IF(D412=3,Simulation!$C$6,IF(D412=4,Simulation!$C$7,IF(D412=5,Simulation!$C$8)))))))","v":false},0,null,null,null,"",null,null,null,null,0,null,0,0,"Inlap",null,null,"FL"]
[1,402,402,null,{"$f":"IF(D413=\"Grid\",Simulation!$B$2,IF(D413=\"WU\",Simulation!$B$3,IF(D413=1,Simulation!$B$4,IF(D413=2,Simulation!$B$5,IF(D413=3,Simulation!$B$6,IF(D413=4,Simulation!$B$7,IF(D413=5,Simulation!$B$8)))))))","v":false},{"$f":"IF(D413=\"Grid\",Simulation!$C$2,IF(D413=\"WU\",Simulation!$C$3,IF(D413=1,Simulation!$C$4,IF(D413=2,Simulation!$C$5,IF(D413=3,Simulation!$C$6,IF(D413=4,Simulation!$C$7,IF(D413=5,Simulation!$C$8)))))))","v":false},0,null,null,null,"",null,null,null,null,0,null,0,0,"Inlap",null,null,"FL"]
[1,403,403,null,{"$f":"IF(D414=\"Grid\",Simulation!$B$2,IF(D414=\"WU\",Simulation!$B$3,IF(D414=1,Simulation!$B$4,IF(D414=2,Simulation!$B$5,IF(D414=3,Simulation!$B$6,IF(D414=4,Simulation!$B$7,IF(D414=5,Simulation!$B$8)))))))","v":false},{"$f":"IF(D414=\"Grid\",Simulation!$C$2,IF(D414=\"WU\",Simulation!$C$3,IF(D414=1,Simulation!$C$4,IF(D414=2,Simulation!$C$5,IF(D414=3,Simulation!$C$6,IF(D414=4,Simulation!$C$7,IF(D414=5,Simulation!$C$8)))))))","v":false},0,null,null,null,"",null,null,null,null,0,null,0,0,"Inlap",null,null,"FL"]
[1,404,404,null,{"$f":"IF(D415=\"Grid\",Simulation!$B$2,IF(D415=\"WU\",Simulation!$B$3,IF(D415=1,Simulation!$B$4,IF(D415=2,Simulation!$B$5,IF(D415=3,Simulation!$B$6,IF(D415=4,Simulation!$B$7,IF(D415=5,Simulation!$B$8)))))))","v":false},{"$f":"IF(D415=\"Grid\",Simulation!$C$2,IF(D415=\"WU\",Simulation!$C$3,IF(D415=1,Simulation!$C$4,IF(D415=2,Simulation!$C$5,IF(D415=3,Simulation!$C$6,IF(D415=4,Simulation!$C$7,IF(D415=5,Simulation!$C$8)))))))","v":false},0,null,null,null,"",null,null,null,null,0,null,0,0,"Inlap",null,null,"FL"]
[1,405,405,null,{"$f":"IF(D416=\"Grid\",Simulation!$B$2,IF(D416=\"WU\",Simulation!$B$3,IF(D416=1,Simulation!$B$4,IF(D416=2,Simulation!$B$5,IF(D416=3,Simulation!$B$6,IF(D416=4,Simulation!$B$7,IF(D416=5,Simulation!$B$8)))))))","v":false},{"$f":"IF(D416=\"Grid\",Simulation!$C$2,IF(D416=\"WU\",Simulation!$C$3,IF(D416=1,Simulation!$C$4,IF(D416=2,Simulation!$C$5,IF(D416=3,Simulation!$C$6,IF(D416=4,Simulation!$C$7,IF(D416=5,Simulation!$C$8)))))))","v":false},0,null,null,null,"",null,null,null,null,0,null,0,0,"Inlap",null,null,"FL"]
[1,406,406,null,{"$f":"IF(D417=\"Grid\",Simulation!$B$2,IF(D417=\"WU\",Simulation!$B$3,IF(D417=1,Simulation!$B$4,IF(D417=2,Simulation!$B$5,IF(D417=3,Simulation!$B$6,IF(D417=4,Simulation!$B$7,IF(D417=5,Simulation!$B$8)))))))","v":false},{"$f":"IF(D417=\"Grid\",Simulation!$C$2,IF(D417=\"WU\",Simulation!$C$3,IF(D417=1,Simulation!$C$4,IF(D417=2,Simulation!$C$5,IF(D417=3,Simulation!$C$6,IF(D417=4,Simulation!$C$7,IF(D417=5,Simulation!$C$8)))))))","v":false},0,null,null,null,"",null,null,null,null,0,null,0,0,"Inlap",null,null,"FL"]
[1,407,407,null,{"$f":"IF(D418=\"Grid\",Simulation!$B$2,IF(D418=\"WU\",Simulation!$B$3,IF(D418=1,Simulation!$B$4,IF(D418=2,Simulation!$B$5,IF(D418=3,Simulation!$B$6,IF(D418=4,Simulation!$B$7,IF(D418=5,Simulation!$B$8)))))))","v":false},{"$f":"IF(D418=\"Grid\",Simulation!$C$2,IF(D418=\"WU\",Simulation!$C$3,IF(D418=1,Simulation!$C$4,IF(D418=2,Simulation!$C$5,IF(D418=3,Simulation!$C$6,IF(D418=4,Simulation!$C$7,IF(D418=5,Simulation!$C$8)))))))","v":false},0,null,null,null,"",null,null,null,null,0,null,0,0,"Inlap",null,null,"FL"]
[1,408,408,null,{"$f":"IF(D419=\"Grid\",Simulation!$B$2,IF(D419=\"WU\",Simulation!$B$3,IF(D419=1,Simulation!$B$4,IF(D419=2,Simulation!$B$5,IF(D419=3,Simulation!$B$6,IF(D419=4,Simulation!$B$7,IF(D419=5,Simulation!$B$8)))))))","v":false},{"$f":"IF(D419=\"Grid\",Simulation!$C$2,IF(D419=\"WU\",Simulation!$C$3,IF(D419=1,Simulation!$C$4,IF(D419=2,Simulation!$C$5,IF(D419=3,Simulation!$C$6,IF(D419=4,Simulation!$C$7,IF(D419=5,Simulation!$C$8)))))))","v":false},0,null,null,null,"",null,null,null,null,0,null,0,0,"Inlap",null,null,"FL"]
[1,409,409,null,{"$f":"IF(D420=\"Grid\",Simulation!$B$2,IF(D420=\"WU\",Simulation!$B$3,IF(D420=1,Simulation!$B$4,IF(D420=2,Simulation!$B$5,IF(D420=3,Simulation!$B$6,IF(D420=4,Simulation!$B$7,IF(D420=5,Simulation!$B$8)))))))","v":false},{"$f":"IF(D420=\"Grid\",Simulation!$C$2,IF(D420=\"WU\",Simulation!$C$3,IF(D420=1,Simulation!$C$4,IF(D420=2,Simulation!$C$5,IF(D420=3,Simulation!$C$6,IF(D420=4,Simulation!$C$7,IF(D420=5,Simulation!$C$8)))))))","v":false},0,null,null,null,"",null,null,null,null,0,null,0,0,"Inlap",null,null,"FL"]
[1,410,410,null,{"$f":"IF(D421=\"Grid\",Simulation!$B$2,IF(D421=\"WU\",Simulation!$B$3,IF(D421=1,Simulation!$B$4,IF(D421=2,Simulation!$B$5,IF(D421=3,Simulation!$B$6,IF(D421=4,Simulation!$B$7,IF(D421=5,Simulation!$B$8)))))))","v":false},{"$f":"IF(D421=\"Grid\",Simulation!$C$2,IF(D421=\"WU\",Simulation!$C$3,IF(D421=1,Simulation!$C$4,IF(D421=2,Simulation!$C$5,IF(D421=3,Simulation!$C$6,IF(D421=4,Simulation!$C$7,IF(D421=5,Simulation!$C$8)))))))","v":false},0,null,null,null,"",null,null,null,null,0,null,0,0,"Inlap",null,null,"FL"]
[1,411,411,null,{"$f":"IF(D422=\"Grid\",Simulation!$B$2,IF(D422=\"WU\",Simulation!$B$3,IF(D422=1,Simulation!$B$4,IF(D422=2,Simulation!$B$5,IF(D422=3,Simulation!$B$6,IF(D422=4,Simulation!$B$7,IF(D422=5,Simulation!$B$8)))))))","v":false},{"$f":"IF(D422=\"Grid\",Simulation!$C$2,IF(D422=\"WU\",Simulation!$C$3,IF(D422=1,Simulation!$C$4,IF(D422=2,Simulation!$C$5,IF(D422=3,Simulation!$C$6,IF(D422=4,Simulation!$C$7,IF(D422=5,Simulation!$C$8)))))))","v":false},0,null,null,null,"",null,null,null,null,0,null,0,0,"Inlap",null,null,"FL"]
[1,412,412,null,{"$f":"IF(D423=\"Grid\",Simulation!$B$2,IF(D423=\"WU\",Simulation!$B$3,IF(D423=1,Simulation!$B$4,IF(D423=2,Simulation!$B$5,IF(D423=3,Simulation!$B$6,IF(D423=4,Simulation!$B$7,IF(D423=5,Simulation!$B$8)))))))","v":false},{"$f":"IF(D423=\"Grid\",Simulation!$C$2,IF(D423=\"WU\",Simulation!$C$3,IF(D423=1,Simulation!$C$4,IF(D423=2,Simulation!$C$5,IF(D423=3,Simulation!$C$6,IF(D423=4,Simulation!$C$7,IF(D423=5,Simulation!$C$8)))))))","v":false},0,null,null,null,"",null,null,null,null,0,null,0,0,"Inlap",null,null,"FL"]
[1,413,413,null,{"$f":"IF(D424=\"Grid\",Simulation!$B$2,IF(D424=\"WU\",Simulation!$B$3,IF(D424=1,Simulation!$B$4,IF(D424=2,Simulation!$B$5,IF(D424=3,Simulation!$B$6,IF(D424=4,Simulation!$B$7,IF(D424=5,Simulation!$B$8)))))))","v":false},{"$f":"IF(D424=\"Grid\",Simulation!$C$2,IF(D424=\"WU\",Simulation!$C$3,IF(D424=1,Simulation!$C$4,IF(D424=2,Simulation!$C$5,IF(D424=3,Simulation!$C$6,IF(D424=4,Simulation!$C$7,IF(D424=5,Simulation!$C$8)))))))","v":false},0,null,null,null,"",null,null,null,null,0,null,0,0,"Inlap",null,null,"FL"]
[1,414,414,null,{"$f":"IF(D425=\"Grid\",Simulation!$B$2,IF(D425=\"WU\",Simulation!$B$3,IF(D425=1,Simulation!$B$4,IF(D425=2,Simulation!$B$5,IF(D425=3,Simulation!$B$6,IF(D425=4,Simulation!$B$7,IF(D425=5,Simulation!$B$8)))))))","v":false},{"$f":"IF(D425=\"Grid\",Simulation!$C$2,IF(D425=\"WU\",Simulation!$C$3,IF(D425=1,Simulation!$C$4,IF(D425=2,Simulation!$C$5,IF(D425=3,Simulation!$C$6,IF(D425=4,Simulation!$C$7,IF(D425=5,Simulation!$C$8)))))))","v":false},0,null,null,null,"",null,null,null,null,0,null,0,0,"Inlap",null,null,"FL"]
[1,415,415,null,{"$f":"IF(D426=\"Grid\",Simulation!$B$2,IF(D426=\"WU\",Simulation!$B$3,IF(D426=1,Simulation!$B$4,IF(D426=2,Simulation!$B$5,IF(D426=3,Simulation!$B$6,IF(D426=4,Simulation!$B$7,IF(D426=5,Simulation!$B$8)))))))","v":false},{"$f":"IF(D426=\"Grid\",Simulation!$C$2,IF(D426=\"WU\",Simulation!$C$3,IF(D426=1,Simulation!$C$4,IF(D426=2,Simulation!$C$5,IF(D426=3,Simulation!$C$6,IF(D426=4,Simulation!$C$7,IF(D426=5,Simulation!$C$8)))))))","v":false},0,null,null,null,"",null,null,null,null,0,null,0,0,"Inlap",null,null,"FL"]
[1,416,416,null,{"$f":"IF(D427=\"Grid\",Simulation!$B$2,IF(D427=\"WU\",Simulation!$B$3,IF(D427=1,Simulation!$B$4,IF(D427=2,Simulation!$B$5,IF(D427=3,Simulation!$B$6,IF(D427=4,Simulation!$B$7,IF(D427=5,Simulation!$B$8)))))))","v":false},{"$f":"IF(D427=\"Grid\",Simulation!$C$2,IF(D427=\"WU\",Simulation!$C$3,IF(D427=1,Simulation!$C$4,IF(D427=2,Simulation!$C$5,IF(D427=3,Simulation!$C$6,IF(D427=4,Simulation!$C$7,IF(D427=5,Simulation!$C$8)))))))","v":false},0,null,null,null,"",null,null,null,null,0,null,0,0,"Inlap",null,null,"FL"]
[1,417,417,null,{"$f":"IF(D428=\"Grid\",Simulation!$B$2,IF(D428=\"WU\",Simulation!$B$3,IF(D428=1,Simulation!$B$4,IF(D428=2,Simulation!$B$5,IF(D428=3,Simulation!$B$6,IF(D428=4,Simulation!$B$7,IF(D428=5,Simulation!$B$8)))))))","v":false},{"$f":"IF(D428=\"Grid\",Simulation!$C$2,IF(D428=\"WU\",Simulation!$C$3,IF(D428=1,Simulation!$C$4,IF(D428=2,Simulation!$C$5,IF(D428=3,Simulation!$C$6,IF(D428=4,Simulation!$C$7,IF(D428=5,Simulation!$C$8)))))))","v":false},0,null,null,null,"",null,null,null,null,0,null,0,0,"Inlap",null,null,"FL"]
[1,418,418,null,{"$f":"IF(D429=\"Grid\",Simulation!$B$2,IF(D429=\"WU\",Simulation!$B$3,IF(D429=1,Simulation!$B$4,IF(D429=2,Simulation!$B$5,IF(D429=3,Simulation!$B$6,IF(D429=4,Simulation!$B$7,IF(D429=5,Simulation!$B$8)))))))","v":false},{"$f":"IF(D429=\"Grid\",Simulation!$C$2,IF(D429=\"WU\",Simulation!$C$3,IF(D429=1,Simulation!$C$4,IF(D429=2,Simulation!$C$5,IF(D429=3,Simulation!$C$6,IF(D429=4,Simulation!$C$7,IF(D429=5,Simulation!$C$8)))))))","v":false},0,null,null,null,"",null,null,null,null,0,null,0,0,"Inlap",null,null,"FL"]
[1,419,419,null,{"$f":"IF(D430=\"Grid\",Simulation!$B$2,IF(D430=\"WU\",Simulation!$B$3,IF(D430=1,Simulation!$B$4,IF(D430=2,Simulation!$B$5,IF(D430=3,Simulation!$B$6,IF(D430=4,Simulation!$B$7,IF(D430=5,Simulation!$B$8)))))))","v":false},{"$f":"IF(D430=\"Grid\",Simulation!$C$2,IF(D430=\"WU\",Simulation!$C$3,IF(D430=1,Simulation!$C$4,IF(D430=2,Simulation!$C$5,IF(D430=3,Simulation!$C$6,IF(D430=4,Simulation!$C$7,IF(D430=5,Simulation!$C$8)))))))","v":false},0,null,null,null,"",null,null,null,null,{"$f":"IF(O430>0,Q430,Q430-Q429)","v":0},null,{"$f":"IF(O430>0,Q430,Q430-Q429)","v":0},0,"Inlap",null,null,"FL"]
[1,420,420,null,{"$f":"IF(D431=\"Grid\",Simulation!$B$2,IF(D431=\"WU\",Simulation!$B$3,IF(D431=1,Simulation!$B$4,IF(D431=2,Simulation!$B$5,IF(D431=3,Simulation!$B$6,IF(D431=4,Simulation!$B$7,IF(D431=5,Simulation!$B$8)))))))","v":false},{"$f":"IF(D431=\"Grid\",Simulation!$C$2,IF(D431=\"WU\",Simulation!$C$3,IF(D431=1,Simulation!$C$4,IF(D431=2,Simulation!$C$5,IF(D431=3,Simulation!$C$6,IF(D431=4,Simulation!$C$7,IF(D431=5,Simulation!$C$8)))))))","v":false},0,null,null,null,"",null,null,null,null,0,null,0,0,"Inlap",null,null,"FL"]
[1,421,421,null,{"$f":"IF(D432=\"Grid\",Simulation!$B$2,IF(D432=\"WU\",Simulation!$B$3,IF(D432=1,Simulation!$B$4,IF(D432=2,Simulation!$B$5,IF(D432=3,Simulation!$B$6,IF(D432=4,Simulation!$B$7,IF(D432=5,Simulation!$B$8)))))))","v":false},{"$f":"IF(D432=\"Grid\",Simulation!$C$2,IF(D432=\"WU\",Simulation!$C$3,IF(D432=1,Simulation!$C$4,IF(D432=2,Simulation!$C$5,IF(D432=3,Simulation!$C$6,IF(D432=4,Simulation!$C$7,IF(D432=5,Simulation!$C$8)))))))","v":false},0,null,null,null,"",null,null,null,null,0,null,0,0,"Inlap",null,null,"FL"]
[1,422,422,null,{"$f":"IF(D433=\"Grid\",Simulation!$B$2,IF(D433=\"WU\",Simulation!$B$3,IF(D433=1,Simulation!$B$4,IF(D433=2,Simulation!$B$5,IF(D433=3,Simulation!$B$6,IF(D433=4,Simulation!$B$7,IF(D433=5,Simulation!$B$8)))))))","v":false},{"$f":"IF(D433=\"Grid\",Simulation!$C$2,IF(D433=\"WU\",Simulation!$C$3,IF(D433=1,Simulation!$C$4,IF(D433=2,Simulation!$C$5,IF(D433=3,Simulation!$C$6,IF(D433=4,Simulation!$C$7,IF(D433=5,Simulation!$C$8)))))))","v":false},0,null,null,null,"",null,null,null,null,0,null,0,0,"Inlap",null,null,"FL"]
[1,423,423,null,{"$f":"IF(D434=\"Grid\",Simulation!$B$2,IF(D434=\"WU\",Simulation!$B$3,IF(D434=1,Simulation!$B$4,IF(D434=2,Simulation!$B$5,IF(D434=3,Simulation!$B$6,IF(D434=4,Simulation!$B$7,IF(D434=5,Simulation!$B$8)))))))","v":false},{"$f":"IF(D434=\"Grid\",Simulation!$C$2,IF(D434=\"WU\",Simulation!$C$3,IF(D434=1,Simulation!$C$4,IF(D434=2,Simulation!$C$5,IF(D434=3,Simulation!$C$6,IF(D434=4,Simulation!$C$7,IF(D434=5,Simulation!$C$8)))))))","v":false},0,null,null,null,"",null,null,null,null,0,null,0,0,"Inlap",null,null,"FL"]
[1,424,424,null,{"$f":"IF(D435=\"Grid\",Simulation!$B$2,IF(D435=\"WU\",Simulation!$B$3,IF(D435=1,Simulation!$B$4,IF(D435=2,Simulation!$B$5,IF(D435=3,Simulation!$B$6,IF(D435=4,Simulation!$B$7,IF(D435=5,Simulation!$B$8)))))))","v":false},{"$f":"IF(D435=\"Grid\",Simulation!$C$2,IF(D435=\"WU\",Simulation!$C$3,IF(D435=1,Simulation!$C$4,IF(D435=2,Simulation!$C$5,IF(D435=3,Simulation!$C$6,IF(D435=4,Simulation!$C$7,IF(D435=5,Simulation!$C$8)))))))","v":false},0,null,null,null,"",null,null,null,null,0,null,0,0,"Inlap",null,null,"FL"]
[1,425,425,null,{"$f":"IF(D436=\"Grid\",Simulation!$B$2,IF(D436=\"WU\",Simulation!$B$3,IF(D436=1,Simulation!$B$4,IF(D436=2,Simulation!$B$5,IF(D436=3,Simulation!$B$6,IF(D436=4,Simulation!$B$7,IF(D436=5,Simulation!$B$8)))))))","v":false},{"$f":"IF(D436=\"Grid\",Simulation!$C$2,IF(D436=\"WU\",Simulation!$C$3,IF(D436=1,Simulation!$C$4,IF(D436=2,Simulation!$C$5,IF(D436=3,Simulation!$C$6,IF(D436=4,Simulation!$C$7,IF(D436=5,Simulation!$C$8)))))))","v":false},0,null,null,null,"",null,null,null,null,0,null,0,0,"Inlap",null,null,"FL"]
[1,426,426,null,{"$f":"IF(D437=\"Grid\",Simulation!$B$2,IF(D437=\"WU\",Simulation!$B$3,IF(D437=1,Simulation!$B$4,IF(D437=2,Simulation!$B$5,IF(D437=3,Simulation!$B$6,IF(D437=4,Simulation!$B$7,IF(D437=5,Simulation!$B$8)))))))","v":false},{"$f":"IF(D437=\"Grid\",Simulation!$C$2,IF(D437=\"WU\",Simulation!$C$3,IF(D437=1,Simulation!$C$4,IF(D437=2,Simulation!$C$5,IF(D437=3,Simulation!$C$6,IF(D437=4,Simulation!$C$7,IF(D437=5,Simulation!$C$8)))))))","v":false},0,null,null,null,"",null,null,null,null,0,null,0,0,"Inlap",null,null,"FL"]
[1,427,427,null,{"$f":"IF(D438=\"Grid\",Simulation!$B$2,IF(D438=\"WU\",Simulation!$B$3,IF(D438=1,Simulation!$B$4,IF(D438=2,Simulation!$B$5,IF(D438=3,Simulation!$B$6,IF(D438=4,Simulation!$B$7,IF(D438=5,Simulation!$B$8)))))))","v":false},{"$f":"IF(D438=\"Grid\",Simulation!$C$2,IF(D438=\"WU\",Simulation!$C$3,IF(D438=1,Simulation!$C$4,IF(D438=2,Simulation!$C$5,IF(D438=3,Simulation!$C$6,IF(D438=4,Simulation!$C$7,IF(D438=5,Simulation!$C$8)))))))","v":false},0,null,null,null,"",null,null,null,null,0,null,0,0,"Inlap",null,null,"FL"]
[1,428,428,null,{"$f":"IF(D439=\"Grid\",Simulation!$B$2,IF(D439=\"WU\",Simulation!$B$3,IF(D439=1,Simulation!$B$4,IF(D439=2,Simulation!$B$5,IF(D439=3,Simulation!$B$6,IF(D439=4,Simulation!$B$7,IF(D439=5,Simulation!$B$8)))))))","v":false},{"$f":"IF(D439=\"Grid\",Simulation!$C$2,IF(D439=\"WU\",Simulation!$C$3,IF(D439=1,Simulation!$C$4,IF(D439=2,Simulation!$C$5,IF(D439=3,Simulation!$C$6,IF(D439=4,Simulation!$C$7,IF(D439=5,Simulation!$C$8)))))))","v":false},0,null,null,null,"",null,null,null,null,0,null,0,0,"Inlap",null,null,"FL"]
[1,429,429,null,{"$f":"IF(D440=\"Grid\",Simulation!$B$2,IF(D440=\"WU\",Simulation!$B$3,IF(D440=1,Simulation!$B$4,IF(D440=2,Simulation!$B$5,IF(D440=3,Simulation!$B$6,IF(D440=4,Simulation!$B$7,IF(D440=5,Simulation!$B$8)))))))","v":false},{"$f":"IF(D440=\"Grid\",Simulation!$C$2,IF(D440=\"WU\",Simulation!$C$3,IF(D440=1,Simulation!$C$4,IF(D440=2,Simulation!$C$5,IF(D440=3,Simulation!$C$6,IF(D440=4,Simulation!$C$7,IF(D440=5,Simulation!$C$8)))))))","v":false},0,null,null,null,"",null,null,null,null,0,null,0,0,"Inlap",null,null,"FL"]
[1,430,430,null,{"$f":"IF(D441=\"Grid\",Simulation!$B$2,IF(D441=\"WU\",Simulation!$B$3,IF(D441=1,Simulation!$B$4,IF(D441=2,Simulation!$B$5,IF(D441=3,Simulation!$B$6,IF(D441=4,Simulation!$B$7,IF(D441=5,Simulation!$B$8)))))))","v":false},{"$f":"IF(D441=\"Grid\",Simulation!$C$2,IF(D441=\"WU\",Simulation!$C$3,IF(D441=1,Simulation!$C$4,IF(D441=2,Simulation!$C$5,IF(D441=3,Simulation!$C$6,IF(D441=4,Simulation!$C$7,IF(D441=5,Simulation!$C$8)))))))","v":false},0,null,null,null,"",null,null,null,null,0,null,0,0,"Inlap",null,null,"FL"]
[1,431,431,null,{"$f":"IF(D442=\"Grid\",Simulation!$B$2,IF(D442=\"WU\",Simulation!$B$3,IF(D442=1,Simulation!$B$4,IF(D442=2,Simulation!$B$5,IF(D442=3,Simulation!$B$6,IF(D442=4,Simulation!$B$7,IF(D442=5,Simulation!$B$8)))))))","v":false},{"$f":"IF(D442=\"Grid\",Simulation!$C$2,IF(D442=\"WU\",Simulation!$C$3,IF(D442=1,Simulation!$C$4,IF(D442=2,Simulation!$C$5,IF(D442=3,Simulation!$C$6,IF(D442=4,Simulation!$C$7,IF(D442=5,Simulation!$C$8)))))))","v":false},0,null,null,null,"",null,null,null,null,0,null,0,0,"Inlap",null,null,"FL"]
[1,432,432,null,{"$f":"IF(D443=\"Grid\",Simulation!$B$2,IF(D443=\"WU\",Simulation!$B$3,IF(D443=1,Simulation!$B$4,IF(D443=2,Simulation!$B$5,IF(D443=3,Simulation!$B$6,IF(D443=4,Simulation!$B$7,IF(D443=5,Simulation!$B$8)))))))","v":false},{"$f":"IF(D443=\"Grid\",Simulation!$C$2,IF(D443=\"WU\",Simulation!$C$3,IF(D443=1,Simulation!$C$4,IF(D443=2,Simulation!$C$5,IF(D443=3,Simulation!$C$6,IF(D443=4,Simulation!$C$7,IF(D443=5,Simulation!$C$8)))))))","v":false},0,null,null,null,"",null,null,null,null,0,null,0,0,"Inlap",null,null,"FL"]
[1,433,433,null,{"$f":"IF(D444=\"Grid\",Simulation!$B$2,IF(D444=\"WU\",Simulation!$B$3,IF(D444=1,Simulation!$B$4,IF(D444=2,Simulation!$B$5,IF(D444=3,Simulation!$B$6,IF(D444=4,Simulation!$B$7,IF(D444=5,Simulation!$B$8)))))))","v":false},{"$f":"IF(D444=\"Grid\",Simulation!$C$2,IF(D444=\"WU\",Simulation!$C$3,IF(D444=1,Simulation!$C$4,IF(D444=2,Simulation!$C$5,IF(D444=3,Simulation!$C$6,IF(D444=4,Simulation!$C$7,IF(D444=5,Simulation!$C$8)))))))","v":false},0,null,null,null,"",null,null,null,null,0,null,0,0,"Inlap",null,null,"FL"]
[1,434,434,null,{"$f":"IF(D445=\"Grid\",Simulation!$B$2,IF(D445=\"WU\",Simulation!$B$3,IF(D445=1,Simulation!$B$4,IF(D445=2,Simulation!$B$5,IF(D445=3,Simulation!$B$6,IF(D445=4,Simulation!$B$7,IF(D445=5,Simulation!$B$8)))))))","v":false},{"$f":"IF(D445=\"Grid\",Simulation!$C$2,IF(D445=\"WU\",Simulation!$C$3,IF(D445=1,Simulation!$C$4,IF(D445=2,Simulation!$C$5,IF(D445=3,Simulation!$C$6,IF(D445=4,Simulation!$C$7,IF(D445=5,Simulation!$C$8)))))))","v":false},0,null,null,null,"",null,null,null,null,0,null,0,0,"Inlap",null,null,"FL"]
[1,435,435,null,{"$f":"IF(D446=\"Grid\",Simulation!$B$2,IF(D446=\"WU\",Simulation!$B$3,IF(D446=1,Simulation!$B$4,IF(D446=2,Simulation!$B$5,IF(D446=3,Simulation!$B$6,IF(D446=4,Simulation!$B$7,IF(D446=5,Simulation!$B$8)))))))","v":false},{"$f":"IF(D446=\"Grid\",Simulation!$C$2,IF(D446=\"WU\",Simulation!$C$3,IF(D446=1,Simulation!$C$4,IF(D446=2,Simulation!$C$5,IF(D446=3,Simulation!$C$6,IF(D446=4,Simulation!$C$7,IF(D446=5,Simulation!$C$8)))))))","v":false},0,null,null,null,"",null,null,null,null,0,null,0,0,"Inlap",null,null,"FL"]
[1,436,436,null,{"$f":"IF(D447=\"Grid\",Simulation!$B$2,IF(D447=\"WU\",Simulation!$B$3,IF(D447=1,Simulation!$B$4,IF(D447=2,Simulation!$B$5,IF(D447=3,Simulation!$B$6,IF(D447=4,Simulation!$B$7,IF(D447=5,Simulation!$B$8)))))))","v":false},{"$f":"IF(D447=\"Grid\",Simulation!$C$2,IF(D447=\"WU\",Simulation!$C$3,IF(D447=1,Simulation!$C$4,IF(D447=2,Simulation!$C$5,IF(D447=3,Simulation!$C$6,IF(D447=4,Simulation!$C$7,IF(D447=5,Simulation!$C$8)))))))","v":false},0,null,null,null,"",null,null,null,null,0,null,0,0,"Inlap",null,null,"FL"]
[1,437,437,null,{"$f":"IF(D448=\"Grid\",Simulation!$B$2,IF(D448=\"WU\",Simulation!$B$3,IF(D448=1,Simulation!$B$4,IF(D448=2,Simulation!$B$5,IF(D448=3,Simulation!$B$6,IF(D448=4,Simulation!$B$7,IF(D448=5,Simulation!$B$8)))))))","v":false},{"$f":"IF(D448=\"Grid\",Simulation!$C$2,IF(D448=\"WU\",Simulation!$C$3,IF(D448=1,Simulation!$C$4,IF(D448=2,Simulation!$C$5,IF(D448=3,Simulation!$C$6,IF(D448=4,Simulation!$C$7,IF(D448=5,Simulation!$C$8)))))))","v":false},0,null,null,null,"",null,null,null,null,0,null,0,0,"Inlap",null,null,"FL"]
[1,438,438,null,{"$f":"IF(D449=\"Grid\",Simulation!$B$2,IF(D449=\"WU\",Simulation!$B$3,IF(D449=1,Simulation!$B$4,IF(D449=2,Simulation!$B$5,IF(D449=3,Simulation!$B$6,IF(D449=4,Simulation!$B$7,IF(D449=5,Simulation!$B$8)))))))","v":false},{"$f":"IF(D449=\"Grid\",Simulation!$C$2,IF(D449=\"WU\",Simulation!$C$3,IF(D449=1,Simulation!$C$4,IF(D449=2,Simulation!$C$5,IF(D449=3,Simulation!$C$6,IF(D449=4,Simulation!$C$7,IF(D449=5,Simulation!$C$8)))))))","v":false},0,null,null,null,"",null,null,null,null,0,null,0,0,"Inlap",null,null,"FL"]
[1,439,439,null,{"$f":"IF(D450=\"Grid\",Simulation!$B$2,IF(D450=\"WU\",Simulation!$B$3,IF(D450=1,Simulation!$B$4,IF(D450=2,Simulation!$B$5,IF(D450=3,Simulation!$B$6,IF(D450=4,Simulation!$B$7,IF(D450=5,Simulation!$B$8)))))))","v":false},{"$f":"IF(D450=\"Grid\",Simulation!$C$2,IF(D450=\"WU\",Simulation!$C$3,IF(D450=1,Simulation!$C$4,IF(D450=2,Simulation!$C$5,IF(D450=3,Simulation!$C$6,IF(D450=4,Simulation!$C$7,IF(D450=5,Simulation!$C$8)))))))","v":false},0,null,null,null,"",null,null,null,null,0,null,0,0,"Inlap",null,null,"FL"]
[1,440,440,null,{"$f":"IF(D451=\"Grid\",Simulation!$B$2,IF(D451=\"WU\",Simulation!$B$3,IF(D451=1,Simulation!$B$4,IF(D451=2,Simulation!$B$5,IF(D451=3,Simulation!$B$6,IF(D451=4,Simulation!$B$7,IF(D451=5,Simulation!$B$8)))))))","v":false},{"$f":"IF(D451=\"Grid\",Simulation!$C$2,IF(D451=\"WU\",Simulation!$C$3,IF(D451=1,Simulation!$C$4,IF(D451=2,Simulation!$C$5,IF(D451=3,Simulation!$C$6,IF(D451=4,Simulation!$C$7,IF(D451=5,Simulation!$C$8)))))))","v":false},0,null,null,null,"",null,null,null,null,0,null,0,0,"Inlap",null,null,"FL"]
[1,441,441,null,{"$f":"IF(D452=\"Grid\",Simulation!$B$2,IF(D452=\"WU\",Simulation!$B$3,IF(D452=1,Simulation!$B$4,IF(D452=2,Simulation!$B$5,IF(D452=3,Simulation!$B$6,IF(D452=4,Simulation!$B$7,IF(D452=5,Simulation!$B$8)))))))","v":false},{"$f":"IF(D452=\"Grid\",Simulation!$C$2,IF(D452=\"WU\",Simulation!$C$3,IF(D452=1,Simulation!$C$4,IF(D452=2,Simulation!$C$5,IF(D452=3,Simulation!$C$6,IF(D452=4,Simulation!$C$7,IF(D452=5,Simulation!$C$8)))))))","v":false},0,null,null,null,"",null,null,null,null,0,null,0,0,"Inlap",null,null,"FL"]
[1,442,442,null,{"$f":"IF(D453=\"Grid\",Simulation!$B$2,IF(D453=\"WU\",Simulation!$B$3,IF(D453=1,Simulation!$B$4,IF(D453=2,Simulation!$B$5,IF(D453=3,Simulation!$B$6,IF(D453=4,Simulation!$B$7,IF(D453=5,Simulation!$B$8)))))))","v":false},{"$f":"IF(D453=\"Grid\",Simulation!$C$2,IF(D453=\"WU\",Simulation!$C$3,IF(D453=1,Simulation!$C$4,IF(D453=2,Simulation!$C$5,IF(D453=3,Simulation!$C$6,IF(D453=4,Simulation!$C$7,IF(D453=5,Simulation!$C$8)))))))","v":false},0,null,null,null,"",null,null,null,null,0,null,0,0,"Inlap",null,null,"FL"]
[1,443,443,null,{"$f":"IF(D454=\"Grid\",Simulation!$B$2,IF(D454=\"WU\",Simulation!$B$3,IF(D454=1,Simulation!$B$4,IF(D454=2,Simulation!$B$5,IF(D454=3,Simulation!$B$6,IF(D454=4,Simulation!$B$7,IF(D454=5,Simulation!$B$8)))))))","v":false},{"$f":"IF(D454=\"Grid\",Simulation!$C$2,IF(D454=\"WU\",Simulation!$C$3,IF(D454=1,Simulation!$C$4,IF(D454=2,Simulation!$C$5,IF(D454=3,Simulation!$C$6,IF(D454=4,Simulation!$C$7,IF(D454=5,Simulation!$C$8)))))))","v":false},0,null,null,null,"",null,null,null,null,0,null,0,0,"Inlap",null,null,"FL"]
[1,444,444,null,{"$f":"IF(D455=\"Grid\",Simulation!$B$2,IF(D455=\"WU\",Simulation!$B$3,IF(D455=1,Simulation!$B$4,IF(D455=2,Simulation!$B$5,IF(D455=3,Simulation!$B$6,IF(D455=4,Simulation!$B$7,IF(D455=5,Simulation!$B$8)))))))","v":false},{"$f":"IF(D455=\"Grid\",Simulation!$C$2,IF(D455=\"WU\",Simulation!$C$3,IF(D455=1,Simulation!$C$4,IF(D455=2,Simulation!$C$5,IF(D455=3,Simulation!$C$6,IF(D455=4,Simulation!$C$7,IF(D455=5,Simulation!$C$8)))))))","v":false},0,null,null,null,"",null,null,null,null,0,null,0,0,"Inlap",null,null,"FL"]
[1,445,445,null,{"$f":"IF(D456=\"Grid\",Simulation!$B$2,IF(D456=\"WU\",Simulation!$B$3,IF(D456=1,Simulation!$B$4,IF(D456=2,Simulation!$B$5,IF(D456=3,Simulation!$B$6,IF(D456=4,Simulation!$B$7,IF(D456=5,Simulation!$B$8)))))))","v":false},{"$f":"IF(D456=\"Grid\",Simulation!$C$2,IF(D456=\"WU\",Simulation!$C$3,IF(D456=1,Simulation!$C$4,IF(D456=2,Simulation!$C$5,IF(D456=3,Simulation!$C$6,IF(D456=4,Simulation!$C$7,IF(D456=5,Simulation!$C$8)))))))","v":false},0,null,null,null,"",null,null,null,null,0,null,0,0,"Inlap",null,null,"FL"]
[1,446,446,null,{"$f":"IF(D457=\"Grid\",Simulation!$B$2,IF(D457=\"WU\",Simulation!$B$3,IF(D457=1,Simulation!$B$4,IF(D457=2,Simulation!$B$5,IF(D457=3,Simulation!$B$6,IF(D457=4,Simulation!$B$7,IF(D457=5,Simulation!$B$8)))))))","v":false},{"$f":"IF(D457=\"Grid\",Simulation!$C$2,IF(D457=\"WU\",Simulation!$C$3,IF(D457=1,Simulation!$C$4,IF(D457=2,Simulation!$C$5,IF(D457=3,Simulation!$C$6,IF(D457=4,Simulation!$C$7,IF(D457=5,Simulation!$C$8)))))))","v":false},0,null,null,null,"",null,null,null,null,0,null,0,0,"Inlap",null,null,"FL"]
[1,447,447,null,{"$f":"IF(D458=\"Grid\",Simulation!$B$2,IF(D458=\"WU\",Simulation!$B$3,IF(D458=1,Simulation!$B$4,IF(D458=2,Simulation!$B$5,IF(D458=3,Simulation!$B$6,IF(D458=4,Simulation!$B$7,IF(D458=5,Simulation!$B$8)))))))","v":false},{"$f":"IF(D458=\"Grid\",Simulation!$C$2,IF(D458=\"WU\",Simulation!$C$3,IF(D458=1,Simulation!$C$4,IF(D458=2,Simulation!$C$5,IF(D458=3,Simulation!$C$6,IF(D458=4,Simulation!$C$7,IF(D458=5,Simulation!$C$8)))))))","v":false},0,null,null,null,"",null,null,null,null,0,null,0,0,"Inlap",null,null,"FL"]
[1,448,448,null,{"$f":"IF(D459=\"Grid\",Simulation!$B$2,IF(D459=\"WU\",Simulation!$B$3,IF(D459=1,Simulation!$B$4,IF(D459=2,Simulation!$B$5,IF(D459=3,Simulation!$B$6,IF(D459=4,Simulation!$B$7,IF(D459=5,Simulation!$B$8)))))))","v":false},{"$f":"IF(D459=\"Grid\",Simulation!$C$2,IF(D459=\"WU\",Simulation!$C$3,IF(D459=1,Simulation!$C$4,IF(D459=2,Simulation!$C$5,IF(D459=3,Simulation!$C$6,IF(D459=4,Simulation!$C$7,IF(D459=5,Simulation!$C$8)))))))","v":false},0,null,null,null,"",null,null,null,null,0,null,0,0,"Inlap",null,null,"FL"]
[{"$f":"IF(O460>0,A459+1,A459)","v":1},449,449,null,{"$f":"IF(D460=\"Grid\",Simulation!$B$2,IF(D460=\"WU\",Simulation!$B$3,IF(D460=1,Simulation!$B$4,IF(D460=2,Simulation!$B$5,IF(D460=3,Simulation!$B$6,IF(D460=4,Simulation!$B$7,IF(D460=5,Simulation!$B$8)))))))","v":false},{"$f":"IF(D460=\"Grid\",Simulation!$C$2,IF(D460=\"WU\",Simulation!$C$3,IF(D460=1,Simulation!$C$4,IF(D460=2,Simulation!$C$5,IF(D460=3,Simulation!$C$6,IF(D460=4,Simulation!$C$7,IF(D460=5,Simulation!$C$8)))))))","v":false},{"$f":"G459+O459-P459","v":0},null,null,null,"",null,null,null,null,0,null,0,{"$f":"IF(O460>0,O460+S459-Q460,S459-P460)","v":0},{"$f":"IF(S460<=F460,\"Inlap\",IF(S460<=2*F460,\"Call: In this lap!\",IF(S460<=3*F460,\"Show in but don't call!\",\"\")))","v":"Inlap"},null,null,{"$f":"IF(J460=$Q$2,\"FL\",\"\")","v":"FL"}]
[1,450,450,null,{"$f":"IF(D461=\"Grid\",Simulation!$B$2,IF(D461=\"WU\",Simulation!$B$3,IF(D461=1,Simulation!$B$4,IF(D461=2,Simulation!$B$5,IF(D461=3,Simulation!$B$6,IF(D461=4,Simulation!$B$7,IF(D461=5,Simulation!$B$8)))))))","v":false},{"$f":"IF(D461=\"Grid\",Simulation!$C$2,IF(D461=\"WU\",Simulation!$C$3,IF(D461=1,Simulation!$C$4,IF(D461=2,Simulation!$C$5,IF(D461=3,Simulation!$C$6,IF(D461=4,Simulation!$C$7,IF(D461=5,Simulation!$C$8)))))))","v":false},0,null,null,null,{"$f":"IF(J461<>0,K460,\"\")","v":""},null,null,null,null,0,null,0,0,"Inlap",null,null,"FL"]
[1,451,{"$f":"IF(O462=\"\",C461+1,\"1\")","v":451},null,{"$f":"IF(D462=\"Grid\",Simulation!$B$2,IF(D462=\"WU\",Simulation!$B$3,IF(D462=1,Simulation!$B$4,IF(D462=2,Simulation!$B$5,IF(D462=3,Simulation!$B$6,IF(D462=4,Simulation!$B$7,IF(D462=5,Simulation!$B$8)))))))","v":false},{"$f":"IF(D462=\"Grid\",Simulation!$C$2,IF(D462=\"WU\",Simulation!$C$3,IF(D462=1,Simulation!$C$4,IF(D462=2,Simulation!$C$5,IF(D462=3,Simulation!$C$6,IF(D462=4,Simulation!$C$7,IF(D462=5,Simulation!$C$8)))))))","v":false},0,null,null,null,"",null,null,null,null,0,null,0,0,"Inlap",null,null,"FL"]
[1,452,452,null,{"$f":"IF(D463=\"Grid\",Simulation!$B$2,IF(D463=\"WU\",Simulation!$B$3,IF(D463=1,Simulation!$B$4,IF(D463=2,Simulation!$B$5,IF(D463=3,Simulation!$B$6,IF(D463=4,Simulation!$B$7,IF(D463=5,Simulation!$B$8)))))))","v":false},{"$f":"IF(D463=\"Grid\",Simulation!$C$2,IF(D463=\"WU\",Simulation!$C$3,IF(D463=1,Simulation!$C$4,IF(D463=2,Simulation!$C$5,IF(D463=3,Simulation!$C$6,IF(D463=4,Simulation!$C$7,IF(D463=5,Simulation!$C$8)))))))","v":false},0,null,null,null,"",null,null,null,null,0,null,0,0,"Inlap",null,null,"FL"]
[1,453,453,null,{"$f":"IF(D464=\"Grid\",Simulation!$B$2,IF(D464=\"WU\",Simulation!$B$3,IF(D464=1,Simulation!$B$4,IF(D464=2,Simulation!$B$5,IF(D464=3,Simulation!$B$6,IF(D464=4,Simulation!$B$7,IF(D464=5,Simulation!$B$8)))))))","v":false},{"$f":"IF(D464=\"Grid\",Simulation!$C$2,IF(D464=\"WU\",Simulation!$C$3,IF(D464=1,Simulation!$C$4,IF(D464=2,Simulation!$C$5,IF(D464=3,Simulation!$C$6,IF(D464=4,Simulation!$C$7,IF(D464=5,Simulation!$C$8)))))))","v":false},0,null,null,null,"",null,null,null,null,0,null,0,0,"Inlap",null,null,"FL"]
[1,454,454,null,{"$f":"IF(D465=\"Grid\",Simulation!$B$2,IF(D465=\"WU\",Simulation!$B$3,IF(D465=1,Simulation!$B$4,IF(D465=2,Simulation!$B$5,IF(D465=3,Simulation!$B$6,IF(D465=4,Simulation!$B$7,IF(D465=5,Simulation!$B$8)))))))","v":false},{"$f":"IF(D465=\"Grid\",Simulation!$C$2,IF(D465=\"WU\",Simulation!$C$3,IF(D465=1,Simulation!$C$4,IF(D465=2,Simulation!$C$5,IF(D465=3,Simulation!$C$6,IF(D465=4,Simulation!$C$7,IF(D465=5,Simulation!$C$8)))))))","v":false},0,null,null,null,"",null,null,null,null,0,null,0,0,"Inlap",null,null,"FL"]
[1,455,455,null,{"$f":"IF(D466=\"Grid\",Simulation!$B$2,IF(D466=\"WU\",Simulation!$B$3,IF(D466=1,Simulation!$B$4,IF(D466=2,Simulation!$B$5,IF(D466=3,Simulation!$B$6,IF(D466=4,Simulation!$B$7,IF(D466=5,Simulation!$B$8)))))))","v":false},{"$f":"IF(D466=\"Grid\",Simulation!$C$2,IF(D466=\"WU\",Simulation!$C$3,IF(D466=1,Simulation!$C$4,IF(D466=2,Simulation!$C$5,IF(D466=3,Simulation!$C$6,IF(D466=4,Simulation!$C$7,IF(D466=5,Simulation!$C$8)))))))","v":false},0,null,null,null,"",null,null,null,null,0,null,0,0,"Inlap",null,null,"FL"]
[1,456,456,null,{"$f":"IF(D467=\"Grid\",Simulation!$B$2,IF(D467=\"WU\",Simulation!$B$3,IF(D467=1,Simulation!$B$4,IF(D467=2,Simulation!$B$5,IF(D467=3,Simulation!$B$6,IF(D467=4,Simulation!$B$7,IF(D467=5,Simulation!$B$8)))))))","v":false},{"$f":"IF(D467=\"Grid\",Simulation!$C$2,IF(D467=\"WU\",Simulation!$C$3,IF(D467=1,Simulation!$C$4,IF(D467=2,Simulation!$C$5,IF(D467=3,Simulation!$C$6,IF(D467=4,Simulation!$C$7,IF(D467=5,Simulation!$C$8)))))))","v":false},0,null,null,null,"",null,null,null,null,0,null,0,0,"Inlap",null,null,"FL"]
[1,457,457,null,{"$f":"IF(D468=\"Grid\",Simulation!$B$2,IF(D468=\"WU\",Simulation!$B$3,IF(D468=1,Simulation!$B$4,IF(D468=2,Simulation!$B$5,IF(D468=3,Simulation!$B$6,IF(D468=4,Simulation!$B$7,IF(D468=5,Simulation!$B$8)))))))","v":false},{"$f":"IF(D468=\"Grid\",Simulation!$C$2,IF(D468=\"WU\",Simulation!$C$3,IF(D468=1,Simulation!$C$4,IF(D468=2,Simulation!$C$5,IF(D468=3,Simulation!$C$6,IF(D468=4,Simulation!$C$7,IF(D468=5,Simulation!$C$8)))))))","v":false},0,null,null,null,"",null,null,null,null,0,null,0,0,"Inlap",null,null,"FL"]
[1,458,458,null,{"$f":"IF(D469=\"Grid\",Simulation!$B$2,IF(D469=\"WU\",Simulation!$B$3,IF(D469=1,Simulation!$B$4,IF(D469=2,Simulation!$B$5,IF(D469=3,Simulation!$B$6,IF(D469=4,Simulation!$B$7,IF(D469=5,Simulation!$B$8)))))))","v":false},{"$f":"IF(D469=\"Grid\",Simulation!$C$2,IF(D469=\"WU\",Simulation!$C$3,IF(D469=1,Simulation!$C$4,IF(D469=2,Simulation!$C$5,IF(D469=3,Simulation!$C$6,IF(D469=4,Simulation!$C$7,IF(D469=5,Simulation!$C$8)))))))","v":false},0,null,null,null,"",null,null,null,null,0,null,0,0,"Inlap",null,null,"FL"]
[1,459,459,null,{"$f":"IF(D470=\"Grid\",Simulation!$B$2,IF(D470=\"WU\",Simulation!$B$3,IF(D470=1,Simulation!$B$4,IF(D470=2,Simulation!$B$5,IF(D470=3,Simulation!$B$6,IF(D470=4,Simulation!$B$7,IF(D470=5,Simulation!$B$8)))))))","v":false},{"$f":"IF(D470=\"Grid\",Simulation!$C$2,IF(D470=\"WU\",Simulation!$C$3,IF(D470=1,Simulation!$C$4,IF(D470=2,Simulation!$C$5,IF(D470=3,Simulation!$C$6,IF(D470=4,Simulation!$C$7,IF(D470=5,Simulation!$C$8)))))))","v":false},0,null,null,null,"",null,null,null,null,0,null,0,0,"Inlap",null,null,"FL"]
[1,460,460,null,{"$f":"IF(D471=\"Grid\",Simulation!$B$2,IF(D471=\"WU\",Simulation!$B$3,IF(D471=1,Simulation!$B$4,IF(D471=2,Simulation!$B$5,IF(D471=3,Simulation!$B$6,IF(D471=4,Simulation!$B$7,IF(D471=5,Simulation!$B$8)))))))","v":false},{"$f":"IF(D471=\"Grid\",Simulation!$C$2,IF(D471=\"WU\",Simulation!$C$3,IF(D471=1,Simulation!$C$4,IF(D471=2,Simulation!$C$5,IF(D471=3,Simulation!$C$6,IF(D471=4,Simulation!$C$7,IF(D471=5,Simulation!$C$8)))))))","v":false},0,null,null,null,"",null,null,null,null,0,null,0,0,"Inlap",null,null,"FL"]
[1,461,461,null,{"$f":"IF(D472=\"Grid\",Simulation!$B$2,IF(D472=\"WU\",Simulation!$B$3,IF(D472=1,Simulation!$B$4,IF(D472=2,Simulation!$B$5,IF(D472=3,Simulation!$B$6,IF(D472=4,Simulation!$B$7,IF(D472=5,Simulation!$B$8)))))))","v":false},{"$f":"IF(D472=\"Grid\",Simulation!$C$2,IF(D472=\"WU\",Simulation!$C$3,IF(D472=1,Simulation!$C$4,IF(D472=2,Simulation!$C$5,IF(D472=3,Simulation!$C$6,IF(D472=4,Simulation!$C$7,IF(D472=5,Simulation!$C$8)))))))","v":false},0,null,null,null,"",null,null,null,null,0,null,0,0,"Inlap",null,null,"FL"]
[1,462,462,null,{"$f":"IF(D473=\"Grid\",Simulation!$B$2,IF(D473=\"WU\",Simulation!$B$3,IF(D473=1,Simulation!$B$4,IF(D473=2,Simulation!$B$5,IF(D473=3,Simulation!$B$6,IF(D473=4,Simulation!$B$7,IF(D473=5,Simulation!$B$8)))))))","v":false},{"$f":"IF(D473=\"Grid\",Simulation!$C$2,IF(D473=\"WU\",Simulation!$C$3,IF(D473=1,Simulation!$C$4,IF(D473=2,Simulation!$C$5,IF(D473=3,Simulation!$C$6,IF(D473=4,Simulation!$C$7,IF(D473=5,Simulation!$C$8)))))))","v":false},0,null,null,null,"",null,null,null,null,0,null,0,0,"Inlap",null,null,"FL"]
[1,463,463,null,{"$f":"IF(D474=\"Grid\",Simulation!$B$2,IF(D474=\"WU\",Simulation!$B$3,IF(D474=1,Simulation!$B$4,IF(D474=2,Simulation!$B$5,IF(D474=3,Simulation!$B$6,IF(D474=4,Simulation!$B$7,IF(D474=5,Simulation!$B$8)))))))","v":false},{"$f":"IF(D474=\"Grid\",Simulation!$C$2,IF(D474=\"WU\",Simulation!$C$3,IF(D474=1,Simulation!$C$4,IF(D474=2,Simulation!$C$5,IF(D474=3,Simulation!$C$6,IF(D474=4,Simulation!$C$7,IF(D474=5,Simulation!$C$8)))))))","v":false},0,null,null,null,"",null,null,null,null,0,null,0,0,"Inlap",null,null,"FL"]
[1,464,464,null,{"$f":"IF(D475=\"Grid\",Simulation!$B$2,IF(D475=\"WU\",Simulation!$B$3,IF(D475=1,Simulation!$B$4,IF(D475=2,Simulation!$B$5,IF(D475=3,Simulation!$B$6,IF(D475=4,Simulation!$B$7,IF(D475=5,Simulation!$B$8)))))))","v":false},{"$f":"IF(D475=\"Grid\",Simulation!$C$2,IF(D475=\"WU\",Simulation!$C$3,IF(D475=1,Simulation!$C$4,IF(D475=2,Simulation!$C$5,IF(D475=3,Simulation!$C$6,IF(D475=4,Simulation!$C$7,IF(D475=5,Simulation!$C$8)))))))","v":false},0,null,null,null,"",null,null,null,null,0,null,0,0,"Inlap",null,null,"FL"]
[1,465,465,null,{"$f":"IF(D476=\"Grid\",Simulation!$B$2,IF(D476=\"WU\",Simulation!$B$3,IF(D476=1,Simulation!$B$4,IF(D476=2,Simulation!$B$5,IF(D476=3,Simulation!$B$6,IF(D476=4,Simulation!$B$7,IF(D476=5,Simulation!$B$8)))))))","v":false},{"$f":"IF(D476=\"Grid\",Simulation!$C$2,IF(D476=\"WU\",Simulation!$C$3,IF(D476=1,Simulation!$C$4,IF(D476=2,Simulation!$C$5,IF(D476=3,Simulation!$C$6,IF(D476=4,Simulation!$C$7,IF(D476=5,Simulation!$C$8)))))))","v":false},0,null,null,null,"",null,null,null,null,0,null,0,0,"Inlap",null,null,"FL"]
[1,466,466,null,{"$f":"IF(D477=\"Grid\",Simulation!$B$2,IF(D477=\"WU\",Simulation!$B$3,IF(D477=1,Simulation!$B$4,IF(D477=2,Simulation!$B$5,IF(D477=3,Simulation!$B$6,IF(D477=4,Simulation!$B$7,IF(D477=5,Simulation!$B$8)))))))","v":false},{"$f":"IF(D477=\"Grid\",Simulation!$C$2,IF(D477=\"WU\",Simulation!$C$3,IF(D477=1,Simulation!$C$4,IF(D477=2,Simulation!$C$5,IF(D477=3,Simulation!$C$6,IF(D477=4,Simulation!$C$7,IF(D477=5,Simulation!$C$8)))))))","v":false},0,null,null,null,"",null,null,null,null,0,null,0,0,"Inlap",null,null,"FL"]
[1,467,467,null,{"$f":"IF(D478=\"Grid\",Simulation!$B$2,IF(D478=\"WU\",Simulation!$B$3,IF(D478=1,Simulation!$B$4,IF(D478=2,Simulation!$B$5,IF(D478=3,Simulation!$B$6,IF(D478=4,Simulation!$B$7,IF(D478=5,Simulation!$B$8)))))))","v":false},{"$f":"IF(D478=\"Grid\",Simulation!$C$2,IF(D478=\"WU\",Simulation!$C$3,IF(D478=1,Simulation!$C$4,IF(D478=2,Simulation!$C$5,IF(D478=3,Simulation!$C$6,IF(D478=4,Simulation!$C$7,IF(D478=5,Simulation!$C$8)))))))","v":false},0,null,null,null,"",null,null,null,null,0,null,0,0,"Inlap",null,null,"FL"]
[1,468,468,null,{"$f":"IF(D479=\"Grid\",Simulation!$B$2,IF(D479=\"WU\",Simulation!$B$3,IF(D479=1,Simulation!$B$4,IF(D479=2,Simulation!$B$5,IF(D479=3,Simulation!$B$6,IF(D479=4,Simulation!$B$7,IF(D479=5,Simulation!$B$8)))))))","v":false},{"$f":"IF(D479=\"Grid\",Simulation!$C$2,IF(D479=\"WU\",Simulation!$C$3,IF(D479=1,Simulation!$C$4,IF(D479=2,Simulation!$C$5,IF(D479=3,Simulation!$C$6,IF(D479=4,Simulation!$C$7,IF(D479=5,Simulation!$C$8)))))))","v":false},0,null,null,null,"",null,null,null,null,0,null,0,0,"Inlap",null,null,"FL"]
[1,469,469,null,{"$f":"IF(D480=\"Grid\",Simulation!$B$2,IF(D480=\"WU\",Simulation!$B$3,IF(D480=1,Simulation!$B$4,IF(D480=2,Simulation!$B$5,IF(D480=3,Simulation!$B$6,IF(D480=4,Simulation!$B$7,IF(D480=5,Simulation!$B$8)))))))","v":false},{"$f":"IF(D480=\"Grid\",Simulation!$C$2,IF(D480=\"WU\",Simulation!$C$3,IF(D480=1,Simulation!$C$4,IF(D480=2,Simulation!$C$5,IF(D480=3,Simulation!$C$6,IF(D480=4,Simulation!$C$7,IF(D480=5,Simulation!$C$8)))))))","v":false},0,null,null,null,"",null,null,null,null,0,null,0,0,"Inlap",null,null,"FL"]
[1,470,470,null,{"$f":"IF(D481=\"Grid\",Simulation!$B$2,IF(D481=\"WU\",Simulation!$B$3,IF(D481=1,Simulation!$B$4,IF(D481=2,Simulation!$B$5,IF(D481=3,Simulation!$B$6,IF(D481=4,Simulation!$B$7,IF(D481=5,Simulation!$B$8)))))))","v":false},{"$f":"IF(D481=\"Grid\",Simulation!$C$2,IF(D481=\"WU\",Simulation!$C$3,IF(D481=1,Simulation!$C$4,IF(D481=2,Simulation!$C$5,IF(D481=3,Simulation!$C$6,IF(D481=4,Simulation!$C$7,IF(D481=5,Simulation!$C$8)))))))","v":false},0,null,null,null,"",null,null,null,null,0,null,0,0,"Inlap",null,null,"FL"]
[1,471,471,null,{"$f":"IF(D482=\"Grid\",Simulation!$B$2,IF(D482=\"WU\",Simulation!$B$3,IF(D482=1,Simulation!$B$4,IF(D482=2,Simulation!$B$5,IF(D482=3,Simulation!$B$6,IF(D482=4,Simulation!$B$7,IF(D482=5,Simulation!$B$8)))))))","v":false},{"$f":"IF(D482=\"Grid\",Simulation!$C$2,IF(D482=\"WU\",Simulation!$C$3,IF(D482=1,Simulation!$C$4,IF(D482=2,Simulation!$C$5,IF(D482=3,Simulation!$C$6,IF(D482=4,Simulation!$C$7,IF(D482=5,Simulation!$C$8)))))))","v":false},0,null,null,null,"",null,null,null,null,0,null,0,0,"Inlap",null,null,"FL"]
[1,472,472,null,{"$f":"IF(D483=\"Grid\",Simulation!$B$2,IF(D483=\"WU\",Simulation!$B$3,IF(D483=1,Simulation!$B$4,IF(D483=2,Simulation!$B$5,IF(D483=3,Simulation!$B$6,IF(D483=4,Simulation!$B$7,IF(D483=5,Simulation!$B$8)))))))","v":false},{"$f":"IF(D483=\"Grid\",Simulation!$C$2,IF(D483=\"WU\",Simulation!$C$3,IF(D483=1,Simulation!$C$4,IF(D483=2,Simulation!$C$5,IF(D483=3,Simulation!$C$6,IF(D483=4,Simulation!$C$7,IF(D483=5,Simulation!$C$8)))))))","v":false},0,null,null,null,"",null,null,null,null,0,null,0,0,"Inlap",null,null,"FL"]
[1,473,473,null,{"$f":"IF(D484=\"Grid\",Simulation!$B$2,IF(D484=\"WU\",Simulation!$B$3,IF(D484=1,Simulation!$B$4,IF(D484=2,Simulation!$B$5,IF(D484=3,Simulation!$B$6,IF(D484=4,Simulation!$B$7,IF(D484=5,Simulation!$B$8)))))))","v":false},{"$f":"IF(D484=\"Grid\",Simulation!$C$2,IF(D484=\"WU\",Simulation!$C$3,IF(D484=1,Simulation!$C$4,IF(D484=2,Simulation!$C$5,IF(D484=3,Simulation!$C$6,IF(D484=4,Simulation!$C$7,IF(D484=5,Simulation!$C$8)))))))","v":false},0,null,null,null,"",null,null,null,null,0,null,0,0,"Inlap",null,null,"FL"]
[1,474,474,null,{"$f":"IF(D485=\"Grid\",Simulation!$B$2,IF(D485=\"WU\",Simulation!$B$3,IF(D485=1,Simulation!$B$4,IF(D485=2,Simulation!$B$5,IF(D485=3,Simulation!$B$6,IF(D485=4,Simulation!$B$7,IF(D485=5,Simulation!$B$8)))))))","v":false},{"$f":"IF(D485=\"Grid\",Simulation!$C$2,IF(D485=\"WU\",Simulation!$C$3,IF(D485=1,Simulation!$C$4,IF(D485=2,Simulation!$C$5,IF(D485=3,Simulation!$C$6,IF(D485=4,Simulation!$C$7,IF(D485=5,Simulation!$C$8)))))))","v":false},0,null,null,null,"",null,null,null,null,0,null,0,0,"Inlap",null,null,"FL"]
[1,475,475,null,{"$f":"IF(D486=\"Grid\",Simulation!$B$2,IF(D486=\"WU\",Simulation!$B$3,IF(D486=1,Simulation!$B$4,IF(D486=2,Simulation!$B$5,IF(D486=3,Simulation!$B$6,IF(D486=4,Simulation!$B$7,IF(D486=5,Simulation!$B$8)))))))","v":false},{"$f":"IF(D486=\"Grid\",Simulation!$C$2,IF(D486=\"WU\",Simulation!$C$3,IF(D486=1,Simulation!$C$4,IF(D486=2,Simulation!$C$5,IF(D486=3,Simulation!$C$6,IF(D486=4,Simulation!$C$7,IF(D486=5,Simulation!$C$8)))))))","v":false},0,null,null,null,"",null,null,null,null,0,null,0,0,"Inlap",null,null,"FL"]
[1,476,476,null,{"$f":"IF(D487=\"Grid\",Simulation!$B$2,IF(D487=\"WU\",Simulation!$B$3,IF(D487=1,Simulation!$B$4,IF(D487=2,Simulation!$B$5,IF(D487=3,Simulation!$B$6,IF(D487=4,Simulation!$B$7,IF(D487=5,Simulation!$B$8)))))))","v":false},{"$f":"IF(D487=\"Grid\",Simulation!$C$2,IF(D487=\"WU\",Simulation!$C$3,IF(D487=1,Simulation!$C$4,IF(D487=2,Simulation!$C$5,IF(D487=3,Simulation!$C$6,IF(D487=4,Simulation!$C$7,IF(D487=5,Simulation!$C$8)))))))","v":false},0,null,null,null,"",null,null,null,null,0,null,0,0,"Inlap",null,null,"FL"]
[1,477,477,null,{"$f":"IF(D488=\"Grid\",Simulation!$B$2,IF(D488=\"WU\",Simulation!$B$3,IF(D488=1,Simulation!$B$4,IF(D488=2,Simulation!$B$5,IF(D488=3,Simulation!$B$6,IF(D488=4,Simulation!$B$7,IF(D488=5,Simulation!$B$8)))))))","v":false},{"$f":"IF(D488=\"Grid\",Simulation!$C$2,IF(D488=\"WU\",Simulation!$C$3,IF(D488=1,Simulation!$C$4,IF(D488=2,Simulation!$C$5,IF(D488=3,Simulation!$C$6,IF(D488=4,Simulation!$C$7,IF(D488=5,Simulation!$C$8)))))))","v":false},0,null,null,null,"",null,null,null,null,0,null,0,0,"Inlap",null,null,"FL"]
[1,478,478,null,{"$f":"IF(D489=\"Grid\",Simulation!$B$2,IF(D489=\"WU\",Simulation!$B$3,IF(D489=1,Simulation!$B$4,IF(D489=2,Simulation!$B$5,IF(D489=3,Simulation!$B$6,IF(D489=4,Simulation!$B$7,IF(D489=5,Simulation!$B$8)))))))","v":false},{"$f":"IF(D489=\"Grid\",Simulation!$C$2,IF(D489=\"WU\",Simulation!$C$3,IF(D489=1,Simulation!$C$4,IF(D489=2,Simulation!$C$5,IF(D489=3,Simulation!$C$6,IF(D489=4,Simulation!$C$7,IF(D489=5,Simulation!$C$8)))))))","v":false},0,null,null,null,"",null,null,null,null,0,null,0,0,"Inlap",null,null,"FL"]
[1,479,479,null,{"$f":"IF(D490=\"Grid\",Simulation!$B$2,IF(D490=\"WU\",Simulation!$B$3,IF(D490=1,Simulation!$B$4,IF(D490=2,Simulation!$B$5,IF(D490=3,Simulation!$B$6,IF(D490=4,Simulation!$B$7,IF(D490=5,Simulation!$B$8)))))))","v":false},{"$f":"IF(D490=\"Grid\",Simulation!$C$2,IF(D490=\"WU\",Simulation!$C$3,IF(D490=1,Simulation!$C$4,IF(D490=2,Simulation!$C$5,IF(D490=3,Simulation!$C$6,IF(D490=4,Simulation!$C$7,IF(D490=5,Simulation!$C$8)))))))","v":false},0,null,null,null,"",null,null,null,null,0,null,0,0,"Inlap",null,null,"FL"]
[1,480,480,null,{"$f":"IF(D491=\"Grid\",Simulation!$B$2,IF(D491=\"WU\",Simulation!$B$3,IF(D491=1,Simulation!$B$4,IF(D491=2,Simulation!$B$5,IF(D491=3,Simulation!$B$6,IF(D491=4,Simulation!$B$7,IF(D491=5,Simulation!$B$8)))))))","v":false},{"$f":"IF(D491=\"Grid\",Simulation!$C$2,IF(D491=\"WU\",Simulation!$C$3,IF(D491=1,Simulation!$C$4,IF(D491=2,Simulation!$C$5,IF(D491=3,Simulation!$C$6,IF(D491=4,Simulation!$C$7,IF(D491=5,Simulation!$C$8)))))))","v":false},0,null,null,null,"",null,null,null,null,0,null,0,0,"Inlap",null,null,"FL"]
[1,481,481,null,{"$f":"IF(D492=\"Grid\",Simulation!$B$2,IF(D492=\"WU\",Simulation!$B$3,IF(D492=1,Simulation!$B$4,IF(D492=2,Simulation!$B$5,IF(D492=3,Simulation!$B$6,IF(D492=4,Simulation!$B$7,IF(D492=5,Simulation!$B$8)))))))","v":false},{"$f":"IF(D492=\"Grid\",Simulation!$C$2,IF(D492=\"WU\",Simulation!$C$3,IF(D492=1,Simulation!$C$4,IF(D492=2,Simulation!$C$5,IF(D492=3,Simulation!$C$6,IF(D492=4,Simulation!$C$7,IF(D492=5,Simulation!$C$8)))))))","v":false},0,null,null,null,"",null,null,null,null,0,null,0,0,"Inlap",null,null,"FL"]
[1,482,482,null,{"$f":"IF(D493=\"Grid\",Simulation!$B$2,IF(D493=\"WU\",Simulation!$B$3,IF(D493=1,Simulation!$B$4,IF(D493=2,Simulation!$B$5,IF(D493=3,Simulation!$B$6,IF(D493=4,Simulation!$B$7,IF(D493=5,Simulation!$B$8)))))))","v":false},{"$f":"IF(D493=\"Grid\",Simulation!$C$2,IF(D493=\"WU\",Simulation!$C$3,IF(D493=1,Simulation!$C$4,IF(D493=2,Simulation!$C$5,IF(D493=3,Simulation!$C$6,IF(D493=4,Simulation!$C$7,IF(D493=5,Simulation!$C$8)))))))","v":false},0,null,null,null,"",null,null,null,null,0,null,0,0,"Inlap",null,null,"FL"]
[1,483,483,null,{"$f":"IF(D494=\"Grid\",Simulation!$B$2,IF(D494=\"WU\",Simulation!$B$3,IF(D494=1,Simulation!$B$4,IF(D494=2,Simulation!$B$5,IF(D494=3,Simulation!$B$6,IF(D494=4,Simulation!$B$7,IF(D494=5,Simulation!$B$8)))))))","v":false},{"$f":"IF(D494=\"Grid\",Simulation!$C$2,IF(D494=\"WU\",Simulation!$C$3,IF(D494=1,Simulation!$C$4,IF(D494=2,Simulation!$C$5,IF(D494=3,Simulation!$C$6,IF(D494=4,Simulation!$C$7,IF(D494=5,Simulation!$C$8)))))))","v":false},0,null,null,null,"",null,null,null,null,{"$f":"IF(O494>0,Q494,Q494-Q493)","v":0},null,{"$f":"IF(O494>0,Q494,Q494-Q493)","v":0},0,"Inlap",null,null,"FL"]
[1,484,484,null,{"$f":"IF(D495=\"Grid\",Simulation!$B$2,IF(D495=\"WU\",Simulation!$B$3,IF(D495=1,Simulation!$B$4,IF(D495=2,Simulation!$B$5,IF(D495=3,Simulation!$B$6,IF(D495=4,Simulation!$B$7,IF(D495=5,Simulation!$B$8)))))))","v":false},{"$f":"IF(D495=\"Grid\",Simulation!$C$2,IF(D495=\"WU\",Simulation!$C$3,IF(D495=1,Simulation!$C$4,IF(D495=2,Simulation!$C$5,IF(D495=3,Simulation!$C$6,IF(D495=4,Simulation!$C$7,IF(D495=5,Simulation!$C$8)))))))","v":false},0,null,null,null,"",null,null,null,null,0,null,0,0,"Inlap",null,null,"FL"]
[1,485,485,null,{"$f":"IF(D496=\"Grid\",Simulation!$B$2,IF(D496=\"WU\",Simulation!$B$3,IF(D496=1,Simulation!$B$4,IF(D496=2,Simulation!$B$5,IF(D496=3,Simulation!$B$6,IF(D496=4,Simulation!$B$7,IF(D496=5,Simulation!$B$8)))))))","v":false},{"$f":"IF(D496=\"Grid\",Simulation!$C$2,IF(D496=\"WU\",Simulation!$C$3,IF(D496=1,Simulation!$C$4,IF(D496=2,Simulation!$C$5,IF(D496=3,Simulation!$C$6,IF(D496=4,Simulation!$C$7,IF(D496=5,Simulation!$C$8)))))))","v":false},0,null,null,null,"",null,null,null,null,0,null,0,0,"Inlap",null,null,"FL"]
[1,486,486,null,{"$f":"IF(D497=\"Grid\",Simulation!$B$2,IF(D497=\"WU\",Simulation!$B$3,IF(D497=1,Simulation!$B$4,IF(D497=2,Simulation!$B$5,IF(D497=3,Simulation!$B$6,IF(D497=4,Simulation!$B$7,IF(D497=5,Simulation!$B$8)))))))","v":false},{"$f":"IF(D497=\"Grid\",Simulation!$C$2,IF(D497=\"WU\",Simulation!$C$3,IF(D497=1,Simulation!$C$4,IF(D497=2,Simulation!$C$5,IF(D497=3,Simulation!$C$6,IF(D497=4,Simulation!$C$7,IF(D497=5,Simulation!$C$8)))))))","v":false},0,null,null,null,"",null,null,null,null,0,null,0,0,"Inlap",null,null,"FL"]
[1,487,487,null,{"$f":"IF(D498=\"Grid\",Simulation!$B$2,IF(D498=\"WU\",Simulation!$B$3,IF(D498=1,Simulation!$B$4,IF(D498=2,Simulation!$B$5,IF(D498=3,Simulation!$B$6,IF(D498=4,Simulation!$B$7,IF(D498=5,Simulation!$B$8)))))))","v":false},{"$f":"IF(D498=\"Grid\",Simulation!$C$2,IF(D498=\"WU\",Simulation!$C$3,IF(D498=1,Simulation!$C$4,IF(D498=2,Simulation!$C$5,IF(D498=3,Simulation!$C$6,IF(D498=4,Simulation!$C$7,IF(D498=5,Simulation!$C$8)))))))","v":false},0,null,null,null,"",null,null,null,null,0,null,0,0,"Inlap",null,null,"FL"]
[1,488,488,null,{"$f":"IF(D499=\"Grid\",Simulation!$B$2,IF(D499=\"WU\",Simulation!$B$3,IF(D499=1,Simulation!$B$4,IF(D499=2,Simulation!$B$5,IF(D499=3,Simulation!$B$6,IF(D499=4,Simulation!$B$7,IF(D499=5,Simulation!$B$8)))))))","v":false},{"$f":"IF(D499=\"Grid\",Simulation!$C$2,IF(D499=\"WU\",Simulation!$C$3,IF(D499=1,Simulation!$C$4,IF(D499=2,Simulation!$C$5,IF(D499=3,Simulation!$C$6,IF(D499=4,Simulation!$C$7,IF(D499=5,Simulation!$C$8)))))))","v":false},0,null,null,null,"",null,null,null,null,0,null,0,0,"Inlap",null,null,"FL"]
[1,489,489,null,{"$f":"IF(D500=\"Grid\",Simulation!$B$2,IF(D500=\"WU\",Simulation!$B$3,IF(D500=1,Simulation!$B$4,IF(D500=2,Simulation!$B$5,IF(D500=3,Simulation!$B$6,IF(D500=4,Simulation!$B$7,IF(D500=5,Simulation!$B$8)))))))","v":false},{"$f":"IF(D500=\"Grid\",Simulation!$C$2,IF(D500=\"WU\",Simulation!$C$3,IF(D500=1,Simulation!$C$4,IF(D500=2,Simulation!$C$5,IF(D500=3,Simulation!$C$6,IF(D500=4,Simulation!$C$7,IF(D500=5,Simulation!$C$8)))))))","v":false},0,null,null,null,"",null,null,null,null,0,null,0,0,"Inlap",null,null,"FL"]
[1,490,490,null,{"$f":"IF(D501=\"Grid\",Simulation!$B$2,IF(D501=\"WU\",Simulation!$B$3,IF(D501=1,Simulation!$B$4,IF(D501=2,Simulation!$B$5,IF(D501=3,Simulation!$B$6,IF(D501=4,Simulation!$B$7,IF(D501=5,Simulation!$B$8)))))))","v":false},{"$f":"IF(D501=\"Grid\",Simulation!$C$2,IF(D501=\"WU\",Simulation!$C$3,IF(D501=1,Simulation!$C$4,IF(D501=2,Simulation!$C$5,IF(D501=3,Simulation!$C$6,IF(D501=4,Simulation!$C$7,IF(D501=5,Simulation!$C$8)))))))","v":false},0,null,null,null,"",null,null,null,null,0,null,0,0,"Inlap",null,null,"FL"]
[1,491,491,null,{"$f":"IF(D502=\"Grid\",Simulation!$B$2,IF(D502=\"WU\",Simulation!$B$3,IF(D502=1,Simulation!$B$4,IF(D502=2,Simulation!$B$5,IF(D502=3,Simulation!$B$6,IF(D502=4,Simulation!$B$7,IF(D502=5,Simulation!$B$8)))))))","v":false},{"$f":"IF(D502=\"Grid\",Simulation!$C$2,IF(D502=\"WU\",Simulation!$C$3,IF(D502=1,Simulation!$C$4,IF(D502=2,Simulation!$C$5,IF(D502=3,Simulation!$C$6,IF(D502=4,Simulation!$C$7,IF(D502=5,Simulation!$C$8)))))))","v":false},0,null,null,null,"",null,null,null,null,0,null,0,0,"Inlap",null,null,"FL"]
[1,492,492,null,{"$f":"IF(D503=\"Grid\",Simulation!$B$2,IF(D503=\"WU\",Simulation!$B$3,IF(D503=1,Simulation!$B$4,IF(D503=2,Simulation!$B$5,IF(D503=3,Simulation!$B$6,IF(D503=4,Simulation!$B$7,IF(D503=5,Simulation!$B$8)))))))","v":false},{"$f":"IF(D503=\"Grid\",Simulation!$C$2,IF(D503=\"WU\",Simulation!$C$3,IF(D503=1,Simulation!$C$4,IF(D503=2,Simulation!$C$5,IF(D503=3,Simulation!$C$6,IF(D503=4,Simulation!$C$7,IF(D503=5,Simulation!$C$8)))))))","v":false},0,null,null,null,"",null,null,null,null,0,null,0,0,"Inlap",null,null,"FL"]
[1,493,493,null,{"$f":"IF(D504=\"Grid\",Simulation!$B$2,IF(D504=\"WU\",Simulation!$B$3,IF(D504=1,Simulation!$B$4,IF(D504=2,Simulation!$B$5,IF(D504=3,Simulation!$B$6,IF(D504=4,Simulation!$B$7,IF(D504=5,Simulation!$B$8)))))))","v":false},{"$f":"IF(D504=\"Grid\",Simulation!$C$2,IF(D504=\"WU\",Simulation!$C$3,IF(D504=1,Simulation!$C$4,IF(D504=2,Simulation!$C$5,IF(D504=3,Simulation!$C$6,IF(D504=4,Simulation!$C$7,IF(D504=5,Simulation!$C$8)))))))","v":false},0,null,null,null,"",null,null,null,null,0,null,0,0,"Inlap",null,null,"FL"]
[1,494,494,null,{"$f":"IF(D505=\"Grid\",Simulation!$B$2,IF(D505=\"WU\",Simulation!$B$3,IF(D505=1,Simulation!$B$4,IF(D505=2,Simulation!$B$5,IF(D505=3,Simulation!$B$6,IF(D505=4,Simulation!$B$7,IF(D505=5,Simulation!$B$8)))))))","v":false},{"$f":"IF(D505=\"Grid\",Simulation!$C$2,IF(D505=\"WU\",Simulation!$C$3,IF(D505=1,Simulation!$C$4,IF(D505=2,Simulation!$C$5,IF(D505=3,Simulation!$C$6,IF(D505=4,Simulation!$C$7,IF(D505=5,Simulation!$C$8)))))))","v":false},0,null,null,null,"",null,null,null,null,0,null,0,0,"Inlap",null,null,"FL"]
[1,495,495,null,{"$f":"IF(D506=\"Grid\",Simulation!$B$2,IF(D506=\"WU\",Simulation!$B$3,IF(D506=1,Simulation!$B$4,IF(D506=2,Simulation!$B$5,IF(D506=3,Simulation!$B$6,IF(D506=4,Simulation!$B$7,IF(D506=5,Simulation!$B$8)))))))","v":false},{"$f":"IF(D506=\"Grid\",Simulation!$C$2,IF(D506=\"WU\",Simulation!$C$3,IF(D506=1,Simulation!$C$4,IF(D506=2,Simulation!$C$5,IF(D506=3,Simulation!$C$6,IF(D506=4,Simulation!$C$7,IF(D506=5,Simulation!$C$8)))))))","v":false},0,null,null,null,"",null,null,null,null,0,null,0,0,"Inlap",null,null,"FL"]
[1,496,496,null,{"$f":"IF(D507=\"Grid\",Simulation!$B$2,IF(D507=\"WU\",Simulation!$B$3,IF(D507=1,Simulation!$B$4,IF(D507=2,Simulation!$B$5,IF(D507=3,Simulation!$B$6,IF(D507=4,Simulation!$B$7,IF(D507=5,Simulation!$B$8)))))))","v":false},{"$f":"IF(D507=\"Grid\",Simulation!$C$2,IF(D507=\"WU\",Simulation!$C$3,IF(D507=1,Simulation!$C$4,IF(D507=2,Simulation!$C$5,IF(D507=3,Simulation!$C$6,IF(D507=4,Simulation!$C$7,IF(D507=5,Simulation!$C$8)))))))","v":false},0,null,null,null,"",null,null,null,null,0,null,0,0,"Inlap",null,null,"FL"]
[1,497,497,null,{"$f":"IF(D508=\"Grid\",Simulation!$B$2,IF(D508=\"WU\",Simulation!$B$3,IF(D508=1,Simulation!$B$4,IF(D508=2,Simulation!$B$5,IF(D508=3,Simulation!$B$6,IF(D508=4,Simulation!$B$7,IF(D508=5,Simulation!$B$8)))))))","v":false},{"$f":"IF(D508=\"Grid\",Simulation!$C$2,IF(D508=\"WU\",Simulation!$C$3,IF(D508=1,Simulation!$C$4,IF(D508=2,Simulation!$C$5,IF(D508=3,Simulation!$C$6,IF(D508=4,Simulation!$C$7,IF(D508=5,Simulation!$C$8)))))))","v":false},0,null,null,null,"",null,null,null,null,0,null,0,0,"Inlap",null,null,"FL"]
[1,498,498,null,{"$f":"IF(D509=\"Grid\",Simulation!$B$2,IF(D509=\"WU\",Simulation!$B$3,IF(D509=1,Simulation!$B$4,IF(D509=2,Simulation!$B$5,IF(D509=3,Simulation!$B$6,IF(D509=4,Simulation!$B$7,IF(D509=5,Simulation!$B$8)))))))","v":false},{"$f":"IF(D509=\"Grid\",Simulation!$C$2,IF(D509=\"WU\",Simulation!$C$3,IF(D509=1,Simulation!$C$4,IF(D509=2,Simulation!$C$5,IF(D509=3,Simulation!$C$6,IF(D509=4,Simulation!$C$7,IF(D509=5,Simulation!$C$8)))))))","v":false},0,null,null,null,"",null,null,null,null,0,null,0,0,"Inlap",null,null,"FL"]
[1,499,499,null,{"$f":"IF(D510=\"Grid\",Simulation!$B$2,IF(D510=\"WU\",Simulation!$B$3,IF(D510=1,Simulation!$B$4,IF(D510=2,Simulation!$B$5,IF(D510=3,Simulation!$B$6,IF(D510=4,Simulation!$B$7,IF(D510=5,Simulation!$B$8)))))))","v":false},{"$f":"IF(D510=\"Grid\",Simulation!$C$2,IF(D510=\"WU\",Simulation!$C$3,IF(D510=1,Simulation!$C$4,IF(D510=2,Simulation!$C$5,IF(D510=3,Simulation!$C$6,IF(D510=4,Simulation!$C$7,IF(D510=5,Simulation!$C$8)))))))","v":false},0,null,null,null,"",null,null,null,null,0,null,0,0,"Inlap",null,null,"FL"]
[1,500,500,null,{"$f":"IF(D511=\"Grid\",Simulation!$B$2,IF(D511=\"WU\",Simulation!$B$3,IF(D511=1,Simulation!$B$4,IF(D511=2,Simulation!$B$5,IF(D511=3,Simulation!$B$6,IF(D511=4,Simulation!$B$7,IF(D511=5,Simulation!$B$8)))))))","v":false},{"$f":"IF(D511=\"Grid\",Simulation!$C$2,IF(D511=\"WU\",Simulation!$C$3,IF(D511=1,Simulation!$C$4,IF(D511=2,Simulation!$C$5,IF(D511=3,Simulation!$C$6,IF(D511=4,Simulation!$C$7,IF(D511=5,Simulation!$C$8)))))))","v":false},0,null,null,null,"",null,null,null,null,0,null,0,0,"Inlap",null,null,"FL"]
[1,501,501,null,{"$f":"IF(D512=\"Grid\",Simulation!$B$2,IF(D512=\"WU\",Simulation!$B$3,IF(D512=1,Simulation!$B$4,IF(D512=2,Simulation!$B$5,IF(D512=3,Simulation!$B$6,IF(D512=4,Simulation!$B$7,IF(D512=5,Simulation!$B$8)))))))","v":false},{"$f":"IF(D512=\"Grid\",Simulation!$C$2,IF(D512=\"WU\",Simulation!$C$3,IF(D512=1,Simulation!$C$4,IF(D512=2,Simulation!$C$5,IF(D512=3,Simulation!$C$6,IF(D512=4,Simulation!$C$7,IF(D512=5,Simulation!$C$8)))))))","v":false},0,null,null,null,"",null,null,null,null,0,null,0,0,"Inlap",null,null,"FL"]

{"sheet":"Session (3)","index":6,"n_rows":512,"n_cols":23,"rows_kept":512,"cut":false,"hidden":false,"merged":[[6,0,6,2],[6,3,6,8],[6,10,6,11],[7,0,7,2],[7,3,7,8],[7,10,7,11],[4,0,4,2],[4,3,4,8],[4,10,4,11],[5,0,5,2],[5,3,5,8],[5,10,5,11],[2,0,2,2],[2,3,2,8],[2,10,2,11],[3,0,3,2],[3,3,3,8],[3,10,3,11],[0,0,0,2],[0,3,0,8],[0,10,0,11],[1,0,1,2],[1,3,1,8],[1,10,1,11]]}
["Engineer",null,null,{"$f":"Data!F8","v":"Engineer 1"},null,null,null,null,null,"Event",{"$f":"Data!C8","v":0},null,null,null,"Date"]
["Data Engineer",null,null,{"$f":"Data!F9","v":"Data Eng. 1"},null,null,null,null,null,"Session",null,null,null,null,"Best Lap",null,{"$f":"MIN($J$11:$J$512)","v":"00:00:00"}]
["#1 Mechanic",null,null,{"$f":"Data!F11","v":"Mechanic 1"},null,null,null,null,null,"Short",{"$f":"Data!C16","v":3200},null,null,null,"Avg Lap",null,{"$f":"AVERAGE($J$11:$J$512)","v":{"$error":"#DIV/0!"}}]
["Driver ID 1",null,null,{"$f":"Data!F13","v":"Driver1"},null,null,null,null,null,"Regular",{"$f":"Data!C17","v":3200}]
["Driver ID 2",null,null,{"$f":"Data!F14","v":"Driver2"},null,null,null,null,null,"Tot. S Laps",{"$f":"COUNTIF(K11:K512,\"S\")","v":0}]
["Driver ID 3",null,null,{"$f":"Data!F15","v":"Driver3"},null,null,null,null,null,"Tot. R Laps",{"$f":"COUNTIF(K11:K512,\"R\")","v":1}]
["Driver ID 4",null,null,{"$f":"Data!F16","v":"Driver4"},null,null,null,null,null,"Tot. Milage",{"$f":"(K5*K3)+(K6*K4)/1000","v":3.2}]
["Driver ID 5",null,null,{"$f":"Data!F17","v":"Driver5"}]
[null,null,null,null,null,null,null,null,null,null,null,null,null,null,null,null,null,null,null,null,null,null,"FL"]
["Out","RL","OL","ID","Driver","Th. Lap Cons","Rest","TOD","Out / In","Lap Time","S / R ","Change","Comment",null,"Fuel in","th. Lap cons","F-TOTAL","Lap Cons","Rest","In this Lap?"]
[1,"Grid","Grid",null,{"$f":"IF(D11=\"Grid\",Simulation!$B$2,IF(D11=\"WU\",Simulation!$B$3,IF(D11=1,Simulation!$B$4,IF(D11=2,Simulation!$B$5,IF(D11=3,Simulation!$B$6,IF(D11=4,Simulation!$B$7,IF(D11=5,Simulation!$B$8)))))))","v":false},{"$f":"IF(D11=\"Grid\",Simulation!$C$2,IF(D11=\"WU\",Simulation!$C$3,IF(D11=1,Simulation!$C$4,IF(D11=2,Simulation!$C$5,IF(D11=3,Simulation!$C$6,IF(D11=4,Simulation!$C$7,IF(D11=5,Simulation!$C$8)))))))","v":false},null,null,null,null,"R",null,null,null,null,null,null,{"$f":"Q11","v":0},{"$f":"O11-R11","v":0},{"$f":"IF(S11<=F11,\"Inlap\",IF(S11<=2*F11,\"Call: In this lap!\",IF(S11<=3*F11,\"Show in but don't call!\",\"\")))","v":"Inlap"},null,null,{"$f":"IF(J11=$Q$2,\"FL\",\"\")","v":"FL"}]
[{"$f":"IF(O12>0,A11+1,A11)","v":1},1,1,null,{"$f":"IF(D12=\"Grid\",Simulation!$B$2,IF(D12=\"WU\",Simulation!$B$3,IF(D12=1,Simulation!$B$4,IF(D12=2,Simulation!$B$5,IF(D12=3,Simulation!$B$6,IF(D12=4,Simulation!$B$7,IF(D12=5,Simulation!$B$8)))))))","v":false},{"$f":"IF(D12=\"Grid\",Simulation!$C$2,IF(D12=\"WU\",Simulation!$C$3,IF(D12=1,Simulation!$C$4,IF(D12=2,Simulation!$C$5,IF(D12=3,Simulation!$C$6,IF(D12=4,Simulation!$C$7,IF(D12=5,Simulation!$C$8)))))))","v":false},{"$f":"G11+O11-P11","v":0},null,null,null,{"$f":"IF(J12<>0,K11,\"\")","v":""},null,null,null,null,{"$f":"IF(O12>0,Q12,Q12-Q11)","v":0},null,{"$f":"IF(O12>0,Q12,Q12-Q11)","v":0},{"$f":"IF(O12>0,O12+S11-Q12,S11-P12)","v":0},{"$f":"IF(S12<=F12,\"Inlap\",IF(S12<=2*F12,\"Call: In this lap!\",IF(S12<=3*F12,\"Show in but don't call!\",\"\")))","v":"Inlap"},null,null,{"$f":"IF(J12=$Q$2,\"FL\",\"\")","v":"FL"}]
[1,2,2,null,{"$f":"IF(D13=\"Grid\",Simulation!$B$2,IF(D13=\"WU\",Simulation!$B$3,IF(D13=1,Simulation!$B$4,IF(D13=2,Simulation!$B$5,IF(D13=3,Simulation!$B$6,IF(D13=4,Simulation!$B$7,IF(D13=5,Simulation!$B$8)))))))","v":false},{"$f":"IF(D13=\"Grid\",Simulation!$C$2,IF(D13=\"WU\",Simulation!$C$3,IF(D13=1,Simulation!$C$4,IF(D13=2,Simulation!$C$5,IF(D13=3,Simulation!$C$6,IF(D13=4,Simulation!$C$7,IF(D13=5,Simulation!$C$8)))))))","v":false},0,null,null,null,{"$f":"IF(J13<>0,K12,\"\")","v":""},null,null,null,null,0,null,0,0,"Inlap",null,null,"FL"]
[1,3,{"$f":"IF(O14=\"\",C13+1,\"1\")","v":3},null,{"$f":"IF(D14=\"Grid\",Simulation!$B$2,IF(D14=\"WU\",Simulation!$B$3,IF(D14=1,Simulation!$B$4,IF(D14=2,Simulation!$B$5,IF(D14=3,Simulation!$B$6,IF(D14=4,Simulation!$B$7,IF(D14=5,Simulation!$B$8)))))))","v":false},{"$f":"IF(D14=\"Grid\",Simulation!$C$2,IF(D14=\"WU\",Simulation!$C$3,IF(D14=1,Simulation!$C$4,IF(D14=2,Simulation!$C$5,IF(D14=3,Simulation!$C$6,IF(D14=4,Simulation!$C$7,IF(D14=5,Simulation!$C$8)))))))","v":false},0,null,null,null,"",null,null,null,null,0,null,0,0,"Inlap",null,null,"FL"]
[1,4,4,null,{"$f":"IF(D15=\"Grid\",Simulation!$B$2,IF(D15=\"WU\",Simulation!$B$3,IF(D15=1,Simulation!$B$4,IF(D15=2,Simulation!$B$5,IF(D15=3,Simulation!$B$6,IF(D15=4,Simulation!$B$7,IF(D15=5,Simulation!$B$8)))))))","v":false},{"$f":"IF(D15=\"Grid\",Simulation!$C$2,IF(D15=\"WU\",Simulation!$C$3,IF(D15=1,Simulation!$C$4,IF(D15=2,Simulation!$C$5,IF(D15=3,Simulation!$C$6,IF(D15=4,Simulation!$C$7,IF(D15=5,Simulation!$C$8)))))))","v":false},0,null,null,null,"",null,null,null,null,0,null,0,0,"Inlap",null,null,"FL"]
[1,5,5,null,{"$f":"IF(D16=\"Grid\",Simulation!$B$2,IF(D16=\"WU\",Simulation!$B$3,IF(D16=1,Simulation!$B$4,IF(D16=2,Simulation!$B$5,IF(D16=3,Simulation!$B$6,IF(D16=4,Simulation!$B$7,IF(D16=5,Simulation!$B$8)))))))","v":false},{"$f":"IF(D16=\"Grid\",Simulation!$C$2,IF(D16=\"WU\",Simulation!$C$3,IF(D16=1,Simulation!$C$4,IF(D16=2,Simulation!$C$5,IF(D16=3,Simulation!$C$6,IF(D16=4,Simulation!$C$7,IF(D16=5,Simulation!$C$8)))))))","v":false},0,null,null,null,"",null,null,null,null,0,null,0,0,"Inlap",null,null,"FL"]
[1,6,6,null,{"$f":"IF(D17=\"Grid\",Simulation!$B$2,IF(D17=\"WU\",Simulation!$B$3,IF(D17=1,Simulation!$B$4,IF(D17=2,Simulation!$B$5,IF(D17=3,Simulation!$B$6,IF(D17=4,Simulation!$B$7,IF(D17=5,Simulation!$B$8)))))))","v":false},{"$f":"IF(D17=\"Grid\",Simulation!$C$2,IF(D17=\"WU\",Simulation!$C$3,IF(D17=1,Simulation!$C$4,IF(D17=2,Simulation!$C$5,IF(D17=3,Simulation!$C$6,IF(D17=4,Simulation!$C$7,IF(D17=5,Simulation!$C$8)))))))","v":false},0,null,null,null,"",null,null,null,null,0,null,0,0,"Inlap",null,null,"FL"]
[1,7,7,null,{"$f":"IF(D18=\"Grid\",Simulation!$B$2,IF(D18=\"WU\",Simulation!$B$3,IF(D18=1,Simulation!$B$4,IF(D18=2,Simulation!$B$5,IF(D18=3,Simulation!$B$6,IF(D18=4,Simulation!$B$7,IF(D18=5,Simulation!$B$8)))))))","v":false},{"$f":"IF(D18=\"Grid\",Simulation!$C$2,IF(D18=\"WU\",Simulation!$C$3,IF(D18=1,Simulation!$C$4,IF(D18=2,Simulation!$C$5,IF(D18=3,Simulation!$C$6,IF(D18=4,Simulation!$C$7,IF(D18=5,Simulation!$C$8)))))))","v":false},0,null,null,null,"",null,null,null,null,0,null,0,0,"Inlap",null,null,"FL"]
[1,8,8,null,{"$f":"IF(D19=\"Grid\",Simulation!$B$2,IF(D19=\"WU\",Simulation!$B$3,IF(D19=1,Simulation!$B$4,IF(D19=2,Simulation!$B$5,IF(D19=3,Simulation!$B$6,IF(D19=4,Simulation!$B$7,IF(D19=5,Simulation!$B$8)))))))","v":false},{"$f":"IF(D19=\"Grid\",Simulation!$C$2,IF(D19=\"WU\",Simulation!$C$3,IF(D19=1,Simulation!$C$4,IF(D19=2,Simulation!$C$5,IF(D19=3,Simulation!$C$6,IF(D19=4,Simulation!$C$7,IF(D19=5,Simulation!$C$8)))))))","v":false},0,null,null,null,"",null,null,null,null,0,null,0,0,"Inlap",null,null,"FL"]
[1,9,9,null,{"$f":"IF(D20=\"Grid\",Simulation!$B$2,IF(D20=\"WU\",Simulation!$B$3,IF(D20=1,Simulation!$B$4,IF(D20=2,Simulation!$B$5,IF(D20=3,Simulation!$B$6,IF(D20=4,Simulation!$B$7,IF(D20=5,Simulation!$B$8)))))))","v":false},{"$f":"IF(D20=\"Grid\",Simulation!$C$2,IF(D20=\"WU\",Simulation!$C$3,IF(D20=1,Simulation!$C$4,IF(D20=2,Simulation!$C$5,IF(D20=3,Simulation!$C$6,IF(D20=4,Simulation!$C$7,IF(D20=5,Simulation!$C$8)))))))","v":false},0,null,null,null,"",null,null,null,null,0,null,0,0,"Inlap",null,null,"FL"]
[1,10,10,null,{"$f":"IF(D21=\"Grid\",Simulation!$B$2,IF(D21=\"WU\",Simulation!$B$3,IF(D21=1,Simulation!$B$4,IF(D21=2,Simulation!$B$5,IF(D21=3,Simulation!$B$6,IF(D21=4,Simulation!$B$7,IF(D21=5,Simulation!$B$8)))))))","v":false},{"$f":"IF(D21=\"Grid\",Simulation!$C$2,IF(D21=\"WU\",Simulation!$C$3,IF(D21=1,Simulation!$C$4,IF(D21=2,Simulation!$C$5,IF(D21=3,Simulation!$C$6,IF(D21=4,Simulation!$C$7,IF(D21=5,Simulation!$C$8)))))))","v":false},0,null,null,null,"",null,null,null,null,0,null,0,0,"Inlap",null,null,"FL"]
[1,11,11,null,{"$f":"IF(D22=\"Grid\",Simulation!$B$2,IF(D22=\"WU\",Simulation!$B$3,IF(D22=1,Simulation!$B$4,IF(D22=2,Simulation!$B$5,IF(D22=3,Simulation!$B$6,IF(D22=4,Simulation!$B$7,IF(D22=5,Simulation!$B$8)))))))","v":false},{"$f":"IF(D22=\"Grid\",Simulation!$C$2,IF(D22=\"WU\",Simulation!$C$3,IF(D22=1,Simulation!$C$4,IF(D22=2,Simulation!$C$5,IF(D22=3,Simulation!$C$6,IF(D22=4,Simulation!$C$7,IF(D22=5,Simulation!$C$8)))))))","v":false},0,null,null,null,"",null,null,null,null,0,null,0,0,"Inlap",null,null,"FL"]
[1,12,12,null,{"$f":"IF(D23=\"Grid\",Simulation!$B$2,IF(D23=\"WU\",Simulation!$B$3,IF(D23=1,Simulation!$B$4,IF(D23=2,Simulation!$B$5,IF(D23=3,Simulation!$B$6,IF(D23=4,Simulation!$B$7,IF(D23=5,Simulation!$B$8)))))))","v":false},{"$f":"IF(D23=\"Grid\",Simulation!$C$2,IF(D23=\"WU\",Simulation!$C$3,IF(D23=1,Simulation!$C$4,IF(D23=2,Simulation!$C$5,IF(D23=3,Simulation!$C$6,IF(D23=4,Simulation!$C$7,IF(D23=5,Simulation!$C$8)))))))","v":false},0,null,null,null,"",null,null,null,null,0,null,0,0,"Inlap",null,null,"FL"]
[1,13,13,null,{"$f":"IF(D24=\"Grid\",Simulation!$B$2,IF(D24=\"WU\",Simulation!$B$3,IF(D24=1,Simulation!$B$4,IF(D24=2,Simulation!$B$5,IF(D24=3,Simulation!$B$6,IF(D24=4,Simulation!$B$7,IF(D24=5,Simulation!$B$8)))))))","v":false},{"$f":"IF(D24=\"Grid\",Simulation!$C$2,IF(D24=\"WU\",Simulation!$C$3,IF(D24=1,Simulation!$C$4,IF(D24=2,Simulation!$C$5,IF(D24=3,Simulation!$C$6,IF(D24=4,Simulation!$C$7,IF(D24=5,Simulation!$C$8)))))))","v":false},0,null,null,null,"",null,null,null,null,0,null,0,0,"Inlap",null,null,"FL"]
[1,14,14,null,{"$f":"IF(D25=\"Grid\",Simulation!$B$2,IF(D25=\"WU\",Simulation!$B$3,IF(D25=1,Simulation!$B$4,IF(D25=2,Simulation!$B$5,IF(D25=3,Simulation!$B$6,IF(D25=4,Simulation!$B$7,IF(D25=5,Simulation!$B$8)))))))","v":false},{"$f":"IF(D25=\"Grid\",Simulation!$C$2,IF(D25=\"WU\",Simulation!$C$3,IF(D25=1,Simulation!$C$4,IF(D25=2,Simulation!$C$5,IF(D25=3,Simulation!$C$6,IF(D25=4,Simulation!$C$7,IF(D25=5,Simulation!$C$8)))))))","v":false},0,null,null,null,"",null,null,null,null,0,null,0,0,"Inlap",null,null,"FL"]
[1,15,15,null,{"$f":"IF(D26=\"Grid\",Simulation!$B$2,IF(D26=\"WU\",Simulation!$B$3,IF(D26=1,Simulation!$B$4,IF(D26=2,Simulation!$B$5,IF(D26=3,Simulation!$B$6,IF(D26=4,Simulation!$B$7,IF(D26=5,Simulation!$B$8)))))))","v":false},{"$f":"IF(D26=\"Grid\",Simulation!$C$2,IF(D26=\"WU\",Simulation!$C$3,IF(D26=1,Simulation!$C$4,IF(D26=2,Simulation!$C$5,IF(D26=3,Simulation!$C$6,IF(D26=4,Simulation!$C$7,IF(D26=5,Simulation!$C$8)))))))","v":false},0,null,null,null,"",null,null,null,null,0,null,0,0,"Inlap",null,null,"FL"]
[1,16,16,null,{"$f":"IF(D27=\"Grid\",Simulation!$B$2,IF(D27=\"WU\",Simulation!$B$3,IF(D27=1,Simulation!$B$4,IF(D27=2,Simulation!$B$5,IF(D27=3,Simulation!$B$6,IF(D27=4,Simulation!$B$7,IF(D27=5,Simulation!$B$8)))))))","v":false},{"$f":"IF(D27=\"Grid\",Simulation!$C$2,IF(D27=\"WU\",Simulation!$C$3,IF(D27=1,Simulation!$C$4,IF(D27=2,Simulation!$C$5,IF(D27=3,Simulation!$C$6,IF(D27=4,Simulation!$C$7,IF(D27=5,Simulation!$C$8)))))))","v":false},0,null,null,null,"",null,null,null,null,0,null,0,0,"Inlap",null,null,"FL"]
[1,17,17,null,{"$f":"IF(D28=\"Grid\",Simulation!$B$2,IF(D28=\"WU\",Simulation!$B$3,IF(D28=1,Simulation!$B$4,IF(D28=2,Simulation!$B$5,IF(D28=3,Simulation!$B$6,IF(D28=4,Simulation!$B$7,IF(D28=5,Simulation!$B$8)))))))","v":false},{"$f":"IF(D28=\"Grid\",Simulation!$C$2,IF(D28=\"WU\",Simulation!$C$3,IF(D28=1,Simulation!$C$4,IF(D28=2,Simulation!$C$5,IF(D28=3,Simulation!$C$6,IF(D28=4,Simulation!$C$7,IF(D28=5,Simulation!$C$8)))))))","v":false},0,null,null,null,"",null,null,null,null,0,null,0,0,"Inlap",null,null,"FL"]
[1,18,18,null,{"$f":"IF(D29=\"Grid\",Simulation!$B$2,IF(D29=\"WU\",Simulation!$B$3,IF(D29=1,Simulation!$B$4,IF(D29=2,Simulation!$B$5,IF(D29=3,Simulation!$B$6,IF(D29=4,Simulation!$B$7,IF(D29=5,Simulation!$B$8)))))))","v":false},{"$f":"IF(D29=\"Grid\",Simulation!$C$2,IF(D29=\"WU\",Simulation!$C$3,IF(D29=1,Simulation!$C$4,IF(D29=2,Simulation!$C$5,IF(D29=3,Simulation!$C$6,IF(D29=4,Simulation!$C$7,IF(D29=5,Simulation!$C$8)))))))","v":false},0,null,null,null,"",null,null,null,null,0,null,0,0,"Inlap",null,null,"FL"]
[1,19,19,null,{"$f":"IF(D30=\"Grid\",Simulation!$B$2,IF(D30=\"WU\",Simulation!$B$3,IF(D30=1,Simulation!$B$4,IF(D30=2,Simulation!$B$5,IF(D30=3,Simulation!$B$6,IF(D30=4,Simulation!$B$7,IF(D30=5,Simulation!$B$8)))))))","v":false},{"$f":"IF(D30=\"Grid\",Simulation!$C$2,IF(D30=\"WU\",Simulation!$C$3,IF(D30=1,Simulation!$C$4,IF(D30=2,Simulation!$C$5,IF(D30=3,Simulation!$C$6,IF(D30=4,Simulation!$C$7,IF(D30=5,Simulation!$C$8)))))))","v":false},0,null,null,null,"",null,null,null,null,0,null,0,0,"Inlap",null,null,"FL"]
[1,20,20,null,{"$f":"IF(D31=\"Grid\",Simulation!$B$2,IF(D31=\"WU\",Simulation!$B$3,IF(D31=1,Simulation!$B$4,IF(D31=2,Simulation!$B$5,IF(D31=3,Simulation!$B$6,IF(D31=4,Simulation!$B$7,IF(D31=5,Simulation!$B$8)))))))","v":false},{"$f":"IF(D31=\"Grid\",Simulation!$C$2,IF(D31=\"WU\",Simulation!$C$3,IF(D31=1,Simulation!$C$4,IF(D31=2,Simulation!$C$5,IF(D31=3,Simulation!$C$6,IF(D31=4,Simulation!$C$7,IF(D31=5,Simulation!$C$8)))))))","v":false},0,null,null,null,"",null,null,null,null,0,null,0,0,"Inlap",null,null,"FL"]
[1,21,21,null,{"$f":"IF(D32=\"Grid\",Simulation!$B$2,IF(D32=\"WU\",Simulation!$B$3,IF(D32=1,Simulation!$B$4,IF(D32=2,Simulation!$B$5,IF(D32=3,Simulation!$B$6,IF(D32=4,Simulation!$B$7,IF(D32=5,Simulation!$B$8)))))))","v":false},{"$f":"IF(D32=\"Grid\",Simulation!$C$2,IF(D32=\"WU\",Simulation!$C$3,IF(D32=1,Simulation!$C$4,IF(D32=2,Simulation!$C$5,IF(D32=3,Simulation!$C$6,IF(D32=4,Simulation!$C$7,IF(D32=5,Simulation!$C$8)))))))","v":false},0,null,null,null,"",null,null,null,null,0,null,0,0,"Inlap",null,null,"FL"]
[1,22,22,null,{"$f":"IF(D33=\"Grid\",Simulation!$B$2,IF(D33=\"WU\",Simulation!$B$3,IF(D33=1,Simulation!$B$4,IF(D33=2,Simulation!$B$5,IF(D33=3,Simulation!$B$6,IF(D33=4,Simulation!$B$7,IF(D33=5,Simulation!$B$8)))))))","v":false},{"$f":"IF(D33=\"Grid\",Simulation!$C$2,IF(D33=\"WU\",Simulation!$C$3,IF(D33=1,Simulation!$C$4,IF(D33=2,Simulation!$C$5,IF(D33=3,Simulation!$C$6,IF(D33=4,Simulation!$C$7,IF(D33=5,Simulation!$C$8)))))))","v":false},0,null,null,null,"",null,null,null,null,0,null,0,0,"Inlap",null,null,"FL"]
[1,23,23,null,{"$f":"IF(D34=\"Grid\",Simulation!$B$2,IF(D34=\"WU\",Simulation!$B$3,IF(D34=1,Simulation!$B$4,IF(D34=2,Simulation!$B$5,IF(D34=3,Simulation!$B$6,IF(D34=4,Simulation!$B$7,IF(D34=5,Simulation!$B$8)))))))","v":false},{"$f":"IF(D34=\"Grid\",Simulation!$C$2,IF(D34=\"WU\",Simulation!$C$3,IF(D34=1,Simulation!$C$4,IF(D34=2,Simulation!$C$5,IF(D34=3,Simulation!$C$6,IF(D34=4,Simulation!$C$7,IF(D34=5,Simulation!$C$8)))))))","v":false},0,null,null,null,"",null,null,null,null,0,null,0,0,"Inlap",null,null,"FL"]
[1,24,24,null,{"$f":"IF(D35=\"Grid\",Simulation!$B$2,IF(D35=\"WU\",Simulation!$B$3,IF(D35=1,Simulation!$B$4,IF(D35=2,Simulation!$B$5,IF(D35=3,Simulation!$B$6,IF(D35=4,Simulation!$B$7,IF(D35=5,Simulation!$B$8)))))))","v":false},{"$f":"IF(D35=\"Grid\",Simulation!$C$2,IF(D35=\"WU\",Simulation!$C$3,IF(D35=1,Simulation!$C$4,IF(D35=2,Simulation!$C$5,IF(D35=3,Simulation!$C$6,IF(D35=4,Simulation!$C$7,IF(D35=5,Simulation!$C$8)))))))","v":false},0,null,null,null,"",null,null,null,null,0,null,0,0,"Inlap",null,null,"FL"]
[1,25,25,null,{"$f":"IF(D36=\"Grid\",Simulation!$B$2,IF(D36=\"WU\",Simulation!$B$3,IF(D36=1,Simulation!$B$4,IF(D36=2,Simulation!$B$5,IF(D36=3,Simulation!$B$6,IF(D36=4,Simulation!$B$7,IF(D36=5,Simulation!$B$8)))))))","v":false},{"$f":"IF(D36=\"Grid\",Simulation!$C$2,IF(D36=\"WU\",Simulation!$C$3,IF(D36=1,Simulation!$C$4,IF(D36=2,Simulation!$C$5,IF(D36=3,Simulation!$C$6,IF(D36=4,Simulation!$C$7,IF(D36=5,Simulation!$C$8)))))))","v":false},0,null,null,null,"",null,null,null,null,0,null,0,0,"Inlap",null,null,"FL"]
[1,26,26,null,{"$f":"IF(D37=\"Grid\",Simulation!$B$2,IF(D37=\"WU\",Simulation!$B$3,IF(D37=1,Simulation!$B$4,IF(D37=2,Simulation!$B$5,IF(D37=3,Simulation!$B$6,IF(D37=4,Simulation!$B$7,IF(D37=5,Simulation!$B$8)))))))","v":false},{"$f":"IF(D37=\"Grid\",Simulation!$C$2,IF(D37=\"WU\",Simulation!$C$3,IF(D37=1,Simulation!$C$4,IF(D37=2,Simulation!$C$5,IF(D37=3,Simulation!$C$6,IF(D37=4,Simulation!$C$7,IF(D37=5,Simulation!$C$8)))))))","v":false},0,null,null,null,"",null,null,null,null,0,null,0,0,"Inlap",null,null,"FL"]
[1,27,27,null,{"$f":"IF(D38=\"Grid\",Simulation!$B$2,IF(D38=\"WU\",Simulation!$B$3,IF(D38=1,Simulation!$B$4,IF(D38=2,Simulation!$B$5,IF(D38=3,Simulation!$B$6,IF(D38=4,Simulation!$B$7,IF(D38=5,Simulation!$B$8)))))))","v":false},{"$f":"IF(D38=\"Grid\",Simulation!$C$2,IF(D38=\"WU\",Simulation!$C$3,IF(D38=1,Simulation!$C$4,IF(D38=2,Simulation!$C$5,IF(D38=3,Simulation!$C$6,IF(D38=4,Simulation!$C$7,IF(D38=5,Simulation!$C$8)))))))","v":false},0,null,null,null,"",null,null,null,null,0,null,0,0,"Inlap",null,null,"FL"]
[1,28,28,null,{"$f":"IF(D39=\"Grid\",Simulation!$B$2,IF(D39=\"WU\",Simulation!$B$3,IF(D39=1,Simulation!$B$4,IF(D39=2,Simulation!$B$5,IF(D39=3,Simulation!$B$6,IF(D39=4,Simulation!$B$7,IF(D39=5,Simulation!$B$8)))))))","v":false},{"$f":"IF(D39=\"Grid\",Simulation!$C$2,IF(D39=\"WU\",Simulation!$C$3,IF(D39=1,Simulation!$C$4,IF(D39=2,Simulation!$C$5,IF(D39=3,Simulation!$C$6,IF(D39=4,Simulation!$C$7,IF(D39=5,Simulation!$C$8)))))))","v":false},0,null,null,null,"",null,null,null,null,0,null,0,0,"Inlap",null,null,"FL"]
[1,29,29,null,{"$f":"IF(D40=\"Grid\",Simulation!$B$2,IF(D40=\"WU\",Simulation!$B$3,IF(D40=1,Simulation!$B$4,IF(D40=2,Simulation!$B$5,IF(D40=3,Simulation!$B$6,IF(D40=4,Simulation!$B$7,IF(D40=5,Simulation!$B$8)))))))","v":false},{"$f":"IF(D40=\"Grid\",Simulation!$C$2,IF(D40=\"WU\",Simulation!$C$3,IF(D40=1,Simulation!$C$4,IF(D40=2,Simulation!$C$5,IF(D40=3,Simulation!$C$6,IF(D40=4,Simulation!$C$7,IF(D40=5,Simulation!$C$8)))))))","v":false},0,null,null,null,"",null,null,null,null,0,null,0,0,"Inlap",null,null,"FL"]
[1,30,30,null,{"$f":"IF(D41=\"Grid\",Simulation!$B$2,IF(D41=\"WU\",Simulation!$B$3,IF(D41=1,Simulation!$B$4,IF(D41=2,Simulation!$B$5,IF(D41=3,Simulation!$B$6,IF(D41=4,Simulation!$B$7,IF(D41=5,Simulation!$B$8)))))))","v":false},{"$f":"IF(D41=\"Grid\",Simulation!$C$2,IF(D41=\"WU\",Simulation!$C$3,IF(D41=1,Simulation!$C$4,IF(D41=2,Simulation!$C$5,IF(D41=3,Simulation!$C$6,IF(D41=4,Simulation!$C$7,IF(D41=5,Simulation!$C$8)))))))","v":false},0,null,null,null,"",null,null,null,null,0,null,0,0,"Inlap",null,null,"FL"]
[1,31,31,null,{"$f":"IF(D42=\"Grid\",Simulation!$B$2,IF(D42=\"WU\",Simulation!$B$3,IF(D42=1,Simulation!$B$4,IF(D42=2,Simulation!$B$5,IF(D42=3,Simulation!$B$6,IF(D42=4,Simulation!$B$7,IF(D42=5,Simulation!$B$8)))))))","v":false},{"$f":"IF(D42=\"Grid\",Simulation!$C$2,IF(D42=\"WU\",Simulation!$C$3,IF(D42=1,Simulation!$C$4,IF(D42=2,Simulation!$C$5,IF(D42=3,Simulation!$C$6,IF(D42=4,Simulation!$C$7,IF(D42=5,Simulation!$C$8)))))))","v":false},0,null,null,null,"",null,null,null,null,0,null,0,0,"Inlap",null,null,"FL"]
[1,32,32,null,{"$f":"IF(D43=\"Grid\",Simulation!$B$2,IF(D43=\"WU\",Simulation!$B$3,IF(D43=1,Simulation!$B$4,IF(D43=2,Simulation!$B$5,IF(D43=3,Simulation!$B$6,IF(D43=4,Simulation!$B$7,IF(D43=5,Simulation!$B$8)))))))","v":false},{"$f":"IF(D43=\"Grid\",Simulation!$C$2,IF(D43=\"WU\",Simulation!$C$3,IF(D43=1,Simulation!$C$4,IF(D43=2,Simulation!$C$5,IF(D43=3,Simulation!$C$6,IF(D43=4,Simulation!$C$7,IF(D43=5,Simulation!$C$8)))))))","v":false},0,null,null,null,"",null,null,null,null,0,null,0,0,"Inlap",null,null,"FL"]
[1,33,33,null,{"$f":"IF(D44=\"Grid\",Simulation!$B$2,IF(D44=\"WU\",Simulation!$B$3,IF(D44=1,Simulation!$B$4,IF(D44=2,Simulation!$B$5,IF(D44=3,Simulation!$B$6,IF(D44=4,Simulation!$B$7,IF(D44=5,Simulation!$B$8)))))))","v":false},{"$f":"IF(D44=\"Grid\",Simulation!$C$2,IF(D44=\"WU\",Simulation!$C$3,IF(D44=1,Simulation!$C$4,IF(D44=2,Simulation!$C$5,IF(D44=3,Simulation!$C$6,IF(D44=4,Simulation!$C$7,IF(D44=5,Simulation!$C$8)))))))","v":false},0,null,null,null,"",null,null,null,null,0,null,0,0,"Inlap",null,null,"FL"]
[1,34,34,null,{"$f":"IF(D45=\"Grid\",Simulation!$B$2,IF(D45=\"WU\",Simulation!$B$3,IF(D45=1,Simulation!$B$4,IF(D45=2,Simulation!$B$5,IF(D45=3,Simulation!$B$6,IF(D45=4,Simulation!$B$7,IF(D45=5,Simulation!$B$8)))))))","v":false},{"$f":"IF(D45=\"Grid\",Simulation!$C$2,IF(D45=\"WU\",Simulation!$C$3,IF(D45=1,Simulation!$C$4,IF(D45=2,Simulation!$C$5,IF(D45=3,Simulation!$C$6,IF(D45=4,Simulation!$C$7,IF(D45=5,Simulation!$C$8)))))))","v":false},0,null,null,null,"",null,null,null,null,{"$f":"IF(O45>0,Q45,Q45-Q44)","v":0},null,{"$f":"IF(O45>0,Q45,Q45-Q44)","v":0},{"$f":"IF(O45>0,O45+S44-Q45,S44-P45)","v":0},"Inlap",null,null,"FL"]
[1,35,35,null,{"$f":"IF(D46=\"Grid\",Simulation!$B$2,IF(D46=\"WU\",Simulation!$B$3,IF(D46=1,Simulation!$B$4,IF(D46=2,Simulation!$B$5,IF(D46=3,Simulation!$B$6,IF(D46=4,Simulation!$B$7,IF(D46=5,Simulation!$B$8)))))))","v":false},{"$f":"IF(D46=\"Grid\",Simulation!$C$2,IF(D46=\"WU\",Simulation!$C$3,IF(D46=1,Simulation!$C$4,IF(D46=2,Simulation!$C$5,IF(D46=3,Simulation!$C$6,IF(D46=4,Simulation!$C$7,IF(D46=5,Simulation!$C$8)))))))","v":false},0,null,null,null,"",null,null,null,null,{"$f":"IF(O46>0,Q46,Q46-Q45)","v":0},null,{"$f":"IF(O46>0,Q46,Q46-Q45)","v":0},0,"Inlap",null,null,"FL"]
[1,36,36,null,{"$f":"IF(D47=\"Grid\",Simulation!$B$2,IF(D47=\"WU\",Simulation!$B$3,IF(D47=1,Simulation!$B$4,IF(D47=2,Simulation!$B$5,IF(D47=3,Simulation!$B$6,IF(D47=4,Simulation!$B$7,IF(D47=5,Simulation!$B$8)))))))","v":false},{"$f":"IF(D47=\"Grid\",Simulation!$C$2,IF(D47=\"WU\",Simulation!$C$3,IF(D47=1,Simulation!$C$4,IF(D47=2,Simulation!$C$5,IF(D47=3,Simulation!$C$6,IF(D47=4,Simulation!$C$7,IF(D47=5,Simulation!$C$8)))))))","v":false},0,null,null,null,"",null,null,null,null,0,null,0,0,"Inlap",null,null,"FL"]
[1,37,37,null,{"$f":"IF(D48=\"Grid\",Simulation!$B$2,IF(D48=\"WU\",Simulation!$B$3,IF(D48=1,Simulation!$B$4,IF(D48=2,Simulation!$B$5,IF(D48=3,Simulation!$B$6,IF(D48=4,Simulation!$B$7,IF(D48=5,Simulation!$B$8)))))))","v":false},{"$f":"IF(D48=\"Grid\",Simulation!$C$2,IF(D48=\"WU\",Simulation!$C$3,IF(D48=1,Simulation!$C$4,IF(D48=2,Simulation!$C$5,IF(D48=3,Simulation!$C$6,IF(D48=4,Simulation!$C$7,IF(D48=5,Simulation!$C$8)))))))","v":false},0,null,null,null,"",null,null,null,null,0,null,0,0,"Inlap",null,null,"FL"]
[1,38,38,null,{"$f":"IF(D49=\"Grid\",Simulation!$B$2,IF(D49=\"WU\",Simulation!$B$3,IF(D49=1,Simulation!$B$4,IF(D49=2,Simulation!$B$5,IF(D49=3,Simulation!$B$6,IF(D49=4,Simulation!$B$7,IF(D49=5,Simulation!$B$8)))))))","v":false},{"$f":"IF(D49=\"Grid\",Simulation!$C$2,IF(D49=\"WU\",Simulation!$C$3,IF(D49=1,Simulation!$C$4,IF(D49=2,Simulation!$C$5,IF(D49=3,Simulation!$C$6,IF(D49=4,Simulation!$C$7,IF(D49=5,Simulation!$C$8)))))))","v":false},0,null,null,null,"",null,null,null,null,0,null,0,0,"Inlap",null,null,"FL"]
[1,39,39,null,{"$f":"IF(D50=\"Grid\",Simulation!$B$2,IF(D50=\"WU\",Simulation!$B$3,IF(D50=1,Simulation!$B$4,IF(D50=2,Simulation!$B$5,IF(D50=3,Simulation!$B$6,IF(D50=4,Simulation!$B$7,IF(D50=5,Simulation!$B$8)))))))","v":false},{"$f":"IF(D50=\"Grid\",Simulation!$C$2,IF(D50=\"WU\",Simulation!$C$3,IF(D50=1,Simulation!$C$4,IF(D50=2,Simulation!$C$5,IF(D50=3,Simulation!$C$6,IF(D50=4,Simulation!$C$7,IF(D50=5,Simulation!$C$8)))))))","v":false},0,null,null,null,"",null,null,null,null,0,null,0,0,"Inlap",null,null,"FL"]
[1,40,40,null,{"$f":"IF(D51=\"Grid\",Simulation!$B$2,IF(D51=\"WU\",Simulation!$B$3,IF(D51=1,Simulation!$B$4,IF(D51=2,Simulation!$B$5,IF(D51=3,Simulation!$B$6,IF(D51=4,Simulation!$B$7,IF(D51=5,Simulation!$B$8)))))))","v":false},{"$f":"IF(D51=\"Grid\",Simulation!$C$2,IF(D51=\"WU\",Simulation!$C$3,IF(D51=1,Simulation!$C$4,IF(D51=2,Simulation!$C$5,IF(D51=3,Simulation!$C$6,IF(D51=4,Simulation!$C$7,IF(D51=5,Simulation!$C$8)))))))","v":false},0,null,null,null,"",null,null,null,null,0,null,0,0,"Inlap",null,null,"FL"]
[1,41,41,null,{"$f":"IF(D52=\"Grid\",Simulation!$B$2,IF(D52=\"WU\",Simulation!$B$3,IF(D52=1,Simulation!$B$4,IF(D52=2,Simulation!$B$5,IF(D52=3,Simulation!$B$6,IF(D52=4,Simulation!$B$7,IF(D52=5,Simulation!$B$8)))))))","v":false},{"$f":"IF(D52=\"Grid\",Simulation!$C$2,IF(D52=\"WU\",Simulation!$C$3,IF(D52=1,Simulation!$C$4,IF(D52=2,Simulation!$C$5,IF(D52=3,Simulation!$C$6,IF(D52=4,Simulation!$C$7,IF(D52=5,Simulation!$C$8)))))))","v":false},0,null,null,null,"",null,null,null,null,0,null,0,0,"Inlap",null,null,"FL"]
[1,42,42,null,{"$f":"IF(D53=\"Grid\",Simulation!$B$2,IF(D53=\"WU\",Simulation!$B$3,IF(D53=1,Simulation!$B$4,IF(D53=2,Simulation!$B$5,IF(D53=3,Simulation!$B$6,IF(D53=4,Simulation!$B$7,IF(D53=5,Simulation!$B$8)))))))","v":false},{"$f":"IF(D53=\"Grid\",Simulation!$C$2,IF(D53=\"WU\",Simulation!$C$3,IF(D53=1,Simulation!$C$4,IF(D53=2,Simulation!$C$5,IF(D53=3,Simulation!$C$6,IF(D53=4,Simulation!$C$7,IF(D53=5,Simulation!$C$8)))))))","v":false},0,null,null,null,"",null,null,null,null,0,null,0,0,"Inlap",null,null,"FL"]
[1,43,43,null,{"$f":"IF(D54=\"Grid\",Simulation!$B$2,IF(D54=\"WU\",Simulation!$B$3,IF(D54=1,Simulation!$B$4,IF(D54=2,Simulation!$B$5,IF(D54=3,Simulation!$B$6,IF(D54=4,Simulation!$B$7,IF(D54=5,Simulation!$B$8)))))))","v":false},{"$f":"IF(D54=\"Grid\",Simulation!$C$2,IF(D54=\"WU\",Simulation!$C$3,IF(D54=1,Simulation!$C$4,IF(D54=2,Simulation!$C$5,IF(D54=3,Simulation!$C$6,IF(D54=4,Simulation!$C$7,IF(D54=5,Simulation!$C$8)))))))","v":false},0,null,null,null,"",null,null,null,null,0,null,0,0,"Inlap",null,null,"FL"]
[1,44,44,null,{"$f":"IF(D55=\"Grid\",Simulation!$B$2,IF(D55=\"WU\",Simulation!$B$3,IF(D55=1,Simulation!$B$4,IF(D55=2,Simulation!$B$5,IF(D55=3,Simulation!$B$6,IF(D55=4,Simulation!$B$7,IF(D55=5,Simulation!$B$8)))))))","v":false},{"$f":"IF(D55=\"Grid\",Simulation!$C$2,IF(D55=\"WU\",Simulation!$C$3,IF(D55=1,Simulation!$C$4,IF(D55=2,Simulation!$C$5,IF(D55=3,Simulation!$C$6,IF(D55=4,Simulation!$C$7,IF(D55=5,Simulation!$C$8)))))))","v":false},0,null,null,null,"",null,null,null,null,0,null,0,0,"Inlap",null,null,"FL"]
[1,45,45,null,{"$f":"IF(D56=\"Grid\",Simulation!$B$2,IF(D56=\"WU\",Simulation!$B$3,IF(D56=1,Simulation!$B$4,IF(D56=2,Simulation!$B$5,IF(D56=3,Simulation!$B$6,IF(D56=4,Simulation!$B$7,IF(D56=5,Simulation!$B$8)))))))","v":false},{"$f":"IF(D56=\"Grid\",Simulation!$C$2,IF(D56=\"WU\",Simulation!$C$3,IF(D56=1,Simulation!$C$4,IF(D56=2,Simulation!$C$5,IF(D56=3,Simulation!$C$6,IF(D56=4,Simulation!$C$7,IF(D56=5,Simulation!$C$8)))))))","v":false},0,null,null,null,"",null,null,null,null,0,null,0,0,"Inlap",null,null,"FL"]
[1,46,46,null,{"$f":"IF(D57=\"Grid\",Simulation!$B$2,IF(D57=\"WU\",Simulation!$B$3,IF(D57=1,Simulation!$B$4,IF(D57=2,Simulation!$B$5,IF(D57=3,Simulation!$B$6,IF(D57=4,Simulation!$B$7,IF(D57=5,Simulation!$B$8)))))))","v":false},{"$f":"IF(D57=\"Grid\",Simulation!$C$2,IF(D57=\"WU\",Simulation!$C$3,IF(D57=1,Simulation!$C$4,IF(D57=2,Simulation!$C$5,IF(D57=3,Simulation!$C$6,IF(D57=4,Simulation!$C$7,IF(D57=5,Simulation!$C$8)))))))","v":false},0,null,null,null,"",null,null,null,null,0,null,0,0,"Inlap",null,null,"FL"]
[1,47,47,null,{"$f":"IF(D58=\"Grid\",Simulation!$B$2,IF(D58=\"WU\",Simulation!$B$3,IF(D58=1,Simulation!$B$4,IF(D58=2,Simulation!$B$5,IF(D58=3,Simulation!$B$6,IF(D58=4,Simulation!$B$7,IF(D58=5,Simulation!$B$8)))))))","v":false},{"$f":"IF(D58=\"Grid\",Simulation!$C$2,IF(D58=\"WU\",Simulation!$C$3,IF(D58=1,Simulation!$C$4,IF(D58=2,Simulation!$C$5,IF(D58=3,Simulation!$C$6,IF(D58=4,Simulation!$C$7,IF(D58=5,Simulation!$C$8)))))))","v":false},0,null,null,null,"",null,null,null,null,0,null,0,0,"Inlap",null,null,"FL"]
[1,48,48,null,{"$f":"IF(D59=\"Grid\",Simulation!$B$2,IF(D59=\"WU\",Simulation!$B$3,IF(D59=1,Simulation!$B$4,IF(D59=2,Simulation!$B$5,IF(D59=3,Simulation!$B$6,IF(D59=4,Simulation!$B$7,IF(D59=5,Simulation!$B$8)))))))","v":false},{"$f":"IF(D59=\"Grid\",Simulation!$C$2,IF(D59=\"WU\",Simulation!$C$3,IF(D59=1,Simulation!$C$4,IF(D59=2,Simulation!$C$5,IF(D59=3,Simulation!$C$6,IF(D59=4,Simulation!$C$7,IF(D59=5,Simulation!$C$8)))))))","v":false},0,null,null,null,"",null,null,null,null,0,null,0,0,"Inlap",null,null,"FL"]
[1,49,49,null,{"$f":"IF(D60=\"Grid\",Simulation!$B$2,IF(D60=\"WU\",Simulation!$B$3,IF(D60=1,Simulation!$B$4,IF(D60=2,Simulation!$B$5,IF(D60=3,Simulation!$B$6,IF(D60=4,Simulation!$B$7,IF(D60=5,Simulation!$B$8)))))))","v":false},{"$f":"IF(D60=\"Grid\",Simulation!$C$2,IF(D60=\"WU\",Simulation!$C$3,IF(D60=1,Simulation!$C$4,IF(D60=2,Simulation!$C$5,IF(D60=3,Simulation!$C$6,IF(D60=4,Simulation!$C$7,IF(D60=5,Simulation!$C$8)))))))","v":false},0,null,null,null,"",null,null,null,null,0,null,0,0,"Inlap",null,null,"FL"]
[1,50,50,null,{"$f":"IF(D61=\"Grid\",Simulation!$B$2,IF(D61=\"WU\",Simulation!$B$3,IF(D61=1,Simulation!$B$4,IF(D61=2,Simulation!$B$5,IF(D61=3,Simulation!$B$6,IF(D61=4,Simulation!$B$7,IF(D61=5,Simulation!$B$8)))))))","v":false},{"$f":"IF(D61=\"Grid\",Simulation!$C$2,IF(D61=\"WU\",Simulation!$C$3,IF(D61=1,Simulation!$C$4,IF(D61=2,Simulation!$C$5,IF(D61=3,Simulation!$C$6,IF(D61=4,Simulation!$C$7,IF(D61=5,Simulation!$C$8)))))))","v":false},0,null,null,null,"",null,null,null,null,0,null,0,0,"Inlap",null,null,"FL"]
[1,51,51,null,{"$f":"IF(D62=\"Grid\",Simulation!$B$2,IF(D62=\"WU\",Simulation!$B$3,IF(D62=1,Simulation!$B$4,IF(D62=2,Simulation!$B$5,IF(D62=3,Simulation!$B$6,IF(D62=4,Simulation!$B$7,IF(D62=5,Simulation!$B$8)))))))","v":false},{"$f":"IF(D62=\"Grid\",Simulation!$C$2,IF(D62=\"WU\",Simulation!$C$3,IF(D62=1,Simulation!$C$4,IF(D62=2,Simulation!$C$5,IF(D62=3,Simulation!$C$6,IF(D62=4,Simulation!$C$7,IF(D62=5,Simulation!$C$8)))))))","v":false},0,null,null,null,"",null,null,null,null,0,null,0,0,"Inlap",null,null,"FL"]
[1,52,52,null,{"$f":"IF(D63=\"Grid\",Simulation!$B$2,IF(D63=\"WU\",Simulation!$B$3,IF(D63=1,Simulation!$B$4,IF(D63=2,Simulation!$B$5,IF(D63=3,Simulation!$B$6,IF(D63=4,Simulation!$B$7,IF(D63=5,Simulation!$B$8)))))))","v":false},{"$f":"IF(D63=\"Grid\",Simulation!$C$2,IF(D63=\"WU\",Simulation!$C$3,IF(D63=1,Simulation!$C$4,IF(D63=2,Simulation!$C$5,IF(D63=3,Simulation!$C$6,IF(D63=4,Simulation!$C$7,IF(D63=5,Simulation!$C$8)))))))","v":false},0,null,null,null,"",null,null,null,null,0,null,0,0,"Inlap",null,null,"FL"]
[1,53,53,null,{"$f":"IF(D64=\"Grid\",Simulation!$B$2,IF(D64=\"WU\",Simulation!$B$3,IF(D64=1,Simulation!$B$4,IF(D64=2,Simulation!$B$5,IF(D64=3,Simulation!$B$6,IF(D64=4,Simulation!$B$7,IF(D64=5,Simulation!$B$8)))))))","v":false},{"$f":"IF(D64=\"Grid\",Simulation!$C$2,IF(D64=\"WU\",Simulation!$C$3,IF(D64=1,Simulation!$C$4,IF(D64=2,Simulation!$C$5,IF(D64=3,Simulation!$C$6,IF(D64=4,Simulation!$C$7,IF(D64=5,Simulation!$C$8)))))))","v":false},0,null,null,null,"",null,null,null,null,0,null,0,0,"Inlap",null,null,"FL"]
[1,54,54,null,{"$f":"IF(D65=\"Grid\",Simulation!$B$2,IF(D65=\"WU\",Simulation!$B$3,IF(D65=1,Simulation!$B$4,IF(D65=2,Simulation!$B$5,IF(D65=3,Simulation!$B$6,IF(D65=4,Simulation!$B$7,IF(D65=5,Simulation!$B$8)))))))","v":false},{"$f":"IF(D65=\"Grid\",Simulation!$C$2,IF(D65=\"WU\",Simulation!$C$3,IF(D65=1,Simulation!$C$4,IF(D65=2,Simulation!$C$5,IF(D65=3,Simulation!$C$6,IF(D65=4,Simulation!$C$7,IF(D65=5,Simulation!$C$8)))))))","v":false},0,null,null,null,"",null,null,null,null,0,null,0,0,"Inlap",null,null,"FL"]
[1,55,55,null,{"$f":"IF(D66=\"Grid\",Simulation!$B$2,IF(D66=\"WU\",Simulation!$B$3,IF(D66=1,Simulation!$B$4,IF(D66=2,Simulation!$B$5,IF(D66=3,Simulation!$B$6,IF(D66=4,Simulation!$B$7,IF(D66=5,Simulation!$B$8)))))))","v":false},{"$f":"IF(D66=\"Grid\",Simulation!$C$2,IF(D66=\"WU\",Simulation!$C$3,IF(D66=1,Simulation!$C$4,IF(D66=2,Simulation!$C$5,IF(D66=3,Simulation!$C$6,IF(D66=4,Simulation!$C$7,IF(D66=5,Simulation!$C$8)))))))","v":false},0,null,null,null,"",null,null,null,null,0,null,0,0,"Inlap",null,null,"FL"]
[1,56,56,null,{"$f":"IF(D67=\"Grid\",Simulation!$B$2,IF(D67=\"WU\",Simulation!$B$3,IF(D67=1,Simulation!$B$4,IF(D67=2,Simulation!$B$5,IF(D67=3,Simulation!$B$6,IF(D67=4,Simulation!$B$7,IF(D67=5,Simulation!$B$8)))))))","v":false},{"$f":"IF(D67=\"Grid\",Simulation!$C$2,IF(D67=\"WU\",Simulation!$C$3,IF(D67=1,Simulation!$C$4,IF(D67=2,Simulation!$C$5,IF(D67=3,Simulation!$C$6,IF(D67=4,Simulation!$C$7,IF(D67=5,Simulation!$C$8)))))))","v":false},0,null,null,null,"",null,null,null,null,0,null,0,0,"Inlap",null,null,"FL"]
[1,57,57,null,{"$f":"IF(D68=\"Grid\",Simulation!$B$2,IF(D68=\"WU\",Simulation!$B$3,IF(D68=1,Simulation!$B$4,IF(D68=2,Simulation!$B$5,IF(D68=3,Simulation!$B$6,IF(D68=4,Simulation!$B$7,IF(D68=5,Simulation!$B$8)))))))","v":false},{"$f":"IF(D68=\"Grid\",Simulation!$C$2,IF(D68=\"WU\",Simulation!$C$3,IF(D68=1,Simulation!$C$4,IF(D68=2,Simulation!$C$5,IF(D68=3,Simulation!$C$6,IF(D68=4,Simulation!$C$7,IF(D68=5,Simulation!$C$8)))))))","v":false},0,null,null,null,"",null,null,null,null,0,null,0,0,"Inlap",null,null,"FL"]
[1,58,58,null,{"$f":"IF(D69=\"Grid\",Simulation!$B$2,IF(D69=\"WU\",Simulation!$B$3,IF(D69=1,Simulation!$B$4,IF(D69=2,Simulation!$B$5,IF(D69=3,Simulation!$B$6,IF(D69=4,Simulation!$B$7,IF(D69=5,Simulation!$B$8)))))))","v":false},{"$f":"IF(D69=\"Grid\",Simulation!$C$2,IF(D69=\"WU\",Simulation!$C$3,IF(D69=1,Simulation!$C$4,IF(D69=2,Simulation!$C$5,IF(D69=3,Simulation!$C$6,IF(D69=4,Simulation!$C$7,IF(D69=5,Simulation!$C$8)))))))","v":false},0,null,null,null,"",null,null,null,null,0,null,0,0,"Inlap",null,null,"FL"]
[1,59,59,null,{"$f":"IF(D70=\"Grid\",Simulation!$B$2,IF(D70=\"WU\",Simulation!$B$3,IF(D70=1,Simulation!$B$4,IF(D70=2,Simulation!$B$5,IF(D70=3,Simulation!$B$6,IF(D70=4,Simulation!$B$7,IF(D70=5,Simulation!$B$8)))))))","v":false},{"$f":"IF(D70=\"Grid\",Simulation!$C$2,IF(D70=\"WU\",Simulation!$C$3,IF(D70=1,Simulation!$C$4,IF(D70=2,Simulation!$C$5,IF(D70=3,Simulation!$C$6,IF(D70=4,Simulation!$C$7,IF(D70=5,Simulation!$C$8)))))))","v":false},0,null,null,null,"",null,null,null,null,0,null,0,0,"Inlap",null,null,"FL"]
[1,60,60,null,{"$f":"IF(D71=\"Grid\",Simulation!$B$2,IF(D71=\"WU\",Simulation!$B$3,IF(D71=1,Simulation!$B$4,IF(D71=2,Simulation!$B$5,IF(D71=3,Simulation!$B$6,IF(D71=4,Simulation!$B$7,IF(D71=5,Simulation!$B$8)))))))","v":false},{"$f":"IF(D71=\"Grid\",Simulation!$C$2,IF(D71=\"WU\",Simulation!$C$3,IF(D71=1,Simulation!$C$4,IF(D71=2,Simulation!$C$5,IF(D71=3,Simulation!$C$6,IF(D71=4,Simulation!$C$7,IF(D71=5,Simulation!$C$8)))))))","v":false},0,null,null,null,"",null,null,null,null,0,null,0,0,"Inlap",null,null,"FL"]
[1,61,61,null,{"$f":"IF(D72=\"Grid\",Simulation!$B$2,IF(D72=\"WU\",Simulation!$B$3,IF(D72=1,Simulation!$B$4,IF(D72=2,Simulation!$B$5,IF(D72=3,Simulation!$B$6,IF(D72=4,Simulation!$B$7,IF(D72=5,Simulation!$B$8)))))))","v":false},{"$f":"IF(D72=\"Grid\",Simulation!$C$2,IF(D72=\"WU\",Simulation!$C$3,IF(D72=1,Simulation!$C$4,IF(D72=2,Simulation!$C$5,IF(D72=3,Simulation!$C$6,IF(D72=4,Simulation!$C$7,IF(D72=5,Simulation!$C$8)))))))","v":false},0,null,null,null,"",null,null,null,null,0,null,0,0,"Inlap",null,null,"FL"]
[1,62,62,null,{"$f":"IF(D73=\"Grid\",Simulation!$B$2,IF(D73=\"WU\",Simulation!$B$3,IF(D73=1,Simulation!$B$4,IF(D73=2,Simulation!$B$5,IF(D73=3,Simulation!$B$6,IF(D73=4,Simulation!$B$7,IF(D73=5,Simulation!$B$8)))))))","v":false},{"$f":"IF(D73=\"Grid\",Simulation!$C$2,IF(D73=\"WU\",Simulation!$C$3,IF(D73=1,Simulation!$C$4,IF(D73=2,Simulation!$C$5,IF(D73=3,Simulation!$C$6,IF(D73=4,Simulation!$C$7,IF(D73=5,Simulation!$C$8)))))))","v":false},0,null,null,null,"",null,null,null,null,0,null,0,0,"Inlap",null,null,"FL"]
[1,63,63,null,{"$f":"IF(D74=\"Grid\",Simulation!$B$2,IF(D74=\"WU\",Simulation!$B$3,IF(D74=1,Simulation!$B$4,IF(D74=2,Simulation!$B$5,IF(D74=3,Simulation!$B$6,IF(D74=4,Simulation!$B$7,IF(D74=5,Simulation!$B$8)))))))","v":false},{"$f":"IF(D74=\"Grid\",Simulation!$C$2,IF(D74=\"WU\",Simulation!$C$3,IF(D74=1,Simulation!$C$4,IF(D74=2,Simulation!$C$5,IF(D74=3,Simulation!$C$6,IF(D74=4,Simulation!$C$7,IF(D74=5,Simulation!$C$8)))))))","v":false},0,null,null,null,"",null,null,null,null,0,null,0,0,"Inlap",null,null,"FL"]
[1,64,64,null,{"$f":"IF(D75=\"Grid\",Simulation!$B$2,IF(D75=\"WU\",Simulation!$B$3,IF(D75=1,Simulation!$B$4,IF(D75=2,Simulation!$B$5,IF(D75=3,Simulation!$B$6,IF(D75=4,Simulation!$B$7,IF(D75=5,Simulation!$B$8)))))))","v":false},{"$f":"IF(D75=\"Grid\",Simulation!$C$2,IF(D75=\"WU\",Simulation!$C$3,IF(D75=1,Simulation!$C$4,IF(D75=2,Simulation!$C$5,IF(D75=3,Simulation!$C$6,IF(D75=4,Simulation!$C$7,IF(D75=5,Simulation!$C$8)))))))","v":false},0,null,null,null,"",null,null,null,null,0,null,0,0,"Inlap",null,null,"FL"]
[{"$f":"IF(O76>0,A75+1,A75)","v":1},65,65,null,{"$f":"IF(D76=\"Grid\",Simulation!$B$2,IF(D76=\"WU\",Simulation!$B$3,IF(D76=1,Simulation!$B$4,IF(D76=2,Simulation!$B$5,IF(D76=3,Simulation!$B$6,IF(D76=4,Simulation!$B$7,IF(D76=5,Simulation!$B$8)))))))","v":false},{"$f":"IF(D76=\"Grid\",Simulation!$C$2,IF(D76=\"WU\",Simulation!$C$3,IF(D76=1,Simulation!$C$4,IF(D76=2,Simulation!$C$5,IF(D76=3,Simulation!$C$6,IF(D76=4,Simulation!$C$7,IF(D76=5,Simulation!$C$8)))))))","v":false},{"$f":"G75+O75-P75","v":0},null,null,null,"",null,null,null,null,0,null,0,{"$f":"IF(O76>0,O76+S75-Q76,S75-P76)","v":0},{"$f":"IF(S76<=F76,\"Inlap\",IF(S76<=2*F76,\"Call: In this lap!\",IF(S76<=3*F76,\"Show in but don't call!\",\"\")))","v":"Inlap"},null,null,{"$f":"IF(J76=$Q$2,\"FL\",\"\")","v":"FL"}]
[1,66,66,null,{"$f":"IF(D77=\"Grid\",Simulation!$B$2,IF(D77=\"WU\",Simulation!$B$3,IF(D77=1,Simulation!$B$4,IF(D77=2,Simulation!$B$5,IF(D77=3,Simulation!$B$6,IF(D77=4,Simulation!$B$7,IF(D77=5,Simulation!$B$8)))))))","v":false},{"$f":"IF(D77=\"Grid\",Simulation!$C$2,IF(D77=\"WU\",Simulation!$C$3,IF(D77=1,Simulation!$C$4,IF(D77=2,Simulation!$C$5,IF(D77=3,Simulation!$C$6,IF(D77=4,Simulation!$C$7,IF(D77=5,Simulation!$C$8)))))))","v":false},0,null,null,null,{"$f":"IF(J77<>0,K76,\"\")","v":""},null,null,null,null,0,null,0,0,"Inlap",null,null,"FL"]
[1,67,{"$f":"IF(O78=\"\",C77+1,\"1\")","v":67},null,{"$f":"IF(D78=\"Grid\",Simulation!$B$2,IF(D78=\"WU\",Simulation!$B$3,IF(D78=1,Simulation!$B$4,IF(D78=2,Simulation!$B$5,IF(D78=3,Simulation!$B$6,IF(D78=4,Simulation!$B$7,IF(D78=5,Simulation!$B$8)))))))","v":false},{"$f":"IF(D78=\"Grid\",Simulation!$C$2,IF(D78=\"WU\",Simulation!$C$3,IF(D78=1,Simulation!$C$4,IF(D78=2,Simulation!$C$5,IF(D78=3,Simulation!$C$6,IF(D78=4,Simulation!$C$7,IF(D78=5,Simulation!$C$8)))))))","v":false},0,null,null,null,"",null,null,null,null,0,null,0,0,"Inlap",null,null,"FL"]
[1,68,68,null,{"$f":"IF(D79=\"Grid\",Simulation!$B$2,IF(D79=\"WU\",Simulation!$B$3,IF(D79=1,Simulation!$B$4,IF(D79=2,Simulation!$B$5,IF(D79=3,Simulation!$B$6,IF(D79=4,Simulation!$B$7,IF(D79=5,Simulation!$B$8)))))))","v":false},{"$f":"IF(D79=\"Grid\",Simulation!$C$2,IF(D79=\"WU\",Simulation!$C$3,IF(D79=1,Simulation!$C$4,IF(D79=2,Simulation!$C$5,IF(D79=3,Simulation!$C$6,IF(D79=4,Simulation!$C$7,IF(D79=5,Simulation!$C$8)))))))","v":false},0,null,null,null,"",null,null,null,null,0,null,0,0,"Inlap",null,null,"FL"]
[1,69,69,null,{"$f":"IF(D80=\"Grid\",Simulation!$B$2,IF(D80=\"WU\",Simulation!$B$3,IF(D80=1,Simulation!$B$4,IF(D80=2,Simulation!$B$5,IF(D80=3,Simulation!$B$6,IF(D80=4,Simulation!$B$7,IF(D80=5,Simulation!$B$8)))))))","v":false},{"$f":"IF(D80=\"Grid\",Simulation!$C$2,IF(D80=\"WU\",Simulation!$C$3,IF(D80=1,Simulation!$C$4,IF(D80=2,Simulation!$C$5,IF(D80=3,Simulation!$C$6,IF(D80=4,Simulation!$C$7,IF(D80=5,Simulation!$C$8)))))))","v":false},0,null,null,null,"",null,null,null,null,0,null,0,0,"Inlap",null,null,"FL"]
[1,70,70,null,{"$f":"IF(D81=\"Grid\",Simulation!$B$2,IF(D81=\"WU\",Simulation!$B$3,IF(D81=1,Simulation!$B$4,IF(D81=2,Simulation!$B$5,IF(D81=3,Simulation!$B$6,IF(D81=4,Simulation!$B$7,IF(D81=5,Simulation!$B$8)))))))","v":false},{"$f":"IF(D81=\"Grid\",Simulation!$C$2,IF(D81=\"WU\",Simulation!$C$3,IF(D81=1,Simulation!$C$4,IF(D81=2,Simulation!$C$5,IF(D81=3,Simulation!$C$6,IF(D81=4,Simulation!$C$7,IF(D81=5,Simulation!$C$8)))))))","v":false},0,null,null,null,"",null,null,null,null,0,null,0,0,"Inlap",null,null,"FL"]
[1,71,71,null,{"$f":"IF(D82=\"Grid\",Simulation!$B$2,IF(D82=\"WU\",Simulation!$B$3,IF(D82=1,Simulation!$B$4,IF(D82=2,Simulation!$B$5,IF(D82=3,Simulation!$B$6,IF(D82=4,Simulation!$B$7,IF(D82=5,Simulation!$B$8)))))))","v":false},{"$f":"IF(D82=\"Grid\",Simulation!$C$2,IF(D82=\"WU\",Simulation!$C$3,IF(D82=1,Simulation!$C$4,IF(D82=2,Simulation!$C$5,IF(D82=3,Simulation!$C$6,IF(D82=4,Simulation!$C$7,IF(D82=5,Simulation!$C$8)))))))","v":false},0,null,null,null,"",null,null,null,null,0,null,0,0,"Inlap",null,null,"FL"]
[1,72,72,null,{"$f":"IF(D83=\"Grid\",Simulation!$B$2,IF(D83=\"WU\",Simulation!$B$3,IF(D83=1,Simulation!$B$4,IF(D83=2,Simulation!$B$5,IF(D83=3,Simulation!$B$6,IF(D83=4,Simulation!$B$7,IF(D83=5,Simulation!$B$8)))))))","v":false},{"$f":"IF(D83=\"Grid\",Simulation!$C$2,IF(D83=\"WU\",Simulation!$C$3,IF(D83=1,Simulation!$C$4,IF(D83=2,Simulation!$C$5,IF(D83=3,Simulation!$C$6,IF(D83=4,Simulation!$C$7,IF(D83=5,Simulation!$C$8)))))))","v":false},0,null,null,null,"",null,null,null,null,0,null,0,0,"Inlap",null,null,"FL"]
[1,73,73,null,{"$f":"IF(D84=\"Grid\",Simulation!$B$2,IF(D84=\"WU\",Simulation!$B$3,IF(D84=1,Simulation!$B$4,IF(D84=2,Simulation!$B$5,IF(D84=3,Simulation!$B$6,IF(D84=4,Simulation!$B$7,IF(D84=5,Simulation!$B$8)))))))","v":false},{"$f":"IF(D84=\"Grid\",Simulation!$C$2,IF(D84=\"WU\",Simulation!$C$3,IF(D84=1,Simulation!$C$4,IF(D84=2,Simulation!$C$5,IF(D84=3,Simulation!$C$6,IF(D84=4,Simulation!$C$7,IF(D84=5,Simulation!$C$8)))))))","v":false},0,null,null,null,"",null,null,null,null,0,null,0,0,"Inlap",null,null,"FL"]
[1,74,74,null,{"$f":"IF(D85=\"Grid\",Simulation!$B$2,IF(D85=\"WU\",Simulation!$B$3,IF(D85=1,Simulation!$B$4,IF(D85=2,Simulation!$B$5,IF(D85=3,Simulation!$B$6,IF(D85=4,Simulation!$B$7,IF(D85=5,Simulation!$B$8)))))))","v":false},{"$f":"IF(D85=\"Grid\",Simulation!$C$2,IF(D85=\"WU\",Simulation!$C$3,IF(D85=1,Simulation!$C$4,IF(D85=2,Simulation!$C$5,IF(D85=3,Simulation!$C$6,IF(D85=4,Simulation!$C$7,IF(D85=5,Simulation!$C$8)))))))","v":false},0,null,null,null,"",null,null,null,null,0,null,0,0,"Inlap",null,null,"FL"]
[1,75,75,null,{"$f":"IF(D86=\"Grid\",Simulation!$B$2,IF(D86=\"WU\",Simulation!$B$3,IF(D86=1,Simulation!$B$4,IF(D86=2,Simulation!$B$5,IF(D86=3,Simulation!$B$6,IF(D86=4,Simulation!$B$7,IF(D86=5,Simulation!$B$8)))))))","v":false},{"$f":"IF(D86=\"Grid\",Simulation!$C$2,IF(D86=\"WU\",Simulation!$C$3,IF(D86=1,Simulation!$C$4,IF(D86=2,Simulation!$C$5,IF(D86=3,Simulation!$C$6,IF(D86=4,Simulation!$C$7,IF(D86=5,Simulation!$C$8)))))))","v":false},0,null,null,null,"",null,null,null,null,0,null,0,0,"Inlap",null,null,"FL"]
[1,76,76,null,{"$f":"IF(D87=\"Grid\",Simulation!$B$2,IF(D87=\"WU\",Simulation!$B$3,IF(D87=1,Simulation!$B$4,IF(D87=2,Simulation!$B$5,IF(D87=3,Simulation!$B$6,IF(D87=4,Simulation!$B$7,IF(D87=5,Simulation!$B$8)))))))","v":false},{"$f":"IF(D87=\"Grid\",Simulation!$C$2,IF(D87=\"WU\",Simulation!$C$3,IF(D87=1,Simulation!$C$4,IF(D87=2,Simulation!$C$5,IF(D87=3,Simulation!$C$6,IF(D87=4,Simulation!$C$7,IF(D87=5,Simulation!$C$8)))))))","v":false},0,null,null,null,"",null,null,null,null,0,null,0,0,"Inlap",null,null,"FL"]
[1,77,77,null,{"$f":"IF(D88=\"Grid\",Simulation!$B$2,IF(D88=\"WU\",Simulation!$B$3,IF(D88=1,Simulation!$B$4,IF(D88=2,Simulation!$B$5,IF(D88=3,Simulation!$B$6,IF(D88=4,Simulation!$B$7,IF(D88=5,Simulation!$B$8)))))))","v":false},{"$f":"IF(D88=\"Grid\",Simulation!$C$2,IF(D88=\"WU\",Simulation!$C$3,IF(D88=1,Simulation!$C$4,IF(D88=2,Simulation!$C$5,IF(D88=3,Simulation!$C$6,IF(D88=4,Simulation!$C$7,IF(D88=5,Simulation!$C$8)))))))","v":false},0,null,null,null,"",null,null,null,null,0,null,0,0,"Inlap",null,null,"FL"]
[1,78,78,null,{"$f":"IF(D89=\"Grid\",Simulation!$B$2,IF(D89=\"WU\",Simulation!$B$3,IF(D89=1,Simulation!$B$4,IF(D89=2,Simulation!$B$5,IF(D89=3,Simulation!$B$6,IF(D89=4,Simulation!$B$7,IF(D89=5,Simulation!$B$8)))))))","v":false},{"$f":"IF(D89=\"Grid\",Simulation!$C$2,IF(D89=\"WU\",Simulation!$C$3,IF(D89=1,Simulation!$C$4,IF(D89=2,Simulation!$C$5,IF(D89=3,Simulation!$C$6,IF(D89=4,Simulation!$C$7,IF(D89=5,Simulation!$C$8)))))))","v":false},0,null,null,null,"",null,null,null,null,0,null,0,0,"Inlap",null,null,"FL"]
[1,79,79,null,{"$f":"IF(D90=\"Grid\",Simulation!$B$2,IF(D90=\"WU\",Simulation!$B$3,IF(D90=1,Simulation!$B$4,IF(D90=2,Simulation!$B$5,IF(D90=3,Simulation!$B$6,IF(D90=4,Simulation!$B$7,IF(D90=5,Simulation!$B$8)))))))","v":false},{"$f":"IF(D90=\"Grid\",Simulation!$C$2,IF(D90=\"WU\",Simulation!$C$3,IF(D90=1,Simulation!$C$4,IF(D90=2,Simulation!$C$5,IF(D90=3,Simulation!$C$6,IF(D90=4,Simulation!$C$7,IF(D90=5,Simulation!$C$8)))))))","v":false},0,null,null,null,"",null,null,null,null,0,null,0,0,"Inlap",null,null,"FL"]
[1,80,80,null,{"$f":"IF(D91=\"Grid\",Simulation!$B$2,IF(D91=\"WU\",Simulation!$B$3,IF(D91=1,Simulation!$B$4,IF(D91=2,Simulation!$B$5,IF(D91=3,Simulation!$B$6,IF(D91=4,Simulation!$B$7,IF(D91=5,Simulation!$B$8)))))))","v":false},{"$f":"IF(D91=\"Grid\",Simulation!$C$2,IF(D91=\"WU\",Simulation!$C$3,IF(D91=1,Simulation!$C$4,IF(D91=2,Simulation!$C$5,IF(D91=3,Simulation!$C$6,IF(D91=4,Simulation!$C$7,IF(D91=5,Simulation!$C$8)))))))","v":false},0,null,null,null,"",null,null,null,null,0,null,0,0,"Inlap",null,null,"FL"]
[1,81,81,null,{"$f":"IF(D92=\"Grid\",Simulation!$B$2,IF(D92=\"WU\",Simulation!$B$3,IF(D92=1,Simulation!$B$4,IF(D92=2,Simulation!$B$5,IF(D92=3,Simulation!$B$6,IF(D92=4,Simulation!$B$7,IF(D92=5,Simulation!$B$8)))))))","v":false},{"$f":"IF(D92=\"Grid\",Simulation!$C$2,IF(D92=\"WU\",Simulation!$C$3,IF(D92=1,Simulation!$C$4,IF(D92=2,Simulation!$C$5,IF(D92=3,Simulation!$C$6,IF(D92=4,Simulation!$C$7,IF(D92=5,Simulation!$C$8)))))))","v":false},0,null,null,null,"",null,null,null,null,0,null,0,0,"Inlap",null,null,"FL"]
[1,82,82,null,{"$f":"IF(D93=\"Grid\",Simulation!$B$2,IF(D93=\"WU\",Simulation!$B$3,IF(D93=1,Simulation!$B$4,IF(D93=2,Simulation!$B$5,IF(D93=3,Simulation!$B$6,IF(D93=4,Simulation!$B$7,IF(D93=5,Simulation!$B$8)))))))","v":false},{"$f":"IF(D93=\"Grid\",Simulation!$C$2,IF(D93=\"WU\",Simulation!$C$3,IF(D93=1,Simulation!$C$4,IF(D93=2,Simulation!$C$5,IF(D93=3,Simulation!$C$6,IF(D93=4,Simulation!$C$7,IF(D93=5,Simulation!$C$8)))))))","v":false},0,null,null,null,"",null,null,null,null,0,null,0,0,"Inlap",null,null,"FL"]
[1,83,83,null,{"$f":"IF(D94=\"Grid\",Simulation!$B$2,IF(D94=\"WU\",Simulation!$B$3,IF(D94=1,Simulation!$B$4,IF(D94=2,Simulation!$B$5,IF(D94=3,Simulation!$B$6,IF(D94=4,Simulation!$B$7,IF(D94=5,Simulation!$B$8)))))))","v":false},{"$f":"IF(D94=\"Grid\",Simulation!$C$2,IF(D94=\"WU\",Simulation!$C$3,IF(D94=1,Simulation!$C$4,IF(D94=2,Simulation!$C$5,IF(D94=3,Simulation!$C$6,IF(D94=4,Simulation!$C$7,IF(D94=5,Simulation!$C$8)))))))","v":false},0,null,null,null,"",null,null,null,null,0,null,0,0,"Inlap",null,null,"FL"]
[1,84,84,null,{"$f":"IF(D95=\"Grid\",Simulation!$B$2,IF(D95=\"WU\",Simulation!$B$3,IF(D95=1,Simulation!$B$4,IF(D95=2,Simulation!$B$5,IF(D95=3,Simulation!$B$6,IF(D95=4,Simulation!$B$7,IF(D95=5,Simulation!$B$8)))))))","v":false},{"$f":"IF(D95=\"Grid\",Simulation!$C$2,IF(D95=\"WU\",Simulation!$C$3,IF(D95=1,Simulation!$C$4,IF(D95=2,Simulation!$C$5,IF(D95=3,Simulation!$C$6,IF(D95=4,Simulation!$C$7,IF(D95=5,Simulation!$C$8)))))))","v":false},0,null,null,null,"",null,null,null,null,0,null,0,0,"Inlap",null,null,"FL"]
[1,85,85,null,{"$f":"IF(D96=\"Grid\",Simulation!$B$2,IF(D96=\"WU\",Simulation!$B$3,IF(D96=1,Simulation!$B$4,IF(D96=2,Simulation!$B$5,IF(D96=3,Simulation!$B$6,IF(D96=4,Simulation!$B$7,IF(D96=5,Simulation!$B$8)))))))","v":false},{"$f":"IF(D96=\"Grid\",Simulation!$C$2,IF(D96=\"WU\",Simulation!$C$3,IF(D96=1,Simulation!$C$4,IF(D96=2,Simulation!$C$5,IF(D96=3,Simulation!$C$6,IF(D96=4,Simulation!$C$7,IF(D96=5,Simulation!$C$8)))))))","v":false},0,null,null,null,"",null,null,null,null,0,null,0,0,"Inlap",null,null,"FL"]
[1,86,86,null,{"$f":"IF(D97=\"Grid\",Simulation!$B$2,IF(D97=\"WU\",Simulation!$B$3,IF(D97=1,Simulation!$B$4,IF(D97=2,Simulation!$B$5,IF(D97=3,Simulation!$B$6,IF(D97=4,Simulation!$B$7,IF(D97=5,Simulation!$B$8)))))))","v":false},{"$f":"IF(D97=\"Grid\",Simulation!$C$2,IF(D97=\"WU\",Simulation!$C$3,IF(D97=1,Simulation!$C$4,IF(D97=2,Simulation!$C$5,IF(D97=3,Simulation!$C$6,IF(D97=4,Simulation!$C$7,IF(D97=5,Simulation!$C$8)))))))","v":false},0,null,null,null,"",null,null,null,null,0,null,0,0,"Inlap",null,null,"FL"]
[1,87,87,null,{"$f":"IF(D98=\"Grid\",Simulation!$B$2,IF(D98=\"WU\",Simulation!$B$3,IF(D98=1,Simulation!$B$4,IF(D98=2,Simulation!$B$5,IF(D98=3,Simulation!$B$6,IF(D98=4,Simulation!$B$7,IF(D98=5,Simulation!$B$8)))))))","v":false},{"$f":"IF(D98=\"Grid\",Simulation!$C$2,IF(D98=\"WU\",Simulation!$C$3,IF(D98=1,Simulation!$C$4,IF(D98=2,Simulation!$C$5,IF(D98=3,Simulation!$C$6,IF(D98=4,Simulation!$C$7,IF(D98=5,Simulation!$C$8)))))))","v":false},0,null,null,null,"",null,null,null,null,0,null,0,0,"Inlap",null,null,"FL"]
[1,88,88,null,{"$f":"IF(D99=\"Grid\",Simulation!$B$2,IF(D99=\"WU\",Simulation!$B$3,IF(D99=1,Simulation!$B$4,IF(D99=2,Simulation!$B$5,IF(D99=3,Simulation!$B$6,IF(D99=4,Simulation!$B$7,IF(D99=5,Simulation!$B$8)))))))","v":false},{"$f":"IF(D99=\"Grid\",Simulation!$C$2,IF(D99=\"WU\",Simulation!$C$3,IF(D99=1,Simulation!$C$4,IF(D99=2,Simulation!$C$5,IF(D99=3,Simulation!$C$6,IF(D99=4,Simulation!$C$7,IF(D99=5,Simulation!$C$8)))))))","v":false},0,null,null,null,"",null,null,null,null,0,null,0,0,"Inlap",null,null,"FL"]
[1,89,89,null,{"$f":"IF(D100=\"Grid\",Simulation!$B$2,IF(D100=\"WU\",Simulation!$B$3,IF(D100=1,Simulation!$B$4,IF(D100=2,Simulation!$B$5,IF(D100=3,Simulation!$B$6,IF(D100=4,Simulation!$B$7,IF(D100=5,Simulation!$B$8)))))))","v":false},{"$f":"IF(D100=\"Grid\",Simulation!$C$2,IF(D100=\"WU\",Simulation!$C$3,IF(D100=1,Simulation!$C$4,IF(D100=2,Simulation!$C$5,IF(D100=3,Simulation!$C$6,IF(D100=4,Simulation!$C$7,IF(D100=5,Simulation!$C$8)))))))","v":false},0,null,null,null,"",null,null,null,null,0,null,0,0,"Inlap",null,null,"FL"]
[1,90,90,null,{"$f":"IF(D101=\"Grid\",Simulation!$B$2,IF(D101=\"WU\",Simulation!$B$3,IF(D101=1,Simulation!$B$4,IF(D101=2,Simulation!$B$5,IF(D101=3,Simulation!$B$6,IF(D101=4,Simulation!$B$7,IF(D101=5,Simulation!$B$8)))))))","v":false},{"$f":"IF(D101=\"Grid\",Simulation!$C$2,IF(D101=\"WU\",Simulation!$C$3,IF(D101=1,Simulation!$C$4,IF(D101=2,Simulation!$C$5,IF(D101=3,Simulation!$C$6,IF(D101=4,Simulation!$C$7,IF(D101=5,Simulation!$C$8)))))))","v":false},0,null,null,null,"",null,null,null,null,0,null,0,0,"Inlap",null,null,"FL"]
[1,91,91,null,{"$f":"IF(D102=\"Grid\",Simulation!$B$2,IF(D102=\"WU\",Simulation!$B$3,IF(D102=1,Simulation!$B$4,IF(D102=2,Simulation!$B$5,IF(D102=3,Simulation!$B$6,IF(D102=4,Simulation!$B$7,IF(D102=5,Simulation!$B$8)))))))","v":false},{"$f":"IF(D102=\"Grid\",Simulation!$C$2,IF(D102=\"WU\",Simulation!$C$3,IF(D102=1,Simulation!$C$4,IF(D102=2,Simulation!$C$5,IF(D102=3,Simulation!$C$6,IF(D102=4,Simulation!$C$7,IF(D102=5,Simulation!$C$8)))))))","v":false},0,null,null,null,"",null,null,null,null,0,null,0,0,"Inlap",null,null,"FL"]
[1,92,92,null,{"$f":"IF(D103=\"Grid\",Simulation!$B$2,IF(D103=\"WU\",Simulation!$B$3,IF(D103=1,Simulation!$B$4,IF(D103=2,Simulation!$B$5,IF(D103=3,Simulation!$B$6,IF(D103=4,Simulation!$B$7,IF(D103=5,Simulation!$B$8)))))))","v":false},{"$f":"IF(D103=\"Grid\",Simulation!$C$2,IF(D103=\"WU\",Simulation!$C$3,IF(D103=1,Simulation!$C$4,IF(D103=2,Simulation!$C$5,IF(D103=3,Simulation!$C$6,IF(D103=4,Simulation!$C$7,IF(D103=5,Simulation!$C$8)))))))","v":false},0,null,null,null,"",null,null,null,null,0,null,0,0,"Inlap",null,null,"FL"]
[1,93,93,null,{"$f":"IF(D104=\"Grid\",Simulation!$B$2,IF(D104=\"WU\",Simulation!$B$3,IF(D104=1,Simulation!$B$4,IF(D104=2,Simulation!$B$5,IF(D104=3,Simulation!$B$6,IF(D104=4,Simulation!$B$7,IF(D104=5,Simulation!$B$8)))))))","v":false},{"$f":"IF(D104=\"Grid\",Simulation!$C$2,IF(D104=\"WU\",Simulation!$C$3,IF(D104=1,Simulation!$C$4,IF(D104=2,Simulation!$C$5,IF(D104=3,Simulation!$C$6,IF(D104=4,Simulation!$C$7,IF(D104=5,Simulation!$C$8)))))))","v":false},0,null,null,null,"",null,null,null,null,0,null,0,0,"Inlap",null,null,"FL"]
[1,94,94,null,{"$f":"IF(D105=\"Grid\",Simulation!$B$2,IF(D105=\"WU\",Simulation!$B$3,IF(D105=1,Simulation!$B$4,IF(D105=2,Simulation!$B$5,IF(D105=3,Simulation!$B$6,IF(D105=4,Simulation!$B$7,IF(D105=5,Simulation!$B$8)))))))","v":false},{"$f":"IF(D105=\"Grid\",Simulation!$C$2,IF(D105=\"WU\",Simulation!$C$3,IF(D105=1,Simulation!$C$4,IF(D105=2,Simulation!$C$5,IF(D105=3,Simulation!$C$6,IF(D105=4,Simulation!$C$7,IF(D105=5,Simulation!$C$8)))))))","v":false},0,null,null,null,"",null,null,null,null,0,null,0,0,"Inlap",null,null,"FL"]
[1,95,95,null,{"$f":"IF(D106=\"Grid\",Simulation!$B$2,IF(D106=\"WU\",Simulation!$B$3,IF(D106=1,Simulation!$B$4,IF(D106=2,Simulation!$B$5,IF(D106=3,Simulation!$B$6,IF(D106=4,Simulation!$B$7,IF(D106=5,Simulation!$B$8)))))))","v":false},{"$f":"IF(D106=\"Grid\",Simulation!$C$2,IF(D106=\"WU\",Simulation!$C$3,IF(D106=1,Simulation!$C$4,IF(D106=2,Simulation!$C$5,IF(D106=3,Simulation!$C$6,IF(D106=4,Simulation!$C$7,IF(D106=5,Simulation!$C$8)))))))","v":false},0,null,null,null,"",null,null,null,null,0,null,0,0,"Inlap",null,null,"FL"]
[1,96,96,null,{"$f":"IF(D107=\"Grid\",Simulation!$B$2,IF(D107=\"WU\",Simulation!$B$3,IF(D107=1,Simulation!$B$4,IF(D107=2,Simulation!$B$5,IF(D107=3,Simulation!$B$6,IF(D107=4,Simulation!$B$7,IF(D107=5,Simulation!$B$8)))))))","v":false},{"$f":"IF(D107=\"Grid\",Simulation!$C$2,IF(D107=\"WU\",Simulation!$C$3,IF(D107=1,Simulation!$C$4,IF(D107=2,Simulation!$C$5,IF(D107=3,Simulation!$C$6,IF(D107=4,Simulation!$C$7,IF(D107=5,Simulation!$C$8)))))))","v":false},0,null,null,null,"",null,null,null,null,0,null,0,0,"Inlap",null,null,"FL"]
[1,97,97,null,{"$f":"IF(D108=\"Grid\",Simulation!$B$2,IF(D108=\"WU\",Simulation!$B$3,IF(D108=1,Simulation!$B$4,IF(D108=2,Simulation!$B$5,IF(D108=3,Simulation!$B$6,IF(D108=4,Simulation!$B$7,IF(D108=5,Simulation!$B$8)))))))","v":false},{"$f":"IF(D108=\"Grid\",Simulation!$C$2,IF(D108=\"WU\",Simulation!$C$3,IF(D108=1,Simulation!$C$4,IF(D108=2,Simulation!$C$5,IF(D108=3,Simulation!$C$6,IF(D108=4,Simulation!$C$7,IF(D108=5,Simulation!$C$8)))))))","v":false},0,null,null,null,"",null,null,null,null,0,null,0,0,"Inlap",null,null,"FL"]
[1,98,98,null,{"$f":"IF(D109=\"Grid\",Simulation!$B$2,IF(D109=\"WU\",Simulation!$B$3,IF(D109=1,Simulation!$B$4,IF(D109=2,Simulation!$B$5,IF(D109=3,Simulation!$B$6,IF(D109=4,Simulation!$B$7,IF(D109=5,Simulation!$B$8)))))))","v":false},{"$f":"IF(D109=\"Grid\",Simulation!$C$2,IF(D109=\"WU\",Simulation!$C$3,IF(D109=1,Simulation!$C$4,IF(D109=2,Simulation!$C$5,IF(D109=3,Simulation!$C$6,IF(D109=4,Simulation!$C$7,IF(D109=5,Simulation!$C$8)))))))","v":false},0,null,null,null,"",null,null,null,null,0,null,0,0,"Inlap",null,null,"FL"]
[1,99,99,null,{"$f":"IF(D110=\"Grid\",Simulation!$B$2,IF(D110=\"WU\",Simulation!$B$3,IF(D110=1,Simulation!$B$4,IF(D110=2,Simulation!$B$5,IF(D110=3,Simulation!$B$6,IF(D110=4,Simulation!$B$7,IF(D110=5,Simulation!$B$8)))))))","v":false},{"$f":"IF(D110=\"Grid\",Simulation!$C$2,IF(D110=\"WU\",Simulation!$C$3,IF(D110=1,Simulation!$C$4,IF(D110=2,Simulation!$C$5,IF(D110=3,Simulation!$C$6,IF(D110=4,Simulation!$C$7,IF(D110=5,Simulation!$C$8)))))))","v":false},0,null,null,null,"",null,null,null,null,{"$f":"IF(O110>0,Q110,Q110-Q109)","v":0},null,{"$f":"IF(O110>0,Q110,Q110-Q109)","v":0},0,"Inlap",null,null,"FL"]
[1,100,100,null,{"$f":"IF(D111=\"Grid\",Simulation!$B$2,IF(D111=\"WU\",Simulation!$B$3,IF(D111=1,Simulation!$B$4,IF(D111=2,Simulation!$B$5,IF(D111=3,Simulation!$B$6,IF(D111=4,Simulation!$B$7,IF(D111=5,Simulation!$B$8)))))))","v":false},{"$f":"IF(D111=\"Grid\",Simulation!$C$2,IF(D111=\"WU\",Simulation!$C$3,IF(D111=1,Simulation!$C$4,IF(D111=2,Simulation!$C$5,IF(D111=3,Simulation!$C$6,IF(D111=4,Simulation!$C$7,IF(D111=5,Simulation!$C$8)))))))","v":false},0,null,null,null,"",null,null,null,null,0,null,0,0,"Inlap",null,null,"FL"]
[1,101,101,null,{"$f":"IF(D112=\"Grid\",Simulation!$B$2,IF(D112=\"WU\",Simulation!$B$3,IF(D112=1,Simulation!$B$4,IF(D112=2,Simulation!$B$5,IF(D112=3,Simulation!$B$6,IF(D112=4,Simulation!$B$7,IF(D112=5,Simulation!$B$8)))))))","v":false},{"$f":"IF(D112=\"Grid\",Simulation!$C$2,IF(D112=\"WU\",Simulation!$C$3,IF(D112=1,Simulation!$C$4,IF(D112=2,Simulation!$C$5,IF(D112=3,Simulation!$C$6,IF(D112=4,Simulation!$C$7,IF(D112=5,Simulation!$C$8)))))))","v":false},0,null,null,null,"",null,null,null,null,0,null,0,0,"Inlap",null,null,"FL"]
[1,102,102,null,{"$f":"IF(D113=\"Grid\",Simulation!$B$2,IF(D113=\"WU\",Simulation!$B$3,IF(D113=1,Simulation!$B$4,IF(D113=2,Simulation!$B$5,IF(D113=3,Simulation!$B$6,IF(D113=4,Simulation!$B$7,IF(D113=5,Simulation!$B$8)))))))","v":false},{"$f":"IF(D113=\"Grid\",Simulation!$C$2,IF(D113=\"WU\",Simulation!$C$3,IF(D113=1,Simulation!$C$4,IF(D113=2,Simulation!$C$5,IF(D113=3,Simulation!$C$6,IF(D113=4,Simulation!$C$7,IF(D113=5,Simulation!$C$8)))))))","v":false},0,null,null,null,"",null,null,null,null,0,null,0,0,"Inlap",null,null,"FL"]
[1,103,103,null,{"$f":"IF(D114=\"Grid\",Simulation!$B$2,IF(D114=\"WU\",Simulation!$B$3,IF(D114=1,Simulation!$B$4,IF(D114=2,Simulation!$B$5,IF(D114=3,Simulation!$B$6,IF(D114=4,Simulation!$B$7,IF(D114=5,Simulation!$B$8)))))))","v":false},{"$f":"IF(D114=\"Grid\",Simulation!$C$2,IF(D114=\"WU\",Simulation!$C$3,IF(D114=1,Simulation!$C$4,IF(D114=2,Simulation!$C$5,IF(D114=3,Simulation!$C$6,IF(D114=4,Simulation!$C$7,IF(D114=5,Simulation!$C$8)))))))","v":false},0,null,null,null,"",null,null,null,null,0,null,0,0,"Inlap",null,null,"FL"]
[1,104,104,null,{"$f":"IF(D115=\"Grid\",Simulation!$B$2,IF(D115=\"WU\",Simulation!$B$3,IF(D115=1,Simulation!$B$4,IF(D115=2,Simulation!$B$5,IF(D115=3,Simulation!$B$6,IF(D115=4,Simulation!$B$7,IF(D115=5,Simulation!$B$8)))))))","v":false},{"$f":"IF(D115=\"Grid\",Simulation!$C$2,IF(D115=\"WU\",Simulation!$C$3,IF(D115=1,Simulation!$C$4,IF(D115=2,Simulation!$C$5,IF(D115=3,Simulation!$C$6,IF(D115=4,Simulation!$C$7,IF(D115=5,Simulation!$C$8)))))))","v":false},0,null,null,null,"",null,null,null,null,0,null,0,0,"Inlap",null,null,"FL"]
[1,105,105,null,{"$f":"IF(D116=\"Grid\",Simulation!$B$2,IF(D116=\"WU\",Simulation!$B$3,IF(D116=1,Simulation!$B$4,IF(D116=2,Simulation!$B$5,IF(D116=3,Simulation!$B$6,IF(D116=4,Simulation!$B$7,IF(D116=5,Simulation!$B$8)))))))","v":false},{"$f":"IF(D116=\"Grid\",Simulation!$C$2,IF(D116=\"WU\",Simulation!$C$3,IF(D116=1,Simulation!$C$4,IF(D116=2,Simulation!$C$5,IF(D116=3,Simulation!$C$6,IF(D116=4,Simulation!$C$7,IF(D116=5,Simulation!$C$8)))))))","v":false},0,null,null,null,"",null,null,null,null,0,null,0,0,"Inlap",null,null,"FL"]
[1,106,106,null,{"$f":"IF(D117=\"Grid\",Simulation!$B$2,IF(D117=\"WU\",Simulation!$B$3,IF(D117=1,Simulation!$B$4,IF(D117=2,Simulation!$B$5,IF(D117=3,Simulation!$B$6,IF(D117=4,Simulation!$B$7,IF(D117=5,Simulation!$B$8)))))))","v":false},{"$f":"IF(D117=\"Grid\",Simulation!$C$2,IF(D117=\"WU\",Simulation!$C$3,IF(D117=1,Simulation!$C$4,IF(D117=2,Simulation!$C$5,IF(D117=3,Simulation!$C$6,IF(D117=4,Simulation!$C$7,IF(D117=5,Simulation!$C$8)))))))","v":false},0,null,null,null,"",null,null,null,null,0,null,0,0,"Inlap",null,null,"FL"]
[1,107,107,null,{"$f":"IF(D118=\"Grid\",Simulation!$B$2,IF(D118=\"WU\",Simulation!$B$3,IF(D118=1,Simulation!$B$4,IF(D118=2,Simulation!$B$5,IF(D118=3,Simulation!$B$6,IF(D118=4,Simulation!$B$7,IF(D118=5,Simulation!$B$8)))))))","v":false},{"$f":"IF(D118=\"Grid\",Simulation!$C$2,IF(D118=\"WU\",Simulation!$C$3,IF(D118=1,Simulation!$C$4,IF(D118=2,Simulation!$C$5,IF(D118=3,Simulation!$C$6,IF(D118=4,Simulation!$C$7,IF(D118=5,Simulation!$C$8)))))))","v":false},0,null,null,null,"",null,null,null,null,0,null,0,0,"Inlap",null,null,"FL"]
[1,108,108,null,{"$f":"IF(D119=\"Grid\",Simulation!$B$2,IF(D119=\"WU\",Simulation!$B$3,IF(D119=1,Simulation!$B$4,IF(D119=2,Simulation!$B$5,IF(D119=3,Simulation!$B$6,IF(D119=4,Simulation!$B$7,IF(D119=5,Simulation!$B$8)))))))","v":false},{"$f":"IF(D119=\"Grid\",Simulation!$C$2,IF(D119=\"WU\",Simulation!$C$3,IF(D119=1,Simulation!$C$4,IF(D119=2,Simulation!$C$5,IF(D119=3,Simulation!$C$6,IF(D119=4,Simulation!$C$7,IF(D119=5,Simulation!$C$8)))))))","v":false},0,null,null,null,"",null,null,null,null,0,null,0,0,"Inlap",null,null,"FL"]
[1,109,109,null,{"$f":"IF(D120=\"Grid\",Simulation!$B$2,IF(D120=\"WU\",Simulation!$B$3,IF(D120=1,Simulation!$B$4,IF(D120=2,Simulation!$B$5,IF(D120=3,Simulation!$B$6,IF(D120=4,Simulation!$B$7,IF(D120=5,Simulation!$B$8)))))))","v":false},{"$f":"IF(D120=\"Grid\",Simulation!$C$2,IF(D120=\"WU\",Simulation!$C$3,IF(D120=1,Simulation!$C$4,IF(D120=2,Simulation!$C$5,IF(D120=3,Simulation!$C$6,IF(D120=4,Simulation!$C$7,IF(D120=5,Simulation!$C$8)))))))","v":false},0,null,null,null,"",null,null,null,null,0,null,0,0,"Inlap",null,null,"FL"]
[1,110,110,null,{"$f":"IF(D121=\"Grid\",Simulation!$B$2,IF(D121=\"WU\",Simulation!$B$3,IF(D121=1,Simulation!$B$4,IF(D121=2,Simulation!$B$5,IF(D121=3,Simulation!$B$6,IF(D121=4,Simulation!$B$7,IF(D121=5,Simulation!$B$8)))))))","v":false},{"$f":"IF(D121=\"Grid\",Simulation!$C$2,IF(D121=\"WU\",Simulation!$C$3,IF(D121=1,Simulation!$C$4,IF(D121=2,Simulation!$C$5,IF(D121=3,Simulation!$C$6,IF(D121=4,Simulation!$C$7,IF(D121=5,Simulation!$C$8)))))))","v":false},0,null,null,null,"",null,null,null,null,0,null,0,0,"Inlap",null,null,"FL"]
[1,111,111,null,{"$f":"IF(D122=\"Grid\",Simulation!$B$2,IF(D122=\"WU\",Simulation!$B$3,IF(D122=1,Simulation!$B$4,IF(D122=2,Simulation!$B$5,IF(D122=3,Simulation!$B$6,IF(D122=4,Simulation!$B$7,IF(D122=5,Simulation!$B$8)))))))","v":false},{"$f":"IF(D122=\"Grid\",Simulation!$C$2,IF(D122=\"WU\",Simulation!$C$3,IF(D122=1,Simulation!$C$4,IF(D122=2,Simulation!$C$5,IF(D122=3,Simulation!$C$6,IF(D122=4,Simulation!$C$7,IF(D122=5,Simulation!$C$8)))))))","v":false},0,null,null,null,"",null,null,null,null,0,null,0,0,"Inlap",null,null,"FL"]
[1,112,112,null,{"$f":"IF(D123=\"Grid\",Simulation!$B$2,IF(D123=\"WU\",Simulation!$B$3,IF(D123=1,Simulation!$B$4,IF(D123=2,Simulation!$B$5,IF(D123=3,Simulation!$B$6,IF(D123=4,Simulation!$B$7,IF(D123=5,Simulation!$B$8)))))))","v":false},{"$f":"IF(D123=\"Grid\",Simulation!$C$2,IF(D123=\"WU\",Simulation!$C$3,IF(D123=1,Simulation!$C$4,IF(D123=2,Simulation!$C$5,IF(D123=3,Simulation!$C$6,IF(D123=4,Simulation!$C$7,IF(D123=5,Simulation!$C$8)))))))","v":false},0,null,null,null,"",null,null,null,null,0,null,0,0,"Inlap",null,null,"FL"]
[1,113,113,null,{"$f":"IF(D124=\"Grid\",Simulation!$B$2,IF(D124=\"WU\",Simulation!$B$3,IF(D124=1,Simulation!$B$4,IF(D124=2,Simulation!$B$5,IF(D124=3,Simulation!$B$6,IF(D124=4,Simulation!$B$7,IF(D124=5,Simulation!$B$8)))))))","v":false},{"$f":"IF(D124=\"Grid\",Simulation!$C$2,IF(D124=\"WU\",Simulation!$C$3,IF(D124=1,Simulation!$C$4,IF(D124=2,Simulation!$C$5,IF(D124=3,Simulation!$C$6,IF(D124=4,Simulation!$C$7,IF(D124=5,Simulation!$C$8)))))))","v":false},0,null,null,null,"",null,null,null,null,0,null,0,0,"Inlap",null,null,"FL"]
[1,114,114,null,{"$f":"IF(D125=\"Grid\",Simulation!$B$2,IF(D125=\"WU\",Simulation!$B$3,IF(D125=1,Simulation!$B$4,IF(D125=2,Simulation!$B$5,IF(D125=3,Simulation!$B$6,IF(D125=4,Simulation!$B$7,IF(D125=5,Simulation!$B$8)))))))","v":false},{"$f":"IF(D125=\"Grid\",Simulation!$C$2,IF(D125=\"WU\",Simulation!$C$3,IF(D125=1,Simulation!$C$4,IF(D125=2,Simulation!$C$5,IF(D125=3,Simulation!$C$6,IF(D125=4,Simulation!$C$7,IF(D125=5,Simulation!$C$8)))))))","v":false},0,null,null,null,"",null,null,null,null,0,null,0,0,"Inlap",null,null,"FL"]
[1,115,115,null,{"$f":"IF(D126=\"Grid\",Simulation!$B$2,IF(D126=\"WU\",Simulation!$B$3,IF(D126=1,Simulation!$B$4,IF(D126=2,Simulation!$B$5,IF(D126=3,Simulation!$B$6,IF(D126=4,Simulation!$B$7,IF(D126=5,Simulation!$B$8)))))))","v":false},{"$f":"IF(D126=\"Grid\",Simulation!$C$2,IF(D126=\"WU\",Simulation!$C$3,IF(D126=1,Simulation!$C$4,IF(D126=2,Simulation!$C$5,IF(D126=3,Simulation!$C$6,IF(D126=4,Simulation!$C$7,IF(D126=5,Simulation!$C$8)))))))","v":false},0,null,null,null,"",null,null,null,null,0,null,0,0,"Inlap",null,null,"FL"]
[1,116,116,null,{"$f":"IF(D127=\"Grid\",Simulation!$B$2,IF(D127=\"WU\",Simulation!$B$3,IF(D127=1,Simulation!$B$4,IF(D127=2,Simulation!$B$5,IF(D127=3,Simulation!$B$6,IF(D127=4,Simulation!$B$7,IF(D127=5,Simulation!$B$8)))))))","v":false},{"$f":"IF(D127=\"Grid\",Simulation!$C$2,IF(D127=\"WU\",Simulation!$C$3,IF(D127=1,Simulation!$C$4,IF(D127=2,Simulation!$C$5,IF(D127=3,Simulation!$C$6,IF(D127=4,Simulation!$C$7,IF(D127=5,Simulation!$C$8)))))))","v":false},0,null,null,null,"",null,null,null,null,0,null,0,0,"Inlap",null,null,"FL"]
[1,117,117,null,{"$f":"IF(D128=\"Grid\",Simulation!$B$2,IF(D128=\"WU\",Simulation!$B$3,IF(D128=1,Simulation!$B$4,IF(D128=2,Simulation!$B$5,IF(D128=3,Simulation!$B$6,IF(D128=4,Simulation!$B$7,IF(D128=5,Simulation!$B$8)))))))","v":false},{"$f":"IF(D128=\"Grid\",Simulation!$C$2,IF(D128=\"WU\",Simulation!$C$3,IF(D128=1,Simulation!$C$4,IF(D128=2,Simulation!$C$5,IF(D128=3,Simulation!$C$6,IF(D128=4,Simulation!$C$7,IF(D128=5,Simulation!$C$8)))))))","v":false},0,null,null,null,"",null,null,null,null,0,null,0,0,"Inlap",null,null,"FL"]
[1,118,118,null,{"$f":"IF(D129=\"Grid\",Simulation!$B$2,IF(D129=\"WU\",Simulation!$B$3,IF(D129=1,Simulation!$B$4,IF(D129=2,Simulation!$B$5,IF(D129=3,Simulation!$B$6,IF(D129=4,Simulation!$B$7,IF(D129=5,Simulation!$B$8)))))))","v":false},{"$f":"IF(D129=\"Grid\",Simulation!$C$2,IF(D129=\"WU\",Simulation!$C$3,IF(D129=1,Simulation!$C$4,IF(D129=2,Simulation!$C$5,IF(D129=3,Simulation!$C$6,IF(D129=4,Simulation!$C$7,IF(D129=5,Simulation!$C$8)))))))","v":false},0,null,null,null,"",null,null,null,null,0,null,0,0,"Inlap",null,null,"FL"]
[1,119,119,null,{"$f":"IF(D130=\"Grid\",Simulation!$B$2,IF(D130=\"WU\",Simulation!$B$3,IF(D130=1,Simulation!$B$4,IF(D130=2,Simulation!$B$5,IF(D130=3,Simulation!$B$6,IF(D130=4,Simulation!$B$7,IF(D130=5,Simulation!$B$8)))))))","v":false},{"$f":"IF(D130=\"Grid\",Simulation!$C$2,IF(D130=\"WU\",Simulation!$C$3,IF(D130=1,Simulation!$C$4,IF(D130=2,Simulation!$C$5,IF(D130=3,Simulation!$C$6,IF(D130=4,Simulation!$C$7,IF(D130=5,Simulation!$C$8)))))))","v":false},0,null,null,null,"",null,null,null,null,0,null,0,0,"Inlap",null,null,"FL"]
[1,120,120,null,{"$f":"IF(D131=\"Grid\",Simulation!$B$2,IF(D131=\"WU\",Simulation!$B$3,IF(D131=1,Simulation!$B$4,IF(D131=2,Simulation!$B$5,IF(D131=3,Simulation!$B$6,IF(D131=4,Simulation!$B$7,IF(D131=5,Simulation!$B$8)))))))","v":false},{"$f":"IF(D131=\"Grid\",Simulation!$C$2,IF(D131=\"WU\",Simulation!$C$3,IF(D131=1,Simulation!$C$4,IF(D131=2,Simulation!$C$5,IF(D131=3,Simulation!$C$6,IF(D131=4,Simulation!$C$7,IF(D131=5,Simulation!$C$8)))))))","v":false},0,null,null,null,"",null,null,null,null,0,null,0,0,"Inlap",null,null,"FL"]
[1,121,121,null,{"$f":"IF(D132=\"Grid\",Simulation!$B$2,IF(D132=\"WU\",Simulation!$B$3,IF(D132=1,Simulation!$B$4,IF(D132=2,Simulation!$B$5,IF(D132=3,Simulation!$B$6,IF(D132=4,Simulation!$B$7,IF(D132=5,Simulation!$B$8)))))))","v":false},{"$f":"IF(D132=\"Grid\",Simulation!$C$2,IF(D132=\"WU\",Simulation!$C$3,IF(D132=1,Simulation!$C$4,IF(D132=2,Simulation!$C$5,IF(D132=3,Simulation!$C$6,IF(D132=4,Simulation!$C$7,IF(D132=5,Simulation!$C$8)))))))","v":false},0,null,null,null,"",null,null,null,null,0,null,0,0,"Inlap",null,null,"FL"]
[1,122,122,null,{"$f":"IF(D133=\"Grid\",Simulation!$B$2,IF(D133=\"WU\",Simulation!$B$3,IF(D133=1,Simulation!$B$4,IF(D133=2,Simulation!$B$5,IF(D133=3,Simulation!$B$6,IF(D133=4,Simulation!$B$7,IF(D133=5,Simulation!$B$8)))))))","v":false},{"$f":"IF(D133=\"Grid\",Simulation!$C$2,IF(D133=\"WU\",Simulation!$C$3,IF(D133=1,Simulation!$C$4,IF(D133=2,Simulation!$C$5,IF(D133=3,Simulation!$C$6,IF(D133=4,Simulation!$C$7,IF(D133=5,Simulation!$C$8)))))))","v":false},0,null,null,null,"",null,null,null,null,0,null,0,0,"Inlap",null,null,"FL"]
[1,123,123,null,{"$f":"IF(D134=\"Grid\",Simulation!$B$2,IF(D134=\"WU\",Simulation!$B$3,IF(D134=1,Simulation!$B$4,IF(D134=2,Simulation!$B$5,IF(D134=3,Simulation!$B$6,IF(D134=4,Simulation!$B$7,IF(D134=5,Simulation!$B$8)))))))","v":false},{"$f":"IF(D134=\"Grid\",Simulation!$C$2,IF(D134=\"WU\",Simulation!$C$3,IF(D134=1,Simulation!$C$4,IF(D134=2,Simulation!$C$5,IF(D134=3,Simulation!$C$6,IF(D134=4,Simulation!$C$7,IF(D134=5,Simulation!$C$8)))))))","v":false},0,null,null,null,"",null,null,null,null,0,null,0,0,"Inlap",null,null,"FL"]
[1,124,124,null,{"$f":"IF(D135=\"Grid\",Simulation!$B$2,IF(D135=\"WU\",Simulation!$B$3,IF(D135=1,Simulation!$B$4,IF(D135=2,Simulation!$B$5,IF(D135=3,Simulation!$B$6,IF(D135=4,Simulation!$B$7,IF(D135=5,Simulation!$B$8)))))))","v":false},{"$f":"IF(D135=\"Grid\",Simulation!$C$2,IF(D135=\"WU\",Simulation!$C$3,IF(D135=1,Simulation!$C$4,IF(D135=2,Simulation!$C$5,IF(D135=3,Simulation!$C$6,IF(D135=4,Simulation!$C$7,IF(D135=5,Simulation!$C$8)))))))","v":false},0,null,null,null,"",null,null,null,null,0,null,0,0,"Inlap",null,null,"FL"]
[1,125,125,null,{"$f":"IF(D136=\"Grid\",Simulation!$B$2,IF(D136=\"WU\",Simulation!$B$3,IF(D136=1,Simulation!$B$4,IF(D136=2,Simulation!$B$5,IF(D136=3,Simulation!$B$6,IF(D136=4,Simulation!$B$7,IF(D136=5,Simulation!$B$8)))))))","v":false},{"$f":"IF(D136=\"Grid\",Simulation!$C$2,IF(D136=\"WU\",Simulation!$C$3,IF(D136=1,Simulation!$C$4,IF(D136=2,Simulation!$C$5,IF(D136=3,Simulation!$C$6,IF(D136=4,Simulation!$C$7,IF(D136=5,Simulation!$C$8)))))))","v":false},0,null,null,null,"",null,null,null,null,0,null,0,0,"Inlap",null,null,"FL"]
[1,126,126,null,{"$f":"IF(D137=\"Grid\",Simulation!$B$2,IF(D137=\"WU\",Simulation!$B$3,IF(D137=1,Simulation!$B$4,IF(D137=2,Simulation!$B$5,IF(D137=3,Simulation!$B$6,IF(D137=4,Simulation!$B$7,IF(D137=5,Simulation!$B$8)))))))","v":false},{"$f":"IF(D137=\"Grid\",Simulation!$C$2,IF(D137=\"WU\",Simulation!$C$3,IF(D137=1,Simulation!$C$4,IF(D137=2,Simulation!$C$5,IF(D137=3,Simulation!$C$6,IF(D137=4,Simulation!$C$7,IF(D137=5,Simulation!$C$8)))))))","v":false},0,null,null,null,"",null,null,null,null,0,null,0,0,"Inlap",null,null,"FL"]
[1,127,127,null,{"$f":"IF(D138=\"Grid\",Simulation!$B$2,IF(D138=\"WU\",Simulation!$B$3,IF(D138=1,Simulation!$B$4,IF(D138=2,Simulation!$B$5,IF(D138=3,Simulation!$B$6,IF(D138=4,Simulation!$B$7,IF(D138=5,Simulation!$B$8)))))))","v":false},{"$f":"IF(D138=\"Grid\",Simulation!$C$2,IF(D138=\"WU\",Simulation!$C$3,IF(D138=1,Simulation!$C$4,IF(D138=2,Simulation!$C$5,IF(D138=3,Simulation!$C$6,IF(D138=4,Simulation!$C$7,IF(D138=5,Simulation!$C$8)))))))","v":false},0,null,null,null,"",null,null,null,null,0,null,0,0,"Inlap",null,null,"FL"]
[1,128,128,null,{"$f":"IF(D139=\"Grid\",Simulation!$B$2,IF(D139=\"WU\",Simulation!$B$3,IF(D139=1,Simulation!$B$4,IF(D139=2,Simulation!$B$5,IF(D139=3,Simulation!$B$6,IF(D139=4,Simulation!$B$7,IF(D139=5,Simulation!$B$8)))))))","v":false},{"$f":"IF(D139=\"Grid\",Simulation!$C$2,IF(D139=\"WU\",Simulation!$C$3,IF(D139=1,Simulation!$C$4,IF(D139=2,Simulation!$C$5,IF(D139=3,Simulation!$C$6,IF(D139=4,Simulation!$C$7,IF(D139=5,Simulation!$C$8)))))))","v":false},0,null,null,null,"",null,null,null,null,0,null,0,0,"Inlap",null,null,"FL"]
[{"$f":"IF(O140>0,A139+1,A139)","v":1},129,129,null,{"$f":"IF(D140=\"Grid\",Simulation!$B$2,IF(D140=\"WU\",Simulation!$B$3,IF(D140=1,Simulation!$B$4,IF(D140=2,Simulation!$B$5,IF(D140=3,Simulation!$B$6,IF(D140=4,Simulation!$B$7,IF(D140=5,Simulation!$B$8)))))))","v":false},{"$f":"IF(D140=\"Grid\",Simulation!$C$2,IF(D140=\"WU\",Simulation!$C$3,IF(D140=1,Simulation!$C$4,IF(D140=2,Simulation!$C$5,IF(D140=3,Simulation!$C$6,IF(D140=4,Simulation!$C$7,IF(D140=5,Simulation!$C$8)))))))","v":false},{"$f":"G139+O139-P139","v":0},null,null,null,"",null,null,null,null,0,null,0,{"$f":"IF(O140>0,O140+S139-Q140,S139-P140)","v":0},{"$f":"IF(S140<=F140,\"Inlap\",IF(S140<=2*F140,\"Call: In this lap!\",IF(S140<=3*F140,\"Show in but don't call!\",\"\")))","v":"Inlap"},null,null,{"$f":"IF(J140=$Q$2,\"FL\",\"\")","v":"FL"}]
[1,130,130,null,{"$f":"IF(D141=\"Grid\",Simulation!$B$2,IF(D141=\"WU\",Simulation!$B$3,IF(D141=1,Simulation!$B$4,IF(D141=2,Simulation!$B$5,IF(D141=3,Simulation!$B$6,IF(D141=4,Simulation!$B$7,IF(D141=5,Simulation!$B$8)))))))","v":false},{"$f":"IF(D141=\"Grid\",Simulation!$C$2,IF(D141=\"WU\",Simulation!$C$3,IF(D141=1,Simulation!$C$4,IF(D141=2,Simulation!$C$5,IF(D141=3,Simulation!$C$6,IF(D141=4,Simulation!$C$7,IF(D141=5,Simulation!$C$8)))))))","v":false},0,null,null,null,{"$f":"IF(J141<>0,K140,\"\")","v":""},null,null,null,null,0,null,0,0,"Inlap",null,null,"FL"]
[1,131,{"$f":"IF(O142=\"\",C141+1,\"1\")","v":131},null,{"$f":"IF(D142=\"Grid\",Simulation!$B$2,IF(D142=\"WU\",Simulation!$B$3,IF(D142=1,Simulation!$B$4,IF(D142=2,Simulation!$B$5,IF(D142=3,Simulation!$B$6,IF(D142=4,Simulation!$B$7,IF(D142=5,Simulation!$B$8)))))))","v":false},{"$f":"IF(D142=\"Grid\",Simulation!$C$2,IF(D142=\"WU\",Simulation!$C$3,IF(D142=1,Simulation!$C$4,IF(D142=2,Simulation!$C$5,IF(D142=3,Simulation!$C$6,IF(D142=4,Simulation!$C$7,IF(D142=5,Simulation!$C$8)))))))","v":false},0,null,null,null,"",null,null,null,null,0,null,0,0,"Inlap",null,null,"FL"]
[1,132,132,null,{"$f":"IF(D143=\"Grid\",Simulation!$B$2,IF(D143=\"WU\",Simulation!$B$3,IF(D143=1,Simulation!$B$4,IF(D143=2,Simulation!$B$5,IF(D143=3,Simulation!$B$6,IF(D143=4,Simulation!$B$7,IF(D143=5,Simulation!$B$8)))))))","v":false},{"$f":"IF(D143=\"Grid\",Simulation!$C$2,IF(D143=\"WU\",Simulation!$C$3,IF(D143=1,Simulation!$C$4,IF(D143=2,Simulation!$C$5,IF(D143=3,Simulation!$C$6,IF(D143=4,Simulation!$C$7,IF(D143=5,Simulation!$C$8)))))))","v":false},0,null,null,null,"",null,null,null,null,0,null,0,0,"Inlap",null,null,"FL"]
[1,133,133,null,{"$f":"IF(D144=\"Grid\",Simulation!$B$2,IF(D144=\"WU\",Simulation!$B$3,IF(D144=1,Simulation!$B$4,IF(D144=2,Simulation!$B$5,IF(D144=3,Simulation!$B$6,IF(D144=4,Simulation!$B$7,IF(D144=5,Simulation!$B$8)))))))","v":false},{"$f":"IF(D144=\"Grid\",Simulation!$C$2,IF(D144=\"WU\",Simulation!$C$3,IF(D144=1,Simulation!$C$4,IF(D144=2,Simulation!$C$5,IF(D144=3,Simulation!$C$6,IF(D144=4,Simulation!$C$7,IF(D144=5,Simulation!$C$8)))))))","v":false},0,null,null,null,"",null,null,null,null,0,null,0,0,"Inlap",null,null,"FL"]
[1,134,134,null,{"$f":"IF(D145=\"Grid\",Simulation!$B$2,IF(D145=\"WU\",Simulation!$B$3,IF(D145=1,Simulation!$B$4,IF(D145=2,Simulation!$B$5,IF(D145=3,Simulation!$B$6,IF(D145=4,Simulation!$B$7,IF(D145=5,Simulation!$B$8)))))))","v":false},{"$f":"IF(D145=\"Grid\",Simulation!$C$2,IF(D145=\"WU\",Simulation!$C$3,IF(D145=1,Simulation!$C$4,IF(D145=2,Simulation!$C$5,IF(D145=3,Simulation!$C$6,IF(D145=4,Simulation!$C$7,IF(D145=5,Simulation!$C$8)))))))","v":false},0,null,null,null,"",null,null,null,null,0,null,0,0,"Inlap",null,null,"FL"]
[1,135,135,null,{"$f":"IF(D146=\"Grid\",Simulation!$B$2,IF(D146=\"WU\",Simulation!$B$3,IF(D146=1,Simulation!$B$4,IF(D146=2,Simulation!$B$5,IF(D146=3,Simulation!$B$6,IF(D146=4,Simulation!$B$7,IF(D146=5,Simulation!$B$8)))))))","v":false},{"$f":"IF(D146=\"Grid\",Simulation!$C$2,IF(D146=\"WU\",Simulation!$C$3,IF(D146=1,Simulation!$C$4,IF(D146=2,Simulation!$C$5,IF(D146=3,Simulation!$C$6,IF(D146=4,Simulation!$C$7,IF(D146=5,Simulation!$C$8)))))))","v":false},0,null,null,null,"",null,null,null,null,0,null,0,0,"Inlap",null,null,"FL"]
[1,136,136,null,{"$f":"IF(D147=\"Grid\",Simulation!$B$2,IF(D147=\"WU\",Simulation!$B$3,IF(D147=1,Simulation!$B$4,IF(D147=2,Simulation!$B$5,IF(D147=3,Simulation!$B$6,IF(D147=4,Simulation!$B$7,IF(D147=5,Simulation!$B$8)))))))","v":false},{"$f":"IF(D147=\"Grid\",Simulation!$C$2,IF(D147=\"WU\",Simulation!$C$3,IF(D147=1,Simulation!$C$4,IF(D147=2,Simulation!$C$5,IF(D147=3,Simulation!$C$6,IF(D147=4,Simulation!$C$7,IF(D147=5,Simulation!$C$8)))))))","v":false},0,null,null,null,"",null,null,null,null,0,null,0,0,"Inlap",null,null,"FL"]
[1,137,137,null,{"$f":"IF(D148=\"Grid\",Simulation!$B$2,IF(D148=\"WU\",Simulation!$B$3,IF(D148=1,Simulation!$B$4,IF(D148=2,Simulation!$B$5,IF(D148=3,Simulation!$B$6,IF(D148=4,Simulation!$B$7,IF(D148=5,Simulation!$B$8)))))))","v":false},{"$f":"IF(D148=\"Grid\",Simulation!$C$2,IF(D148=\"WU\",Simulation!$C$3,IF(D148=1,Simulation!$C$4,IF(D148=2,Simulation!$C$5,IF(D148=3,Simulation!$C$6,IF(D148=4,Simulation!$C$7,IF(D148=5,Simulation!$C$8)))))))","v":false},0,null,null,null,"",null,null,null,null,0,null,0,0,"Inlap",null,null,"FL"]
[1,138,138,null,{"$f":"IF(D149=\"Grid\",Simulation!$B$2,IF(D149=\"WU\",Simulation!$B$3,IF(D149=1,Simulation!$B$4,IF(D149=2,Simulation!$B$5,IF(D149=3,Simulation!$B$6,IF(D149=4,Simulation!$B$7,IF(D149=5,Simulation!$B$8)))))))","v":false},{"$f":"IF(D149=\"Grid\",Simulation!$C$2,IF(D149=\"WU\",Simulation!$C$3,IF(D149=1,Simulation!$C$4,IF(D149=2,Simulation!$C$5,IF(D149=3,Simulation!$C$6,IF(D149=4,Simulation!$C$7,IF(D149=5,Simulation!$C$8)))))))","v":false},0,null,null,null,"",null,null,null,null,0,null,0,0,"Inlap",null,null,"FL"]
[1,139,139,null,{"$f":"IF(D150=\"Grid\",Simulation!$B$2,IF(D150=\"WU\",Simulation!$B$3,IF(D150=1,Simulation!$B$4,IF(D150=2,Simulation!$B$5,IF(D150=3,Simulation!$B$6,IF(D150=4,Simulation!$B$7,IF(D150=5,Simulation!$B$8)))))))","v":false},{"$f":"IF(D150=\"Grid\",Simulation!$C$2,IF(D150=\"WU\",Simulation!$C$3,IF(D150=1,Simulation!$C$4,IF(D150=2,Simulation!$C$5,IF(D150=3,Simulation!$C$6,IF(D150=4,Simulation!$C$7,IF(D150=5,Simulation!$C$8)))))))","v":false},0,null,null,null,"",null,null,null,null,0,null,0,0,"Inlap",null,null,"FL"]
[1,140,140,null,{"$f":"IF(D151=\"Grid\",Simulation!$B$2,IF(D151=\"WU\",Simulation!$B$3,IF(D151=1,Simulation!$B$4,IF(D151=2,Simulation!$B$5,IF(D151=3,Simulation!$B$6,IF(D151=4,Simulation!$B$7,IF(D151=5,Simulation!$B$8)))))))","v":false},{"$f":"IF(D151=\"Grid\",Simulation!$C$2,IF(D151=\"WU\",Simulation!$C$3,IF(D151=1,Simulation!$C$4,IF(D151=2,Simulation!$C$5,IF(D151=3,Simulation!$C$6,IF(D151=4,Simulation!$C$7,IF(D151=5,Simulation!$C$8)))))))","v":false},0,null,null,null,"",null,null,null,null,0,null,0,0,"Inlap",null,null,"FL"]
[1,141,141,null,{"$f":"IF(D152=\"Grid\",Simulation!$B$2,IF(D152=\"WU\",Simulation!$B$3,IF(D152=1,Simulation!$B$4,IF(D152=2,Simulation!$B$5,IF(D152=3,Simulation!$B$6,IF(D152=4,Simulation!$B$7,IF(D152=5,Simulation!$B$8)))))))","v":false},{"$f":"IF(D152=\"Grid\",Simulation!$C$2,IF(D152=\"WU\",Simulation!$C$3,IF(D152=1,Simulation!$C$4,IF(D152=2,Simulation!$C$5,IF(D152=3,Simulation!$C$6,IF(D152=4,Simulation!$C$7,IF(D152=5,Simulation!$C$8)))))))","v":false},0,null,null,null,"",null,null,null,null,0,null,0,0,"Inlap",null,null,"FL"]
[1,142,142,null,{"$f":"IF(D153=\"Grid\",Simulation!$B$2,IF(D153=\"WU\",Simulation!$B$3,IF(D153=1,Simulation!$B$4,IF(D153=2,Simulation!$B$5,IF(D153=3,Simulation!$B$6,IF(D153=4,Simulation!$B$7,IF(D153=5,Simulation!$B$8)))))))","v":false},{"$f":"IF(D153=\"Grid\",Simulation!$C$2,IF(D153=\"WU\",Simulation!$C$3,IF(D153=1,Simulation!$C$4,IF(D153=2,Simulation!$C$5,IF(D153=3,Simulation!$C$6,IF(D153=4,Simulation!$C$7,IF(D153=5,Simulation!$C$8)))))))","v":false},0,null,null,null,"",null,null,null,null,0,null,0,0,"Inlap",null,null,"FL"]
[1,143,143,null,{"$f":"IF(D154=\"Grid\",Simulation!$B$2,IF(D154=\"WU\",Simulation!$B$3,IF(D154=1,Simulation!$B$4,IF(D154=2,Simulation!$B$5,IF(D154=3,Simulation!$B$6,IF(D154=4,Simulation!$B$7,IF(D154=5,Simulation!$B$8)))))))","v":false},{"$f":"IF(D154=\"Grid\",Simulation!$C$2,IF(D154=\"WU\",Simulation!$C$3,IF(D154=1,Simulation!$C$4,IF(D154=2,Simulation!$C$5,IF(D154=3,Simulation!$C$6,IF(D154=4,Simulation!$C$7,IF(D154=5,Simulation!$C$8)))))))","v":false},0,null,null,null,"",null,null,null,null,0,null,0,0,"Inlap",null,null,"FL"]
[1,144,144,null,{"$f":"IF(D155=\"Grid\",Simulation!$B$2,IF(D155=\"WU\",Simulation!$B$3,IF(D155=1,Simulation!$B$4,IF(D155=2,Simulation!$B$5,IF(D155=3,Simulation!$B$6,IF(D155=4,Simulation!$B$7,IF(D155=5,Simulation!$B$8)))))))","v":false},{"$f":"IF(D155=\"Grid\",Simulation!$C$2,IF(D155=\"WU\",Simulation!$C$3,IF(D155=1,Simulation!$C$4,IF(D155=2,Simulation!$C$5,IF(D155=3,Simulation!$C$6,IF(D155=4,Simulation!$C$7,IF(D155=5,Simulation!$C$8)))))))","v":false},0,null,null,null,"",null,null,null,null,0,null,0,0,"Inlap",null,null,"FL"]
[1,145,145,null,{"$f":"IF(D156=\"Grid\",Simulation!$B$2,IF(D156=\"WU\",Simulation!$B$3,IF(D156=1,Simulation!$B$4,IF(D156=2,Simulation!$B$5,IF(D156=3,Simulation!$B$6,IF(D156=4,Simulation!$B$7,IF(D156=5,Simulation!$B$8)))))))","v":false},{"$f":"IF(D156=\"Grid\",Simulation!$C$2,IF(D156=\"WU\",Simulation!$C$3,IF(D156=1,Simulation!$C$4,IF(D156=2,Simulation!$C$5,IF(D156=3,Simulation!$C$6,IF(D156=4,Simulation!$C$7,IF(D156=5,Simulation!$C$8)))))))","v":false},0,null,null,null,"",null,null,null,null,0,null,0,0,"Inlap",null,null,"FL"]
[1,146,146,null,{"$f":"IF(D157=\"Grid\",Simulation!$B$2,IF(D157=\"WU\",Simulation!$B$3,IF(D157=1,Simulation!$B$4,IF(D157=2,Simulation!$B$5,IF(D157=3,Simulation!$B$6,IF(D157=4,Simulation!$B$7,IF(D157=5,Simulation!$B$8)))))))","v":false},{"$f":"IF(D157=\"Grid\",Simulation!$C$2,IF(D157=\"WU\",Simulation!$C$3,IF(D157=1,Simulation!$C$4,IF(D157=2,Simulation!$C$5,IF(D157=3,Simulation!$C$6,IF(D157=4,Simulation!$C$7,IF(D157=5,Simulation!$C$8)))))))","v":false},0,null,null,null,"",null,null,null,null,0,null,0,0,"Inlap",null,null,"FL"]
[1,147,147,null,{"$f":"IF(D158=\"Grid\",Simulation!$B$2,IF(D158=\"WU\",Simulation!$B$3,IF(D158=1,Simulation!$B$4,IF(D158=2,Simulation!$B$5,IF(D158=3,Simulation!$B$6,IF(D158=4,Simulation!$B$7,IF(D158=5,Simulation!$B$8)))))))","v":false},{"$f":"IF(D158=\"Grid\",Simulation!$C$2,IF(D158=\"WU\",Simulation!$C$3,IF(D158=1,Simulation!$C$4,IF(D158=2,Simulation!$C$5,IF(D158=3,Simulation!$C$6,IF(D158=4,Simulation!$C$7,IF(D158=5,Simulation!$C$8)))))))","v":false},0,null,null,null,"",null,null,null,null,0,null,0,0,"Inlap",null,null,"FL"]
[1,148,148,null,{"$f":"IF(D159=\"Grid\",Simulation!$B$2,IF(D159=\"WU\",Simulation!$B$3,IF(D159=1,Simulation!$B$4,IF(D159=2,Simulation!$B$5,IF(D159=3,Simulation!$B$6,IF(D159=4,Simulation!$B$7,IF(D159=5,Simulation!$B$8)))))))","v":false},{"$f":"IF(D159=\"Grid\",Simulation!$C$2,IF(D159=\"WU\",Simulation!$C$3,IF(D159=1,Simulation!$C$4,IF(D159=2,Simulation!$C$5,IF(D159=3,Simulation!$C$6,IF(D159=4,Simulation!$C$7,IF(D159=5,Simulation!$C$8)))))))","v":false},0,null,null,null,"",null,null,null,null,0,null,0,0,"Inlap",null,null,"FL"]
[1,149,149,null,{"$f":"IF(D160=\"Grid\",Simulation!$B$2,IF(D160=\"WU\",Simulation!$B$3,IF(D160=1,Simulation!$B$4,IF(D160=2,Simulation!$B$5,IF(D160=3,Simulation!$B$6,IF(D160=4,Simulation!$B$7,IF(D160=5,Simulation!$B$8)))))))","v":false},{"$f":"IF(D160=\"Grid\",Simulation!$C$2,IF(D160=\"WU\",Simulation!$C$3,IF(D160=1,Simulation!$C$4,IF(D160=2,Simulation!$C$5,IF(D160=3,Simulation!$C$6,IF(D160=4,Simulation!$C$7,IF(D160=5,Simulation!$C$8)))))))","v":false},0,null,null,null,"",null,null,null,null,0,null,0,0,"Inlap",null,null,"FL"]
[1,150,150,null,{"$f":"IF(D161=\"Grid\",Simulation!$B$2,IF(D161=\"WU\",Simulation!$B$3,IF(D161=1,Simulation!$B$4,IF(D161=2,Simulation!$B$5,IF(D161=3,Simulation!$B$6,IF(D161=4,Simulation!$B$7,IF(D161=5,Simulation!$B$8)))))))","v":false},{"$f":"IF(D161=\"Grid\",Simulation!$C$2,IF(D161=\"WU\",Simulation!$C$3,IF(D161=1,Simulation!$C$4,IF(D161=2,Simulation!$C$5,IF(D161=3,Simulation!$C$6,IF(D161=4,Simulation!$C$7,IF(D161=5,Simulation!$C$8)))))))","v":false},0,null,null,null,"",null,null,null,null,0,null,0,0,"Inlap",null,null,"FL"]
[1,151,151,null,{"$f":"IF(D162=\"Grid\",Simulation!$B$2,IF(D162=\"WU\",Simulation!$B$3,IF(D162=1,Simulation!$B$4,IF(D162=2,Simulation!$B$5,IF(D162=3,Simulation!$B$6,IF(D162=4,Simulation!$B$7,IF(D162=5,Simulation!$B$8)))))))","v":false},{"$f":"IF(D162=\"Grid\",Simulation!$C$2,IF(D162=\"WU\",Simulation!$C$3,IF(D162=1,Simulation!$C$4,IF(D162=2,Simulation!$C$5,IF(D162=3,Simulation!$C$6,IF(D162=4,Simulation!$C$7,IF(D162=5,Simulation!$C$8)))))))","v":false},0,null,null,null,"",null,null,null,null,0,null,0,0,"Inlap",null,null,"FL"]
[1,152,152,null,{"$f":"IF(D163=\"Grid\",Simulation!$B$2,IF(D163=\"WU\",Simulation!$B$3,IF(D163=1,Simulation!$B$4,IF(D163=2,Simulation!$B$5,IF(D163=3,Simulation!$B$6,IF(D163=4,Simulation!$B$7,IF(D163=5,Simulation!$B$8)))))))","v":false},{"$f":"IF(D163=\"Grid\",Simulation!$C$2,IF(D163=\"WU\",Simulation!$C$3,IF(D163=1,Simulation!$C$4,IF(D163=2,Simulation!$C$5,IF(D163=3,Simulation!$C$6,IF(D163=4,Simulation!$C$7,IF(D163=5,Simulation!$C$8)))))))","v":false},0,null,null,null,"",null,null,null,null,0,null,0,0,"Inlap",null,null,"FL"]
[1,153,153,null,{"$f":"IF(D164=\"Grid\",Simulation!$B$2,IF(D164=\"WU\",Simulation!$B$3,IF(D164=1,Simulation!$B$4,IF(D164=2,Simulation!$B$5,IF(D164=3,Simulation!$B$6,IF(D164=4,Simulation!$B$7,IF(D164=5,Simulation!$B$8)))))))","v":false},{"$f":"IF(D164=\"Grid\",Simulation!$C$2,IF(D164=\"WU\",Simulation!$C$3,IF(D164=1,Simulation!$C$4,IF(D164=2,Simulation!$C$5,IF(D164=3,Simulation!$C$6,IF(D164=4,Simulation!$C$7,IF(D164=5,Simulation!$C$8)))))))","v":false},0,null,null,null,"",null,null,null,null,0,null,0,0,"Inlap",null,null,"FL"]
[1,154,154,null,{"$f":"IF(D165=\"Grid\",Simulation!$B$2,IF(D165=\"WU\",Simulation!$B$3,IF(D165=1,Simulation!$B$4,IF(D165=2,Simulation!$B$5,IF(D165=3,Simulation!$B$6,IF(D165=4,Simulation!$B$7,IF(D165=5,Simulation!$B$8)))))))","v":false},{"$f":"IF(D165=\"Grid\",Simulation!$C$2,IF(D165=\"WU\",Simulation!$C$3,IF(D165=1,Simulation!$C$4,IF(D165=2,Simulation!$C$5,IF(D165=3,Simulation!$C$6,IF(D165=4,Simulation!$C$7,IF(D165=5,Simulation!$C$8)))))))","v":false},0,null,null,null,"",null,null,null,null,0,null,0,0,"Inlap",null,null,"FL"]
[1,155,155,null,{"$f":"IF(D166=\"Grid\",Simulation!$B$2,IF(D166=\"WU\",Simulation!$B$3,IF(D166=1,Simulation!$B$4,IF(D166=2,Simulation!$B$5,IF(D166=3,Simulation!$B$6,IF(D166=4,Simulation!$B$7,IF(D166=5,Simulation!$B$8)))))))","v":false},{"$f":"IF(D166=\"Grid\",Simulation!$C$2,IF(D166=\"WU\",Simulation!$C$3,IF(D166=1,Simulation!$C$4,IF(D166=2,Simulation!$C$5,IF(D166=3,Simulation!$C$6,IF(D166=4,Simulation!$C$7,IF(D166=5,Simulation!$C$8)))))))","v":false},0,null,null,null,"",null,null,null,null,0,null,0,0,"Inlap",null,null,"FL"]
[1,156,156,null,{"$f":"IF(D167=\"Grid\",Simulation!$B$2,IF(D167=\"WU\",Simulation!$B$3,IF(D167=1,Simulation!$B$4,IF(D167=2,Simulation!$B$5,IF(D167=3,Simulation!$B$6,IF(D167=4,Simulation!$B$7,IF(D167=5,Simulation!$B$8)))))))","v":false},{"$f":"IF(D167=\"Grid\",Simulation!$C$2,IF(D167=\"WU\",Simulation!$C$3,IF(D167=1,Simulation!$C$4,IF(D167=2,Simulation!$C$5,IF(D167=3,Simulation!$C$6,IF(D167=4,Simulation!$C$7,IF(D167=5,Simulation!$C$8)))))))","v":false},0,null,null,null,"",null,null,null,null,0,null,0,0,"Inlap",null,null,"FL"]
[1,157,157,null,{"$f":"IF(D168=\"Grid\",Simulation!$B$2,IF(D168=\"WU\",Simulation!$B$3,IF(D168=1,Simulation!$B$4,IF(D168=2,Simulation!$B$5,IF(D168=3,Simulation!$B$6,IF(D168=4,Simulation!$B$7,IF(D168=5,Simulation!$B$8)))))))","v":false},{"$f":"IF(D168=\"Grid\",Simulation!$C$2,IF(D168=\"WU\",Simulation!$C$3,IF(D168=1,Simulation!$C$4,IF(D168=2,Simulation!$C$5,IF(D168=3,Simulation!$C$6,IF(D168=4,Simulation!$C$7,IF(D168=5,Simulation!$C$8)))))))","v":false},0,null,null,null,"",null,null,null,null,0,null,0,0,"Inlap",null,null,"FL"]
[1,158,158,null,{"$f":"IF(D169=\"Grid\",Simulation!$B$2,IF(D169=\"WU\",Simulation!$B$3,IF(D169=1,Simulation!$B$4,IF(D169=2,Simulation!$B$5,IF(D169=3,Simulation!$B$6,IF(D169=4,Simulation!$B$7,IF(D169=5,Simulation!$B$8)))))))","v":false},{"$f":"IF(D169=\"Grid\",Simulation!$C$2,IF(D169=\"WU\",Simulation!$C$3,IF(D169=1,Simulation!$C$4,IF(D169=2,Simulation!$C$5,IF(D169=3,Simulation!$C$6,IF(D169=4,Simulation!$C$7,IF(D169=5,Simulation!$C$8)))))))","v":false},0,null,null,null,"",null,null,null,null,0,null,0,0,"Inlap",null,null,"FL"]
[1,159,159,null,{"$f":"IF(D170=\"Grid\",Simulation!$B$2,IF(D170=\"WU\",Simulation!$B$3,IF(D170=1,Simulation!$B$4,IF(D170=2,Simulation!$B$5,IF(D170=3,Simulation!$B$6,IF(D170=4,Simulation!$B$7,IF(D170=5,Simulation!$B$8)))))))","v":false},{"$f":"IF(D170=\"Grid\",Simulation!$C$2,IF(D170=\"WU\",Simulation!$C$3,IF(D170=1,Simulation!$C$4,IF(D170=2,Simulation!$C$5,IF(D170=3,Simulation!$C$6,IF(D170=4,Simulation!$C$7,IF(D170=5,Simulation!$C$8)))))))","v":false},0,null,null,null,"",null,null,null,null,0,null,0,0,"Inlap",null,null,"FL"]
[1,160,160,null,{"$f":"IF(D171=\"Grid\",Simulation!$B$2,IF(D171=\"WU\",Simulation!$B$3,IF(D171=1,Simulation!$B$4,IF(D171=2,Simulation!$B$5,IF(D171=3,Simulation!$B$6,IF(D171=4,Simulation!$B$7,IF(D171=5,Simulation!$B$8)))))))","v":false},{"$f":"IF(D171=\"Grid\",Simulation!$C$2,IF(D171=\"WU\",Simulation!$C$3,IF(D171=1,Simulation!$C$4,IF(D171=2,Simulation!$C$5,IF(D171=3,Simulation!$C$6,IF(D171=4,Simulation!$C$7,IF(D171=5,Simulation!$C$8)))))))","v":false},0,null,null,null,"",null,null,null,null,0,null,0,0,"Inlap",null,null,"FL"]
[1,161,161,null,{"$f":"IF(D172=\"Grid\",Simulation!$B$2,IF(D172=\"WU\",Simulation!$B$3,IF(D172=1,Simulation!$B$4,IF(D172=2,Simulation!$B$5,IF(D172=3,Simulation!$B$6,IF(D172=4,Simulation!$B$7,IF(D172=5,Simulation!$B$8)))))))","v":false},{"$f":"IF(D172=\"Grid\",Simulation!$C$2,IF(D172=\"WU\",Simulation!$C$3,IF(D172=1,Simulation!$C$4,IF(D172=2,Simulation!$C$5,IF(D172=3,Simulation!$C$6,IF(D172=4,Simulation!$C$7,IF(D172=5,Simulation!$C$8)))))))","v":false},0,null,null,null,"",null,null,null,null,0,null,0,0,"Inlap",null,null,"FL"]
[1,162,162,null,{"$f":"IF(D173=\"Grid\",Simulation!$B$2,IF(D173=\"WU\",Simulation!$B$3,IF(D173=1,Simulation!$B$4,IF(D173=2,Simulation!$B$5,IF(D173=3,Simulation!$B$6,IF(D173=4,Simulation!$B$7,IF(D173=5,Simulation!$B$8)))))))","v":false},{"$f":"IF(D173=\"Grid\",Simulation!$C$2,IF(D173=\"WU\",Simulation!$C$3,IF(D173=1,Simulation!$C$4,IF(D173=2,Simulation!$C$5,IF(D173=3,Simulation!$C$6,IF(D173=4,Simulation!$C$7,IF(D173=5,Simulation!$C$8)))))))","v":false},0,null,null,null,"",null,null,null,null,0,null,0,0,"Inlap",null,null,"FL"]
[1,163,163,null,{"$f":"IF(D174=\"Grid\",Simulation!$B$2,IF(D174=\"WU\",Simulation!$B$3,IF(D174=1,Simulation!$B$4,IF(D174=2,Simulation!$B$5,IF(D174=3,Simulation!$B$6,IF(D174=4,Simulation!$B$7,IF(D174=5,Simulation!$B$8)))))))","v":false},{"$f":"IF(D174=\"Grid\",Simulation!$C$2,IF(D174=\"WU\",Simulation!$C$3,IF(D174=1,Simulation!$C$4,IF(D174=2,Simulation!$C$5,IF(D174=3,Simulation!$C$6,IF(D174=4,Simulation!$C$7,IF(D174=5,Simulation!$C$8)))))))","v":false},0,null,null,null,"",null,null,null,null,{"$f":"IF(O174>0,Q174,Q174-Q173)","v":0},null,{"$f":"IF(O174>0,Q174,Q174-Q173)","v":0},0,"Inlap",null,null,"FL"]
[1,164,164,null,{"$f":"IF(D175=\"Grid\",Simulation!$B$2,IF(D175=\"WU\",Simulation!$B$3,IF(D175=1,Simulation!$B$4,IF(D175=2,Simulation!$B$5,IF(D175=3,Simulation!$B$6,IF(D175=4,Simulation!$B$7,IF(D175=5,Simulation!$B$8)))))))","v":false},{"$f":"IF(D175=\"Grid\",Simulation!$C$2,IF(D175=\"WU\",Simulation!$C$3,IF(D175=1,Simulation!$C$4,IF(D175=2,Simulation!$C$5,IF(D175=3,Simulation!$C$6,IF(D175=4,Simulation!$C$7,IF(D175=5,Simulation!$C$8)))))))","v":false},0,null,null,null,"",null,null,null,null,0,null,0,0,"Inlap",null,null,"FL"]
[1,165,165,null,{"$f":"IF(D176=\"Grid\",Simulation!$B$2,IF(D176=\"WU\",Simulation!$B$3,IF(D176=1,Simulation!$B$4,IF(D176=2,Simulation!$B$5,IF(D176=3,Simulation!$B$6,IF(D176=4,Simulation!$B$7,IF(D176=5,Simulation!$B$8)))))))","v":false},{"$f":"IF(D176=\"Grid\",Simulation!$C$2,IF(D176=\"WU\",Simulation!$C$3,IF(D176=1,Simulation!$C$4,IF(D176=2,Simulation!$C$5,IF(D176=3,Simulation!$C$6,IF(D176=4,Simulation!$C$7,IF(D176=5,Simulation!$C$8)))))))","v":false},0,null,null,null,"",null,null,null,null,0,null,0,0,"Inlap",null,null,"FL"]
[1,166,166,null,{"$f":"IF(D177=\"Grid\",Simulation!$B$2,IF(D177=\"WU\",Simulation!$B$3,IF(D177=1,Simulation!$B$4,IF(D177=2,Simulation!$B$5,IF(D177=3,Simulation!$B$6,IF(D177=4,Simulation!$B$7,IF(D177=5,Simulation!$B$8)))))))","v":false},{"$f":"IF(D177=\"Grid\",Simulation!$C$2,IF(D177=\"WU\",Simulation!$C$3,IF(D177=1,Simulation!$C$4,IF(D177=2,Simulation!$C$5,IF(D177=3,Simulation!$C$6,IF(D177=4,Simulation!$C$7,IF(D177=5,Simulation!$C$8)))))))","v":false},0,null,null,null,"",null,null,null,null,0,null,0,0,"Inlap",null,null,"FL"]
[1,167,167,null,{"$f":"IF(D178=\"Grid\",Simulation!$B$2,IF(D178=\"WU\",Simulation!$B$3,IF(D178=1,Simulation!$B$4,IF(D178=2,Simulation!$B$5,IF(D178=3,Simulation!$B$6,IF(D178=4,Simulation!$B$7,IF(D178=5,Simulation!$B$8)))))))","v":false},{"$f":"IF(D178=\"Grid\",Simulation!$C$2,IF(D178=\"WU\",Simulation!$C$3,IF(D178=1,Simulation!$C$4,IF(D178=2,Simulation!$C$5,IF(D178=3,Simulation!$C$6,IF(D178=4,Simulation!$C$7,IF(D178=5,Simulation!$C$8)))))))","v":false},0,null,null,null,"",null,null,null,null,0,null,0,0,"Inlap",null,null,"FL"]
[1,168,168,null,{"$f":"IF(D179=\"Grid\",Simulation!$B$2,IF(D179=\"WU\",Simulation!$B$3,IF(D179=1,Simulation!$B$4,IF(D179=2,Simulation!$B$5,IF(D179=3,Simulation!$B$6,IF(D179=4,Simulation!$B$7,IF(D179=5,Simulation!$B$8)))))))","v":false},{"$f":"IF(D179=\"Grid\",Simulation!$C$2,IF(D179=\"WU\",Simulation!$C$3,IF(D179=1,Simulation!$C$4,IF(D179=2,Simulation!$C$5,IF(D179=3,Simulation!$C$6,IF(D179=4,Simulation!$C$7,IF(D179=5,Simulation!$C$8)))))))","v":false},0,null,null,null,"",null,null,null,null,0,null,0,0,"Inlap",null,null,"FL"]
[1,169,169,null,{"$f":"IF(D180=\"Grid\",Simulation!$B$2,IF(D180=\"WU\",Simulation!$B$3,IF(D180=1,Simulation!$B$4,IF(D180=2,Simulation!$B$5,IF(D180=3,Simulation!$B$6,IF(D180=4,Simulation!$B$7,IF(D180=5,Simulation!$B$8)))))))","v":false},{"$f":"IF(D180=\"Grid\",Simulation!$C$2,IF(D180=\"WU\",Simulation!$C$3,IF(D180=1,Simulation!$C$4,IF(D180=2,Simulation!$C$5,IF(D180=3,Simulation!$C$6,IF(D180=4,Simulation!$C$7,IF(D180=5,Simulation!$C$8)))))))","v":false},0,null,null,null,"",null,null,null,null,0,null,0,0,"Inlap",null,null,"FL"]
[1,170,170,null,{"$f":"IF(D181=\"Grid\",Simulation!$B$2,IF(D181=\"WU\",Simulation!$B$3,IF(D181=1,Simulation!$B$4,IF(D181=2,Simulation!$B$5,IF(D181=3,Simulation!$B$6,IF(D181=4,Simulation!$B$7,IF(D181=5,Simulation!$B$8)))))))","v":false},{"$f":"IF(D181=\"Grid\",Simulation!$C$2,IF(D181=\"WU\",Simulation!$C$3,IF(D181=1,Simulation!$C$4,IF(D181=2,Simulation!$C$5,IF(D181=3,Simulation!$C$6,IF(D181=4,Simulation!$C$7,IF(D181=5,Simulation!$C$8)))))))","v":false},0,null,null,null,"",null,null,null,null,0,null,0,0,"Inlap",null,null,"FL"]
[1,171,171,null,{"$f":"IF(D182=\"Grid\",Simulation!$B$2,IF(D182=\"WU\",Simulation!$B$3,IF(D182=1,Simulation!$B$4,IF(D182=2,Simulation!$B$5,IF(D182=3,Simulation!$B$6,IF(D182=4,Simulation!$B$7,IF(D182=5,Simulation!$B$8)))))))","v":false},{"$f":"IF(D182=\"Grid\",Simulation!$C$2,IF(D182=\"WU\",Simulation!$C$3,IF(D182=1,Simulation!$C$4,IF(D182=2,Simulation!$C$5,IF(D182=3,Simulation!$C$6,IF(D182=4,Simulation!$C$7,IF(D182=5,Simulation!$C$8)))))))","v":false},0,null,null,null,"",null,null,null,null,0,null,0,0,"Inlap",null,null,"FL"]
[1,172,172,null,{"$f":"IF(D183=\"Grid\",Simulation!$B$2,IF(D183=\"WU\",Simulation!$B$3,IF(D183=1,Simulation!$B$4,IF(D183=2,Simulation!$B$5,IF(D183=3,Simulation!$B$6,IF(D183=4,Simulation!$B$7,IF(D183=5,Simulation!$B$8)))))))","v":false},{"$f":"IF(D183=\"Grid\",Simulation!$C$2,IF(D183=\"WU\",Simulation!$C$3,IF(D183=1,Simulation!$C$4,IF(D183=2,Simulation!$C$5,IF(D183=3,Simulation!$C$6,IF(D183=4,Simulation!$C$7,IF(D183=5,Simulation!$C$8)))))))","v":false},0,null,null,null,"",null,null,null,null,0,null,0,0,"Inlap",null,null,"FL"]
[1,173,173,null,{"$f":"IF(D184=\"Grid\",Simulation!$B$2,IF(D184=\"WU\",Simulation!$B$3,IF(D184=1,Simulation!$B$4,IF(D184=2,Simulation!$B$5,IF(D184=3,Simulation!$B$6,IF(D184=4,Simulation!$B$7,IF(D184=5,Simulation!$B$8)))))))","v":false},{"$f":"IF(D184=\"Grid\",Simulation!$C$2,IF(D184=\"WU\",Simulation!$C$3,IF(D184=1,Simulation!$C$4,IF(D184=2,Simulation!$C$5,IF(D184=3,Simulation!$C$6,IF(D184=4,Simulation!$C$7,IF(D184=5,Simulation!$C$8)))))))","v":false},0,null,null,null,"",null,null,null,null,0,null,0,0,"Inlap",null,null,"FL"]
[1,174,174,null,{"$f":"IF(D185=\"Grid\",Simulation!$B$2,IF(D185=\"WU\",Simulation!$B$3,IF(D185=1,Simulation!$B$4,IF(D185=2,Simulation!$B$5,IF(D185=3,Simulation!$B$6,IF(D185=4,Simulation!$B$7,IF(D185=5,Simulation!$B$8)))))))","v":false},{"$f":"IF(D185=\"Grid\",Simulation!$C$2,IF(D185=\"WU\",Simulation!$C$3,IF(D185=1,Simulation!$C$4,IF(D185=2,Simulation!$C$5,IF(D185=3,Simulation!$C$6,IF(D185=4,Simulation!$C$7,IF(D185=5,Simulation!$C$8)))))))","v":false},0,null,null,null,"",null,null,null,null,0,null,0,0,"Inlap",null,null,"FL"]
[1,175,175,null,{"$f":"IF(D186=\"Grid\",Simulation!$B$2,IF(D186=\"WU\",Simulation!$B$3,IF(D186=1,Simulation!$B$4,IF(D186=2,Simulation!$B$5,IF(D186=3,Simulation!$B$6,IF(D186=4,Simulation!$B$7,IF(D186=5,Simulation!$B$8)))))))","v":false},{"$f":"IF(D186=\"Grid\",Simulation!$C$2,IF(D186=\"WU\",Simulation!$C$3,IF(D186=1,Simulation!$C$4,IF(D186=2,Simulation!$C$5,IF(D186=3,Simulation!$C$6,IF(D186=4,Simulation!$C$7,IF(D186=5,Simulation!$C$8)))))))","v":false},0,null,null,null,"",null,null,null,null,0,null,0,0,"Inlap",null,null,"FL"]
[1,176,176,null,{"$f":"IF(D187=\"Grid\",Simulation!$B$2,IF(D187=\"WU\",Simulation!$B$3,IF(D187=1,Simulation!$B$4,IF(D187=2,Simulation!$B$5,IF(D187=3,Simulation!$B$6,IF(D187=4,Simulation!$B$7,IF(D187=5,Simulation!$B$8)))))))","v":false},{"$f":"IF(D187=\"Grid\",Simulation!$C$2,IF(D187=\"WU\",Simulation!$C$3,IF(D187=1,Simulation!$C$4,IF(D187=2,Simulation!$C$5,IF(D187=3,Simulation!$C$6,IF(D187=4,Simulation!$C$7,IF(D187=5,Simulation!$C$8)))))))","v":false},0,null,null,null,"",null,null,null,null,0,null,0,0,"Inlap",null,null,"FL"]
[1,177,177,null,{"$f":"IF(D188=\"Grid\",Simulation!$B$2,IF(D188=\"WU\",Simulation!$B$3,IF(D188=1,Simulation!$B$4,IF(D188=2,Simulation!$B$5,IF(D188=3,Simulation!$B$6,IF(D188=4,Simulation!$B$7,IF(D188=5,Simulation!$B$8)))))))","v":false},{"$f":"IF(D188=\"Grid\",Simulation!$C$2,IF(D188=\"WU\",Simulation!$C$3,IF(D188=1,Simulation!$C$4,IF(D188=2,Simulation!$C$5,IF(D188=3,Simulation!$C$6,IF(D188=4,Simulation!$C$7,IF(D188=5,Simulation!$C$8)))))))","v":false},0,null,null,null,"",null,null,null,null,0,null,0,0,"Inlap",null,null,"FL"]
[1,178,178,null,{"$f":"IF(D189=\"Grid\",Simulation!$B$2,IF(D189=\"WU\",Simulation!$B$3,IF(D189=1,Simulation!$B$4,IF(D189=2,Simulation!$B$5,IF(D189=3,Simulation!$B$6,IF(D189=4,Simulation!$B$7,IF(D189=5,Simulation!$B$8)))))))","v":false},{"$f":"IF(D189=\"Grid\",Simulation!$C$2,IF(D189=\"WU\",Simulation!$C$3,IF(D189=1,Simulation!$C$4,IF(D189=2,Simulation!$C$5,IF(D189=3,Simulation!$C$6,IF(D189=4,Simulation!$C$7,IF(D189=5,Simulation!$C$8)))))))","v":false},0,null,null,null,"",null,null,null,null,0,null,0,0,"Inlap",null,null,"FL"]
[1,179,179,null,{"$f":"IF(D190=\"Grid\",Simulation!$B$2,IF(D190=\"WU\",Simulation!$B$3,IF(D190=1,Simulation!$B$4,IF(D190=2,Simulation!$B$5,IF(D190=3,Simulation!$B$6,IF(D190=4,Simulation!$B$7,IF(D190=5,Simulation!$B$8)))))))","v":false},{"$f":"IF(D190=\"Grid\",Simulation!$C$2,IF(D190=\"WU\",Simulation!$C$3,IF(D190=1,Simulation!$C$4,IF(D190=2,Simulation!$C$5,IF(D190=3,Simulation!$C$6,IF(D190=4,Simulation!$C$7,IF(D190=5,Simulation!$C$8)))))))","v":false},0,null,null,null,"",null,null,null,null,0,null,0,0,"Inlap",null,null,"FL"]
[1,180,180,null,{"$f":"IF(D191=\"Grid\",Simulation!$B$2,IF(D191=\"WU\",Simulation!$B$3,IF(D191=1,Simulation!$B$4,IF(D191=2,Simulation!$B$5,IF(D191=3,Simulation!$B$6,IF(D191=4,Simulation!$B$7,IF(D191=5,Simulation!$B$8)))))))","v":false},{"$f":"IF(D191=\"Grid\",Simulation!$C$2,IF(D191=\"WU\",Simulation!$C$3,IF(D191=1,Simulation!$C$4,IF(D191=2,Simulation!$C$5,IF(D191=3,Simulation!$C$6,IF(D191=4,Simulation!$C$7,IF(D191=5,Simulation!$C$8)))))))","v":false},0,null,null,null,"",null,null,null,null,0,null,0,0,"Inlap",null,null,"FL"]
[1,181,181,null,{"$f":"IF(D192=\"Grid\",Simulation!$B$2,IF(D192=\"WU\",Simulation!$B$3,IF(D192=1,Simulation!$B$4,IF(D192=2,Simulation!$B$5,IF(D192=3,Simulation!$B$6,IF(D192=4,Simulation!$B$7,IF(D192=5,Simulation!$B$8)))))))","v":false},{"$f":"IF(D192=\"Grid\",Simulation!$C$2,IF(D192=\"WU\",Simulation!$C$3,IF(D192=1,Simulation!$C$4,IF(D192=2,Simulation!$C$5,IF(D192=3,Simulation!$C$6,IF(D192=4,Simulation!$C$7,IF(D192=5,Simulation!$C$8)))))))","v":false},0,null,null,null,"",null,null,null,null,0,null,0,0,"Inlap",null,null,"FL"]
[1,182,182,null,{"$f":"IF(D193=\"Grid\",Simulation!$B$2,IF(D193=\"WU\",Simulation!$B$3,IF(D193=1,Simulation!$B$4,IF(D193=2,Simulation!$B$5,IF(D193=3,Simulation!$B$6,IF(D193=4,Simulation!$B$7,IF(D193=5,Simulation!$B$8)))))))","v":false},{"$f":"IF(D193=\"Grid\",Simulation!$C$2,IF(D193=\"WU\",Simulation!$C$3,IF(D193=1,Simulation!$C$4,IF(D193=2,Simulation!$C$5,IF(D193=3,Simulation!$C$6,IF(D193=4,Simulation!$C$7,IF(D193=5,Simulation!$C$8)))))))","v":false},0,null,null,null,"",null,null,null,null,0,null,0,0,"Inlap",null,null,"FL"]
[1,183,183,null,{"$f":"IF(D194=\"Grid\",Simulation!$B$2,IF(D194=\"WU\",Simulation!$B$3,IF(D194=1,Simulation!$B$4,IF(D194=2,Simulation!$B$5,IF(D194=3,Simulation!$B$6,IF(D194=4,Simulation!$B$7,IF(D194=5,Simulation!$B$8)))))))","v":false},{"$f":"IF(D194=\"Grid\",Simulation!$C$2,IF(D194=\"WU\",Simulation!$C$3,IF(D194=1,Simulation!$C$4,IF(D194=2,Simulation!$C$5,IF(D194=3,Simulation!$C$6,IF(D194=4,Simulation!$C$7,IF(D194=5,Simulation!$C$8)))))))","v":false},0,null,null,null,"",null,null,null,null,0,null,0,0,"Inlap",null,null,"FL"]
[1,184,184,null,{"$f":"IF(D195=\"Grid\",Simulation!$B$2,IF(D195=\"WU\",Simulation!$B$3,IF(D195=1,Simulation!$B$4,IF(D195=2,Simulation!$B$5,IF(D195=3,Simulation!$B$6,IF(D195=4,Simulation!$B$7,IF(D195=5,Simulation!$B$8)))))))","v":false},{"$f":"IF(D195=\"Grid\",Simulation!$C$2,IF(D195=\"WU\",Simulation!$C$3,IF(D195=1,Simulation!$C$4,IF(D195=2,Simulation!$C$5,IF(D195=3,Simulation!$C$6,IF(D195=4,Simulation!$C$7,IF(D195=5,Simulation!$C$8)))))))","v":false},0,null,null,null,"",null,null,null,null,0,null,0,0,"Inlap",null,null,"FL"]
[1,185,185,null,{"$f":"IF(D196=\"Grid\",Simulation!$B$2,IF(D196=\"WU\",Simulation!$B$3,IF(D196=1,Simulation!$B$4,IF(D196=2,Simulation!$B$5,IF(D196=3,Simulation!$B$6,IF(D196=4,Simulation!$B$7,IF(D196=5,Simulation!$B$8)))))))","v":false},{"$f":"IF(D196=\"Grid\",Simulation!$C$2,IF(D196=\"WU\",Simulation!$C$3,IF(D196=1,Simulation!$C$4,IF(D196=2,Simulation!$C$5,IF(D196=3,Simulation!$C$6,IF(D196=4,Simulation!$C$7,IF(D196=5,Simulation!$C$8)))))))","v":false},0,null,null,null,"",null,null,null,null,0,null,0,0,"Inlap",null,null,"FL"]
[1,186,186,null,{"$f":"IF(D197=\"Grid\",Simulation!$B$2,IF(D197=\"WU\",Simulation!$B$3,IF(D197=1,Simulation!$B$4,IF(D197=2,Simulation!$B$5,IF(D197=3,Simulation!$B$6,IF(D197=4,Simulation!$B$7,IF(D197=5,Simulation!$B$8)))))))","v":false},{"$f":"IF(D197=\"Grid\",Simulation!$C$2,IF(D197=\"WU\",Simulation!$C$3,IF(D197=1,Simulation!$C$4,IF(D197=2,Simulation!$C$5,IF(D197=3,Simulation!$C$6,IF(D197=4,Simulation!$C$7,IF(D197=5,Simulation!$C$8)))))))","v":false},0,null,null,null,"",null,null,null,null,0,null,0,0,"Inlap",null,null,"FL"]
[1,187,187,null,{"$f":"IF(D198=\"Grid\",Simulation!$B$2,IF(D198=\"WU\",Simulation!$B$3,IF(D198=1,Simulation!$B$4,IF(D198=2,Simulation!$B$5,IF(D198=3,Simulation!$B$6,IF(D198=4,Simulation!$B$7,IF(D198=5,Simulation!$B$8)))))))","v":false},{"$f":"IF(D198=\"Grid\",Simulation!$C$2,IF(D198=\"WU\",Simulation!$C$3,IF(D198=1,Simulation!$C$4,IF(D198=2,Simulation!$C$5,IF(D198=3,Simulation!$C$6,IF(D198=4,Simulation!$C$7,IF(D198=5,Simulation!$C$8)))))))","v":false},0,null,null,null,"",null,null,null,null,0,null,0,0,"Inlap",null,null,"FL"]
[1,188,188,null,{"$f":"IF(D199=\"Grid\",Simulation!$B$2,IF(D199=\"WU\",Simulation!$B$3,IF(D199=1,Simulation!$B$4,IF(D199=2,Simulation!$B$5,IF(D199=3,Simulation!$B$6,IF(D199=4,Simulation!$B$7,IF(D199=5,Simulation!$B$8)))))))","v":false},{"$f":"IF(D199=\"Grid\",Simulation!$C$2,IF(D199=\"WU\",Simulation!$C$3,IF(D199=1,Simulation!$C$4,IF(D199=2,Simulation!$C$5,IF(D199=3,Simulation!$C$6,IF(D199=4,Simulation!$C$7,IF(D199=5,Simulation!$C$8)))))))","v":false},0,null,null,null,"",null,null,null,null,0,null,0,0,"Inlap",null,null,"FL"]
[1,189,189,null,{"$f":"IF(D200=\"Grid\",Simulation!$B$2,IF(D200=\"WU\",Simulation!$B$3,IF(D200=1,Simulation!$B$4,IF(D200=2,Simulation!$B$5,IF(D200=3,Simulation!$B$6,IF(D200=4,Simulation!$B$7,IF(D200=5,Simulation!$B$8)))))))","v":false},{"$f":"IF(D200=\"Grid\",Simulation!$C$2,IF(D200=\"WU\",Simulation!$C$3,IF(D200=1,Simulation!$C$4,IF(D200=2,Simulation!$C$5,IF(D200=3,Simulation!$C$6,IF(D200=4,Simulation!$C$7,IF(D200=5,Simulation!$C$8)))))))","v":false},0,null,null,null,"",null,null,null,null,0,null,0,0,"Inlap",null,null,"FL"]
[1,190,190,null,{"$f":"IF(D201=\"Grid\",Simulation!$B$2,IF(D201=\"WU\",Simulation!$B$3,IF(D201=1,Simulation!$B$4,IF(D201=2,Simulation!$B$5,IF(D201=3,Simulation!$B$6,IF(D201=4,Simulation!$B$7,IF(D201=5,Simulation!$B$8)))))))","v":false},{"$f":"IF(D201=\"Grid\",Simulation!$C$2,IF(D201=\"WU\",Simulation!$C$3,IF(D201=1,Simulation!$C$4,IF(D201=2,Simulation!$C$5,IF(D201=3,Simulation!$C$6,IF(D201=4,Simulation!$C$7,IF(D201=5,Simulation!$C$8)))))))","v":false},0,null,null,null,"",null,null,null,null,0,null,0,0,"Inlap",null,null,"FL"]
[1,191,191,null,{"$f":"IF(D202=\"Grid\",Simulation!$B$2,IF(D202=\"WU\",Simulation!$B$3,IF(D202=1,Simulation!$B$4,IF(D202=2,Simulation!$B$5,IF(D202=3,Simulation!$B$6,IF(D202=4,Simulation!$B$7,IF(D202=5,Simulation!$B$8)))))))","v":false},{"$f":"IF(D202=\"Grid\",Simulation!$C$2,IF(D202=\"WU\",Simulation!$C$3,IF(D202=1,Simulation!$C$4,IF(D202=2,Simulation!$C$5,IF(D202=3,Simulation!$C$6,IF(D202=4,Simulation!$C$7,IF(D202=5,Simulation!$C$8)))))))","v":false},0,null,null,null,"",null,null,null,null,0,null,0,0,"Inlap",null,null,"FL"]
[1,192,192,null,{"$f":"IF(D203=\"Grid\",Simulation!$B$2,IF(D203=\"WU\",Simulation!$B$3,IF(D203=1,Simulation!$B$4,IF(D203=2,Simulation!$B$5,IF(D203=3,Simulation!$B$6,IF(D203=4,Simulation!$B$7,IF(D203=5,Simulation!$B$8)))))))","v":false},{"$f":"IF(D203=\"Grid\",Simulation!$C$2,IF(D203=\"WU\",Simulation!$C$3,IF(D203=1,Simulation!$C$4,IF(D203=2,Simulation!$C$5,IF(D203=3,Simulation!$C$6,IF(D203=4,Simulation!$C$7,IF(D203=5,Simulation!$C$8)))))))","v":false},0,null,null,null,"",null,null,null,null,0,null,0,0,"Inlap",null,null,"FL"]
[{"$f":"IF(O204>0,A203+1,A203)","v":1},193,193,null,{"$f":"IF(D204=\"Grid\",Simulation!$B$2,IF(D204=\"WU\",Simulation!$B$3,IF(D204=1,Simulation!$B$4,IF(D204=2,Simulation!$B$5,IF(D204=3,Simulation!$B$6,IF(D204=4,Simulation!$B$7,IF(D204=5,Simulation!$B$8)))))))","v":false},{"$f":"IF(D204=\"Grid\",Simulation!$C$2,IF(D204=\"WU\",Simulation!$C$3,IF(D204=1,Simulation!$C$4,IF(D204=2,Simulation!$C$5,IF(D204=3,Simulation!$C$6,IF(D204=4,Simulation!$C$7,IF(D204=5,Simulation!$C$8)))))))","v":false},{"$f":"G203+O203-P203","v":0},null,null,null,"",null,null,null,null,0,null,0,{"$f":"IF(O204>0,O204+S203-Q204,S203-P204)","v":0},{"$f":"IF(S204<=F204,\"Inlap\",IF(S204<=2*F204,\"Call: In this lap!\",IF(S204<=3*F204,\"Show in but don't call!\",\"\")))","v":"Inlap"},null,null,{"$f":"IF(J204=$Q$2,\"FL\",\"\")","v":"FL"}]
[1,194,194,null,{"$f":"IF(D205=\"Grid\",Simulation!$B$2,IF(D205=\"WU\",Simulation!$B$3,IF(D205=1,Simulation!$B$4,IF(D205=2,Simulation!$B$5,IF(D205=3,Simulation!$B$6,IF(D205=4,Simulation!$B$7,IF(D205=5,Simulation!$B$8)))))))","v":false},{"$f":"IF(D205=\"Grid\",Simulation!$C$2,IF(D205=\"WU\",Simulation!$C$3,IF(D205=1,Simulation!$C$4,IF(D205=2,Simulation!$C$5,IF(D205=3,Simulation!$C$6,IF(D205=4,Simulation!$C$7,IF(D205=5,Simulation!$C$8)))))))","v":false},0,null,null,null,{"$f":"IF(J205<>0,K204,\"\")","v":""},null,null,null,null,0,null,0,0,"Inlap",null,null,"FL"]
[1,195,{"$f":"IF(O206=\"\",C205+1,\"1\")","v":195},null,{"$f":"IF(D206=\"Grid\",Simulation!$B$2,IF(D206=\"WU\",Simulation!$B$3,IF(D206=1,Simulation!$B$4,IF(D206=2,Simulation!$B$5,IF(D206=3,Simulation!$B$6,IF(D206=4,Simulation!$B$7,IF(D206=5,Simulation!$B$8)))))))","v":false},{"$f":"IF(D206=\"Grid\",Simulation!$C$2,IF(D206=\"WU\",Simulation!$C$3,IF(D206=1,Simulation!$C$4,IF(D206=2,Simulation!$C$5,IF(D206=3,Simulation!$C$6,IF(D206=4,Simulation!$C$7,IF(D206=5,Simulation!$C$8)))))))","v":false},0,null,null,null,"",null,null,null,null,0,null,0,0,"Inlap",null,null,"FL"]
[1,196,196,null,{"$f":"IF(D207=\"Grid\",Simulation!$B$2,IF(D207=\"WU\",Simulation!$B$3,IF(D207=1,Simulation!$B$4,IF(D207=2,Simulation!$B$5,IF(D207=3,Simulation!$B$6,IF(D207=4,Simulation!$B$7,IF(D207=5,Simulation!$B$8)))))))","v":false},{"$f":"IF(D207=\"Grid\",Simulation!$C$2,IF(D207=\"WU\",Simulation!$C$3,IF(D207=1,Simulation!$C$4,IF(D207=2,Simulation!$C$5,IF(D207=3,Simulation!$C$6,IF(D207=4,Simulation!$C$7,IF(D207=5,Simulation!$C$8)))))))","v":false},0,null,null,null,"",null,null,null,null,0,null,0,0,"Inlap",null,null,"FL"]
[1,197,197,null,{"$f":"IF(D208=\"Grid\",Simulation!$B$2,IF(D208=\"WU\",Simulation!$B$3,IF(D208=1,Simulation!$B$4,IF(D208=2,Simulation!$B$5,IF(D208=3,Simulation!$B$6,IF(D208=4,Simulation!$B$7,IF(D208=5,Simulation!$B$8)))))))","v":false},{"$f":"IF(D208=\"Grid\",Simulation!$C$2,IF(D208=\"WU\",Simulation!$C$3,IF(D208=1,Simulation!$C$4,IF(D208=2,Simulation!$C$5,IF(D208=3,Simulation!$C$6,IF(D208=4,Simulation!$C$7,IF(D208=5,Simulation!$C$8)))))))","v":false},0,null,null,null,"",null,null,null,null,0,null,0,0,"Inlap",null,null,"FL"]
[1,198,198,null,{"$f":"IF(D209=\"Grid\",Simulation!$B$2,IF(D209=\"WU\",Simulation!$B$3,IF(D209=1,Simulation!$B$4,IF(D209=2,Simulation!$B$5,IF(D209=3,Simulation!$B$6,IF(D209=4,Simulation!$B$7,IF(D209=5,Simulation!$B$8)))))))","v":false},{"$f":"IF(D209=\"Grid\",Simulation!$C$2,IF(D209=\"WU\",Simulation!$C$3,IF(D209=1,Simulation!$C$4,IF(D209=2,Simulation!$C$5,IF(D209=3,Simulation!$C$6,IF(D209=4,Simulation!$C$7,IF(D209=5,Simulation!$C$8)))))))","v":false},0,null,null,null,"",null,null,null,null,0,null,0,0,"Inlap",null,null,"FL"]
[1,199,199,null,{"$f":"IF(D210=\"Grid\",Simulation!$B$2,IF(D210=\"WU\",Simulation!$B$3,IF(D210=1,Simulation!$B$4,IF(D210=2,Simulation!$B$5,IF(D210=3,Simulation!$B$6,IF(D210=4,Simulation!$B$7,IF(D210=5,Simulation!$B$8)))))))","v":false},{"$f":"IF(D210=\"Grid\",Simulation!$C$2,IF(D210=\"WU\",Simulation!$C$3,IF(D210=1,Simulation!$C$4,IF(D210=2,Simulation!$C$5,IF(D210=3,Simulation!$C$6,IF(D210=4,Simulation!$C$7,IF(D210=5,Simulation!$C$8)))))))","v":false},0,null,null,null,"",null,null,null,null,0,null,0,0,"Inlap",null,null,"FL"]
[1,200,200,null,{"$f":"IF(D211=\"Grid\",Simulation!$B$2,IF(D211=\"WU\",Simulation!$B$3,IF(D211=1,Simulation!$B$4,IF(D211=2,Simulation!$B$5,IF(D211=3,Simulation!$B$6,IF(D211=4,Simulation!$B$7,IF(D211=5,Simulation!$B$8)))))))","v":false},{"$f":"IF(D211=\"Grid\",Simulation!$C$2,IF(D211=\"WU\",Simulation!$C$3,IF(D211=1,Simulation!$C$4,IF(D211=2,Simulation!$C$5,IF(D211=3,Simulation!$C$6,IF(D211=4,Simulation!$C$7,IF(D211=5,Simulation!$C$8)))))))","v":false},0,null,null,null,"",null,null,null,null,0,null,0,0,"Inlap",null,null,"FL"]
[1,201,201,null,{"$f":"IF(D212=\"Grid\",Simulation!$B$2,IF(D212=\"WU\",Simulation!$B$3,IF(D212=1,Simulation!$B$4,IF(D212=2,Simulation!$B$5,IF(D212=3,Simulation!$B$6,IF(D212=4,Simulation!$B$7,IF(D212=5,Simulation!$B$8)))))))","v":false},{"$f":"IF(D212=\"Grid\",Simulation!$C$2,IF(D212=\"WU\",Simulation!$C$3,IF(D212=1,Simulation!$C$4,IF(D212=2,Simulation!$C$5,IF(D212=3,Simulation!$C$6,IF(D212=4,Simulation!$C$7,IF(D212=5,Simulation!$C$8)))))))","v":false},0,null,null,null,"",null,null,null,null,0,null,0,0,"Inlap",null,null,"FL"]
[1,202,202,null,{"$f":"IF(D213=\"Grid\",Simulation!$B$2,IF(D213=\"WU\",Simulation!$B$3,IF(D213=1,Simulation!$B$4,IF(D213=2,Simulation!$B$5,IF(D213=3,Simulation!$B$6,IF(D213=4,Simulation!$B$7,IF(D213=5,Simulation!$B$8)))))))","v":false},{"$f":"IF(D213=\"Grid\",Simulation!$C$2,IF(D213=\"WU\",Simulation!$C$3,IF(D213=1,Simulation!$C$4,IF(D213=2,Simulation!$C$5,IF(D213=3,Simulation!$C$6,IF(D213=4,Simulation!$C$7,IF(D213=5,Simulation!$C$8)))))))","v":false},0,null,null,null,"",null,null,null,null,0,null,0,0,"Inlap",null,null,"FL"]
[1,203,203,null,{"$f":"IF(D214=\"Grid\",Simulation!$B$2,IF(D214=\"WU\",Simulation!$B$3,IF(D214=1,Simulation!$B$4,IF(D214=2,Simulation!$B$5,IF(D214=3,Simulation!$B$6,IF(D214=4,Simulation!$B$7,IF(D214=5,Simulation!$B$8)))))))","v":false},{"$f":"IF(D214=\"Grid\",Simulation!$C$2,IF(D214=\"WU\",Simulation!$C$3,IF(D214=1,Simulation!$C$4,IF(D214=2,Simulation!$C$5,IF(D214=3,Simulation!$C$6,IF(D214=4,Simulation!$C$7,IF(D214=5,Simulation!$C$8)))))))","v":false},0,null,null,null,"",null,null,null,null,0,null,0,0,"Inlap",null,null,"FL"]
[1,204,204,null,{"$f":"IF(D215=\"Grid\",Simulation!$B$2,IF(D215=\"WU\",Simulation!$B$3,IF(D215=1,Simulation!$B$4,IF(D215=2,Simulation!$B$5,IF(D215=3,Simulation!$B$6,IF(D215=4,Simulation!$B$7,IF(D215=5,Simulation!$B$8)))))))","v":false},{"$f":"IF(D215=\"Grid\",Simulation!$C$2,IF(D215=\"WU\",Simulation!$C$3,IF(D215=1,Simulation!$C$4,IF(D215=2,Simulation!$C$5,IF(D215=3,Simulation!$C$6,IF(D215=4,Simulation!$C$7,IF(D215=5,Simulation!$C$8)))))))","v":false},0,null,null,null,"",null,null,null,null,0,null,0,0,"Inlap",null,null,"FL"]
[1,205,205,null,{"$f":"IF(D216=\"Grid\",Simulation!$B$2,IF(D216=\"WU\",Simulation!$B$3,IF(D216=1,Simulation!$B$4,IF(D216=2,Simulation!$B$5,IF(D216=3,Simulation!$B$6,IF(D216=4,Simulation!$B$7,IF(D216=5,Simulation!$B$8)))))))","v":false},{"$f":"IF(D216=\"Grid\",Simulation!$C$2,IF(D216=\"WU\",Simulation!$C$3,IF(D216=1,Simulation!$C$4,IF(D216=2,Simulation!$C$5,IF(D216=3,Simulation!$C$6,IF(D216=4,Simulation!$C$7,IF(D216=5,Simulation!$C$8)))))))","v":false},0,null,null,null,"",null,null,null,null,0,null,0,0,"Inlap",null,null,"FL"]
[1,206,206,null,{"$f":"IF(D217=\"Grid\",Simulation!$B$2,IF(D217=\"WU\",Simulation!$B$3,IF(D217=1,Simulation!$B$4,IF(D217=2,Simulation!$B$5,IF(D217=3,Simulation!$B$6,IF(D217=4,Simulation!$B$7,IF(D217=5,Simulation!$B$8)))))))","v":false},{"$f":"IF(D217=\"Grid\",Simulation!$C$2,IF(D217=\"WU\",Simulation!$C$3,IF(D217=1,Simulation!$C$4,IF(D217=2,Simulation!$C$5,IF(D217=3,Simulation!$C$6,IF(D217=4,Simulation!$C$7,IF(D217=5,Simulation!$C$8)))))))","v":false},0,null,null,null,"",null,null,null,null,0,null,0,0,"Inlap",null,null,"FL"]
[1,207,207,null,{"$f":"IF(D218=\"Grid\",Simulation!$B$2,IF(D218=\"WU\",Simulation!$B$3,IF(D218=1,Simulation!$B$4,IF(D218=2,Simulation!$B$5,IF(D218=3,Simulation!$B$6,IF(D218=4,Simulation!$B$7,IF(D218=5,Simulation!$B$8)))))))","v":false},{"$f":"IF(D218=\"Grid\",Simulation!$C$2,IF(D218=\"WU\",Simulation!$C$3,IF(D218=1,Simulation!$C$4,IF(D218=2,Simulation!$C$5,IF(D218=3,Simulation!$C$6,IF(D218=4,Simulation!$C$7,IF(D218=5,Simulation!$C$8)))))))","v":false},0,null,null,null,"",null,null,null,null,0,null,0,0,"Inlap",null,null,"FL"]
[1,208,208,null,{"$f":"IF(D219=\"Grid\",Simulation!$B$2,IF(D219=\"WU\",Simulation!$B$3,IF(D219=1,Simulation!$B$4,IF(D219=2,Simulation!$B$5,IF(D219=3,Simulation!$B$6,IF(D219=4,Simulation!$B$7,IF(D219=5,Simulation!$B$8)))))))","v":false},{"$f":"IF(D219=\"Grid\",Simulation!$C$2,IF(D219=\"WU\",Simulation!$C$3,IF(D219=1,Simulation!$C$4,IF(D219=2,Simulation!$C$5,IF(D219=3,Simulation!$C$6,IF(D219=4,Simulation!$C$7,IF(D219=5,Simulation!$C$8)))))))","v":false},0,null,null,null,"",null,null,null,null,0,null,0,0,"Inlap",null,null,"FL"]
[1,209,209,null,{"$f":"IF(D220=\"Grid\",Simulation!$B$2,IF(D220=\"WU\",Simulation!$B$3,IF(D220=1,Simulation!$B$4,IF(D220=2,Simulation!$B$5,IF(D220=3,Simulation!$B$6,IF(D220=4,Simulation!$B$7,IF(D220=5,Simulation!$B$8)))))))","v":false},{"$f":"IF(D220=\"Grid\",Simulation!$C$2,IF(D220=\"WU\",Simulation!$C$3,IF(D220=1,Simulation!$C$4,IF(D220=2,Simulation!$C$5,IF(D220=3,Simulation!$C$6,IF(D220=4,Simulation!$C$7,IF(D220=5,Simulation!$C$8)))))))","v":false},0,null,null,null,"",null,null,null,null,0,null,0,0,"Inlap",null,null,"FL"]
[1,210,210,null,{"$f":"IF(D221=\"Grid\",Simulation!$B$2,IF(D221=\"WU\",Simulation!$B$3,IF(D221=1,Simulation!$B$4,IF(D221=2,Simulation!$B$5,IF(D221=3,Simulation!$B$6,IF(D221=4,Simulation!$B$7,IF(D221=5,Simulation!$B$8)))))))","v":false},{"$f":"IF(D221=\"Grid\",Simulation!$C$2,IF(D221=\"WU\",Simulation!$C$3,IF(D221=1,Simulation!$C$4,IF(D221=2,Simulation!$C$5,IF(D221=3,Simulation!$C$6,IF(D221=4,Simulation!$C$7,IF(D221=5,Simulation!$C$8)))))))","v":false},0,null,null,null,"",null,null,null,null,0,null,0,0,"Inlap",null,null,"FL"]
[1,211,211,null,{"$f":"IF(D222=\"Grid\",Simulation!$B$2,IF(D222=\"WU\",Simulation!$B$3,IF(D222=1,Simulation!$B$4,IF(D222=2,Simulation!$B$5,IF(D222=3,Simulation!$B$6,IF(D222=4,Simulation!$B$7,IF(D222=5,Simulation!$B$8)))))))","v":false},{"$f":"IF(D222=\"Grid\",Simulation!$C$2,IF(D222=\"WU\",Simulation!$C$3,IF(D222=1,Simulation!$C$4,IF(D222=2,Simulation!$C$5,IF(D222=3,Simulation!$C$6,IF(D222=4,Simulation!$C$7,IF(D222=5,Simulation!$C$8)))))))","v":false},0,null,null,null,"",null,null,null,null,0,null,0,0,"Inlap",null,null,"FL"]
[1,212,212,null,{"$f":"IF(D223=\"Grid\",Simulation!$B$2,IF(D223=\"WU\",Simulation!$B$3,IF(D223=1,Simulation!$B$4,IF(D223=2,Simulation!$B$5,IF(D223=3,Simulation!$B$6,IF(D223=4,Simulation!$B$7,IF(D223=5,Simulation!$B$8)))))))","v":false},{"$f":"IF(D223=\"Grid\",Simulation!$C$2,IF(D223=\"WU\",Simulation!$C$3,IF(D223=1,Simulation!$C$4,IF(D223=2,Simulation!$C$5,IF(D223=3,Simulation!$C$6,IF(D223=4,Simulation!$C$7,IF(D223=5,Simulation!$C$8)))))))","v":false},0,null,null,null,"",null,null,null,null,0,null,0,0,"Inlap",null,null,"FL"]
[1,213,213,null,{"$f":"IF(D224=\"Grid\",Simulation!$B$2,IF(D224=\"WU\",Simulation!$B$3,IF(D224=1,Simulation!$B$4,IF(D224=2,Simulation!$B$5,IF(D224=3,Simulation!$B$6,IF(D224=4,Simulation!$B$7,IF(D224=5,Simulation!$B$8)))))))","v":false},{"$f":"IF(D224=\"Grid\",Simulation!$C$2,IF(D224=\"WU\",Simulation!$C$3,IF(D224=1,Simulation!$C$4,IF(D224=2,Simulation!$C$5,IF(D224=3,Simulation!$C$6,IF(D224=4,Simulation!$C$7,IF(D224=5,Simulation!$C$8)))))))","v":false},0,null,null,null,"",null,null,null,null,0,null,0,0,"Inlap",null,null,"FL"]
[1,214,214,null,{"$f":"IF(D225=\"Grid\",Simulation!$B$2,IF(D225=\"WU\",Simulation!$B$3,IF(D225=1,Simulation!$B$4,IF(D225=2,Simulation!$B$5,IF(D225=3,Simulation!$B$6,IF(D225=4,Simulation!$B$7,IF(D225=5,Simulation!$B$8)))))))","v":false},{"$f":"IF(D225=\"Grid\",Simulation!$C$2,IF(D225=\"WU\",Simulation!$C$3,IF(D225=1,Simulation!$C$4,IF(D225=2,Simulation!$C$5,IF(D225=3,Simulation!$C$6,IF(D225=4,Simulation!$C$7,IF(D225=5,Simulation!$C$8)))))))","v":false},0,null,null,null,"",null,null,null,null,0,null,0,0,"Inlap",null,null,"FL"]
[1,215,215,null,{"$f":"IF(D226=\"Grid\",Simulation!$B$2,IF(D226=\"WU\",Simulation!$B$3,IF(D226=1,Simulation!$B$4,IF(D226=2,Simulation!$B$5,IF(D226=3,Simulation!$B$6,IF(D226=4,Simulation!$B$7,IF(D226=5,Simulation!$B$8)))))))","v":false},{"$f":"IF(D226=\"Grid\",Simulation!$C$2,IF(D226=\"WU\",Simulation!$C$3,IF(D226=1,Simulation!$C$4,IF(D226=2,Simulation!$C$5,IF(D226=3,Simulation!$C$6,IF(D226=4,Simulation!$C$7,IF(D226=5,Simulation!$C$8)))))))","v":false},0,null,null,null,"",null,null,null,null,0,null,0,0,"Inlap",null,null,"FL"]
[1,216,216,null,{"$f":"IF(D227=\"Grid\",Simulation!$B$2,IF(D227=\"WU\",Simulation!$B$3,IF(D227=1,Simulation!$B$4,IF(D227=2,Simulation!$B$5,IF(D227=3,Simulation!$B$6,IF(D227=4,Simulation!$B$7,IF(D227=5,Simulation!$B$8)))))))","v":false},{"$f":"IF(D227=\"Grid\",Simulation!$C$2,IF(D227=\"WU\",Simulation!$C$3,IF(D227=1,Simulation!$C$4,IF(D227=2,Simulation!$C$5,IF(D227=3,Simulation!$C$6,IF(D227=4,Simulation!$C$7,IF(D227=5,Simulation!$C$8)))))))","v":false},0,null,null,null,"",null,null,null,null,0,null,0,0,"Inlap",null,null,"FL"]
[1,217,217,null,{"$f":"IF(D228=\"Grid\",Simulation!$B$2,IF(D228=\"WU\",Simulation!$B$3,IF(D228=1,Simulation!$B$4,IF(D228=2,Simulation!$B$5,IF(D228=3,Simulation!$B$6,IF(D228=4,Simulation!$B$7,IF(D228=5,Simulation!$B$8)))))))","v":false},{"$f":"IF(D228=\"Grid\",Simulation!$C$2,IF(D228=\"WU\",Simulation!$C$3,IF(D228=1,Simulation!$C$4,IF(D228=2,Simulation!$C$5,IF(D228=3,Simulation!$C$6,IF(D228=4,Simulation!$C$7,IF(D228=5,Simulation!$C$8)))))))","v":false},0,null,null,null,"",null,null,null,null,0,null,0,0,"Inlap",null,null,"FL"]
[1,218,218,null,{"$f":"IF(D229=\"Grid\",Simulation!$B$2,IF(D229=\"WU\",Simulation!$B$3,IF(D229=1,Simulation!$B$4,IF(D229=2,Simulation!$B$5,IF(D229=3,Simulation!$B$6,IF(D229=4,Simulation!$B$7,IF(D229=5,Simulation!$B$8)))))))","v":false},{"$f":"IF(D229=\"Grid\",Simulation!$C$2,IF(D229=\"WU\",Simulation!$C$3,IF(D229=1,Simulation!$C$4,IF(D229=2,Simulation!$C$5,IF(D229=3,Simulation!$C$6,IF(D229=4,Simulation!$C$7,IF(D229=5,Simulation!$C$8)))))))","v":false},0,null,null,null,"",null,null,null,null,0,null,0,0,"Inlap",null,null,"FL"]
[1,219,219,null,{"$f":"IF(D230=\"Grid\",Simulation!$B$2,IF(D230=\"WU\",Simulation!$B$3,IF(D230=1,Simulation!$B$4,IF(D230=2,Simulation!$B$5,IF(D230=3,Simulation!$B$6,IF(D230=4,Simulation!$B$7,IF(D230=5,Simulation!$B$8)))))))","v":false},{"$f":"IF(D230=\"Grid\",Simulation!$C$2,IF(D230=\"WU\",Simulation!$C$3,IF(D230=1,Simulation!$C$4,IF(D230=2,Simulation!$C$5,IF(D230=3,Simulation!$C$6,IF(D230=4,Simulation!$C$7,IF(D230=5,Simulation!$C$8)))))))","v":false},0,null,null,null,"",null,null,null,null,0,null,0,0,"Inlap",null,null,"FL"]
[1,220,220,null,{"$f":"IF(D231=\"Grid\",Simulation!$B$2,IF(D231=\"WU\",Simulation!$B$3,IF(D231=1,Simulation!$B$4,IF(D231=2,Simulation!$B$5,IF(D231=3,Simulation!$B$6,IF(D231=4,Simulation!$B$7,IF(D231=5,Simulation!$B$8)))))))","v":false},{"$f":"IF(D231=\"Grid\",Simulation!$C$2,IF(D231=\"WU\",Simulation!$C$3,IF(D231=1,Simulation!$C$4,IF(D231=2,Simulation!$C$5,IF(D231=3,Simulation!$C$6,IF(D231=4,Simulation!$C$7,IF(D231=5,Simulation!$C$8)))))))","v":false},0,null,null,null,"",null,null,null,null,0,null,0,0,"Inlap",null,null,"FL"]
[1,221,221,null,{"$f":"IF(D232=\"Grid\",Simulation!$B$2,IF(D232=\"WU\",Simulation!$B$3,IF(D232=1,Simulation!$B$4,IF(D232=2,Simulation!$B$5,IF(D232=3,Simulation!$B$6,IF(D232=4,Simulation!$B$7,IF(D232=5,Simulation!$B$8)))))))","v":false},{"$f":"IF(D232=\"Grid\",Simulation!$C$2,IF(D232=\"WU\",Simulation!$C$3,IF(D232=1,Simulation!$C$4,IF(D232=2,Simulation!$C$5,IF(D232=3,Simulation!$C$6,IF(D232=4,Simulation!$C$7,IF(D232=5,Simulation!$C$8)))))))","v":false},0,null,null,null,"",null,null,null,null,0,null,0,0,"Inlap",null,null,"FL"]
[1,222,222,null,{"$f":"IF(D233=\"Grid\",Simulation!$B$2,IF(D233=\"WU\",Simulation!$B$3,IF(D233=1,Simulation!$B$4,IF(D233=2,Simulation!$B$5,IF(D233=3,Simulation!$B$6,IF(D233=4,Simulation!$B$7,IF(D233=5,Simulation!$B$8)))))))","v":false},{"$f":"IF(D233=\"Grid\",Simulation!$C$2,IF(D233=\"WU\",Simulation!$C$3,IF(D233=1,Simulation!$C$4,IF(D233=2,Simulation!$C$5,IF(D233=3,Simulation!$C$6,IF(D233=4,Simulation!$C$7,IF(D233=5,Simulation!$C$8)))))))","v":false},0,null,null,null,"",null,null,null,null,0,null,0,0,"Inlap",null,null,"FL"]
[1,223,223,null,{"$f":"IF(D234=\"Grid\",Simulation!$B$2,IF(D234=\"WU\",Simulation!$B$3,IF(D234=1,Simulation!$B$4,IF(D234=2,Simulation!$B$5,IF(D234=3,Simulation!$B$6,IF(D234=4,Simulation!$B$7,IF(D234=5,Simulation!$B$8)))))))","v":false},{"$f":"IF(D234=\"Grid\",Simulation!$C$2,IF(D234=\"WU\",Simulation!$C$3,IF(D234=1,Simulation!$C$4,IF(D234=2,Simulation!$C$5,IF(D234=3,Simulation!$C$6,IF(D234=4,Simulation!$C$7,IF(D234=5,Simulation!$C$8)))))))","v":false},0,null,null,null,"",null,null,null,null,0,null,0,0,"Inlap",null,null,"FL"]
[1,224,224,null,{"$f":"IF(D235=\"Grid\",Simulation!$B$2,IF(D235=\"WU\",Simulation!$B$3,IF(D235=1,Simulation!$B$4,IF(D235=2,Simulation!$B$5,IF(D235=3,Simulation!$B$6,IF(D235=4,Simulation!$B$7,IF(D235=5,Simulation!$B$8)))))))","v":false},{"$f":"IF(D235=\"Grid\",Simulation!$C$2,IF(D235=\"WU\",Simulation!$C$3,IF(D235=1,Simulation!$C$4,IF(D235=2,Simulation!$C$5,IF(D235=3,Simulation!$C$6,IF(D235=4,Simulation!$C$7,IF(D235=5,Simulation!$C$8)))))))","v":false},0,null,null,null,"",null,null,null,null,0,null,0,0,"Inlap",null,null,"FL"]
[1,225,225,null,{"$f":"IF(D236=\"Grid\",Simulation!$B$2,IF(D236=\"WU\",Simulation!$B$3,IF(D236=1,Simulation!$B$4,IF(D236=2,Simulation!$B$5,IF(D236=3,Simulation!$B$6,IF(D236=4,Simulation!$B$7,IF(D236=5,Simulation!$B$8)))))))","v":false},{"$f":"IF(D236=\"Grid\",Simulation!$C$2,IF(D236=\"WU\",Simulation!$C$3,IF(D236=1,Simulation!$C$4,IF(D236=2,Simulation!$C$5,IF(D236=3,Simulation!$C$6,IF(D236=4,Simulation!$C$7,IF(D236=5,Simulation!$C$8)))))))","v":false},0,null,null,null,"",null,null,null,null,0,null,0,0,"Inlap",null,null,"FL"]
[1,226,226,null,{"$f":"IF(D237=\"Grid\",Simulation!$B$2,IF(D237=\"WU\",Simulation!$B$3,IF(D237=1,Simulation!$B$4,IF(D237=2,Simulation!$B$5,IF(D237=3,Simulation!$B$6,IF(D237=4,Simulation!$B$7,IF(D237=5,Simulation!$B$8)))))))","v":false},{"$f":"IF(D237=\"Grid\",Simulation!$C$2,IF(D237=\"WU\",Simulation!$C$3,IF(D237=1,Simulation!$C$4,IF(D237=2,Simulation!$C$5,IF(D237=3,Simulation!$C$6,IF(D237=4,Simulation!$C$7,IF(D237=5,Simulation!$C$8)))))))","v":false},0,null,null,null,"",null,null,null,null,0,null,0,0,"Inlap",null,null,"FL"]
[1,227,227,null,{"$f":"IF(D238=\"Grid\",Simulation!$B$2,IF(D238=\"WU\",Simulation!$B$3,IF(D238=1,Simulation!$B$4,IF(D238=2,Simulation!$B$5,IF(D238=3,Simulation!$B$6,IF(D238=4,Simulation!$B$7,IF(D238=5,Simulation!$B$8)))))))","v":false},{"$f":"IF(D238=\"Grid\",Simulation!$C$2,IF(D238=\"WU\",Simulation!$C$3,IF(D238=1,Simulation!$C$4,IF(D238=2,Simulation!$C$5,IF(D238=3,Simulation!$C$6,IF(D238=4,Simulation!$C$7,IF(D238=5,Simulation!$C$8)))))))","v":false},0,null,null,null,"",null,null,null,null,{"$f":"IF(O238>0,Q238,Q238-Q237)","v":0},null,{"$f":"IF(O238>0,Q238,Q238-Q237)","v":0},0,"Inlap",null,null,"FL"]
[1,228,228,null,{"$f":"IF(D239=\"Grid\",Simulation!$B$2,IF(D239=\"WU\",Simulation!$B$3,IF(D239=1,Simulation!$B$4,IF(D239=2,Simulation!$B$5,IF(D239=3,Simulation!$B$6,IF(D239=4,Simulation!$B$7,IF(D239=5,Simulation!$B$8)))))))","v":false},{"$f":"IF(D239=\"Grid\",Simulation!$C$2,IF(D239=\"WU\",Simulation!$C$3,IF(D239=1,Simulation!$C$4,IF(D239=2,Simulation!$C$5,IF(D239=3,Simulation!$C$6,IF(D239=4,Simulation!$C$7,IF(D239=5,Simulation!$C$8)))))))","v":false},0,null,null,null,"",null,null,null,null,0,null,0,0,"Inlap",null,null,"FL"]
[1,229,229,null,{"$f":"IF(D240=\"Grid\",Simulation!$B$2,IF(D240=\"WU\",Simulation!$B$3,IF(D240=1,Simulation!$B$4,IF(D240=2,Simulation!$B$5,IF(D240=3,Simulation!$B$6,IF(D240=4,Simulation!$B$7,IF(D240=5,Simulation!$B$8)))))))","v":false},{"$f":"IF(D240=\"Grid\",Simulation!$C$2,IF(D240=\"WU\",Simulation!$C$3,IF(D240=1,Simulation!$C$4,IF(D240=2,Simulation!$C$5,IF(D240=3,Simulation!$C$6,IF(D240=4,Simulation!$C$7,IF(D240=5,Simulation!$C$8)))))))","v":false},0,null,null,null,"",null,null,null,null,0,null,0,0,"Inlap",null,null,"FL"]
[1,230,230,null,{"$f":"IF(D241=\"Grid\",Simulation!$B$2,IF(D241=\"WU\",Simulation!$B$3,IF(D241=1,Simulation!$B$4,IF(D241=2,Simulation!$B$5,IF(D241=3,Simulation!$B$6,IF(D241=4,Simulation!$B$7,IF(D241=5,Simulation!$B$8)))))))","v":false},{"$f":"IF(D241=\"Grid\",Simulation!$C$2,IF(D241=\"WU\",Simulation!$C$3,IF(D241=1,Simulation!$C$4,IF(D241=2,Simulation!$C$5,IF(D241=3,Simulation!$C$6,IF(D241=4,Simulation!$C$7,IF(D241=5,Simulation!$C$8)))))))","v":false},0,null,null,null,"",null,null,null,null,0,null,0,0,"Inlap",null,null,"FL"]
[1,231,231,null,{"$f":"IF(D242=\"Grid\",Simulation!$B$2,IF(D242=\"WU\",Simulation!$B$3,IF(D242=1,Simulation!$B$4,IF(D242=2,Simulation!$B$5,IF(D242=3,Simulation!$B$6,IF(D242=4,Simulation!$B$7,IF(D242=5,Simulation!$B$8)))))))","v":false},{"$f":"IF(D242=\"Grid\",Simulation!$C$2,IF(D242=\"WU\",Simulation!$C$3,IF(D242=1,Simulation!$C$4,IF(D242=2,Simulation!$C$5,IF(D242=3,Simulation!$C$6,IF(D242=4,Simulation!$C$7,IF(D242=5,Simulation!$C$8)))))))","v":false},0,null,null,null,"",null,null,null,null,0,null,0,0,"Inlap",null,null,"FL"]
[1,232,232,null,{"$f":"IF(D243=\"Grid\",Simulation!$B$2,IF(D243=\"WU\",Simulation!$B$3,IF(D243=1,Simulation!$B$4,IF(D243=2,Simulation!$B$5,IF(D243=3,Simulation!$B$6,IF(D243=4,Simulation!$B$7,IF(D243=5,Simulation!$B$8)))))))","v":false},{"$f":"IF(D243=\"Grid\",Simulation!$C$2,IF(D243=\"WU\",Simulation!$C$3,IF(D243=1,Simulation!$C$4,IF(D243=2,Simulation!$C$5,IF(D243=3,Simulation!$C$6,IF(D243=4,Simulation!$C$7,IF(D243=5,Simulation!$C$8)))))))","v":false},0,null,null,null,"",null,null,null,null,0,null,0,0,"Inlap",null,null,"FL"]
[1,233,233,null,{"$f":"IF(D244=\"Grid\",Simulation!$B$2,IF(D244=\"WU\",Simulation!$B$3,IF(D244=1,Simulation!$B$4,IF(D244=2,Simulation!$B$5,IF(D244=3,Simulation!$B$6,IF(D244=4,Simulation!$B$7,IF(D244=5,Simulation!$B$8)))))))","v":false},{"$f":"IF(D244=\"Grid\",Simulation!$C$2,IF(D244=\"WU\",Simulation!$C$3,IF(D244=1,Simulation!$C$4,IF(D244=2,Simulation!$C$5,IF(D244=3,Simulation!$C$6,IF(D244=4,Simulation!$C$7,IF(D244=5,Simulation!$C$8)))))))","v":false},0,null,null,null,"",null,null,null,null,0,null,0,0,"Inlap",null,null,"FL"]
[1,234,234,null,{"$f":"IF(D245=\"Grid\",Simulation!$B$2,IF(D245=\"WU\",Simulation!$B$3,IF(D245=1,Simulation!$B$4,IF(D245=2,Simulation!$B$5,IF(D245=3,Simulation!$B$6,IF(D245=4,Simulation!$B$7,IF(D245=5,Simulation!$B$8)))))))","v":false},{"$f":"IF(D245=\"Grid\",Simulation!$C$2,IF(D245=\"WU\",Simulation!$C$3,IF(D245=1,Simulation!$C$4,IF(D245=2,Simulation!$C$5,IF(D245=3,Simulation!$C$6,IF(D245=4,Simulation!$C$7,IF(D245=5,Simulation!$C$8)))))))","v":false},0,null,null,null,"",null,null,null,null,0,null,0,0,"Inlap",null,null,"FL"]
[1,235,235,null,{"$f":"IF(D246=\"Grid\",Simulation!$B$2,IF(D246=\"WU\",Simulation!$B$3,IF(D246=1,Simulation!$B$4,IF(D246=2,Simulation!$B$5,IF(D246=3,Simulation!$B$6,IF(D246=4,Simulation!$B$7,IF(D246=5,Simulation!$B$8)))))))","v":false},{"$f":"IF(D246=\"Grid\",Simulation!$C$2,IF(D246=\"WU\",Simulation!$C$3,IF(D246=1,Simulation!$C$4,IF(D246=2,Simulation!$C$5,IF(D246=3,Simulation!$C$6,IF(D246=4,Simulation!$C$7,IF(D246=5,Simulation!$C$8)))))))","v":false},0,null,null,null,"",null,null,null,null,0,null,0,0,"Inlap",null,null,"FL"]
[1,236,236,null,{"$f":"IF(D247=\"Grid\",Simulation!$B$2,IF(D247=\"WU\",Simulation!$B$3,IF(D247=1,Simulation!$B$4,IF(D247=2,Simulation!$B$5,IF(D247=3,Simulation!$B$6,IF(D247=4,Simulation!$B$7,IF(D247=5,Simulation!$B$8)))))))","v":false},{"$f":"IF(D247=\"Grid\",Simulation!$C$2,IF(D247=\"WU\",Simulation!$C$3,IF(D247=1,Simulation!$C$4,IF(D247=2,Simulation!$C$5,IF(D247=3,Simulation!$C$6,IF(D247=4,Simulation!$C$7,IF(D247=5,Simulation!$C$8)))))))","v":false},0,null,null,null,"",null,null,null,null,0,null,0,0,"Inlap",null,null,"FL"]
[1,237,237,null,{"$f":"IF(D248=\"Grid\",Simulation!$B$2,IF(D248=\"WU\",Simulation!$B$3,IF(D248=1,Simulation!$B$4,IF(D248=2,Simulation!$B$5,IF(D248=3,Simulation!$B$6,IF(D248=4,Simulation!$B$7,IF(D248=5,Simulation!$B$8)))))))","v":false},{"$f":"IF(D248=\"Grid\",Simulation!$C$2,IF(D248=\"WU\",Simulation!$C$3,IF(D248=1,Simulation!$C$4,IF(D248=2,Simulation!$C$5,IF(D248=3,Simulation!$C$6,IF(D248=4,Simulation!$C$7,IF(D248=5,Simulation!$C$8)))))))","v":false},0,null,null,null,"",null,null,null,null,0,null,0,0,"Inlap",null,null,"FL"]
[1,238,238,null,{"$f":"IF(D249=\"Grid\",Simulation!$B$2,IF(D249=\"WU\",Simulation!$B$3,IF(D249=1,Simulation!$B$4,IF(D249=2,Simulation!$B$5,IF(D249=3,Simulation!$B$6,IF(D249=4,Simulation!$B$7,IF(D249=5,Simulation!$B$8)))))))","v":false},{"$f":"IF(D249=\"Grid\",Simulation!$C$2,IF(D249=\"WU\",Simulation!$C$3,IF(D249=1,Simulation!$C$4,IF(D249=2,Simulation!$C$5,IF(D249=3,Simulation!$C$6,IF(D249=4,Simulation!$C$7,IF(D249=5,Simulation!$C$8)))))))","v":false},0,null,null,null,"",null,null,null,null,0,null,0,0,"Inlap",null,null,"FL"]
[1,239,239,null,{"$f":"IF(D250=\"Grid\",Simulation!$B$2,IF(D250=\"WU\",Simulation!$B$3,IF(D250=1,Simulation!$B$4,IF(D250=2,Simulation!$B$5,IF(D250=3,Simulation!$B$6,IF(D250=4,Simulation!$B$7,IF(D250=5,Simulation!$B$8)))))))","v":false},{"$f":"IF(D250=\"Grid\",Simulation!$C$2,IF(D250=\"WU\",Simulation!$C$3,IF(D250=1,Simulation!$C$4,IF(D250=2,Simulation!$C$5,IF(D250=3,Simulation!$C$6,IF(D250=4,Simulation!$C$7,IF(D250=5,Simulation!$C$8)))))))","v":false},0,null,null,null,"",null,null,null,null,0,null,0,0,"Inlap",null,null,"FL"]
[1,240,240,null,{"$f":"IF(D251=\"Grid\",Simulation!$B$2,IF(D251=\"WU\",Simulation!$B$3,IF(D251=1,Simulation!$B$4,IF(D251=2,Simulation!$B$5,IF(D251=3,Simulation!$B$6,IF(D251=4,Simulation!$B$7,IF(D251=5,Simulation!$B$8)))))))","v":false},{"$f":"IF(D251=\"Grid\",Simulation!$C$2,IF(D251=\"WU\",Simulation!$C$3,IF(D251=1,Simulation!$C$4,IF(D251=2,Simulation!$C$5,IF(D251=3,Simulation!$C$6,IF(D251=4,Simulation!$C$7,IF(D251=5,Simulation!$C$8)))))))","v":false},0,null,null,null,"",null,null,null,null,0,null,0,0,"Inlap",null,null,"FL"]
[1,241,241,null,{"$f":"IF(D252=\"Grid\",Simulation!$B$2,IF(D252=\"WU\",Simulation!$B$3,IF(D252=1,Simulation!$B$4,IF(D252=2,Simulation!$B$5,IF(D252=3,Simulation!$B$6,IF(D252=4,Simulation!$B$7,IF(D252=5,Simulation!$B$8)))))))","v":false},{"$f":"IF(D252=\"Grid\",Simulation!$C$2,IF(D252=\"WU\",Simulation!$C$3,IF(D252=1,Simulation!$C$4,IF(D252=2,Simulation!$C$5,IF(D252=3,Simulation!$C$6,IF(D252=4,Simulation!$C$7,IF(D252=5,Simulation!$C$8)))))))","v":false},0,null,null,null,"",null,null,null,null,0,null,0,0,"Inlap",null,null,"FL"]
[1,242,242,null,{"$f":"IF(D253=\"Grid\",Simulation!$B$2,IF(D253=\"WU\",Simulation!$B$3,IF(D253=1,Simulation!$B$4,IF(D253=2,Simulation!$B$5,IF(D253=3,Simulation!$B$6,IF(D253=4,Simulation!$B$7,IF(D253=5,Simulation!$B$8)))))))","v":false},{"$f":"IF(D253=\"Grid\",Simulation!$C$2,IF(D253=\"WU\",Simulation!$C$3,IF(D253=1,Simulation!$C$4,IF(D253=2,Simulation!$C$5,IF(D253=3,Simulation!$C$6,IF(D253=4,Simulation!$C$7,IF(D253=5,Simulation!$C$8)))))))","v":false},0,null,null,null,"",null,null,null,null,0,null,0,0,"Inlap",null,null,"FL"]
[1,243,243,null,{"$f":"IF(D254=\"Grid\",Simulation!$B$2,IF(D254=\"WU\",Simulation!$B$3,IF(D254=1,Simulation!$B$4,IF(D254=2,Simulation!$B$5,IF(D254=3,Simulation!$B$6,IF(D254=4,Simulation!$B$7,IF(D254=5,Simulation!$B$8)))))))","v":false},{"$f":"IF(D254=\"Grid\",Simulation!$C$2,IF(D254=\"WU\",Simulation!$C$3,IF(D254=1,Simulation!$C$4,IF(D254=2,Simulation!$C$5,IF(D254=3,Simulation!$C$6,IF(D254=4,Simulation!$C$7,IF(D254=5,Simulation!$C$8)))))))","v":false},0,null,null,null,"",null,null,null,null,0,null,0,0,"Inlap",null,null,"FL"]
[1,244,244,null,{"$f":"IF(D255=\"Grid\",Simulation!$B$2,IF(D255=\"WU\",Simulation!$B$3,IF(D255=1,Simulation!$B$4,IF(D255=2,Simulation!$B$5,IF(D255=3,Simulation!$B$6,IF(D255=4,Simulation!$B$7,IF(D255=5,Simulation!$B$8)))))))","v":false},{"$f":"IF(D255=\"Grid\",Simulation!$C$2,IF(D255=\"WU\",Simulation!$C$3,IF(D255=1,Simulation!$C$4,IF(D255=2,Simulation!$C$5,IF(D255=3,Simulation!$C$6,IF(D255=4,Simulation!$C$7,IF(D255=5,Simulation!$C$8)))))))","v":false},0,null,null,null,"",null,null,null,null,0,null,0,0,"Inlap",null,null,"FL"]
[1,245,245,null,{"$f":"IF(D256=\"Grid\",Simulation!$B$2,IF(D256=\"WU\",Simulation!$B$3,IF(D256=1,Simulation!$B$4,IF(D256=2,Simulation!$B$5,IF(D256=3,Simulation!$B$6,IF(D256=4,Simulation!$B$7,IF(D256=5,Simulation!$B$8)))))))","v":false},{"$f":"IF(D256=\"Grid\",Simulation!$C$2,IF(D256=\"WU\",Simulation!$C$3,IF(D256=1,Simulation!$C$4,IF(D256=2,Simulation!$C$5,IF(D256=3,Simulation!$C$6,IF(D256=4,Simulation!$C$7,IF(D256=5,Simulation!$C$8)))))))","v":false},0,null,null,null,"",null,null,null,null,0,null,0,0,"Inlap",null,null,"FL"]
[1,246,246,null,{"$f":"IF(D257=\"Grid\",Simulation!$B$2,IF(D257=\"WU\",Simulation!$B$3,IF(D257=1,Simulation!$B$4,IF(D257=2,Simulation!$B$5,IF(D257=3,Simulation!$B$6,IF(D257=4,Simulation!$B$7,IF(D257=5,Simulation!$B$8)))))))","v":false},{"$f":"IF(D257=\"Grid\",Simulation!$C$2,IF(D257=\"WU\",Simulation!$C$3,IF(D257=1,Simulation!$C$4,IF(D257=2,Simulation!$C$5,IF(D257=3,Simulation!$C$6,IF(D257=4,Simulation!$C$7,IF(D257=5,Simulation!$C$8)))))))","v":false},0,null,null,null,"",null,null,null,null,0,null,0,0,"Inlap",null,null,"FL"]
[1,247,247,null,{"$f":"IF(D258=\"Grid\",Simulation!$B$2,IF(D258=\"WU\",Simulation!$B$3,IF(D258=1,Simulation!$B$4,IF(D258=2,Simulation!$B$5,IF(D258=3,Simulation!$B$6,IF(D258=4,Simulation!$B$7,IF(D258=5,Simulation!$B$8)))))))","v":false},{"$f":"IF(D258=\"Grid\",Simulation!$C$2,IF(D258=\"WU\",Simulation!$C$3,IF(D258=1,Simulation!$C$4,IF(D258=2,Simulation!$C$5,IF(D258=3,Simulation!$C$6,IF(D258=4,Simulation!$C$7,IF(D258=5,Simulation!$C$8)))))))","v":false},0,null,null,null,"",null,null,null,null,0,null,0,0,"Inlap",null,null,"FL"]
[1,248,248,null,{"$f":"IF(D259=\"Grid\",Simulation!$B$2,IF(D259=\"WU\",Simulation!$B$3,IF(D259=1,Simulation!$B$4,IF(D259=2,Simulation!$B$5,IF(D259=3,Simulation!$B$6,IF(D259=4,Simulation!$B$7,IF(D259=5,Simulation!$B$8)))))))","v":false},{"$f":"IF(D259=\"Grid\",Simulation!$C$2,IF(D259=\"WU\",Simulation!$C$3,IF(D259=1,Simulation!$C$4,IF(D259=2,Simulation!$C$5,IF(D259=3,Simulation!$C$6,IF(D259=4,Simulation!$C$7,IF(D259=5,Simulation!$C$8)))))))","v":false},0,null,null,null,"",null,null,null,null,0,null,0,0,"Inlap",null,null,"FL"]
[1,249,249,null,{"$f":"IF(D260=\"Grid\",Simulation!$B$2,IF(D260=\"WU\",Simulation!$B$3,IF(D260=1,Simulation!$B$4,IF(D260=2,Simulation!$B$5,IF(D260=3,Simulation!$B$6,IF(D260=4,Simulation!$B$7,IF(D260=5,Simulation!$B$8)))))))","v":false},{"$f":"IF(D260=\"Grid\",Simulation!$C$2,IF(D260=\"WU\",Simulation!$C$3,IF(D260=1,Simulation!$C$4,IF(D260=2,Simulation!$C$5,IF(D260=3,Simulation!$C$6,IF(D260=4,Simulation!$C$7,IF(D260=5,Simulation!$C$8)))))))","v":false},0,null,null,null,"",null,null,null,null,0,null,0,0,"Inlap",null,null,"FL"]
[1,250,250,null,{"$f":"IF(D261=\"Grid\",Simulation!$B$2,IF(D261=\"WU\",Simulation!$B$3,IF(D261=1,Simulation!$B$4,IF(D261=2,Simulation!$B$5,IF(D261=3,Simulation!$B$6,IF(D261=4,Simulation!$B$7,IF(D261=5,Simulation!$B$8)))))))","v":false},{"$f":"IF(D261=\"Grid\",Simulation!$C$2,IF(D261=\"WU\",Simulation!$C$3,IF(D261=1,Simulation!$C$4,IF(D261=2,Simulation!$C$5,IF(D261=3,Simulation!$C$6,IF(D261=4,Simulation!$C$7,IF(D261=5,Simulation!$C$8)))))))","v":false},0,null,null,null,"",null,null,null,null,0,null,0,0,"Inlap",null,null,"FL"]
[1,251,251,null,{"$f":"IF(D262=\"Grid\",Simulation!$B$2,IF(D262=\"WU\",Simulation!$B$3,IF(D262=1,Simulation!$B$4,IF(D262=2,Simulation!$B$5,IF(D262=3,Simulation!$B$6,IF(D262=4,Simulation!$B$7,IF(D262=5,Simulation!$B$8)))))))","v":false},{"$f":"IF(D262=\"Grid\",Simulation!$C$2,IF(D262=\"WU\",Simulation!$C$3,IF(D262=1,Simulation!$C$4,IF(D262=2,Simulation!$C$5,IF(D262=3,Simulation!$C$6,IF(D262=4,Simulation!$C$7,IF(D262=5,Simulation!$C$8)))))))","v":false},0,null,null,null,"",null,null,null,null,0,null,0,0,"Inlap",null,null,"FL"]
[1,252,252,null,{"$f":"IF(D263=\"Grid\",Simulation!$B$2,IF(D263=\"WU\",Simulation!$B$3,IF(D263=1,Simulation!$B$4,IF(D263=2,Simulation!$B$5,IF(D263=3,Simulation!$B$6,IF(D263=4,Simulation!$B$7,IF(D263=5,Simulation!$B$8)))))))","v":false},{"$f":"IF(D263=\"Grid\",Simulation!$C$2,IF(D263=\"WU\",Simulation!$C$3,IF(D263=1,Simulation!$C$4,IF(D263=2,Simulation!$C$5,IF(D263=3,Simulation!$C$6,IF(D263=4,Simulation!$C$7,IF(D263=5,Simulation!$C$8)))))))","v":false},0,null,null,null,"",null,null,null,null,0,null,0,0,"Inlap",null,null,"FL"]
[1,253,253,null,{"$f":"IF(D264=\"Grid\",Simulation!$B$2,IF(D264=\"WU\",Simulation!$B$3,IF(D264=1,Simulation!$B$4,IF(D264=2,Simulation!$B$5,IF(D264=3,Simulation!$B$6,IF(D264=4,Simulation!$B$7,IF(D264=5,Simulation!$B$8)))))))","v":false},{"$f":"IF(D264=\"Grid\",Simulation!$C$2,IF(D264=\"WU\",Simulation!$C$3,IF(D264=1,Simulation!$C$4,IF(D264=2,Simulation!$C$5,IF(D264=3,Simulation!$C$6,IF(D264=4,Simulation!$C$7,IF(D264=5,Simulation!$C$8)))))))","v":false},0,null,null,null,"",null,null,null,null,0,null,0,0,"Inlap",null,null,"FL"]
[1,254,254,null,{"$f":"IF(D265=\"Grid\",Simulation!$B$2,IF(D265=\"WU\",Simulation!$B$3,IF(D265=1,Simulation!$B$4,IF(D265=2,Simulation!$B$5,IF(D265=3,Simulation!$B$6,IF(D265=4,Simulation!$B$7,IF(D265=5,Simulation!$B$8)))))))","v":false},{"$f":"IF(D265=\"Grid\",Simulation!$C$2,IF(D265=\"WU\",Simulation!$C$3,IF(D265=1,Simulation!$C$4,IF(D265=2,Simulation!$C$5,IF(D265=3,Simulation!$C$6,IF(D265=4,Simulation!$C$7,IF(D265=5,Simulation!$C$8)))))))","v":false},0,null,null,null,"",null,null,null,null,0,null,0,0,"Inlap",null,null,"FL"]
[1,255,255,null,{"$f":"IF(D266=\"Grid\",Simulation!$B$2,IF(D266=\"WU\",Simulation!$B$3,IF(D266=1,Simulation!$B$4,IF(D266=2,Simulation!$B$5,IF(D266=3,Simulation!$B$6,IF(D266=4,Simulation!$B$7,IF(D266=5,Simulation!$B$8)))))))","v":false},{"$f":"IF(D266=\"Grid\",Simulation!$C$2,IF(D266=\"WU\",Simulation!$C$3,IF(D266=1,Simulation!$C$4,IF(D266=2,Simulation!$C$5,IF(D266=3,Simulation!$C$6,IF(D266=4,Simulation!$C$7,IF(D266=5,Simulation!$C$8)))))))","v":false},0,null,null,null,"",null,null,null,null,0,null,0,0,"Inlap",null,null,"FL"]
[1,256,256,null,{"$f":"IF(D267=\"Grid\",Simulation!$B$2,IF(D267=\"WU\",Simulation!$B$3,IF(D267=1,Simulation!$B$4,IF(D267=2,Simulation!$B$5,IF(D267=3,Simulation!$B$6,IF(D267=4,Simulation!$B$7,IF(D267=5,Simulation!$B$8)))))))","v":false},{"$f":"IF(D267=\"Grid\",Simulation!$C$2,IF(D267=\"WU\",Simulation!$C$3,IF(D267=1,Simulation!$C$4,IF(D267=2,Simulation!$C$5,IF(D267=3,Simulation!$C$6,IF(D267=4,Simulation!$C$7,IF(D267=5,Simulation!$C$8)))))))","v":false},0,null,null,null,"",null,null,null,null,0,null,0,0,"Inlap",null,null,"FL"]
[{"$f":"IF(O268>0,A267+1,A267)","v":1},257,257,null,{"$f":"IF(D268=\"Grid\",Simulation!$B$2,IF(D268=\"WU\",Simulation!$B$3,IF(D268=1,Simulation!$B$4,IF(D268=2,Simulation!$B$5,IF(D268=3,Simulation!$B$6,IF(D268=4,Simulation!$B$7,IF(D268=5,Simulation!$B$8)))))))","v":false},{"$f":"IF(D268=\"Grid\",Simulation!$C$2,IF(D268=\"WU\",Simulation!$C$3,IF(D268=1,Simulation!$C$4,IF(D268=2,Simulation!$C$5,IF(D268=3,Simulation!$C$6,IF(D268=4,Simulation!$C$7,IF(D268=5,Simulation!$C$8)))))))","v":false},{"$f":"G267+O267-P267","v":0},null,null,null,"",null,null,null,null,0,null,0,{"$f":"IF(O268>0,O268+S267-Q268,S267-P268)","v":0},{"$f":"IF(S268<=F268,\"Inlap\",IF(S268<=2*F268,\"Call: In this lap!\",IF(S268<=3*F268,\"Show in but don't call!\",\"\")))","v":"Inlap"},null,null,{"$f":"IF(J268=$Q$2,\"FL\",\"\")","v":"FL"}]
[1,258,258,null,{"$f":"IF(D269=\"Grid\",Simulation!$B$2,IF(D269=\"WU\",Simulation!$B$3,IF(D269=1,Simulation!$B$4,IF(D269=2,Simulation!$B$5,IF(D269=3,Simulation!$B$6,IF(D269=4,Simulation!$B$7,IF(D269=5,Simulation!$B$8)))))))","v":false},{"$f":"IF(D269=\"Grid\",Simulation!$C$2,IF(D269=\"WU\",Simulation!$C$3,IF(D269=1,Simulation!$C$4,IF(D269=2,Simulation!$C$5,IF(D269=3,Simulation!$C$6,IF(D269=4,Simulation!$C$7,IF(D269=5,Simulation!$C$8)))))))","v":false},0,null,null,null,{"$f":"IF(J269<>0,K268,\"\")","v":""},null,null,null,null,0,null,0,0,"Inlap",null,null,"FL"]
[1,259,{"$f":"IF(O270=\"\",C269+1,\"1\")","v":259},null,{"$f":"IF(D270=\"Grid\",Simulation!$B$2,IF(D270=\"WU\",Simulation!$B$3,IF(D270=1,Simulation!$B$4,IF(D270=2,Simulation!$B$5,IF(D270=3,Simulation!$B$6,IF(D270=4,Simulation!$B$7,IF(D270=5,Simulation!$B$8)))))))","v":false},{"$f":"IF(D270=\"Grid\",Simulation!$C$2,IF(D270=\"WU\",Simulation!$C$3,IF(D270=1,Simulation!$C$4,IF(D270=2,Simulation!$C$5,IF(D270=3,Simulation!$C$6,IF(D270=4,Simulation!$C$7,IF(D270=5,Simulation!$C$8)))))))","v":false},0,null,null,null,"",null,null,null,null,0,null,0,0,"Inlap",null,null,"FL"]
[1,260,260,null,{"$f":"IF(D271=\"Grid\",Simulation!$B$2,IF(D271=\"WU\",Simulation!$B$3,IF(D271=1,Simulation!$B$4,IF(D271=2,Simulation!$B$5,IF(D271=3,Simulation!$B$6,IF(D271=4,Simulation!$B$7,IF(D271=5,Simulation!$B$8)))))))","v":false},{"$f":"IF(D271=\"Grid\",Simulation!$C$2,IF(D271=\"WU\",Simulation!$C$3,IF(D271=1,Simulation!$C$4,IF(D271=2,Simulation!$C$5,IF(D271=3,Simulation!$C$6,IF(D271=4,Simulation!$C$7,IF(D271=5,Simulation!$C$8)))))))","v":false},0,null,null,null,"",null,null,null,null,0,null,0,0,"Inlap",null,null,"FL"]
[1,261,261,null,{"$f":"IF(D272=\"Grid\",Simulation!$B$2,IF(D272=\"WU\",Simulation!$B$3,IF(D272=1,Simulation!$B$4,IF(D272=2,Simulation!$B$5,IF(D272=3,Simulation!$B$6,IF(D272=4,Simulation!$B$7,IF(D272=5,Simulation!$B$8)))))))","v":false},{"$f":"IF(D272=\"Grid\",Simulation!$C$2,IF(D272=\"WU\",Simulation!$C$3,IF(D272=1,Simulation!$C$4,IF(D272=2,Simulation!$C$5,IF(D272=3,Simulation!$C$6,IF(D272=4,Simulation!$C$7,IF(D272=5,Simulation!$C$8)))))))","v":false},0,null,null,null,"",null,null,null,null,0,null,0,0,"Inlap",null,null,"FL"]
[1,262,262,null,{"$f":"IF(D273=\"Grid\",Simulation!$B$2,IF(D273=\"WU\",Simulation!$B$3,IF(D273=1,Simulation!$B$4,IF(D273=2,Simulation!$B$5,IF(D273=3,Simulation!$B$6,IF(D273=4,Simulation!$B$7,IF(D273=5,Simulation!$B$8)))))))","v":false},{"$f":"IF(D273=\"Grid\",Simulation!$C$2,IF(D273=\"WU\",Simulation!$C$3,IF(D273=1,Simulation!$C$4,IF(D273=2,Simulation!$C$5,IF(D273=3,Simulation!$C$6,IF(D273=4,Simulation!$C$7,IF(D273=5,Simulation!$C$8)))))))","v":false},0,null,null,null,"",null,null,null,null,0,null,0,0,"Inlap",null,null,"FL"]
[1,263,263,null,{"$f":"IF(D274=\"Grid\",Simulation!$B$2,IF(D274=\"WU\",Simulation!$B$3,IF(D274=1,Simulation!$B$4,IF(D274=2,Simulation!$B$5,IF(D274=3,Simulation!$B$6,IF(D274=4,Simulation!$B$7,IF(D274=5,Simulation!$B$8)))))))","v":false},{"$f":"IF(D274=\"Grid\",Simulation!$C$2,IF(D274=\"WU\",Simulation!$C$3,IF(D274=1,Simulation!$C$4,IF(D274=2,Simulation!$C$5,IF(D274=3,Simulation!$C$6,IF(D274=4,Simulation!$C$7,IF(D274=5,Simulation!$C$8)))))))","v":false},0,null,null,null,"",null,null,null,null,0,null,0,0,"Inlap",null,null,"FL"]
[1,264,264,null,{"$f":"IF(D275=\"Grid\",Simulation!$B$2,IF(D275=\"WU\",Simulation!$B$3,IF(D275=1,Simulation!$B$4,IF(D275=2,Simulation!$B$5,IF(D275=3,Simulation!$B$6,IF(D275=4,Simulation!$B$7,IF(D275=5,Simulation!$B$8)))))))","v":false},{"$f":"IF(D275=\"Grid\",Simulation!$C$2,IF(D275=\"WU\",Simulation!$C$3,IF(D275=1,Simulation!$C$4,IF(D275=2,Simulation!$C$5,IF(D275=3,Simulation!$C$6,IF(D275=4,Simulation!$C$7,IF(D275=5,Simulation!$C$8)))))))","v":false},0,null,null,null,"",null,null,null,null,0,null,0,0,"Inlap",null,null,"FL"]
[1,265,265,null,{"$f":"IF(D276=\"Grid\",Simulation!$B$2,IF(D276=\"WU\",Simulation!$B$3,IF(D276=1,Simulation!$B$4,IF(D276=2,Simulation!$B$5,IF(D276=3,Simulation!$B$6,IF(D276=4,Simulation!$B$7,IF(D276=5,Simulation!$B$8)))))))","v":false},{"$f":"IF(D276=\"Grid\",Simulation!$C$2,IF(D276=\"WU\",Simulation!$C$3,IF(D276=1,Simulation!$C$4,IF(D276=2,Simulation!$C$5,IF(D276=3,Simulation!$C$6,IF(D276=4,Simulation!$C$7,IF(D276=5,Simulation!$C$8)))))))","v":false},0,null,null,null,"",null,null,null,null,0,null,0,0,"Inlap",null,null,"FL"]
[1,266,266,null,{"$f":"IF(D277=\"Grid\",Simulation!$B$2,IF(D277=\"WU\",Simulation!$B$3,IF(D277=1,Simulation!$B$4,IF(D277=2,Simulation!$B$5,IF(D277=3,Simulation!$B$6,IF(D277=4,Simulation!$B$7,IF(D277=5,Simulation!$B$8)))))))","v":false},{"$f":"IF(D277=\"Grid\",Simulation!$C$2,IF(D277=\"WU\",Simulation!$C$3,IF(D277=1,Simulation!$C$4,IF(D277=2,Simulation!$C$5,IF(D277=3,Simulation!$C$6,IF(D277=4,Simulation!$C$7,IF(D277=5,Simulation!$C$8)))))))","v":false},0,null,null,null,"",null,null,null,null,0,null,0,0,"Inlap",null,null,"FL"]
[1,267,267,null,{"$f":"IF(D278=\"Grid\",Simulation!$B$2,IF(D278=\"WU\",Simulation!$B$3,IF(D278=1,Simulation!$B$4,IF(D278=2,Simulation!$B$5,IF(D278=3,Simulation!$B$6,IF(D278=4,Simulation!$B$7,IF(D278=5,Simulation!$B$8)))))))","v":false},{"$f":"IF(D278=\"Grid\",Simulation!$C$2,IF(D278=\"WU\",Simulation!$C$3,IF(D278=1,Simulation!$C$4,IF(D278=2,Simulation!$C$5,IF(D278=3,Simulation!$C$6,IF(D278=4,Simulation!$C$7,IF(D278=5,Simulation!$C$8)))))))","v":false},0,null,null,null,"",null,null,null,null,0,null,0,0,"Inlap",null,null,"FL"]
[1,268,268,null,{"$f":"IF(D279=\"Grid\",Simulation!$B$2,IF(D279=\"WU\",Simulation!$B$3,IF(D279=1,Simulation!$B$4,IF(D279=2,Simulation!$B$5,IF(D279=3,Simulation!$B$6,IF(D279=4,Simulation!$B$7,IF(D279=5,Simulation!$B$8)))))))","v":false},{"$f":"IF(D279=\"Grid\",Simulation!$C$2,IF(D279=\"WU\",Simulation!$C$3,IF(D279=1,Simulation!$C$4,IF(D279=2,Simulation!$C$5,IF(D279=3,Simulation!$C$6,IF(D279=4,Simulation!$C$7,IF(D279=5,Simulation!$C$8)))))))","v":false},0,null,null,null,"",null,null,null,null,0,null,0,0,"Inlap",null,null,"FL"]
[1,269,269,null,{"$f":"IF(D280=\"Grid\",Simulation!$B$2,IF(D280=\"WU\",Simulation!$B$3,IF(D280=1,Simulation!$B$4,IF(D280=2,Simulation!$B$5,IF(D280=3,Simulation!$B$6,IF(D280=4,Simulation!$B$7,IF(D280=5,Simulation!$B$8)))))))","v":false},{"$f":"IF(D280=\"Grid\",Simulation!$C$2,IF(D280=\"WU\",Simulation!$C$3,IF(D280=1,Simulation!$C$4,IF(D280=2,Simulation!$C$5,IF(D280=3,Simulation!$C$6,IF(D280=4,Simulation!$C$7,IF(D280=5,Simulation!$C$8)))))))","v":false},0,null,null,null,"",null,null,null,null,0,null,0,0,"Inlap",null,null,"FL"]
[1,270,270,null,{"$f":"IF(D281=\"Grid\",Simulation!$B$2,IF(D281=\"WU\",Simulation!$B$3,IF(D281=1,Simulation!$B$4,IF(D281=2,Simulation!$B$5,IF(D281=3,Simulation!$B$6,IF(D281=4,Simulation!$B$7,IF(D281=5,Simulation!$B$8)))))))","v":false},{"$f":"IF(D281=\"Grid\",Simulation!$C$2,IF(D281=\"WU\",Simulation!$C$3,IF(D281=1,Simulation!$C$4,IF(D281=2,Simulation!$C$5,IF(D281=3,Simulation!$C$6,IF(D281=4,Simulation!$C$7,IF(D281=5,Simulation!$C$8)))))))","v":false},0,null,null,null,"",null,null,null,null,0,null,0,0,"Inlap",null,null,"FL"]
[1,271,271,null,{"$f":"IF(D282=\"Grid\",Simulation!$B$2,IF(D282=\"WU\",Simulation!$B$3,IF(D282=1,Simulation!$B$4,IF(D282=2,Simulation!$B$5,IF(D282=3,Simulation!$B$6,IF(D282=4,Simulation!$B$7,IF(D282=5,Simulation!$B$8)))))))","v":false},{"$f":"IF(D282=\"Grid\",Simulation!$C$2,IF(D282=\"WU\",Simulation!$C$3,IF(D282=1,Simulation!$C$4,IF(D282=2,Simulation!$C$5,IF(D282=3,Simulation!$C$6,IF(D282=4,Simulation!$C$7,IF(D282=5,Simulation!$C$8)))))))","v":false},0,null,null,null,"",null,null,null,null,0,null,0,0,"Inlap",null,null,"FL"]
[1,272,272,null,{"$f":"IF(D283=\"Grid\",Simulation!$B$2,IF(D283=\"WU\",Simulation!$B$3,IF(D283=1,Simulation!$B$4,IF(D283=2,Simulation!$B$5,IF(D283=3,Simulation!$B$6,IF(D283=4,Simulation!$B$7,IF(D283=5,Simulation!$B$8)))))))","v":false},{"$f":"IF(D283=\"Grid\",Simulation!$C$2,IF(D283=\"WU\",Simulation!$C$3,IF(D283=1,Simulation!$C$4,IF(D283=2,Simulation!$C$5,IF(D283=3,Simulation!$C$6,IF(D283=4,Simulation!$C$7,IF(D283=5,Simulation!$C$8)))))))","v":false},0,null,null,null,"",null,null,null,null,0,null,0,0,"Inlap",null,null,"FL"]
[1,273,273,null,{"$f":"IF(D284=\"Grid\",Simulation!$B$2,IF(D284=\"WU\",Simulation!$B$3,IF(D284=1,Simulation!$B$4,IF(D284=2,Simulation!$B$5,IF(D284=3,Simulation!$B$6,IF(D284=4,Simulation!$B$7,IF(D284=5,Simulation!$B$8)))))))","v":false},{"$f":"IF(D284=\"Grid\",Simulation!$C$2,IF(D284=\"WU\",Simulation!$C$3,IF(D284=1,Simulation!$C$4,IF(D284=2,Simulation!$C$5,IF(D284=3,Simulation!$C$6,IF(D284=4,Simulation!$C$7,IF(D284=5,Simulation!$C$8)))))))","v":false},0,null,null,null,"",null,null,null,null,0,null,0,0,"Inlap",null,null,"FL"]
[1,274,274,null,{"$f":"IF(D285=\"Grid\",Simulation!$B$2,IF(D285=\"WU\",Simulation!$B$3,IF(D285=1,Simulation!$B$4,IF(D285=2,Simulation!$B$5,IF(D285=3,Simulation!$B$6,IF(D285=4,Simulation!$B$7,IF(D285=5,Simulation!$B$8)))))))","v":false},{"$f":"IF(D285=\"Grid\",Simulation!$C$2,IF(D285=\"WU\",Simulation!$C$3,IF(D285=1,Simulation!$C$4,IF(D285=2,Simulation!$C$5,IF(D285=3,Simulation!$C$6,IF(D285=4,Simulation!$C$7,IF(D285=5,Simulation!$C$8)))))))","v":false},0,null,null,null,"",null,null,null,null,0,null,0,0,"Inlap",null,null,"FL"]
[1,275,275,null,{"$f":"IF(D286=\"Grid\",Simulation!$B$2,IF(D286=\"WU\",Simulation!$B$3,IF(D286=1,Simulation!$B$4,IF(D286=2,Simulation!$B$5,IF(D286=3,Simulation!$B$6,IF(D286=4,Simulation!$B$7,IF(D286=5,Simulation!$B$8)))))))","v":false},{"$f":"IF(D286=\"Grid\",Simulation!$C$2,IF(D286=\"WU\",Simulation!$C$3,IF(D286=1,Simulation!$C$4,IF(D286=2,Simulation!$C$5,IF(D286=3,Simulation!$C$6,IF(D286=4,Simulation!$C$7,IF(D286=5,Simulation!$C$8)))))))","v":false},0,null,null,null,"",null,null,null,null,0,null,0,0,"Inlap",null,null,"FL"]
[1,276,276,null,{"$f":"IF(D287=\"Grid\",Simulation!$B$2,IF(D287=\"WU\",Simulation!$B$3,IF(D287=1,Simulation!$B$4,IF(D287=2,Simulation!$B$5,IF(D287=3,Simulation!$B$6,IF(D287=4,Simulation!$B$7,IF(D287=5,Simulation!$B$8)))))))","v":false},{"$f":"IF(D287=\"Grid\",Simulation!$C$2,IF(D287=\"WU\",Simulation!$C$3,IF(D287=1,Simulation!$C$4,IF(D287=2,Simulation!$C$5,IF(D287=3,Simulation!$C$6,IF(D287=4,Simulation!$C$7,IF(D287=5,Simulation!$C$8)))))))","v":false},0,null,null,null,"",null,null,null,null,0,null,0,0,"Inlap",null,null,"FL"]
[1,277,277,null,{"$f":"IF(D288=\"Grid\",Simulation!$B$2,IF(D288=\"WU\",Simulation!$B$3,IF(D288=1,Simulation!$B$4,IF(D288=2,Simulation!$B$5,IF(D288=3,Simulation!$B$6,IF(D288=4,Simulation!$B$7,IF(D288=5,Simulation!$B$8)))))))","v":false},{"$f":"IF(D288=\"Grid\",Simulation!$C$2,IF(D288=\"WU\",Simulation!$C$3,IF(D288=1,Simulation!$C$4,IF(D288=2,Simulation!$C$5,IF(D288=3,Simulation!$C$6,IF(D288=4,Simulation!$C$7,IF(D288=5,Simulation!$C$8)))))))","v":false},0,null,null,null,"",null,null,null,null,0,null,0,0,"Inlap",null,null,"FL"]
[1,278,278,null,{"$f":"IF(D289=\"Grid\",Simulation!$B$2,IF(D289=\"WU\",Simulation!$B$3,IF(D289=1,Simulation!$B$4,IF(D289=2,Simulation!$B$5,IF(D289=3,Simulation!$B$6,IF(D289=4,Simulation!$B$7,IF(D289=5,Simulation!$B$8)))))))","v":false},{"$f":"IF(D289=\"Grid\",Simulation!$C$2,IF(D289=\"WU\",Simulation!$C$3,IF(D289=1,Simulation!$C$4,IF(D289=2,Simulation!$C$5,IF(D289=3,Simulation!$C$6,IF(D289=4,Simulation!$C$7,IF(D289=5,Simulation!$C$8)))))))","v":false},0,null,null,null,"",null,null,null,null,0,null,0,0,"Inlap",null,null,"FL"]
[1,279,279,null,{"$f":"IF(D290=\"Grid\",Simulation!$B$2,IF(D290=\"WU\",Simulation!$B$3,IF(D290=1,Simulation!$B$4,IF(D290=2,Simulation!$B$5,IF(D290=3,Simulation!$B$6,IF(D290=4,Simulation!$B$7,IF(D290=5,Simulation!$B$8)))))))","v":false},{"$f":"IF(D290=\"Grid\",Simulation!$C$2,IF(D290=\"WU\",Simulation!$C$3,IF(D290=1,Simulation!$C$4,IF(D290=2,Simulation!$C$5,IF(D290=3,Simulation!$C$6,IF(D290=4,Simulation!$C$7,IF(D290=5,Simulation!$C$8)))))))","v":false},0,null,null,null,"",null,null,null,null,0,null,0,0,"Inlap",null,null,"FL"]
[1,280,280,null,{"$f":"IF(D291=\"Grid\",Simulation!$B$2,IF(D291=\"WU\",Simulation!$B$3,IF(D291=1,Simulation!$B$4,IF(D291=2,Simulation!$B$5,IF(D291=3,Simulation!$B$6,IF(D291=4,Simulation!$B$7,IF(D291=5,Simulation!$B$8)))))))","v":false},{"$f":"IF(D291=\"Grid\",Simulation!$C$2,IF(D291=\"WU\",Simulation!$C$3,IF(D291=1,Simulation!$C$4,IF(D291=2,Simulation!$C$5,IF(D291=3,Simulation!$C$6,IF(D291=4,Simulation!$C$7,IF(D291=5,Simulation!$C$8)))))))","v":false},0,null,null,null,"",null,null,null,null,0,null,0,0,"Inlap",null,null,"FL"]
[1,281,281,null,{"$f":"IF(D292=\"Grid\",Simulation!$B$2,IF(D292=\"WU\",Simulation!$B$3,IF(D292=1,Simulation!$B$4,IF(D292=2,Simulation!$B$5,IF(D292=3,Simulation!$B$6,IF(D292=4,Simulation!$B$7,IF(D292=5,Simulation!$B$8)))))))","v":false},{"$f":"IF(D292=\"Grid\",Simulation!$C$2,IF(D292=\"WU\",Simulation!$C$3,IF(D292=1,Simulation!$C$4,IF(D292=2,Simulation!$C$5,IF(D292=3,Simulation!$C$6,IF(D292=4,Simulation!$C$7,IF(D292=5,Simulation!$C$8)))))))","v":false},0,null,null,null,"",null,null,null,null,0,null,0,0,"Inlap",null,null,"FL"]
[1,282,282,null,{"$f":"IF(D293=\"Grid\",Simulation!$B$2,IF(D293=\"WU\",Simulation!$B$3,IF(D293=1,Simulation!$B$4,IF(D293=2,Simulation!$B$5,IF(D293=3,Simulation!$B$6,IF(D293=4,Simulation!$B$7,IF(D293=5,Simulation!$B$8)))))))","v":false},{"$f":"IF(D293=\"Grid\",Simulation!$C$2,IF(D293=\"WU\",Simulation!$C$3,IF(D293=1,Simulation!$C$4,IF(D293=2,Simulation!$C$5,IF(D293=3,Simulation!$C$6,IF(D293=4,Simulation!$C$7,IF(D293=5,Simulation!$C$8)))))))","v":false},0,null,null,null,"",null,null,null,null,0,null,0,0,"Inlap",null,null,"FL"]
[1,283,283,null,{"$f":"IF(D294=\"Grid\",Simulation!$B$2,IF(D294=\"WU\",Simulation!$B$3,IF(D294=1,Simulation!$B$4,IF(D294=2,Simulation!$B$5,IF(D294=3,Simulation!$B$6,IF(D294=4,Simulation!$B$7,IF(D294=5,Simulation!$B$8)))))))","v":false},{"$f":"IF(D294=\"Grid\",Simulation!$C$2,IF(D294=\"WU\",Simulation!$C$3,IF(D294=1,Simulation!$C$4,IF(D294=2,Simulation!$C$5,IF(D294=3,Simulation!$C$6,IF(D294=4,Simulation!$C$7,IF(D294=5,Simulation!$C$8)))))))","v":false},0,null,null,null,"",null,null,null,null,0,null,0,0,"Inlap",null,null,"FL"]
[1,284,284,null,{"$f":"IF(D295=\"Grid\",Simulation!$B$2,IF(D295=\"WU\",Simulation!$B$3,IF(D295=1,Simulation!$B$4,IF(D295=2,Simulation!$B$5,IF(D295=3,Simulation!$B$6,IF(D295=4,Simulation!$B$7,IF(D295=5,Simulation!$B$8)))))))","v":false},{"$f":"IF(D295=\"Grid\",Simulation!$C$2,IF(D295=\"WU\",Simulation!$C$3,IF(D295=1,Simulation!$C$4,IF(D295=2,Simulation!$C$5,IF(D295=3,Simulation!$C$6,IF(D295=4,Simulation!$C$7,IF(D295=5,Simulation!$C$8)))))))","v":false},0,null,null,null,"",null,null,null,null,0,null,0,0,"Inlap",null,null,"FL"]
[1,285,285,null,{"$f":"IF(D296=\"Grid\",Simulation!$B$2,IF(D296=\"WU\",Simulation!$B$3,IF(D296=1,Simulation!$B$4,IF(D296=2,Simulation!$B$5,IF(D296=3,Simulation!$B$6,IF(D296=4,Simulation!$B$7,IF(D296=5,Simulation!$B$8)))))))","v":false},{"$f":"IF(D296=\"Grid\",Simulation!$C$2,IF(D296=\"WU\",Simulation!$C$3,IF(D296=1,Simulation!$C$4,IF(D296=2,Simulation!$C$5,IF(D296=3,Simulation!$C$6,IF(D296=4,Simulation!$C$7,IF(D296=5,Simulation!$C$8)))))))","v":false},0,null,null,null,"",null,null,null,null,0,null,0,0,"Inlap",null,null,"FL"]
[1,286,286,null,{"$f":"IF(D297=\"Grid\",Simulation!$B$2,IF(D297=\"WU\",Simulation!$B$3,IF(D297=1,Simulation!$B$4,IF(D297=2,Simulation!$B$5,IF(D297=3,Simulation!$B$6,IF(D297=4,Simulation!$B$7,IF(D297=5,Simulation!$B$8)))))))","v":false},{"$f":"IF(D297=\"Grid\",Simulation!$C$2,IF(D297=\"WU\",Simulation!$C$3,IF(D297=1,Simulation!$C$4,IF(D297=2,Simulation!$C$5,IF(D297=3,Simulation!$C$6,IF(D297=4,Simulation!$C$7,IF(D297=5,Simulation!$C$8)))))))","v":false},0,null,null,null,"",null,null,null,null,0,null,0,0,"Inlap",null,null,"FL"]
[1,287,287,null,{"$f":"IF(D298=\"Grid\",Simulation!$B$2,IF(D298=\"WU\",Simulation!$B$3,IF(D298=1,Simulation!$B$4,IF(D298=2,Simulation!$B$5,IF(D298=3,Simulation!$B$6,IF(D298=4,Simulation!$B$7,IF(D298=5,Simulation!$B$8)))))))","v":false},{"$f":"IF(D298=\"Grid\",Simulation!$C$2,IF(D298=\"WU\",Simulation!$C$3,IF(D298=1,Simulation!$C$4,IF(D298=2,Simulation!$C$5,IF(D298=3,Simulation!$C$6,IF(D298=4,Simulation!$C$7,IF(D298=5,Simulation!$C$8)))))))","v":false},0,null,null,null,"",null,null,null,null,0,null,0,0,"Inlap",null,null,"FL"]
[1,288,288,null,{"$f":"IF(D299=\"Grid\",Simulation!$B$2,IF(D299=\"WU\",Simulation!$B$3,IF(D299=1,Simulation!$B$4,IF(D299=2,Simulation!$B$5,IF(D299=3,Simulation!$B$6,IF(D299=4,Simulation!$B$7,IF(D299=5,Simulation!$B$8)))))))","v":false},{"$f":"IF(D299=\"Grid\",Simulation!$C$2,IF(D299=\"WU\",Simulation!$C$3,IF(D299=1,Simulation!$C$4,IF(D299=2,Simulation!$C$5,IF(D299=3,Simulation!$C$6,IF(D299=4,Simulation!$C$7,IF(D299=5,Simulation!$C$8)))))))","v":false},0,null,null,null,"",null,null,null,null,0,null,0,0,"Inlap",null,null,"FL"]
[1,289,289,null,{"$f":"IF(D300=\"Grid\",Simulation!$B$2,IF(D300=\"WU\",Simulation!$B$3,IF(D300=1,Simulation!$B$4,IF(D300=2,Simulation!$B$5,IF(D300=3,Simulation!$B$6,IF(D300=4,Simulation!$B$7,IF(D300=5,Simulation!$B$8)))))))","v":false},{"$f":"IF(D300=\"Grid\",Simulation!$C$2,IF(D300=\"WU\",Simulation!$C$3,IF(D300=1,Simulation!$C$4,IF(D300=2,Simulation!$C$5,IF(D300=3,Simulation!$C$6,IF(D300=4,Simulation!$C$7,IF(D300=5,Simulation!$C$8)))))))","v":false},0,null,null,null,"",null,null,null,null,0,null,0,0,"Inlap",null,null,"FL"]
[1,290,290,null,{"$f":"IF(D301=\"Grid\",Simulation!$B$2,IF(D301=\"WU\",Simulation!$B$3,IF(D301=1,Simulation!$B$4,IF(D301=2,Simulation!$B$5,IF(D301=3,Simulation!$B$6,IF(D301=4,Simulation!$B$7,IF(D301=5,Simulation!$B$8)))))))","v":false},{"$f":"IF(D301=\"Grid\",Simulation!$C$2,IF(D301=\"WU\",Simulation!$C$3,IF(D301=1,Simulation!$C$4,IF(D301=2,Simulation!$C$5,IF(D301=3,Simulation!$C$6,IF(D301=4,Simulation!$C$7,IF(D301=5,Simulation!$C$8)))))))","v":false},0,null,null,null,"",null,null,null,null,0,null,0,0,"Inlap",null,null,"FL"]
[1,291,291,null,{"$f":"IF(D302=\"Grid\",Simulation!$B$2,IF(D302=\"WU\",Simulation!$B$3,IF(D302=1,Simulation!$B$4,IF(D302=2,Simulation!$B$5,IF(D302=3,Simulation!$B$6,IF(D302=4,Simulation!$B$7,IF(D302=5,Simulation!$B$8)))))))","v":false},{"$f":"IF(D302=\"Grid\",Simulation!$C$2,IF(D302=\"WU\",Simulation!$C$3,IF(D302=1,Simulation!$C$4,IF(D302=2,Simulation!$C$5,IF(D302=3,Simulation!$C$6,IF(D302=4,Simulation!$C$7,IF(D302=5,Simulation!$C$8)))))))","v":false},0,null,null,null,"",null,null,null,null,{"$f":"IF(O302>0,Q302,Q302-Q301)","v":0},null,{"$f":"IF(O302>0,Q302,Q302-Q301)","v":0},0,"Inlap",null,null,"FL"]
[1,292,292,null,{"$f":"IF(D303=\"Grid\",Simulation!$B$2,IF(D303=\"WU\",Simulation!$B$3,IF(D303=1,Simulation!$B$4,IF(D303=2,Simulation!$B$5,IF(D303=3,Simulation!$B$6,IF(D303=4,Simulation!$B$7,IF(D303=5,Simulation!$B$8)))))))","v":false},{"$f":"IF(D303=\"Grid\",Simulation!$C$2,IF(D303=\"WU\",Simulation!$C$3,IF(D303=1,Simulation!$C$4,IF(D303=2,Simulation!$C$5,IF(D303=3,Simulation!$C$6,IF(D303=4,Simulation!$C$7,IF(D303=5,Simulation!$C$8)))))))","v":false},0,null,null,null,"",null,null,null,null,0,null,0,0,"Inlap",null,null,"FL"]
[1,293,293,null,{"$f":"IF(D304=\"Grid\",Simulation!$B$2,IF(D304=\"WU\",Simulation!$B$3,IF(D304=1,Simulation!$B$4,IF(D304=2,Simulation!$B$5,IF(D304=3,Simulation!$B$6,IF(D304=4,Simulation!$B$7,IF(D304=5,Simulation!$B$8)))))))","v":false},{"$f":"IF(D304=\"Grid\",Simulation!$C$2,IF(D304=\"WU\",Simulation!$C$3,IF(D304=1,Simulation!$C$4,IF(D304=2,Simulation!$C$5,IF(D304=3,Simulation!$C$6,IF(D304=4,Simulation!$C$7,IF(D304=5,Simulation!$C$8)))))))","v":false},0,null,null,null,"",null,null,null,null,0,null,0,0,"Inlap",null,null,"FL"]
[1,294,294,null,{"$f":"IF(D305=\"Grid\",Simulation!$B$2,IF(D305=\"WU\",Simulation!$B$3,IF(D305=1,Simulation!$B$4,IF(D305=2,Simulation!$B$5,IF(D305=3,Simulation!$B$6,IF(D305=4,Simulation!$B$7,IF(D305=5,Simulation!$B$8)))))))","v":false},{"$f":"IF(D305=\"Grid\",Simulation!$C$2,IF(D305=\"WU\",Simulation!$C$3,IF(D305=1,Simulation!$C$4,IF(D305=2,Simulation!$C$5,IF(D305=3,Simulation!$C$6,IF(D305=4,Simulation!$C$7,IF(D305=5,Simulation!$C$8)))))))","v":false},0,null,null,null,"",null,null,null,null,0,null,0,0,"Inlap",null,null,"FL"]
[1,295,295,null,{"$f":"IF(D306=\"Grid\",Simulation!$B$2,IF(D306=\"WU\",Simulation!$B$3,IF(D306=1,Simulation!$B$4,IF(D306=2,Simulation!$B$5,IF(D306=3,Simulation!$B$6,IF(D306=4,Simulation!$B$7,IF(D306=5,Simulation!$B$8)))))))","v":false},{"$f":"IF(D306=\"Grid\",Simulation!$C$2,IF(D306=\"WU\",Simulation!$C$3,IF(D306=1,Simulation!$C$4,IF(D306=2,Simulation!$C$5,IF(D306=3,Simulation!$C$6,IF(D306=4,Simulation!$C$7,IF(D306=5,Simulation!$C$8)))))))","v":false},0,null,null,null,"",null,null,null,null,0,null,0,0,"Inlap",null,null,"FL"]
[1,296,296,null,{"$f":"IF(D307=\"Grid\",Simulation!$B$2,IF(D307=\"WU\",Simulation!$B$3,IF(D307=1,Simulation!$B$4,IF(D307=2,Simulation!$B$5,IF(D307=3,Simulation!$B$6,IF(D307=4,Simulation!$B$7,IF(D307=5,Simulation!$B$8)))))))","v":false},{"$f":"IF(D307=\"Grid\",Simulation!$C$2,IF(D307=\"WU\",Simulation!$C$3,IF(D307=1,Simulation!$C$4,IF(D307=2,Simulation!$C$5,IF(D307=3,Simulation!$C$6,IF(D307=4,Simulation!$C$7,IF(D307=5,Simulation!$C$8)))))))","v":false},0,null,null,null,"",null,null,null,null,0,null,0,0,"Inlap",null,null,"FL"]
[1,297,297,null,{"$f":"IF(D308=\"Grid\",Simulation!$B$2,IF(D308=\"WU\",Simulation!$B$3,IF(D308=1,Simulation!$B$4,IF(D308=2,Simulation!$B$5,IF(D308=3,Simulation!$B$6,IF(D308=4,Simulation!$B$7,IF(D308=5,Simulation!$B$8)))))))","v":false},{"$f":"IF(D308=\"Grid\",Simulation!$C$2,IF(D308=\"WU\",Simulation!$C$3,IF(D308=1,Simulation!$C$4,IF(D308=2,Simulation!$C$5,IF(D308=3,Simulation!$C$6,IF(D308=4,Simulation!$C$7,IF(D308=5,Simulation!$C$8)))))))","v":false},0,null,null,null,"",null,null,null,null,0,null,0,0,"Inlap",null,null,"FL"]
[1,298,298,null,{"$f":"IF(D309=\"Grid\",Simulation!$B$2,IF(D309=\"WU\",Simulation!$B$3,IF(D309=1,Simulation!$B$4,IF(D309=2,Simulation!$B$5,IF(D309=3,Simulation!$B$6,IF(D309=4,Simulation!$B$7,IF(D309=5,Simulation!$B$8)))))))","v":false},{"$f":"IF(D309=\"Grid\",Simulation!$C$2,IF(D309=\"WU\",Simulation!$C$3,IF(D309=1,Simulation!$C$4,IF(D309=2,Simulation!$C$5,IF(D309=3,Simulation!$C$6,IF(D309=4,Simulation!$C$7,IF(D309=5,Simulation!$C$8)))))))","v":false},0,null,null,null,"",null,null,null,null,0,null,0,0,"Inlap",null,null,"FL"]
[1,299,299,null,{"$f":"IF(D310=\"Grid\",Simulation!$B$2,IF(D310=\"WU\",Simulation!$B$3,IF(D310=1,Simulation!$B$4,IF(D310=2,Simulation!$B$5,IF(D310=3,Simulation!$B$6,IF(D310=4,Simulation!$B$7,IF(D310=5,Simulation!$B$8)))))))","v":false},{"$f":"IF(D310=\"Grid\",Simulation!$C$2,IF(D310=\"WU\",Simulation!$C$3,IF(D310=1,Simulation!$C$4,IF(D310=2,Simulation!$C$5,IF(D310=3,Simulation!$C$6,IF(D310=4,Simulation!$C$7,IF(D310=5,Simulation!$C$8)))))))","v":false},0,null,null,null,"",null,null,null,null,0,null,0,0,"Inlap",null,null,"FL"]
[1,300,300,null,{"$f":"IF(D311=\"Grid\",Simulation!$B$2,IF(D311=\"WU\",Simulation!$B$3,IF(D311=1,Simulation!$B$4,IF(D311=2,Simulation!$B$5,IF(D311=3,Simulation!$B$6,IF(D311=4,Simulation!$B$7,IF(D311=5,Simulation!$B$8)))))))","v":false},{"$f":"IF(D311=\"Grid\",Simulation!$C$2,IF(D311=\"WU\",Simulation!$C$3,IF(D311=1,Simulation!$C$4,IF(D311=2,Simulation!$C$5,IF(D311=3,Simulation!$C$6,IF(D311=4,Simulation!$C$7,IF(D311=5,Simulation!$C$8)))))))","v":false},0,null,null,null,"",null,null,null,null,0,null,0,0,"Inlap",null,null,"FL"]
[1,301,301,null,{"$f":"IF(D312=\"Grid\",Simulation!$B$2,IF(D312=\"WU\",Simulation!$B$3,IF(D312=1,Simulation!$B$4,IF(D312=2,Simulation!$B$5,IF(D312=3,Simulation!$B$6,IF(D312=4,Simulation!$B$7,IF(D312=5,Simulation!$B$8)))))))","v":false},{"$f":"IF(D312=\"Grid\",Simulation!$C$2,IF(D312=\"WU\",Simulation!$C$3,IF(D312=1,Simulation!$C$4,IF(D312=2,Simulation!$C$5,IF(D312=3,Simulation!$C$6,IF(D312=4,Simulation!$C$7,IF(D312=5,Simulation!$C$8)))))))","v":false},0,null,null,null,"",null,null,null,null,0,null,0,0,"Inlap",null,null,"FL"]
[1,302,302,null,{"$f":"IF(D313=\"Grid\",Simulation!$B$2,IF(D313=\"WU\",Simulation!$B$3,IF(D313=1,Simulation!$B$4,IF(D313=2,Simulation!$B$5,IF(D313=3,Simulation!$B$6,IF(D313=4,Simulation!$B$7,IF(D313=5,Simulation!$B$8)))))))","v":false},{"$f":"IF(D313=\"Grid\",Simulation!$C$2,IF(D313=\"WU\",Simulation!$C$3,IF(D313=1,Simulation!$C$4,IF(D313=2,Simulation!$C$5,IF(D313=3,Simulation!$C$6,IF(D313=4,Simulation!$C$7,IF(D313=5,Simulation!$C$8)))))))","v":false},0,null,null,null,"",null,null,null,null,0,null,0,0,"Inlap",null,null,"FL"]
[1,303,303,null,{"$f":"IF(D314=\"Grid\",Simulation!$B$2,IF(D314=\"WU\",Simulation!$B$3,IF(D314=1,Simulation!$B$4,IF(D314=2,Simulation!$B$5,IF(D314=3,Simulation!$B$6,IF(D314=4,Simulation!$B$7,IF(D314=5,Simulation!$B$8)))))))","v":false},{"$f":"IF(D314=\"Grid\",Simulation!$C$2,IF(D314=\"WU\",Simulation!$C$3,IF(D314=1,Simulation!$C$4,IF(D314=2,Simulation!$C$5,IF(D314=3,Simulation!$C$6,IF(D314=4,Simulation!$C$7,IF(D314=5,Simulation!$C$8)))))))","v":false},0,null,null,null,"",null,null,null,null,0,null,0,0,"Inlap",null,null,"FL"]
[1,304,304,null,{"$f":"IF(D315=\"Grid\",Simulation!$B$2,IF(D315=\"WU\",Simulation!$B$3,IF(D315=1,Simulation!$B$4,IF(D315=2,Simulation!$B$5,IF(D315=3,Simulation!$B$6,IF(D315=4,Simulation!$B$7,IF(D315=5,Simulation!$B$8)))))))","v":false},{"$f":"IF(D315=\"Grid\",Simulation!$C$2,IF(D315=\"WU\",Simulation!$C$3,IF(D315=1,Simulation!$C$4,IF(D315=2,Simulation!$C$5,IF(D315=3,Simulation!$C$6,IF(D315=4,Simulation!$C$7,IF(D315=5,Simulation!$C$8)))))))","v":false},0,null,null,null,"",null,null,null,null,0,null,0,0,"Inlap",null,null,"FL"]
[1,305,305,null,{"$f":"IF(D316=\"Grid\",Simulation!$B$2,IF(D316=\"WU\",Simulation!$B$3,IF(D316=1,Simulation!$B$4,IF(D316=2,Simulation!$B$5,IF(D316=3,Simulation!$B$6,IF(D316=4,Simulation!$B$7,IF(D316=5,Simulation!$B$8)))))))","v":false},{"$f":"IF(D316=\"Grid\",Simulation!$C$2,IF(D316=\"WU\",Simulation!$C$3,IF(D316=1,Simulation!$C$4,IF(D316=2,Simulation!$C$5,IF(D316=3,Simulation!$C$6,IF(D316=4,Simulation!$C$7,IF(D316=5,Simulation!$C$8)))))))","v":false},0,null,null,null,"",null,null,null,null,0,null,0,0,"Inlap",null,null,"FL"]
[1,306,306,null,{"$f":"IF(D317=\"Grid\",Simulation!$B$2,IF(D317=\"WU\",Simulation!$B$3,IF(D317=1,Simulation!$B$4,IF(D317=2,Simulation!$B$5,IF(D317=3,Simulation!$B$6,IF(D317=4,Simulation!$B$7,IF(D317=5,Simulation!$B$8)))))))","v":false},{"$f":"IF(D317=\"Grid\",Simulation!$C$2,IF(D317=\"WU\",Simulation!$C$3,IF(D317=1,Simulation!$C$4,IF(D317=2,Simulation!$C$5,IF(D317=3,Simulation!$C$6,IF(D317=4,Simulation!$C$7,IF(D317=5,Simulation!$C$8)))))))","v":false},0,null,null,null,"",null,null,null,null,0,null,0,0,"Inlap",null,null,"FL"]
[1,307,307,null,{"$f":"IF(D318=\"Grid\",Simulation!$B$2,IF(D318=\"WU\",Simulation!$B$3,IF(D318=1,Simulation!$B$4,IF(D318=2,Simulation!$B$5,IF(D318=3,Simulation!$B$6,IF(D318=4,Simulation!$B$7,IF(D318=5,Simulation!$B$8)))))))","v":false},{"$f":"IF(D318=\"Grid\",Simulation!$C$2,IF(D318=\"WU\",Simulation!$C$3,IF(D318=1,Simulation!$C$4,IF(D318=2,Simulation!$C$5,IF(D318=3,Simulation!$C$6,IF(D318=4,Simulation!$C$7,IF(D318=5,Simulation!$C$8)))))))","v":false},0,null,null,null,"",null,null,null,null,0,null,0,0,"Inlap",null,null,"FL"]
[1,308,308,null,{"$f":"IF(D319=\"Grid\",Simulation!$B$2,IF(D319=\"WU\",Simulation!$B$3,IF(D319=1,Simulation!$B$4,IF(D319=2,Simulation!$B$5,IF(D319=3,Simulation!$B$6,IF(D319=4,Simulation!$B$7,IF(D319=5,Simulation!$B$8)))))))","v":false},{"$f":"IF(D319=\"Grid\",Simulation!$C$2,IF(D319=\"WU\",Simulation!$C$3,IF(D319=1,Simulation!$C$4,IF(D319=2,Simulation!$C$5,IF(D319=3,Simulation!$C$6,IF(D319=4,Simulation!$C$7,IF(D319=5,Simulation!$C$8)))))))","v":false},0,null,null,null,"",null,null,null,null,0,null,0,0,"Inlap",null,null,"FL"]
[1,309,309,null,{"$f":"IF(D320=\"Grid\",Simulation!$B$2,IF(D320=\"WU\",Simulation!$B$3,IF(D320=1,Simulation!$B$4,IF(D320=2,Simulation!$B$5,IF(D320=3,Simulation!$B$6,IF(D320=4,Simulation!$B$7,IF(D320=5,Simulation!$B$8)))))))","v":false},{"$f":"IF(D320=\"Grid\",Simulation!$C$2,IF(D320=\"WU\",Simulation!$C$3,IF(D320=1,Simulation!$C$4,IF(D320=2,Simulation!$C$5,IF(D320=3,Simulation!$C$6,IF(D320=4,Simulation!$C$7,IF(D320=5,Simulation!$C$8)))))))","v":false},0,null,null,null,"",null,null,null,null,0,null,0,0,"Inlap",null,null,"FL"]
[1,310,310,null,{"$f":"IF(D321=\"Grid\",Simulation!$B$2,IF(D321=\"WU\",Simulation!$B$3,IF(D321=1,Simulation!$B$4,IF(D321=2,Simulation!$B$5,IF(D321=3,Simulation!$B$6,IF(D321=4,Simulation!$B$7,IF(D321=5,Simulation!$B$8)))))))","v":false},{"$f":"IF(D321=\"Grid\",Simulation!$C$2,IF(D321=\"WU\",Simulation!$C$3,IF(D321=1,Simulation!$C$4,IF(D321=2,Simulation!$C$5,IF(D321=3,Simulation!$C$6,IF(D321=4,Simulation!$C$7,IF(D321=5,Simulation!$C$8)))))))","v":false},0,null,null,null,"",null,null,null,null,0,null,0,0,"Inlap",null,null,"FL"]
[1,311,311,null,{"$f":"IF(D322=\"Grid\",Simulation!$B$2,IF(D322=\"WU\",Simulation!$B$3,IF(D322=1,Simulation!$B$4,IF(D322=2,Simulation!$B$5,IF(D322=3,Simulation!$B$6,IF(D322=4,Simulation!$B$7,IF(D322=5,Simulation!$B$8)))))))","v":false},{"$f":"IF(D322=\"Grid\",Simulation!$C$2,IF(D322=\"WU\",Simulation!$C$3,IF(D322=1,Simulation!$C$4,IF(D322=2,Simulation!$C$5,IF(D322=3,Simulation!$C$6,IF(D322=4,Simulation!$C$7,IF(D322=5,Simulation!$C$8)))))))","v":false},0,null,null,null,"",null,null,null,null,0,null,0,0,"Inlap",null,null,"FL"]
[1,312,312,null,{"$f":"IF(D323=\"Grid\",Simulation!$B$2,IF(D323=\"WU\",Simulation!$B$3,IF(D323=1,Simulation!$B$4,IF(D323=2,Simulation!$B$5,IF(D323=3,Simulation!$B$6,IF(D323=4,Simulation!$B$7,IF(D323=5,Simulation!$B$8)))))))","v":false},{"$f":"IF(D323=\"Grid\",Simulation!$C$2,IF(D323=\"WU\",Simulation!$C$3,IF(D323=1,Simulation!$C$4,IF(D323=2,Simulation!$C$5,IF(D323=3,Simulation!$C$6,IF(D323=4,Simulation!$C$7,IF(D323=5,Simulation!$C$8)))))))","v":false},0,null,null,null,"",null,null,null,null,0,null,0,0,"Inlap",null,null,"FL"]
[1,313,313,null,{"$f":"IF(D324=\"Grid\",Simulation!$B$2,IF(D324=\"WU\",Simulation!$B$3,IF(D324=1,Simulation!$B$4,IF(D324=2,Simulation!$B$5,IF(D324=3,Simulation!$B$6,IF(D324=4,Simulation!$B$7,IF(D324=5,Simulation!$B$8)))))))","v":false},{"$f":"IF(D324=\"Grid\",Simulation!$C$2,IF(D324=\"WU\",Simulation!$C$3,IF(D324=1,Simulation!$C$4,IF(D324=2,Simulation!$C$5,IF(D324=3,Simulation!$C$6,IF(D324=4,Simulation!$C$7,IF(D324=5,Simulation!$C$8)))))))","v":false},0,null,null,null,"",null,null,null,null,0,null,0,0,"Inlap",null,null,"FL"]
[1,314,314,null,{"$f":"IF(D325=\"Grid\",Simulation!$B$2,IF(D325=\"WU\",Simulation!$B$3,IF(D325=1,Simulation!$B$4,IF(D325=2,Simulation!$B$5,IF(D325=3,Simulation!$B$6,IF(D325=4,Simulation!$B$7,IF(D325=5,Simulation!$B$8)))))))","v":false},{"$f":"IF(D325=\"Grid\",Simulation!$C$2,IF(D325=\"WU\",Simulation!$C$3,IF(D325=1,Simulation!$C$4,IF(D325=2,Simulation!$C$5,IF(D325=3,Simulation!$C$6,IF(D325=4,Simulation!$C$7,IF(D325=5,Simulation!$C$8)))))))","v":false},0,null,null,null,"",null,null,null,null,0,null,0,0,"Inlap",null,null,"FL"]
[1,315,315,null,{"$f":"IF(D326=\"Grid\",Simulation!$B$2,IF(D326=\"WU\",Simulation!$B$3,IF(D326=1,Simulation!$B$4,IF(D326=2,Simulation!$B$5,IF(D326=3,Simulation!$B$6,IF(D326=4,Simulation!$B$7,IF(D326=5,Simulation!$B$8)))))))","v":false},{"$f":"IF(D326=\"Grid\",Simulation!$C$2,IF(D326=\"WU\",Simulation!$C$3,IF(D326=1,Simulation!$C$4,IF(D326=2,Simulation!$C$5,IF(D326=3,Simulation!$C$6,IF(D326=4,Simulation!$C$7,IF(D326=5,Simulation!$C$8)))))))","v":false},0,null,null,null,"",null,null,null,null,0,null,0,0,"Inlap",null,null,"FL"]
[1,316,316,null,{"$f":"IF(D327=\"Grid\",Simulation!$B$2,IF(D327=\"WU\",Simulation!$B$3,IF(D327=1,Simulation!$B$4,IF(D327=2,Simulation!$B$5,IF(D327=3,Simulation!$B$6,IF(D327=4,Simulation!$B$7,IF(D327=5,Simulation!$B$8)))))))","v":false},{"$f":"IF(D327=\"Grid\",Simulation!$C$2,IF(D327=\"WU\",Simulation!$C$3,IF(D327=1,Simulation!$C$4,IF(D327=2,Simulation!$C$5,IF(D327=3,Simulation!$C$6,IF(D327=4,Simulation!$C$7,IF(D327=5,Simulation!$C$8)))))))","v":false},0,null,null,null,"",null,null,null,null,0,null,0,0,"Inlap",null,null,"FL"]
[1,317,317,null,{"$f":"IF(D328=\"Grid\",Simulation!$B$2,IF(D328=\"WU\",Simulation!$B$3,IF(D328=1,Simulation!$B$4,IF(D328=2,Simulation!$B$5,IF(D328=3,Simulation!$B$6,IF(D328=4,Simulation!$B$7,IF(D328=5,Simulation!$B$8)))))))","v":false},{"$f":"IF(D328=\"Grid\",Simulation!$C$2,IF(D328=\"WU\",Simulation!$C$3,IF(D328=1,Simulation!$C$4,IF(D328=2,Simulation!$C$5,IF(D328=3,Simulation!$C$6,IF(D328=4,Simulation!$C$7,IF(D328=5,Simulation!$C$8)))))))","v":false},0,null,null,null,"",null,null,null,null,0,null,0,0,"Inlap",null,null,"FL"]
[1,318,318,null,{"$f":"IF(D329=\"Grid\",Simulation!$B$2,IF(D329=\"WU\",Simulation!$B$3,IF(D329=1,Simulation!$B$4,IF(D329=2,Simulation!$B$5,IF(D329=3,Simulation!$B$6,IF(D329=4,Simulation!$B$7,IF(D329=5,Simulation!$B$8)))))))","v":false},{"$f":"IF(D329=\"Grid\",Simulation!$C$2,IF(D329=\"WU\",Simulation!$C$3,IF(D329=1,Simulation!$C$4,IF(D329=2,Simulation!$C$5,IF(D329=3,Simulation!$C$6,IF(D329=4,Simulation!$C$7,IF(D329=5,Simulation!$C$8)))))))","v":false},0,null,null,null,"",null,null,null,null,0,null,0,0,"Inlap",null,null,"FL"]
[1,319,319,null,{"$f":"IF(D330=\"Grid\",Simulation!$B$2,IF(D330=\"WU\",Simulation!$B$3,IF(D330=1,Simulation!$B$4,IF(D330=2,Simulation!$B$5,IF(D330=3,Simulation!$B$6,IF(D330=4,Simulation!$B$7,IF(D330=5,Simulation!$B$8)))))))","v":false},{"$f":"IF(D330=\"Grid\",Simulation!$C$2,IF(D330=\"WU\",Simulation!$C$3,IF(D330=1,Simulation!$C$4,IF(D330=2,Simulation!$C$5,IF(D330=3,Simulation!$C$6,IF(D330=4,Simulation!$C$7,IF(D330=5,Simulation!$C$8)))))))","v":false},0,null,null,null,"",null,null,null,null,0,null,0,0,"Inlap",null,null,"FL"]
[1,320,320,null,{"$f":"IF(D331=\"Grid\",Simulation!$B$2,IF(D331=\"WU\",Simulation!$B$3,IF(D331=1,Simulation!$B$4,IF(D331=2,Simulation!$B$5,IF(D331=3,Simulation!$B$6,IF(D331=4,Simulation!$B$7,IF(D331=5,Simulation!$B$8)))))))","v":false},{"$f":"IF(D331=\"Grid\",Simulation!$C$2,IF(D331=\"WU\",Simulation!$C$3,IF(D331=1,Simulation!$C$4,IF(D331=2,Simulation!$C$5,IF(D331=3,Simulation!$C$6,IF(D331=4,Simulation!$C$7,IF(D331=5,Simulation!$C$8)))))))","v":false},0,null,null,null,"",null,null,null,null,0,null,0,0,"Inlap",null,null,"FL"]
[{"$f":"IF(O332>0,A331+1,A331)","v":1},321,321,null,{"$f":"IF(D332=\"Grid\",Simulation!$B$2,IF(D332=\"WU\",Simulation!$B$3,IF(D332=1,Simulation!$B$4,IF(D332=2,Simulation!$B$5,IF(D332=3,Simulation!$B$6,IF(D332=4,Simulation!$B$7,IF(D332=5,Simulation!$B$8)))))))","v":false},{"$f":"IF(D332=\"Grid\",Simulation!$C$2,IF(D332=\"WU\",Simulation!$C$3,IF(D332=1,Simulation!$C$4,IF(D332=2,Simulation!$C$5,IF(D332=3,Simulation!$C$6,IF(D332=4,Simulation!$C$7,IF(D332=5,Simulation!$C$8)))))))","v":false},{"$f":"G331+O331-P331","v":0},null,null,null,"",null,null,null,null,0,null,0,{"$f":"IF(O332>0,O332+S331-Q332,S331-P332)","v":0},{"$f":"IF(S332<=F332,\"Inlap\",IF(S332<=2*F332,\"Call: In this lap!\",IF(S332<=3*F332,\"Show in but don't call!\",\"\")))","v":"Inlap"},null,null,{"$f":"IF(J332=$Q$2,\"FL\",\"\")","v":"FL"}]
[1,322,322,null,{"$f":"IF(D333=\"Grid\",Simulation!$B$2,IF(D333=\"WU\",Simulation!$B$3,IF(D333=1,Simulation!$B$4,IF(D333=2,Simulation!$B$5,IF(D333=3,Simulation!$B$6,IF(D333=4,Simulation!$B$7,IF(D333=5,Simulation!$B$8)))))))","v":false},{"$f":"IF(D333=\"Grid\",Simulation!$C$2,IF(D333=\"WU\",Simulation!$C$3,IF(D333=1,Simulation!$C$4,IF(D333=2,Simulation!$C$5,IF(D333=3,Simulation!$C$6,IF(D333=4,Simulation!$C$7,IF(D333=5,Simulation!$C$8)))))))","v":false},0,null,null,null,{"$f":"IF(J333<>0,K332,\"\")","v":""},null,null,null,null,0,null,0,0,"Inlap",null,null,"FL"]
[1,323,{"$f":"IF(O334=\"\",C333+1,\"1\")","v":323},null,{"$f":"IF(D334=\"Grid\",Simulation!$B$2,IF(D334=\"WU\",Simulation!$B$3,IF(D334=1,Simulation!$B$4,IF(D334=2,Simulation!$B$5,IF(D334=3,Simulation!$B$6,IF(D334=4,Simulation!$B$7,IF(D334=5,Simulation!$B$8)))))))","v":false},{"$f":"IF(D334=\"Grid\",Simulation!$C$2,IF(D334=\"WU\",Simulation!$C$3,IF(D334=1,Simulation!$C$4,IF(D334=2,Simulation!$C$5,IF(D334=3,Simulation!$C$6,IF(D334=4,Simulation!$C$7,IF(D334=5,Simulation!$C$8)))))))","v":false},0,null,null,null,"",null,null,null,null,0,null,0,0,"Inlap",null,null,"FL"]
[1,324,324,null,{"$f":"IF(D335=\"Grid\",Simulation!$B$2,IF(D335=\"WU\",Simulation!$B$3,IF(D335=1,Simulation!$B$4,IF(D335=2,Simulation!$B$5,IF(D335=3,Simulation!$B$6,IF(D335=4,Simulation!$B$7,IF(D335=5,Simulation!$B$8)))))))","v":false},{"$f":"IF(D335=\"Grid\",Simulation!$C$2,IF(D335=\"WU\",Simulation!$C$3,IF(D335=1,Simulation!$C$4,IF(D335=2,Simulation!$C$5,IF(D335=3,Simulation!$C$6,IF(D335=4,Simulation!$C$7,IF(D335=5,Simulation!$C$8)))))))","v":false},0,null,null,null,"",null,null,null,null,0,null,0,0,"Inlap",null,null,"FL"]
[1,325,325,null,{"$f":"IF(D336=\"Grid\",Simulation!$B$2,IF(D336=\"WU\",Simulation!$B$3,IF(D336=1,Simulation!$B$4,IF(D336=2,Simulation!$B$5,IF(D336=3,Simulation!$B$6,IF(D336=4,Simulation!$B$7,IF(D336=5,Simulation!$B$8)))))))","v":false},{"$f":"IF(D336=\"Grid\",Simulation!$C$2,IF(D336=\"WU\",Simulation!$C$3,IF(D336=1,Simulation!$C$4,IF(D336=2,Simulation!$C$5,IF(D336=3,Simulation!$C$6,IF(D336=4,Simulation!$C$7,IF(D336=5,Simulation!$C$8)))))))","v":false},0,null,null,null,"",null,null,null,null,0,null,0,0,"Inlap",null,null,"FL"]
[1,326,326,null,{"$f":"IF(D337=\"Grid\",Simulation!$B$2,IF(D337=\"WU\",Simulation!$B$3,IF(D337=1,Simulation!$B$4,IF(D337=2,Simulation!$B$5,IF(D337=3,Simulation!$B$6,IF(D337=4,Simulation!$B$7,IF(D337=5,Simulation!$B$8)))))))","v":false},{"$f":"IF(D337=\"Grid\",Simulation!$C$2,IF(D337=\"WU\",Simulation!$C$3,IF(D337=1,Simulation!$C$4,IF(D337=2,Simulation!$C$5,IF(D337=3,Simulation!$C$6,IF(D337=4,Simulation!$C$7,IF(D337=5,Simulation!$C$8)))))))","v":false},0,null,null,null,"",null,null,null,null,0,null,0,0,"Inlap",null,null,"FL"]
[1,327,327,null,{"$f":"IF(D338=\"Grid\",Simulation!$B$2,IF(D338=\"WU\",Simulation!$B$3,IF(D338=1,Simulation!$B$4,IF(D338=2,Simulation!$B$5,IF(D338=3,Simulation!$B$6,IF(D338=4,Simulation!$B$7,IF(D338=5,Simulation!$B$8)))))))","v":false},{"$f":"IF(D338=\"Grid\",Simulation!$C$2,IF(D338=\"WU\",Simulation!$C$3,IF(D338=1,Simulation!$C$4,IF(D338=2,Simulation!$C$5,IF(D338=3,Simulation!$C$6,IF(D338=4,Simulation!$C$7,IF(D338=5,Simulation!$C$8)))))))","v":false},0,null,null,null,"",null,null,null,null,0,null,0,0,"Inlap",null,null,"FL"]
[1,328,328,null,{"$f":"IF(D339=\"Grid\",Simulation!$B$2,IF(D339=\"WU\",Simulation!$B$3,IF(D339=1,Simulation!$B$4,IF(D339=2,Simulation!$B$5,IF(D339=3,Simulation!$B$6,IF(D339=4,Simulation!$B$7,IF(D339=5,Simulation!$B$8)))))))","v":false},{"$f":"IF(D339=\"Grid\",Simulation!$C$2,IF(D339=\"WU\",Simulation!$C$3,IF(D339=1,Simulation!$C$4,IF(D339=2,Simulation!$C$5,IF(D339=3,Simulation!$C$6,IF(D339=4,Simulation!$C$7,IF(D339=5,Simulation!$C$8)))))))","v":false},0,null,null,null,"",null,null,null,null,0,null,0,0,"Inlap",null,null,"FL"]
[1,329,329,null,{"$f":"IF(D340=\"Grid\",Simulation!$B$2,IF(D340=\"WU\",Simulation!$B$3,IF(D340=1,Simulation!$B$4,IF(D340=2,Simulation!$B$5,IF(D340=3,Simulation!$B$6,IF(D340=4,Simulation!$B$7,IF(D340=5,Simulation!$B$8)))))))","v":false},{"$f":"IF(D340=\"Grid\",Simulation!$C$2,IF(D340=\"WU\",Simulation!$C$3,IF(D340=1,Simulation!$C$4,IF(D340=2,Simulation!$C$5,IF(D340=3,Simulation!$C$6,IF(D340=4,Simulation!$C$7,IF(D340=5,Simulation!$C$8)))))))","v":false},0,null,null,null,"",null,null,null,null,0,null,0,0,"Inlap",null,null,"FL"]
[1,330,330,null,{"$f":"IF(D341=\"Grid\",Simulation!$B$2,IF(D341=\"WU\",Simulation!$B$3,IF(D341=1,Simulation!$B$4,IF(D341=2,Simulation!$B$5,IF(D341=3,Simulation!$B$6,IF(D341=4,Simulation!$B$7,IF(D341=5,Simulation!$B$8)))))))","v":false},{"$f":"IF(D341=\"Grid\",Simulation!$C$2,IF(D341=\"WU\",Simulation!$C$3,IF(D341=1,Simulation!$C$4,IF(D341=2,Simulation!$C$5,IF(D341=3,Simulation!$C$6,IF(D341=4,Simulation!$C$7,IF(D341=5,Simulation!$C$8)))))))","v":false},0,null,null,null,"",null,null,null,null,0,null,0,0,"Inlap",null,null,"FL"]
[1,331,331,null,{"$f":"IF(D342=\"Grid\",Simulation!$B$2,IF(D342=\"WU\",Simulation!$B$3,IF(D342=1,Simulation!$B$4,IF(D342=2,Simulation!$B$5,IF(D342=3,Simulation!$B$6,IF(D342=4,Simulation!$B$7,IF(D342=5,Simulation!$B$8)))))))","v":false},{"$f":"IF(D342=\"Grid\",Simulation!$C$2,IF(D342=\"WU\",Simulation!$C$3,IF(D342=1,Simulation!$C$4,IF(D342=2,Simulation!$C$5,IF(D342=3,Simulation!$C$6,IF(D342=4,Simulation!$C$7,IF(D342=5,Simulation!$C$8)))))))","v":false},0,null,null,null,"",null,null,null,null,0,null,0,0,"Inlap",null,null,"FL"]
[1,332,332,null,{"$f":"IF(D343=\"Grid\",Simulation!$B$2,IF(D343=\"WU\",Simulation!$B$3,IF(D343=1,Simulation!$B$4,IF(D343=2,Simulation!$B$5,IF(D343=3,Simulation!$B$6,IF(D343=4,Simulation!$B$7,IF(D343=5,Simulation!$B$8)))))))","v":false},{"$f":"IF(D343=\"Grid\",Simulation!$C$2,IF(D343=\"WU\",Simulation!$C$3,IF(D343=1,Simulation!$C$4,IF(D343=2,Simulation!$C$5,IF(D343=3,Simulation!$C$6,IF(D343=4,Simulation!$C$7,IF(D343=5,Simulation!$C$8)))))))","v":false},0,null,null,null,"",null,null,null,null,0,null,0,0,"Inlap",null,null,"FL"]
[1,333,333,null,{"$f":"IF(D344=\"Grid\",Simulation!$B$2,IF(D344=\"WU\",Simulation!$B$3,IF(D344=1,Simulation!$B$4,IF(D344=2,Simulation!$B$5,IF(D344=3,Simulation!$B$6,IF(D344=4,Simulation!$B$7,IF(D344=5,Simulation!$B$8)))))))","v":false},{"$f":"IF(D344=\"Grid\",Simulation!$C$2,IF(D344=\"WU\",Simulation!$C$3,IF(D344=1,Simulation!$C$4,IF(D344=2,Simulation!$C$5,IF(D344=3,Simulation!$C$6,IF(D344=4,Simulation!$C$7,IF(D344=5,Simulation!$C$8)))))))","v":false},0,null,null,null,"",null,null,null,null,0,null,0,0,"Inlap",null,null,"FL"]
[1,334,334,null,{"$f":"IF(D345=\"Grid\",Simulation!$B$2,IF(D345=\"WU\",Simulation!$B$3,IF(D345=1,Simulation!$B$4,IF(D345=2,Simulation!$B$5,IF(D345=3,Simulation!$B$6,IF(D345=4,Simulation!$B$7,IF(D345=5,Simulation!$B$8)))))))","v":false},{"$f":"IF(D345=\"Grid\",Simulation!$C$2,IF(D345=\"WU\",Simulation!$C$3,IF(D345=1,Simulation!$C$4,IF(D345=2,Simulation!$C$5,IF(D345=3,Simulation!$C$6,IF(D345=4,Simulation!$C$7,IF(D345=5,Simulation!$C$8)))))))","v":false},0,null,null,null,"",null,null,null,null,0,null,0,0,"Inlap",null,null,"FL"]
[1,335,335,null,{"$f":"IF(D346=\"Grid\",Simulation!$B$2,IF(D346=\"WU\",Simulation!$B$3,IF(D346=1,Simulation!$B$4,IF(D346=2,Simulation!$B$5,IF(D346=3,Simulation!$B$6,IF(D346=4,Simulation!$B$7,IF(D346=5,Simulation!$B$8)))))))","v":false},{"$f":"IF(D346=\"Grid\",Simulation!$C$2,IF(D346=\"WU\",Simulation!$C$3,IF(D346=1,Simulation!$C$4,IF(D346=2,Simulation!$C$5,IF(D346=3,Simulation!$C$6,IF(D346=4,Simulation!$C$7,IF(D346=5,Simulation!$C$8)))))))","v":false},0,null,null,null,"",null,null,null,null,0,null,0,0,"Inlap",null,null,"FL"]
[1,336,336,null,{"$f":"IF(D347=\"Grid\",Simulation!$B$2,IF(D347=\"WU\",Simulation!$B$3,IF(D347=1,Simulation!$B$4,IF(D347=2,Simulation!$B$5,IF(D347=3,Simulation!$B$6,IF(D347=4,Simulation!$B$7,IF(D347=5,Simulation!$B$8)))))))","v":false},{"$f":"IF(D347=\"Grid\",Simulation!$C$2,IF(D347=\"WU\",Simulation!$C$3,IF(D347=1,Simulation!$C$4,IF(D347=2,Simulation!$C$5,IF(D347=3,Simulation!$C$6,IF(D347=4,Simulation!$C$7,IF(D347=5,Simulation!$C$8)))))))","v":false},0,null,null,null,"",null,null,null,null,0,null,0,0,"Inlap",null,null,"FL"]
[1,337,337,null,{"$f":"IF(D348=\"Grid\",Simulation!$B$2,IF(D348=\"WU\",Simulation!$B$3,IF(D348=1,Simulation!$B$4,IF(D348=2,Simulation!$B$5,IF(D348=3,Simulation!$B$6,IF(D348=4,Simulation!$B$7,IF(D348=5,Simulation!$B$8)))))))","v":false},{"$f":"IF(D348=\"Grid\",Simulation!$C$2,IF(D348=\"WU\",Simulation!$C$3,IF(D348=1,Simulation!$C$4,IF(D348=2,Simulation!$C$5,IF(D348=3,Simulation!$C$6,IF(D348=4,Simulation!$C$7,IF(D348=5,Simulation!$C$8)))))))","v":false},0,null,null,null,"",null,null,null,null,0,null,0,0,"Inlap",null,null,"FL"]
[1,338,338,null,{"$f":"IF(D349=\"Grid\",Simulation!$B$2,IF(D349=\"WU\",Simulation!$B$3,IF(D349=1,Simulation!$B$4,IF(D349=2,Simulation!$B$5,IF(D349=3,Simulation!$B$6,IF(D349=4,Simulation!$B$7,IF(D349=5,Simulation!$B$8)))))))","v":false},{"$f":"IF(D349=\"Grid\",Simulation!$C$2,IF(D349=\"WU\",Simulation!$C$3,IF(D349=1,Simulation!$C$4,IF(D349=2,Simulation!$C$5,IF(D349=3,Simulation!$C$6,IF(D349=4,Simulation!$C$7,IF(D349=5,Simulation!$C$8)))))))","v":false},0,null,null,null,"",null,null,null,null,0,null,0,0,"Inlap",null,null,"FL"]
[1,339,339,null,{"$f":"IF(D350=\"Grid\",Simulation!$B$2,IF(D350=\"WU\",Simulation!$B$3,IF(D350=1,Simulation!$B$4,IF(D350=2,Simulation!$B$5,IF(D350=3,Simulation!$B$6,IF(D350=4,Simulation!$B$7,IF(D350=5,Simulation!$B$8)))))))","v":false},{"$f":"IF(D350=\"Grid\",Simulation!$C$2,IF(D350=\"WU\",Simulation!$C$3,IF(D350=1,Simulation!$C$4,IF(D350=2,Simulation!$C$5,IF(D350=3,Simulation!$C$6,IF(D350=4,Simulation!$C$7,IF(D350=5,Simulation!$C$8)))))))","v":false},0,null,null,null,"",null,null,null,null,0,null,0,0,"Inlap",null,null,"FL"]
[1,340,340,null,{"$f":"IF(D351=\"Grid\",Simulation!$B$2,IF(D351=\"WU\",Simulation!$B$3,IF(D351=1,Simulation!$B$4,IF(D351=2,Simulation!$B$5,IF(D351=3,Simulation!$B$6,IF(D351=4,Simulation!$B$7,IF(D351=5,Simulation!$B$8)))))))","v":false},{"$f":"IF(D351=\"Grid\",Simulation!$C$2,IF(D351=\"WU\",Simulation!$C$3,IF(D351=1,Simulation!$C$4,IF(D351=2,Simulation!$C$5,IF(D351=3,Simulation!$C$6,IF(D351=4,Simulation!$C$7,IF(D351=5,Simulation!$C$8)))))))","v":false},0,null,null,null,"",null,null,null,null,0,null,0,0,"Inlap",null,null,"FL"]
[1,341,341,null,{"$f":"IF(D352=\"Grid\",Simulation!$B$2,IF(D352=\"WU\",Simulation!$B$3,IF(D352=1,Simulation!$B$4,IF(D352=2,Simulation!$B$5,IF(D352=3,Simulation!$B$6,IF(D352=4,Simulation!$B$7,IF(D352=5,Simulation!$B$8)))))))","v":false},{"$f":"IF(D352=\"Grid\",Simulation!$C$2,IF(D352=\"WU\",Simulation!$C$3,IF(D352=1,Simulation!$C$4,IF(D352=2,Simulation!$C$5,IF(D352=3,Simulation!$C$6,IF(D352=4,Simulation!$C$7,IF(D352=5,Simulation!$C$8)))))))","v":false},0,null,null,null,"",null,null,null,null,0,null,0,0,"Inlap",null,null,"FL"]
[1,342,342,null,{"$f":"IF(D353=\"Grid\",Simulation!$B$2,IF(D353=\"WU\",Simulation!$B$3,IF(D353=1,Simulation!$B$4,IF(D353=2,Simulation!$B$5,IF(D353=3,Simulation!$B$6,IF(D353=4,Simulation!$B$7,IF(D353=5,Simulation!$B$8)))))))","v":false},{"$f":"IF(D353=\"Grid\",Simulation!$C$2,IF(D353=\"WU\",Simulation!$C$3,IF(D353=1,Simulation!$C$4,IF(D353=2,Simulation!$C$5,IF(D353=3,Simulation!$C$6,IF(D353=4,Simulation!$C$7,IF(D353=5,Simulation!$C$8)))))))","v":false},0,null,null,null,"",null,null,null,null,0,null,0,0,"Inlap",null,null,"FL"]
[1,343,343,null,{"$f":"IF(D354=\"Grid\",Simulation!$B$2,IF(D354=\"WU\",Simulation!$B$3,IF(D354=1,Simulation!$B$4,IF(D354=2,Simulation!$B$5,IF(D354=3,Simulation!$B$6,IF(D354=4,Simulation!$B$7,IF(D354=5,Simulation!$B$8)))))))","v":false},{"$f":"IF(D354=\"Grid\",Simulation!$C$2,IF(D354=\"WU\",Simulation!$C$3,IF(D354=1,Simulation!$C$4,IF(D354=2,Simulation!$C$5,IF(D354=3,Simulation!$C$6,IF(D354=4,Simulation!$C$7,IF(D354=5,Simulation!$C$8)))))))","v":false},0,null,null,null,"",null,null,null,null,0,null,0,0,"Inlap",null,null,"FL"]
[1,344,344,null,{"$f":"IF(D355=\"Grid\",Simulation!$B$2,IF(D355=\"WU\",Simulation!$B$3,IF(D355=1,Simulation!$B$4,IF(D355=2,Simulation!$B$5,IF(D355=3,Simulation!$B$6,IF(D355=4,Simulation!$B$7,IF(D355=5,Simulation!$B$8)))))))","v":false},{"$f":"IF(D355=\"Grid\",Simulation!$C$2,IF(D355=\"WU\",Simulation!$C$3,IF(D355=1,Simulation!$C$4,IF(D355=2,Simulation!$C$5,IF(D355=3,Simulation!$C$6,IF(D355=4,Simulation!$C$7,IF(D355=5,Simulation!$C$8)))))))","v":false},0,null,null,null,"",null,null,null,null,0,null,0,0,"Inlap",null,null,"FL"]
[1,345,345,null,{"$f":"IF(D356=\"Grid\",Simulation!$B$2,IF(D356=\"WU\",Simulation!$B$3,IF(D356=1,Simulation!$B$4,IF(D356=2,Simulation!$B$5,IF(D356=3,Simulation!$B$6,IF(D356=4,Simulation!$B$7,IF(D356=5,Simulation!$B$8)))))))","v":false},{"$f":"IF(D356=\"Grid\",Simulation!$C$2,IF(D356=\"WU\",Simulation!$C$3,IF(D356=1,Simulation!$C$4,IF(D356=2,Simulation!$C$5,IF(D356=3,Simulation!$C$6,IF(D356=4,Simulation!$C$7,IF(D356=5,Simulation!$C$8)))))))","v":false},0,null,null,null,"",null,null,null,null,0,null,0,0,"Inlap",null,null,"FL"]
[1,346,346,null,{"$f":"IF(D357=\"Grid\",Simulation!$B$2,IF(D357=\"WU\",Simulation!$B$3,IF(D357=1,Simulation!$B$4,IF(D357=2,Simulation!$B$5,IF(D357=3,Simulation!$B$6,IF(D357=4,Simulation!$B$7,IF(D357=5,Simulation!$B$8)))))))","v":false},{"$f":"IF(D357=\"Grid\",Simulation!$C$2,IF(D357=\"WU\",Simulation!$C$3,IF(D357=1,Simulation!$C$4,IF(D357=2,Simulation!$C$5,IF(D357=3,Simulation!$C$6,IF(D357=4,Simulation!$C$7,IF(D357=5,Simulation!$C$8)))))))","v":false},0,null,null,null,"",null,null,null,null,0,null,0,0,"Inlap",null,null,"FL"]
[1,347,347,null,{"$f":"IF(D358=\"Grid\",Simulation!$B$2,IF(D358=\"WU\",Simulation!$B$3,IF(D358=1,Simulation!$B$4,IF(D358=2,Simulation!$B$5,IF(D358=3,Simulation!$B$6,IF(D358=4,Simulation!$B$7,IF(D358=5,Simulation!$B$8)))))))","v":false},{"$f":"IF(D358=\"Grid\",Simulation!$C$2,IF(D358=\"WU\",Simulation!$C$3,IF(D358=1,Simulation!$C$4,IF(D358=2,Simulation!$C$5,IF(D358=3,Simulation!$C$6,IF(D358=4,Simulation!$C$7,IF(D358=5,Simulation!$C$8)))))))","v":false},0,null,null,null,"",null,null,null,null,0,null,0,0,"Inlap",null,null,"FL"]
[1,348,348,null,{"$f":"IF(D359=\"Grid\",Simulation!$B$2,IF(D359=\"WU\",Simulation!$B$3,IF(D359=1,Simulation!$B$4,IF(D359=2,Simulation!$B$5,IF(D359=3,Simulation!$B$6,IF(D359=4,Simulation!$B$7,IF(D359=5,Simulation!$B$8)))))))","v":false},{"$f":"IF(D359=\"Grid\",Simulation!$C$2,IF(D359=\"WU\",Simulation!$C$3,IF(D359=1,Simulation!$C$4,IF(D359=2,Simulation!$C$5,IF(D359=3,Simulation!$C$6,IF(D359=4,Simulation!$C$7,IF(D359=5,Simulation!$C$8)))))))","v":false},0,null,null,null,"",null,null,null,null,0,null,0,0,"Inlap",null,null,"FL"]
[1,349,349,null,{"$f":"IF(D360=\"Grid\",Simulation!$B$2,IF(D360=\"WU\",Simulation!$B$3,IF(D360=1,Simulation!$B$4,IF(D360=2,Simulation!$B$5,IF(D360=3,Simulation!$B$6,IF(D360=4,Simulation!$B$7,IF(D360=5,Simulation!$B$8)))))))","v":false},{"$f":"IF(D360=\"Grid\",Simulation!$C$2,IF(D360=\"WU\",Simulation!$C$3,IF(D360=1,Simulation!$C$4,IF(D360=2,Simulation!$C$5,IF(D360=3,Simulation!$C$6,IF(D360=4,Simulation!$C$7,IF(D360=5,Simulation!$C$8)))))))","v":false},0,null,null,null,"",null,null,null,null,0,null,0,0,"Inlap",null,null,"FL"]
[1,350,350,null,{"$f":"IF(D361=\"Grid\",Simulation!$B$2,IF(D361=\"WU\",Simulation!$B$3,IF(D361=1,Simulation!$B$4,IF(D361=2,Simulation!$B$5,IF(D361=3,Simulation!$B$6,IF(D361=4,Simulation!$B$7,IF(D361=5,Simulation!$B$8)))))))","v":false},{"$f":"IF(D361=\"Grid\",Simulation!$C$2,IF(D361=\"WU\",Simulation!$C$3,IF(D361=1,Simulation!$C$4,IF(D361=2,Simulation!$C$5,IF(D361=3,Simulation!$C$6,IF(D361=4,Simulation!$C$7,IF(D361=5,Simulation!$C$8)))))))","v":false},0,null,null,null,"",null,null,null,null,0,null,0,0,"Inlap",null,null,"FL"]
[1,351,351,null,{"$f":"IF(D362=\"Grid\",Simulation!$B$2,IF(D362=\"WU\",Simulation!$B$3,IF(D362=1,Simulation!$B$4,IF(D362=2,Simulation!$B$5,IF(D362=3,Simulation!$B$6,IF(D362=4,Simulation!$B$7,IF(D362=5,Simulation!$B$8)))))))","v":false},{"$f":"IF(D362=\"Grid\",Simulation!$C$2,IF(D362=\"WU\",Simulation!$C$3,IF(D362=1,Simulation!$C$4,IF(D362=2,Simulation!$C$5,IF(D362=3,Simulation!$C$6,IF(D362=4,Simulation!$C$7,IF(D362=5,Simulation!$C$8)))))))","v":false},0,null,null,null,"",null,null,null,null,0,null,0,0,"Inlap",null,null,"FL"]
[1,352,352,null,{"$f":"IF(D363=\"Grid\",Simulation!$B$2,IF(D363=\"WU\",Simulation!$B$3,IF(D363=1,Simulation!$B$4,IF(D363=2,Simulation!$B$5,IF(D363=3,Simulation!$B$6,IF(D363=4,Simulation!$B$7,IF(D363=5,Simulation!$B$8)))))))","v":false},{"$f":"IF(D363=\"Grid\",Simulation!$C$2,IF(D363=\"WU\",Simulation!$C$3,IF(D363=1,Simulation!$C$4,IF(D363=2,Simulation!$C$5,IF(D363=3,Simulation!$C$6,IF(D363=4,Simulation!$C$7,IF(D363=5,Simulation!$C$8)))))))","v":false},0,null,null,null,"",null,null,null,null,0,null,0,0,"Inlap",null,null,"FL"]
[1,353,353,null,{"$f":"IF(D364=\"Grid\",Simulation!$B$2,IF(D364=\"WU\",Simulation!$B$3,IF(D364=1,Simulation!$B$4,IF(D364=2,Simulation!$B$5,IF(D364=3,Simulation!$B$6,IF(D364=4,Simulation!$B$7,IF(D364=5,Simulation!$B$8)))))))","v":false},{"$f":"IF(D364=\"Grid\",Simulation!$C$2,IF(D364=\"WU\",Simulation!$C$3,IF(D364=1,Simulation!$C$4,IF(D364=2,Simulation!$C$5,IF(D364=3,Simulation!$C$6,IF(D364=4,Simulation!$C$7,IF(D364=5,Simulation!$C$8)))))))","v":false},0,null,null,null,"",null,null,null,null,0,null,0,0,"Inlap",null,null,"FL"]
[1,354,354,null,{"$f":"IF(D365=\"Grid\",Simulation!$B$2,IF(D365=\"WU\",Simulation!$B$3,IF(D365=1,Simulation!$B$4,IF(D365=2,Simulation!$B$5,IF(D365=3,Simulation!$B$6,IF(D365=4,Simulation!$B$7,IF(D365=5,Simulation!$B$8)))))))","v":false},{"$f":"IF(D365=\"Grid\",Simulation!$C$2,IF(D365=\"WU\",Simulation!$C$3,IF(D365=1,Simulation!$C$4,IF(D365=2,Simulation!$C$5,IF(D365=3,Simulation!$C$6,IF(D365=4,Simulation!$C$7,IF(D365=5,Simulation!$C$8)))))))","v":false},0,null,null,null,"",null,null,null,null,0,null,0,0,"Inlap",null,null,"FL"]
[1,355,355,null,{"$f":"IF(D366=\"Grid\",Simulation!$B$2,IF(D366=\"WU\",Simulation!$B$3,IF(D366=1,Simulation!$B$4,IF(D366=2,Simulation!$B$5,IF(D366=3,Simulation!$B$6,IF(D366=4,Simulation!$B$7,IF(D366=5,Simulation!$B$8)))))))","v":false},{"$f":"IF(D366=\"Grid\",Simulation!$C$2,IF(D366=\"WU\",Simulation!$C$3,IF(D366=1,Simulation!$C$4,IF(D366=2,Simulation!$C$5,IF(D366=3,Simulation!$C$6,IF(D366=4,Simulation!$C$7,IF(D366=5,Simulation!$C$8)))))))","v":false},0,null,null,null,"",null,null,null,null,{"$f":"IF(O366>0,Q366,Q366-Q365)","v":0},null,{"$f":"IF(O366>0,Q366,Q366-Q365)","v":0},0,"Inlap",null,null,"FL"]
[1,356,356,null,{"$f":"IF(D367=\"Grid\",Simulation!$B$2,IF(D367=\"WU\",Simulation!$B$3,IF(D367=1,Simulation!$B$4,IF(D367=2,Simulation!$B$5,IF(D367=3,Simulation!$B$6,IF(D367=4,Simulation!$B$7,IF(D367=5,Simulation!$B$8)))))))","v":false},{"$f":"IF(D367=\"Grid\",Simulation!$C$2,IF(D367=\"WU\",Simulation!$C$3,IF(D367=1,Simulation!$C$4,IF(D367=2,Simulation!$C$5,IF(D367=3,Simulation!$C$6,IF(D367=4,Simulation!$C$7,IF(D367=5,Simulation!$C$8)))))))","v":false},0,null,null,null,"",null,null,null,null,0,null,0,0,"Inlap",null,null,"FL"]
[1,357,357,null,{"$f":"IF(D368=\"Grid\",Simulation!$B$2,IF(D368=\"WU\",Simulation!$B$3,IF(D368=1,Simulation!$B$4,IF(D368=2,Simulation!$B$5,IF(D368=3,Simulation!$B$6,IF(D368=4,Simulation!$B$7,IF(D368=5,Simulation!$B$8)))))))","v":false},{"$f":"IF(D368=\"Grid\",Simulation!$C$2,IF(D368=\"WU\",Simulation!$C$3,IF(D368=1,Simulation!$C$4,IF(D368=2,Simulation!$C$5,IF(D368=3,Simulation!$C$6,IF(D368=4,Simulation!$C$7,IF(D368=5,Simulation!$C$8)))))))","v":false},0,null,null,null,"",null,null,null,null,0,null,0,0,"Inlap",null,null,"FL"]
[1,358,358,null,{"$f":"IF(D369=\"Grid\",Simulation!$B$2,IF(D369=\"WU\",Simulation!$B$3,IF(D369=1,Simulation!$B$4,IF(D369=2,Simulation!$B$5,IF(D369=3,Simulation!$B$6,IF(D369=4,Simulation!$B$7,IF(D369=5,Simulation!$B$8)))))))","v":false},{"$f":"IF(D369=\"Grid\",Simulation!$C$2,IF(D369=\"WU\",Simulation!$C$3,IF(D369=1,Simulation!$C$4,IF(D369=2,Simulation!$C$5,IF(D369=3,Simulation!$C$6,IF(D369=4,Simulation!$C$7,IF(D369=5,Simulation!$C$8)))))))","v":false},0,null,null,null,"",null,null,null,null,0,null,0,0,"Inlap",null,null,"FL"]
[1,359,359,null,{"$f":"IF(D370=\"Grid\",Simulation!$B$2,IF(D370=\"WU\",Simulation!$B$3,IF(D370=1,Simulation!$B$4,IF(D370=2,Simulation!$B$5,IF(D370=3,Simulation!$B$6,IF(D370=4,Simulation!$B$7,IF(D370=5,Simulation!$B$8)))))))","v":false},{"$f":"IF(D370=\"Grid\",Simulation!$C$2,IF(D370=\"WU\",Simulation!$C$3,IF(D370=1,Simulation!$C$4,IF(D370=2,Simulation!$C$5,IF(D370=3,Simulation!$C$6,IF(D370=4,Simulation!$C$7,IF(D370=5,Simulation!$C$8)))))))","v":false},0,null,null,null,"",null,null,null,null,0,null,0,0,"Inlap",null,null,"FL"]
[1,360,360,null,{"$f":"IF(D371=\"Grid\",Simulation!$B$2,IF(D371=\"WU\",Simulation!$B$3,IF(D371=1,Simulation!$B$4,IF(D371=2,Simulation!$B$5,IF(D371=3,Simulation!$B$6,IF(D371=4,Simulation!$B$7,IF(D371=5,Simulation!$B$8)))))))","v":false},{"$f":"IF(D371=\"Grid\",Simulation!$C$2,IF(D371=\"WU\",Simulation!$C$3,IF(D371=1,Simulation!$C$4,IF(D371=2,Simulation!$C$5,IF(D371=3,Simulation!$C$6,IF(D371=4,Simulation!$C$7,IF(D371=5,Simulation!$C$8)))))))","v":false},0,null,null,null,"",null,null,null,null,0,null,0,0,"Inlap",null,null,"FL"]
[1,361,361,null,{"$f":"IF(D372=\"Grid\",Simulation!$B$2,IF(D372=\"WU\",Simulation!$B$3,IF(D372=1,Simulation!$B$4,IF(D372=2,Simulation!$B$5,IF(D372=3,Simulation!$B$6,IF(D372=4,Simulation!$B$7,IF(D372=5,Simulation!$B$8)))))))","v":false},{"$f":"IF(D372=\"Grid\",Simulation!$C$2,IF(D372=\"WU\",Simulation!$C$3,IF(D372=1,Simulation!$C$4,IF(D372=2,Simulation!$C$5,IF(D372=3,Simulation!$C$6,IF(D372=4,Simulation!$C$7,IF(D372=5,Simulation!$C$8)))))))","v":false},0,null,null,null,"",null,null,null,null,0,null,0,0,"Inlap",null,null,"FL"]
[1,362,362,null,{"$f":"IF(D373=\"Grid\",Simulation!$B$2,IF(D373=\"WU\",Simulation!$B$3,IF(D373=1,Simulation!$B$4,IF(D373=2,Simulation!$B$5,IF(D373=3,Simulation!$B$6,IF(D373=4,Simulation!$B$7,IF(D373=5,Simulation!$B$8)))))))","v":false},{"$f":"IF(D373=\"Grid\",Simulation!$C$2,IF(D373=\"WU\",Simulation!$C$3,IF(D373=1,Simulation!$C$4,IF(D373=2,Simulation!$C$5,IF(D373=3,Simulation!$C$6,IF(D373=4,Simulation!$C$7,IF(D373=5,Simulation!$C$8)))))))","v":false},0,null,null,null,"",null,null,null,null,0,null,0,0,"Inlap",null,null,"FL"]
[1,363,363,null,{"$f":"IF(D374=\"Grid\",Simulation!$B$2,IF(D374=\"WU\",Simulation!$B$3,IF(D374=1,Simulation!$B$4,IF(D374=2,Simulation!$B$5,IF(D374=3,Simulation!$B$6,IF(D374=4,Simulation!$B$7,IF(D374=5,Simulation!$B$8)))))))","v":false},{"$f":"IF(D374=\"Grid\",Simulation!$C$2,IF(D374=\"WU\",Simulation!$C$3,IF(D374=1,Simulation!$C$4,IF(D374=2,Simulation!$C$5,IF(D374=3,Simulation!$C$6,IF(D374=4,Simulation!$C$7,IF(D374=5,Simulation!$C$8)))))))","v":false},0,null,null,null,"",null,null,null,null,0,null,0,0,"Inlap",null,null,"FL"]
[1,364,364,null,{"$f":"IF(D375=\"Grid\",Simulation!$B$2,IF(D375=\"WU\",Simulation!$B$3,IF(D375=1,Simulation!$B$4,IF(D375=2,Simulation!$B$5,IF(D375=3,Simulation!$B$6,IF(D375=4,Simulation!$B$7,IF(D375=5,Simulation!$B$8)))))))","v":false},{"$f":"IF(D375=\"Grid\",Simulation!$C$2,IF(D375=\"WU\",Simulation!$C$3,IF(D375=1,Simulation!$C$4,IF(D375=2,Simulation!$C$5,IF(D375=3,Simulation!$C$6,IF(D375=4,Simulation!$C$7,IF(D375=5,Simulation!$C$8)))))))","v":false},0,null,null,null,"",null,null,null,null,0,null,0,0,"Inlap",null,null,"FL"]
[1,365,365,null,{"$f":"IF(D376=\"Grid\",Simulation!$B$2,IF(D376=\"WU\",Simulation!$B$3,IF(D376=1,Simulation!$B$4,IF(D376=2,Simulation!$B$5,IF(D376=3,Simulation!$B$6,IF(D376=4,Simulation!$B$7,IF(D376=5,Simulation!$B$8)))))))","v":false},{"$f":"IF(D376=\"Grid\",Simulation!$C$2,IF(D376=\"WU\",Simulation!$C$3,IF(D376=1,Simulation!$C$4,IF(D376=2,Simulation!$C$5,IF(D376=3,Simulation!$C$6,IF(D376=4,Simulation!$C$7,IF(D376=5,Simulation!$C$8)))))))","v":false},0,null,null,null,"",null,null,null,null,0,null,0,0,"Inlap",null,null,"FL"]
[1,366,366,null,{"$f":"IF(D377=\"Grid\",Simulation!$B$2,IF(D377=\"WU\",Simulation!$B$3,IF(D377=1,Simulation!$B$4,IF(D377=2,Simulation!$B$5,IF(D377=3,Simulation!$B$6,IF(D377=4,Simulation!$B$7,IF(D377=5,Simulation!$B$8)))))))","v":false},{"$f":"IF(D377=\"Grid\",Simulation!$C$2,IF(D377=\"WU\",Simulation!$C$3,IF(D377=1,Simulation!$C$4,IF(D377=2,Simulation!$C$5,IF(D377=3,Simulation!$C$6,IF(D377=4,Simulation!$C$7,IF(D377=5,Simulation!$C$8)))))))","v":false},0,null,null,null,"",null,null,null,null,0,null,0,0,"Inlap",null,null,"FL"]
[1,367,367,null,{"$f":"IF(D378=\"Grid\",Simulation!$B$2,IF(D378=\"WU\",Simulation!$B$3,IF(D378=1,Simulation!$B$4,IF(D378=2,Simulation!$B$5,IF(D378=3,Simulation!$B$6,IF(D378=4,Simulation!$B$7,IF(D378=5,Simulation!$B$8)))))))","v":false},{"$f":"IF(D378=\"Grid\",Simulation!$C$2,IF(D378=\"WU\",Simulation!$C$3,IF(D378=1,Simulation!$C$4,IF(D378=2,Simulation!$C$5,IF(D378=3,Simulation!$C$6,IF(D378=4,Simulation!$C$7,IF(D378=5,Simulation!$C$8)))))))","v":false},0,null,null,null,"",null,null,null,null,0,null,0,0,"Inlap",null,null,"FL"]
[1,368,368,null,{"$f":"IF(D379=\"Grid\",Simulation!$B$2,IF(D379=\"WU\",Simulation!$B$3,IF(D379=1,Simulation!$B$4,IF(D379=2,Simulation!$B$5,IF(D379=3,Simulation!$B$6,IF(D379=4,Simulation!$B$7,IF(D379=5,Simulation!$B$8)))))))","v":false},{"$f":"IF(D379=\"Grid\",Simulation!$C$2,IF(D379=\"WU\",Simulation!$C$3,IF(D379=1,Simulation!$C$4,IF(D379=2,Simulation!$C$5,IF(D379=3,Simulation!$C$6,IF(D379=4,Simulation!$C$7,IF(D379=5,Simulation!$C$8)))))))","v":false},0,null,null,null,"",null,null,null,null,0,null,0,0,"Inlap",null,null,"FL"]
[1,369,369,null,{"$f":"IF(D380=\"Grid\",Simulation!$B$2,IF(D380=\"WU\",Simulation!$B$3,IF(D380=1,Simulation!$B$4,IF(D380=2,Simulation!$B$5,IF(D380=3,Simulation!$B$6,IF(D380=4,Simulation!$B$7,IF(D380=5,Simulation!$B$8)))))))","v":false},{"$f":"IF(D380=\"Grid\",Simulation!$C$2,IF(D380=\"WU\",Simulation!$C$3,IF(D380=1,Simulation!$C$4,IF(D380=2,Simulation!$C$5,IF(D380=3,Simulation!$C$6,IF(D380=4,Simulation!$C$7,IF(D380=5,Simulation!$C$8)))))))","v":false},0,null,null,null,"",null,null,null,null,0,null,0,0,"Inlap",null,null,"FL"]
[1,370,370,null,{"$f":"IF(D381=\"Grid\",Simulation!$B$2,IF(D381=\"WU\",Simulation!$B$3,IF(D381=1,Simulation!$B$4,IF(D381=2,Simulation!$B$5,IF(D381=3,Simulation!$B$6,IF(D381=4,Simulation!$B$7,IF(D381=5,Simulation!$B$8)))))))","v":false},{"$f":"IF(D381=\"Grid\",Simulation!$C$2,IF(D381=\"WU\",Simulation!$C$3,IF(D381=1,Simulation!$C$4,IF(D381=2,Simulation!$C$5,IF(D381=3,Simulation!$C$6,IF(D381=4,Simulation!$C$7,IF(D381=5,Simulation!$C$8)))))))","v":false},0,null,null,null,"",null,null,null,null,0,null,0,0,"Inlap",null,null,"FL"]
[1,371,371,null,{"$f":"IF(D382=\"Grid\",Simulation!$B$2,IF(D382=\"WU\",Simulation!$B$3,IF(D382=1,Simulation!$B$4,IF(D382=2,Simulation!$B$5,IF(D382=3,Simulation!$B$6,IF(D382=4,Simulation!$B$7,IF(D382=5,Simulation!$B$8)))))))","v":false},{"$f":"IF(D382=\"Grid\",Simulation!$C$2,IF(D382=\"WU\",Simulation!$C$3,IF(D382=1,Simulation!$C$4,IF(D382=2,Simulation!$C$5,IF(D382=3,Simulation!$C$6,IF(D382=4,Simulation!$C$7,IF(D382=5,Simulation!$C$8)))))))","v":false},0,null,null,null,"",null,null,null,null,0,null,0,0,"Inlap",null,null,"FL"]
[1,372,372,null,{"$f":"IF(D383=\"Grid\",Simulation!$B$2,IF(D383=\"WU\",Simulation!$B$3,IF(D383=1,Simulation!$B$4,IF(D383=2,Simulation!$B$5,IF(D383=3,Simulation!$B$6,IF(D383=4,Simulation!$B$7,IF(D383=5,Simulation!$B$8)))))))","v":false},{"$f":"IF(D383=\"Grid\",Simulation!$C$2,IF(D383=\"WU\",Simulation!$C$3,IF(D383=1,Simulation!$C$4,IF(D383=2,Simulation!$C$5,IF(D383=3,Simulation!$C$6,IF(D383=4,Simulation!$C$7,IF(D383=5,Simulation!$C$8)))))))","v":false},0,null,null,null,"",null,null,null,null,0,null,0,0,"Inlap",null,null,"FL"]
[1,373,373,null,{"$f":"IF(D384=\"Grid\",Simulation!$B$2,IF(D384=\"WU\",Simulation!$B$3,IF(D384=1,Simulation!$B$4,IF(D384=2,Simulation!$B$5,IF(D384=3,Simulation!$B$6,IF(D384=4,Simulation!$B$7,IF(D384=5,Simulation!$B$8)))))))","v":false},{"$f":"IF(D384=\"Grid\",Simulation!$C$2,IF(D384=\"WU\",Simulation!$C$3,IF(D384=1,Simulation!$C$4,IF(D384=2,Simulation!$C$5,IF(D384=3,Simulation!$C$6,IF(D384=4,Simulation!$C$7,IF(D384=5,Simulation!$C$8)))))))","v":false},0,null,null,null,"",null,null,null,null,0,null,0,0,"Inlap",null,null,"FL"]
[1,374,374,null,{"$f":"IF(D385=\"Grid\",Simulation!$B$2,IF(D385=\"WU\",Simulation!$B$3,IF(D385=1,Simulation!$B$4,IF(D385=2,Simulation!$B$5,IF(D385=3,Simulation!$B$6,IF(D385=4,Simulation!$B$7,IF(D385=5,Simulation!$B$8)))))))","v":false},{"$f":"IF(D385=\"Grid\",Simulation!$C$2,IF(D385=\"WU\",Simulation!$C$3,IF(D385=1,Simulation!$C$4,IF(D385=2,Simulation!$C$5,IF(D385=3,Simulation!$C$6,IF(D385=4,Simulation!$C$7,IF(D385=5,Simulation!$C$8)))))))","v":false},0,null,null,null,"",null,null,null,null,0,null,0,0,"Inlap",null,null,"FL"]
[1,375,375,null,{"$f":"IF(D386=\"Grid\",Simulation!$B$2,IF(D386=\"WU\",Simulation!$B$3,IF(D386=1,Simulation!$B$4,IF(D386=2,Simulation!$B$5,IF(D386=3,Simulation!$B$6,IF(D386=4,Simulation!$B$7,IF(D386=5,Simulation!$B$8)))))))","v":false},{"$f":"IF(D386=\"Grid\",Simulation!$C$2,IF(D386=\"WU\",Simulation!$C$3,IF(D386=1,Simulation!$C$4,IF(D386=2,Simulation!$C$5,IF(D386=3,Simulation!$C$6,IF(D386=4,Simulation!$C$7,IF(D386=5,Simulation!$C$8)))))))","v":false},0,null,null,null,"",null,null,null,null,0,null,0,0,"Inlap",null,null,"FL"]
[1,376,376,null,{"$f":"IF(D387=\"Grid\",Simulation!$B$2,IF(D387=\"WU\",Simulation!$B$3,IF(D387=1,Simulation!$B$4,IF(D387=2,Simulation!$B$5,IF(D387=3,Simulation!$B$6,IF(D387=4,Simulation!$B$7,IF(D387=5,Simulation!$B$8)))))))","v":false},{"$f":"IF(D387=\"Grid\",Simulation!$C$2,IF(D387=\"WU\",Simulation!$C$3,IF(D387=1,Simulation!$C$4,IF(D387=2,Simulation!$C$5,IF(D387=3,Simulation!$C$6,IF(D387=4,Simulation!$C$7,IF(D387=5,Simulation!$C$8)))))))","v":false},0,null,null,null,"",null,null,null,null,0,null,0,0,"Inlap",null,null,"FL"]
[1,377,377,null,{"$f":"IF(D388=\"Grid\",Simulation!$B$2,IF(D388=\"WU\",Simulation!$B$3,IF(D388=1,Simulation!$B$4,IF(D388=2,Simulation!$B$5,IF(D388=3,Simulation!$B$6,IF(D388=4,Simulation!$B$7,IF(D388=5,Simulation!$B$8)))))))","v":false},{"$f":"IF(D388=\"Grid\",Simulation!$C$2,IF(D388=\"WU\",Simulation!$C$3,IF(D388=1,Simulation!$C$4,IF(D388=2,Simulation!$C$5,IF(D388=3,Simulation!$C$6,IF(D388=4,Simulation!$C$7,IF(D388=5,Simulation!$C$8)))))))","v":false},0,null,null,null,"",null,null,null,null,0,null,0,0,"Inlap",null,null,"FL"]
[1,378,378,null,{"$f":"IF(D389=\"Grid\",Simulation!$B$2,IF(D389=\"WU\",Simulation!$B$3,IF(D389=1,Simulation!$B$4,IF(D389=2,Simulation!$B$5,IF(D389=3,Simulation!$B$6,IF(D389=4,Simulation!$B$7,IF(D389=5,Simulation!$B$8)))))))","v":false},{"$f":"IF(D389=\"Grid\",Simulation!$C$2,IF(D389=\"WU\",Simulation!$C$3,IF(D389=1,Simulation!$C$4,IF(D389=2,Simulation!$C$5,IF(D389=3,Simulation!$C$6,IF(D389=4,Simulation!$C$7,IF(D389=5,Simulation!$C$8)))))))","v":false},0,null,null,null,"",null,null,null,null,0,null,0,0,"Inlap",null,null,"FL"]
[1,379,379,null,{"$f":"IF(D390=\"Grid\",Simulation!$B$2,IF(D390=\"WU\",Simulation!$B$3,IF(D390=1,Simulation!$B$4,IF(D390=2,Simulation!$B$5,IF(D390=3,Simulation!$B$6,IF(D390=4,Simulation!$B$7,IF(D390=5,Simulation!$B$8)))))))","v":false},{"$f":"IF(D390=\"Grid\",Simulation!$C$2,IF(D390=\"WU\",Simulation!$C$3,IF(D390=1,Simulation!$C$4,IF(D390=2,Simulation!$C$5,IF(D390=3,Simulation!$C$6,IF(D390=4,Simulation!$C$7,IF(D390=5,Simulation!$C$8)))))))","v":false},0,null,null,null,"",null,null,null,null,0,null,0,0,"Inlap",null,null,"FL"]
[1,380,380,null,{"$f":"IF(D391=\"Grid\",Simulation!$B$2,IF(D391=\"WU\",Simulation!$B$3,IF(D391=1,Simulation!$B$4,IF(D391=2,Simulation!$B$5,IF(D391=3,Simulation!$B$6,IF(D391=4,Simulation!$B$7,IF(D391=5,Simulation!$B$8)))))))","v":false},{"$f":"IF(D391=\"Grid\",Simulation!$C$2,IF(D391=\"WU\",Simulation!$C$3,IF(D391=1,Simulation!$C$4,IF(D391=2,Simulation!$C$5,IF(D391=3,Simulation!$C$6,IF(D391=4,Simulation!$C$7,IF(D391=5,Simulation!$C$8)))))))","v":false},0,null,null,null,"",null,null,null,null,0,null,0,0,"Inlap",null,null,"FL"]
[1,381,381,null,{"$f":"IF(D392=\"Grid\",Simulation!$B$2,IF(D392=\"WU\",Simulation!$B$3,IF(D392=1,Simulation!$B$4,IF(D392=2,Simulation!$B$5,IF(D392=3,Simulation!$B$6,IF(D392=4,Simulation!$B$7,IF(D392=5,Simulation!$B$8)))))))","v":false},{"$f":"IF(D392=\"Grid\",Simulation!$C$2,IF(D392=\"WU\",Simulation!$C$3,IF(D392=1,Simulation!$C$4,IF(D392=2,Simulation!$C$5,IF(D392=3,Simulation!$C$6,IF(D392=4,Simulation!$C$7,IF(D392=5,Simulation!$C$8)))))))","v":false},0,null,null,null,"",null,null,null,null,0,null,0,0,"Inlap",null,null,"FL"]
[1,382,382,null,{"$f":"IF(D393=\"Grid\",Simulation!$B$2,IF(D393=\"WU\",Simulation!$B$3,IF(D393=1,Simulation!$B$4,IF(D393=2,Simulation!$B$5,IF(D393=3,Simulation!$B$6,IF(D393=4,Simulation!$B$7,IF(D393=5,Simulation!$B$8)))))))","v":false},{"$f":"IF(D393=\"Grid\",Simulation!$C$2,IF(D393=\"WU\",Simulation!$C$3,IF(D393=1,Simulation!$C$4,IF(D393=2,Simulation!$C$5,IF(D393=3,Simulation!$C$6,IF(D393=4,Simulation!$C$7,IF(D393=5,Simulation!$C$8)))))))","v":false},0,null,null,null,"",null,null,null,null,0,null,0,0,"Inlap",null,null,"FL"]
[1,383,383,null,{"$f":"IF(D394=\"Grid\",Simulation!$B$2,IF(D394=\"WU\",Simulation!$B$3,IF(D394=1,Simulation!$B$4,IF(D394=2,Simulation!$B$5,IF(D394=3,Simulation!$B$6,IF(D394=4,Simulation!$B$7,IF(D394=5,Simulation!$B$8)))))))","v":false},{"$f":"IF(D394=\"Grid\",Simulation!$C$2,IF(D394=\"WU\",Simulation!$C$3,IF(D394=1,Simulation!$C$4,IF(D394=2,Simulation!$C$5,IF(D394=3,Simulation!$C$6,IF(D394=4,Simulation!$C$7,IF(D394=5,Simulation!$C$8)))))))","v":false},0,null,null,null,"",null,null,null,null,0,null,0,0,"Inlap",null,null,"FL"]
[1,384,384,null,{"$f":"IF(D395=\"Grid\",Simulation!$B$2,IF(D395=\"WU\",Simulation!$B$3,IF(D395=1,Simulation!$B$4,IF(D395=2,Simulation!$B$5,IF(D395=3,Simulation!$B$6,IF(D395=4,Simulation!$B$7,IF(D395=5,Simulation!$B$8)))))))","v":false},{"$f":"IF(D395=\"Grid\",Simulation!$C$2,IF(D395=\"WU\",Simulation!$C$3,IF(D395=1,Simulation!$C$4,IF(D395=2,Simulation!$C$5,IF(D395=3,Simulation!$C$6,IF(D395=4,Simulation!$C$7,IF(D395=5,Simulation!$C$8)))))))","v":false},0,null,null,null,"",null,null,null,null,0,null,0,0,"Inlap",null,null,"FL"]
[{"$f":"IF(O396>0,A395+1,A395)","v":1},385,385,null,{"$f":"IF(D396=\"Grid\",Simulation!$B$2,IF(D396=\"WU\",Simulation!$B$3,IF(D396=1,Simulation!$B$4,IF(D396=2,Simulation!$B$5,IF(D396=3,Simulation!$B$6,IF(D396=4,Simulation!$B$7,IF(D396=5,Simulation!$B$8)))))))","v":false},{"$f":"IF(D396=\"Grid\",Simulation!$C$2,IF(D396=\"WU\",Simulation!$C$3,IF(D396=1,Simulation!$C$4,IF(D396=2,Simulation!$C$5,IF(D396=3,Simulation!$C$6,IF(D396=4,Simulation!$C$7,IF(D396=5,Simulation!$C$8)))))))","v":false},{"$f":"G395+O395-P395","v":0},null,null,null,"",null,null,null,null,0,null,0,{"$f":"IF(O396>0,O396+S395-Q396,S395-P396)","v":0},{"$f":"IF(S396<=F396,\"Inlap\",IF(S396<=2*F396,\"Call: In this lap!\",IF(S396<=3*F396,\"Show in but don't call!\",\"\")))","v":"Inlap"},null,null,{"$f":"IF(J396=$Q$2,\"FL\",\"\")","v":"FL"}]
[1,386,386,null,{"$f":"IF(D397=\"Grid\",Simulation!$B$2,IF(D397=\"WU\",Simulation!$B$3,IF(D397=1,Simulation!$B$4,IF(D397=2,Simulation!$B$5,IF(D397=3,Simulation!$B$6,IF(D397=4,Simulation!$B$7,IF(D397=5,Simulation!$B$8)))))))","v":false},{"$f":"IF(D397=\"Grid\",Simulation!$C$2,IF(D397=\"WU\",Simulation!$C$3,IF(D397=1,Simulation!$C$4,IF(D397=2,Simulation!$C$5,IF(D397=3,Simulation!$C$6,IF(D397=4,Simulation!$C$7,IF(D397=5,Simulation!$C$8)))))))","v":false},0,null,null,null,{"$f":"IF(J397<>0,K396,\"\")","v":""},null,null,null,null,0,null,0,0,"Inlap",null,null,"FL"]
[1,387,{"$f":"IF(O398=\"\",C397+1,\"1\")","v":387},null,{"$f":"IF(D398=\"Grid\",Simulation!$B$2,IF(D398=\"WU\",Simulation!$B$3,IF(D398=1,Simulation!$B$4,IF(D398=2,Simulation!$B$5,IF(D398=3,Simulation!$B$6,IF(D398=4,Simulation!$B$7,IF(D398=5,Simulation!$B$8)))))))","v":false},{"$f":"IF(D398=\"Grid\",Simulation!$C$2,IF(D398=\"WU\",Simulation!$C$3,IF(D398=1,Simulation!$C$4,IF(D398=2,Simulation!$C$5,IF(D398=3,Simulation!$C$6,IF(D398=4,Simulation!$C$7,IF(D398=5,Simulation!$C$8)))))))","v":false},0,null,null,null,"",null,null,null,null,0,null,0,0,"Inlap",null,null,"FL"]
[1,388,388,null,{"$f":"IF(D399=\"Grid\",Simulation!$B$2,IF(D399=\"WU\",Simulation!$B$3,IF(D399=1,Simulation!$B$4,IF(D399=2,Simulation!$B$5,IF(D399=3,Simulation!$B$6,IF(D399=4,Simulation!$B$7,IF(D399=5,Simulation!$B$8)))))))","v":false},{"$f":"IF(D399=\"Grid\",Simulation!$C$2,IF(D399=\"WU\",Simulation!$C$3,IF(D399=1,Simulation!$C$4,IF(D399=2,Simulation!$C$5,IF(D399=3,Simulation!$C$6,IF(D399=4,Simulation!$C$7,IF(D399=5,Simulation!$C$8)))))))","v":false},0,null,null,null,"",null,null,null,null,0,null,0,0,"Inlap",null,null,"FL"]
[1,389,389,null,{"$f":"IF(D400=\"Grid\",Simulation!$B$2,IF(D400=\"WU\",Simulation!$B$3,IF(D400=1,Simulation!$B$4,IF(D400=2,Simulation!$B$5,IF(D400=3,Simulation!$B$6,IF(D400=4,Simulation!$B$7,IF(D400=5,Simulation!$B$8)))))))","v":false},{"$f":"IF(D400=\"Grid\",Simulation!$C$2,IF(D400=\"WU\",Simulation!$C$3,IF(D400=1,Simulation!$C$4,IF(D400=2,Simulation!$C$5,IF(D400=3,Simulation!$C$6,IF(D400=4,Simulation!$C$7,IF(D400=5,Simulation!$C$8)))))))","v":false},0,null,null,null,"",null,null,null,null,0,null,0,0,"Inlap",null,null,"FL"]
[1,390,390,null,{"$f":"IF(D401=\"Grid\",Simulation!$B$2,IF(D401=\"WU\",Simulation!$B$3,IF(D401=1,Simulation!$B$4,IF(D401=2,Simulation!$B$5,IF(D401=3,Simulation!$B$6,IF(D401=4,Simulation!$B$7,IF(D401=5,Simulation!$B$8)))))))","v":false},{"$f":"IF(D401=\"Grid\",Simulation!$C$2,IF(D401=\"WU\",Simulation!$C$3,IF(D401=1,Simulation!$C$4,IF(D401=2,Simulation!$C$5,IF(D401=3,Simulation!$C$6,IF(D401=4,Simulation!$C$7,IF(D401=5,Simulation!$C$8)))))))","v":false},0,null,null,null,"",null,null,null,null,0,null,0,0,"Inlap",null,null,"FL"]
[1,391,391,null,{"$f":"IF(D402=\"Grid\",Simulation!$B$2,IF(D402=\"WU\",Simulation!$B$3,IF(D402=1,Simulation!$B$4,IF(D402=2,Simulation!$B$5,IF(D402=3,Simulation!$B$6,IF(D402=4,Simulation!$B$7,IF(D402=5,Simulation!$B$8)))))))","v":false},{"$f":"IF(D402=\"Grid\",Simulation!$C$2,IF(D402=\"WU\",Simulation!$C$3,IF(D402=1,Simulation!$C$4,IF(D402=2,Simulation!$C$5,IF(D402=3,Simulation!$C$6,IF(D402=4,Simulation!$C$7,IF(D402=5,Simulation!$C$8)))))))","v":false},0,null,null,null,"",null,null,null,null,0,null,0,0,"Inlap",null,null,"FL"]
[1,392,392,null,{"$f":"IF(D403=\"Grid\",Simulation!$B$2,IF(D403=\"WU\",Simulation!$B$3,IF(D403=1,Simulation!$B$4,IF(D403=2,Simulation!$B$5,IF(D403=3,Simulation!$B$6,IF(D403=4,Simulation!$B$7,IF(D403=5,Simulation!$B$8)))))))","v":false},{"$f":"IF(D403=\"Grid\",Simulation!$C$2,IF(D403=\"WU\",Simulation!$C$3,IF(D403=1,Simulation!$C$4,IF(D403=2,Simulation!$C$5,IF(D403=3,Simulation!$C$6,IF(D403=4,Simulation!$C$7,IF(D403=5,Simulation!$C$8)))))))","v":false},0,null,null,null,"",null,null,null,null,0,null,0,0,"Inlap",null,null,"FL"]
[1,393,393,null,{"$f":"IF(D404=\"Grid\",Simulation!$B$2,IF(D404=\"WU\",Simulation!$B$3,IF(D404=1,Simulation!$B$4,IF(D404=2,Simulation!$B$5,IF(D404=3,Simulation!$B$6,IF(D404=4,Simulation!$B$7,IF(D404=5,Simulation!$B$8)))))))","v":false},{"$f":"IF(D404=\"Grid\",Simulation!$C$2,IF(D404=\"WU\",Simulation!$C$3,IF(D404=1,Simulation!$C$4,IF(D404=2,Simulation!$C$5,IF(D404=3,Simulation!$C$6,IF(D404=4,Simulation!$C$7,IF(D404=5,Simulation!$C$8)))))))","v":false},0,null,null,null,"",null,null,null,null,0,null,0,0,"Inlap",null,null,"FL"]
[1,394,394,null,{"$f":"IF(D405=\"Grid\",Simulation!$B$2,IF(D405=\"WU\",Simulation!$B$3,IF(D405=1,Simulation!$B$4,IF(D405=2,Simulation!$B$5,IF(D405=3,Simulation!$B$6,IF(D405=4,Simulation!$B$7,IF(D405=5,Simulation!$B$8)))))))","v":false},{"$f":"IF(D405=\"Grid\",Simulation!$C$2,IF(D405=\"WU\",Simulation!$C$3,IF(D405=1,Simulation!$C$4,IF(D405=2,Simulation!$C$5,IF(D405=3,Simulation!$C$6,IF(D405=4,Simulation!$C$7,IF(D405=5,Simulation!$C$8)))))))","v":false},0,null,null,null,"",null,null,null,null,0,null,0,0,"Inlap",null,null,"FL"]
[1,395,395,null,{"$f":"IF(D406=\"Grid\",Simulation!$B$2,IF(D406=\"WU\",Simulation!$B$3,IF(D406=1,Simulation!$B$4,IF(D406=2,Simulation!$B$5,IF(D406=3,Simulation!$B$6,IF(D406=4,Simulation!$B$7,IF(D406=5,Simulation!$B$8)))))))","v":false},{"$f":"IF(D406=\"Grid\",Simulation!$C$2,IF(D406=\"WU\",Simulation!$C$3,IF(D406=1,Simulation!$C$4,IF(D406=2,Simulation!$C$5,IF(D406=3,Simulation!$C$6,IF(D406=4,Simulation!$C$7,IF(D406=5,Simulation!$C$8)))))))","v":false},0,null,null,null,"",null,null,null,null,0,null,0,0,"Inlap",null,null,"FL"]
[1,396,396,null,{"$f":"IF(D407=\"Grid\",Simulation!$B$2,IF(D407=\"WU\",Simulation!$B$3,IF(D407=1,Simulation!$B$4,IF(D407=2,Simulation!$B$5,IF(D407=3,Simulation!$B$6,IF(D407=4,Simulation!$B$7,IF(D407=5,Simulation!$B$8)))))))","v":false},{"$f":"IF(D407=\"Grid\",Simulation!$C$2,IF(D407=\"WU\",Simulation!$C$3,IF(D407=1,Simulation!$C$4,IF(D407=2,Simulation!$C$5,IF(D407=3,Simulation!$C$6,IF(D407=4,Simulation!$C$7,IF(D407=5,Simulation!$C$8)))))))","v":false},0,null,null,null,"",null,null,null,null,0,null,0,0,"Inlap",null,null,"FL"]
[1,397,397,null,{"$f":"IF(D408=\"Grid\",Simulation!$B$2,IF(D408=\"WU\",Simulation!$B$3,IF(D408=1,Simulation!$B$4,IF(D408=2,Simulation!$B$5,IF(D408=3,Simulation!$B$6,IF(D408=4,Simulation!$B$7,IF(D408=5,Simulation!$B$8)))))))","v":false},{"$f":"IF(D408=\"Grid\",Simulation!$C$2,IF(D408=\"WU\",Simulation!$C$3,IF(D408=1,Simulation!$C$4,IF(D408=2,Simulation!$C$5,IF(D408=3,Simulation!$C$6,IF(D408=4,Simulation!$C$7,IF(D408=5,Simulation!$C$8)))))))","v":false},0,null,null,null,"",null,null,null,null,0,null,0,0,"Inlap",null,null,"FL"]
[1,398,398,null,{"$f":"IF(D409=\"Grid\",Simulation!$B$2,IF(D409=\"WU\",Simulation!$B$3,IF(D409=1,Simulation!$B$4,IF(D409=2,Simulation!$B$5,IF(D409=3,Simulation!$B$6,IF(D409=4,Simulation!$B$7,IF(D409=5,Simulation!$B$8)))))))","v":false},{"$f":"IF(D409=\"Grid\",Simulation!$C$2,IF(D409=\"WU\",Simulation!$C$3,IF(D409=1,Simulation!$C$4,IF(D409=2,Simulation!$C$5,IF(D409=3,Simulation!$C$6,IF(D409=4,Simulation!$C$7,IF(D409=5,Simulation!$C$8)))))))","v":false},0,null,null,null,"",null,null,null,null,0,null,0,0,"Inlap",null,null,"FL"]
[1,399,399,null,{"$f":"IF(D410=\"Grid\",Simulation!$B$2,IF(D410=\"WU\",Simulation!$B$3,IF(D410=1,Simulation!$B$4,IF(D410=2,Simulation!$B$5,IF(D410=3,Simulation!$B$6,IF(D410=4,Simulation!$B$7,IF(D410=5,Simulation!$B$8)))))))","v":false},{"$f":"IF(D410=\"Grid\",Simulation!$C$2,IF(D410=\"WU\",Simulation!$C$3,IF(D410=1,Simulation!$C$4,IF(D410=2,Simulation!$C$5,IF(D410=3,Simulation!$C$6,IF(D410=4,Simulation!$C$7,IF(D410=5,Simulation!$C$8)))))))","v":false},0,null,null,null,"",null,null,null,null,0,null,0,0,"Inlap",null,null,"FL"]
[1,400,400,null,{"$f":"IF(D411=\"Grid\",Simulation!$B$2,IF(D411=\"WU\",Simulation!$B$3,IF(D411=1,Simulation!$B$4,IF(D411=2,Simulation!$B$5,IF(D411=3,Simulation!$B$6,IF(D411=4,Simulation!$B$7,IF(D411=5,Simulation!$B$8)))))))","v":false},{"$f":"IF(D411=\"Grid\",Simulation!$C$2,IF(D411=\"WU\",Simulation!$C$3,IF(D411=1,Simulation!$C$4,IF(D411=2,Simulation!$C$5,IF(D411=3,Simulation!$C$6,IF(D411=4,Simulation!$C$7,IF(D411=5,Simulation!$C$8)))))))","v":false},0,null,null,null,"",null,null,null,null,0,null,0,0,"Inlap",null,null,"FL"]
[1,401,401,null,{"$f":"IF(D412=\"Grid\",Simulation!$B$2,IF(D412=\"WU\",Simulation!$B$3,IF(D412=1,Simulation!$B$4,IF(D412=2,Simulation!$B$5,IF(D412=3,Simulation!$B$6,IF(D412=4,Simulation!$B$7,IF(D412=5,Simulation!$B$8)))))))","v":false},{"$f":"IF(D412=\"Grid\",Simulation!$C$2,IF(D412=\"WU\",Simulation!$C$3,IF(D412=1,Simulation!$C$4,IF(D412=2,Simulation!$C$5,IF(D412=3,Simulation!$C$6,IF(D412=4,Simulation!$C$7,IF(D412=5,Simulation!$C$8)))))))","v":false},0,null,null,null,"",null,null,null,null,0,null,0,0,"Inlap",null,null,"FL"]
[1,402,402,null,{"$f":"IF(D413=\"Grid\",Simulation!$B$2,IF(D413=\"WU\",Simulation!$B$3,IF(D413=1,Simulation!$B$4,IF(D413=2,Simulation!$B$5,IF(D413=3,Simulation!$B$6,IF(D413=4,Simulation!$B$7,IF(D413=5,Simulation!$B$8)))))))","v":false},{"$f":"IF(D413=\"Grid\",Simulation!$C$2,IF(D413=\"WU\",Simulation!$C$3,IF(D413=1,Simulation!$C$4,IF(D413=2,Simulation!$C$5,IF(D413=3,Simulation!$C$6,IF(D413=4,Simulation!$C$7,IF(D413=5,Simulation!$C$8)))))))","v":false},0,null,null,null,"",null,null,null,null,0,null,0,0,"Inlap",null,null,"FL"]
[1,403,403,null,{"$f":"IF(D414=\"Grid\",Simulation!$B$2,IF(D414=\"WU\",Simulation!$B$3,IF(D414=1,Simulation!$B$4,IF(D414=2,Simulation!$B$5,IF(D414=3,Simulation!$B$6,IF(D414=4,Simulation!$B$7,IF(D414=5,Simulation!$B$8)))))))","v":false},{"$f":"IF(D414=\"Grid\",Simulation!$C$2,IF(D414=\"WU\",Simulation!$C$3,IF(D414=1,Simulation!$C$4,IF(D414=2,Simulation!$C$5,IF(D414=3,Simulation!$C$6,IF(D414=4,Simulation!$C$7,IF(D414=5,Simulation!$C$8)))))))","v":false},0,null,null,null,"",null,null,null,null,0,null,0,0,"Inlap",null,null,"FL"]
[1,404,404,null,{"$f":"IF(D415=\"Grid\",Simulation!$B$2,IF(D415=\"WU\",Simulation!$B$3,IF(D415=1,Simulation!$B$4,IF(D415=2,Simulation!$B$5,IF(D415=3,Simulation!$B$6,IF(D415=4,Simulation!$B$7,IF(D415=5,Simulation!$B$8)))))))","v":false},{"$f":"IF(D415=\"Grid\",Simulation!$C$2,IF(D415=\"WU\",Simulation!$C$3,IF(D415=1,Simulation!$C$4,IF(D415=2,Simulation!$C$5,IF(D415=3,Simulation!$C$6,IF(D415=4,Simulation!$C$7,IF(D415=5,Simulation!$C$8)))))))","v":false},0,null,null,null,"",null,null,null,null,0,null,0,0,"Inlap",null,null,"FL"]
[1,405,405,null,{"$f":"IF(D416=\"Grid\",Simulation!$B$2,IF(D416=\"WU\",Simulation!$B$3,IF(D416=1,Simulation!$B$4,IF(D416=2,Simulation!$B$5,IF(D416=3,Simulation!$B$6,IF(D416=4,Simulation!$B$7,IF(D416=5,Simulation!$B$8)))))))","v":false},{"$f":"IF(D416=\"Grid\",Simulation!$C$2,IF(D416=\"WU\",Simulation!$C$3,IF(D416=1,Simulation!$C$4,IF(D416=2,Simulation!$C$5,IF(D416=3,Simulation!$C$6,IF(D416=4,Simulation!$C$7,IF(D416=5,Simulation!$C$8)))))))","v":false},0,null,null,null,"",null,null,null,null,0,null,0,0,"Inlap",null,null,"FL"]
[1,406,406,null,{"$f":"IF(D417=\"Grid\",Simulation!$B$2,IF(D417=\"WU\",Simulation!$B$3,IF(D417=1,Simulation!$B$4,IF(D417=2,Simulation!$B$5,IF(D417=3,Simulation!$B$6,IF(D417=4,Simulation!$B$7,IF(D417=5,Simulation!$B$8)))))))","v":false},{"$f":"IF(D417=\"Grid\",Simulation!$C$2,IF(D417=\"WU\",Simulation!$C$3,IF(D417=1,Simulation!$C$4,IF(D417=2,Simulation!$C$5,IF(D417=3,Simulation!$C$6,IF(D417=4,Simulation!$C$7,IF(D417=5,Simulation!$C$8)))))))","v":false},0,null,null,null,"",null,null,null,null,0,null,0,0,"Inlap",null,null,"FL"]
[1,407,407,null,{"$f":"IF(D418=\"Grid\",Simulation!$B$2,IF(D418=\"WU\",Simulation!$B$3,IF(D418=1,Simulation!$B$4,IF(D418=2,Simulation!$B$5,IF(D418=3,Simulation!$B$6,IF(D418=4,Simulation!$B$7,IF(D418=5,Simulation!$B$8)))))))","v":false},{"$f":"IF(D418=\"Grid\",Simulation!$C$2,IF(D418=\"WU\",Simulation!$C$3,IF(D418=1,Simulation!$C$4,IF(D418=2,Simulation!$C$5,IF(D418=3,Simulation!$C$6,IF(D418=4,Simulation!$C$7,IF(D418=5,Simulation!$C$8)))))))","v":false},0,null,null,null,"",null,null,null,null,0,null,0,0,"Inlap",null,null,"FL"]
[1,408,408,null,{"$f":"IF(D419=\"Grid\",Simulation!$B$2,IF(D419=\"WU\",Simulation!$B$3,IF(D419=1,Simulation!$B$4,IF(D419=2,Simulation!$B$5,IF(D419=3,Simulation!$B$6,IF(D419=4,Simulation!$B$7,IF(D419=5,Simulation!$B$8)))))))","v":false},{"$f":"IF(D419=\"Grid\",Simulation!$C$2,IF(D419=\"WU\",Simulation!$C$3,IF(D419=1,Simulation!$C$4,IF(D419=2,Simulation!$C$5,IF(D419=3,Simulation!$C$6,IF(D419=4,Simulation!$C$7,IF(D419=5,Simulation!$C$8)))))))","v":false},0,null,null,null,"",null,null,null,null,0,null,0,0,"Inlap",null,null,"FL"]
[1,409,409,null,{"$f":"IF(D420=\"Grid\",Simulation!$B$2,IF(D420=\"WU\",Simulation!$B$3,IF(D420=1,Simulation!$B$4,IF(D420=2,Simulation!$B$5,IF(D420=3,Simulation!$B$6,IF(D420=4,Simulation!$B$7,IF(D420=5,Simulation!$B$8)))))))","v":false},{"$f":"IF(D420=\"Grid\",Simulation!$C$2,IF(D420=\"WU\",Simulation!$C$3,IF(D420=1,Simulation!$C$4,IF(D420=2,Simulation!$C$5,IF(D420=3,Simulation!$C$6,IF(D420=4,Simulation!$C$7,IF(D420=5,Simulation!$C$8)))))))","v":false},0,null,null,null,"",null,null,null,null,0,null,0,0,"Inlap",null,null,"FL"]
[1,410,410,null,{"$f":"IF(D421=\"Grid\",Simulation!$B$2,IF(D421=\"WU\",Simulation!$B$3,IF(D421=1,Simulation!$B$4,IF(D421=2,Simulation!$B$5,IF(D421=3,Simulation!$B$6,IF(D421=4,Simulation!$B$7,IF(D421=5,Simulation!$B$8)))))))","v":false},{"$f":"IF(D421=\"Grid\",Simulation!$C$2,IF(D421=\"WU\",Simulation!$C$3,IF(D421=1,Simulation!$C$4,IF(D421=2,Simulation!$C$5,IF(D421=3,Simulation!$C$6,IF(D421=4,Simulation!$C$7,IF(D421=5,Simulation!$C$8)))))))","v":false},0,null,null,null,"",null,null,null,null,0,null,0,0,"Inlap",null,null,"FL"]
[1,411,411,null,{"$f":"IF(D422=\"Grid\",Simulation!$B$2,IF(D422=\"WU\",Simulation!$B$3,IF(D422=1,Simulation!$B$4,IF(D422=2,Simulation!$B$5,IF(D422=3,Simulation!$B$6,IF(D422=4,Simulation!$B$7,IF(D422=5,Simulation!$B$8)))))))","v":false},{"$f":"IF(D422=\"Grid\",Simulation!$C$2,IF(D422=\"WU\",Simulation!$C$3,IF(D422=1,Simulation!$C$4,IF(D422=2,Simulation!$C$5,IF(D422=3,Simulation!$C$6,IF(D422=4,Simulation!$C$7,IF(D422=5,Simulation!$C$8)))))))","v":false},0,null,null,null,"",null,null,null,null,0,null,0,0,"Inlap",null,null,"FL"]
[1,412,412,null,{"$f":"IF(D423=\"Grid\",Simulation!$B$2,IF(D423=\"WU\",Simulation!$B$3,IF(D423=1,Simulation!$B$4,IF(D423=2,Simulation!$B$5,IF(D423=3,Simulation!$B$6,IF(D423=4,Simulation!$B$7,IF(D423=5,Simulation!$B$8)))))))","v":false},{"$f":"IF(D423=\"Grid\",Simulation!$C$2,IF(D423=\"WU\",Simulation!$C$3,IF(D423=1,Simulation!$C$4,IF(D423=2,Simulation!$C$5,IF(D423=3,Simulation!$C$6,IF(D423=4,Simulation!$C$7,IF(D423=5,Simulation!$C$8)))))))","v":false},0,null,null,null,"",null,null,null,null,0,null,0,0,"Inlap",null,null,"FL"]
[1,413,413,null,{"$f":"IF(D424=\"Grid\",Simulation!$B$2,IF(D424=\"WU\",Simulation!$B$3,IF(D424=1,Simulation!$B$4,IF(D424=2,Simulation!$B$5,IF(D424=3,Simulation!$B$6,IF(D424=4,Simulation!$B$7,IF(D424=5,Simulation!$B$8)))))))","v":false},{"$f":"IF(D424=\"Grid\",Simulation!$C$2,IF(D424=\"WU\",Simulation!$C$3,IF(D424=1,Simulation!$C$4,IF(D424=2,Simulation!$C$5,IF(D424=3,Simulation!$C$6,IF(D424=4,Simulation!$C$7,IF(D424=5,Simulation!$C$8)))))))","v":false},0,null,null,null,"",null,null,null,null,0,null,0,0,"Inlap",null,null,"FL"]
[1,414,414,null,{"$f":"IF(D425=\"Grid\",Simulation!$B$2,IF(D425=\"WU\",Simulation!$B$3,IF(D425=1,Simulation!$B$4,IF(D425=2,Simulation!$B$5,IF(D425=3,Simulation!$B$6,IF(D425=4,Simulation!$B$7,IF(D425=5,Simulation!$B$8)))))))","v":false},{"$f":"IF(D425=\"Grid\",Simulation!$C$2,IF(D425=\"WU\",Simulation!$C$3,IF(D425=1,Simulation!$C$4,IF(D425=2,Simulation!$C$5,IF(D425=3,Simulation!$C$6,IF(D425=4,Simulation!$C$7,IF(D425=5,Simulation!$C$8)))))))","v":false},0,null,null,null,"",null,null,null,null,0,null,0,0,"Inlap",null,null,"FL"]
[1,415,415,null,{"$f":"IF(D426=\"Grid\",Simulation!$B$2,IF(D426=\"WU\",Simulation!$B$3,IF(D426=1,Simulation!$B$4,IF(D426=2,Simulation!$B$5,IF(D426=3,Simulation!$B$6,IF(D426=4,Simulation!$B$7,IF(D426=5,Simulation!$B$8)))))))","v":false},{"$f":"IF(D426=\"Grid\",Simulation!$C$2,IF(D426=\"WU\",Simulation!$C$3,IF(D426=1,Simulation!$C$4,IF(D426=2,Simulation!$C$5,IF(D426=3,Simulation!$C$6,IF(D426=4,Simulation!$C$7,IF(D426=5,Simulation!$C$8)))))))","v":false},0,null,null,null,"",null,null,null,null,0,null,0,0,"Inlap",null,null,"FL"]
[1,416,416,null,{"$f":"IF(D427=\"Grid\",Simulation!$B$2,IF(D427=\"WU\",Simulation!$B$3,IF(D427=1,Simulation!$B$4,IF(D427=2,Simulation!$B$5,IF(D427=3,Simulation!$B$6,IF(D427=4,Simulation!$B$7,IF(D427=5,Simulation!$B$8)))))))","v":false},{"$f":"IF(D427=\"Grid\",Simulation!$C$2,IF(D427=\"WU\",Simulation!$C$3,IF(D427=1,Simulation!$C$4,IF(D427=2,Simulation!$C$5,IF(D427=3,Simulation!$C$6,IF(D427=4,Simulation!$C$7,IF(D427=5,Simulation!$C$8)))))))","v":false},0,null,null,null,"",null,null,null,null,0,null,0,0,"Inlap",null,null,"FL"]
[1,417,417,null,{"$f":"IF(D428=\"Grid\",Simulation!$B$2,IF(D428=\"WU\",Simulation!$B$3,IF(D428=1,Simulation!$B$4,IF(D428=2,Simulation!$B$5,IF(D428=3,Simulation!$B$6,IF(D428=4,Simulation!$B$7,IF(D428=5,Simulation!$B$8)))))))","v":false},{"$f":"IF(D428=\"Grid\",Simulation!$C$2,IF(D428=\"WU\",Simulation!$C$3,IF(D428=1,Simulation!$C$4,IF(D428=2,Simulation!$C$5,IF(D428=3,Simulation!$C$6,IF(D428=4,Simulation!$C$7,IF(D428=5,Simulation!$C$8)))))))","v":false},0,null,null,null,"",null,null,null,null,0,null,0,0,"Inlap",null,null,"FL"]
[1,418,418,null,{"$f":"IF(D429=\"Grid\",Simulation!$B$2,IF(D429=\"WU\",Simulation!$B$3,IF(D429=1,Simulation!$B$4,IF(D429=2,Simulation!$B$5,IF(D429=3,Simulation!$B$6,IF(D429=4,Simulation!$B$7,IF(D429=5,Simulation!$B$8)))))))","v":false},{"$f":"IF(D429=\"Grid\",Simulation!$C$2,IF(D429=\"WU\",Simulation!$C$3,IF(D429=1,Simulation!$C$4,IF(D429=2,Simulation!$C$5,IF(D429=3,Simulation!$C$6,IF(D429=4,Simulation!$C$7,IF(D429=5,Simulation!$C$8)))))))","v":false},0,null,null,null,"",null,null,null,null,0,null,0,0,"Inlap",null,null,"FL"]
[1,419,419,null,{"$f":"IF(D430=\"Grid\",Simulation!$B$2,IF(D430=\"WU\",Simulation!$B$3,IF(D430=1,Simulation!$B$4,IF(D430=2,Simulation!$B$5,IF(D430=3,Simulation!$B$6,IF(D430=4,Simulation!$B$7,IF(D430=5,Simulation!$B$8)))))))","v":false},{"$f":"IF(D430=\"Grid\",Simulation!$C$2,IF(D430=\"WU\",Simulation!$C$3,IF(D430=1,Simulation!$C$4,IF(D430=2,Simulation!$C$5,IF(D430=3,Simulation!$C$6,IF(D430=4,Simulation!$C$7,IF(D430=5,Simulation!$C$8)))))))","v":false},0,null,null,null,"",null,null,null,null,{"$f":"IF(O430>0,Q430,Q430-Q429)","v":0},null,{"$f":"IF(O430>0,Q430,Q430-Q429)","v":0},0,"Inlap",null,null,"FL"]
[1,420,420,null,{"$f":"IF(D431=\"Grid\",Simulation!$B$2,IF(D431=\"WU\",Simulation!$B$3,IF(D431=1,Simulation!$B$4,IF(D431=2,Simulation!$B$5,IF(D431=3,Simulation!$B$6,IF(D431=4,Simulation!$B$7,IF(D431=5,Simulation!$B$8)))))))","v":false},{"$f":"IF(D431=\"Grid\",Simulation!$C$2,IF(D431=\"WU\",Simulation!$C$3,IF(D431=1,Simulation!$C$4,IF(D431=2,Simulation!$C$5,IF(D431=3,Simulation!$C$6,IF(D431=4,Simulation!$C$7,IF(D431=5,Simulation!$C$8)))))))","v":false},0,null,null,null,"",null,null,null,null,0,null,0,0,"Inlap",null,null,"FL"]
[1,421,421,null,{"$f":"IF(D432=\"Grid\",Simulation!$B$2,IF(D432=\"WU\",Simulation!$B$3,IF(D432=1,Simulation!$B$4,IF(D432=2,Simulation!$B$5,IF(D432=3,Simulation!$B$6,IF(D432=4,Simulation!$B$7,IF(D432=5,Simulation!$B$8)))))))","v":false},{"$f":"IF(D432=\"Grid\",Simulation!$C$2,IF(D432=\"WU\",Simulation!$C$3,IF(D432=1,Simulation!$C$4,IF(D432=2,Simulation!$C$5,IF(D432=3,Simulation!$C$6,IF(D432=4,Simulation!$C$7,IF(D432=5,Simulation!$C$8)))))))","v":false},0,null,null,null,"",null,null,null,null,0,null,0,0,"Inlap",null,null,"FL"]
[1,422,422,null,{"$f":"IF(D433=\"Grid\",Simulation!$B$2,IF(D433=\"WU\",Simulation!$B$3,IF(D433=1,Simulation!$B$4,IF(D433=2,Simulation!$B$5,IF(D433=3,Simulation!$B$6,IF(D433=4,Simulation!$B$7,IF(D433=5,Simulation!$B$8)))))))","v":false},{"$f":"IF(D433=\"Grid\",Simulation!$C$2,IF(D433=\"WU\",Simulation!$C$3,IF(D433=1,Simulation!$C$4,IF(D433=2,Simulation!$C$5,IF(D433=3,Simulation!$C$6,IF(D433=4,Simulation!$C$7,IF(D433=5,Simulation!$C$8)))))))","v":false},0,null,null,null,"",null,null,null,null,0,null,0,0,"Inlap",null,null,"FL"]
[1,423,423,null,{"$f":"IF(D434=\"Grid\",Simulation!$B$2,IF(D434=\"WU\",Simulation!$B$3,IF(D434=1,Simulation!$B$4,IF(D434=2,Simulation!$B$5,IF(D434=3,Simulation!$B$6,IF(D434=4,Simulation!$B$7,IF(D434=5,Simulation!$B$8)))))))","v":false},{"$f":"IF(D434=\"Grid\",Simulation!$C$2,IF(D434=\"WU\",Simulation!$C$3,IF(D434=1,Simulation!$C$4,IF(D434=2,Simulation!$C$5,IF(D434=3,Simulation!$C$6,IF(D434=4,Simulation!$C$7,IF(D434=5,Simulation!$C$8)))))))","v":false},0,null,null,null,"",null,null,null,null,0,null,0,0,"Inlap",null,null,"FL"]
[1,424,424,null,{"$f":"IF(D435=\"Grid\",Simulation!$B$2,IF(D435=\"WU\",Simulation!$B$3,IF(D435=1,Simulation!$B$4,IF(D435=2,Simulation!$B$5,IF(D435=3,Simulation!$B$6,IF(D435=4,Simulation!$B$7,IF(D435=5,Simulation!$B$8)))))))","v":false},{"$f":"IF(D435=\"Grid\",Simulation!$C$2,IF(D435=\"WU\",Simulation!$C$3,IF(D435=1,Simulation!$C$4,IF(D435=2,Simulation!$C$5,IF(D435=3,Simulation!$C$6,IF(D435=4,Simulation!$C$7,IF(D435=5,Simulation!$C$8)))))))","v":false},0,null,null,null,"",null,null,null,null,0,null,0,0,"Inlap",null,null,"FL"]
[1,425,425,null,{"$f":"IF(D436=\"Grid\",Simulation!$B$2,IF(D436=\"WU\",Simulation!$B$3,IF(D436=1,Simulation!$B$4,IF(D436=2,Simulation!$B$5,IF(D436=3,Simulation!$B$6,IF(D436=4,Simulation!$B$7,IF(D436=5,Simulation!$B$8)))))))","v":false},{"$f":"IF(D436=\"Grid\",Simulation!$C$2,IF(D436=\"WU\",Simulation!$C$3,IF(D436=1,Simulation!$C$4,IF(D436=2,Simulation!$C$5,IF(D436=3,Simulation!$C$6,IF(D436=4,Simulation!$C$7,IF(D436=5,Simulation!$C$8)))))))","v":false},0,null,null,null,"",null,null,null,null,0,null,0,0,"Inlap",null,null,"FL"]
[1,426,426,null,{"$f":"IF(D437=\"Grid\",Simulation!$B$2,IF(D437=\"WU\",Simulation!$B$3,IF(D437=1,Simulation!$B$4,IF(D437=2,Simulation!$B$5,IF(D437=3,Simulation!$B$6,IF(D437=4,Simulation!$B$7,IF(D437=5,Simulation!$B$8)))))))","v":false},{"$f":"IF(D437=\"Grid\",Simulation!$C$2,IF(D437=\"WU\",Simulation!$C$3,IF(D437=1,Simulation!$C$4,IF(D437=2,Simulation!$C$5,IF(D437=3,Simulation!$C$6,IF(D437=4,Simulation!$C$7,IF(D437=5,Simulation!$C$8)))))))","v":false},0,null,null,null,"",null,null,null,null,0,null,0,0,"Inlap",null,null,"FL"]
[1,427,427,null,{"$f":"IF(D438=\"Grid\",Simulation!$B$2,IF(D438=\"WU\",Simulation!$B$3,IF(D438=1,Simulation!$B$4,IF(D438=2,Simulation!$B$5,IF(D438=3,Simulation!$B$6,IF(D438=4,Simulation!$B$7,IF(D438=5,Simulation!$B$8)))))))","v":false},{"$f":"IF(D438=\"Grid\",Simulation!$C$2,IF(D438=\"WU\",Simulation!$C$3,IF(D438=1,Simulation!$C$4,IF(D438=2,Simulation!$C$5,IF(D438=3,Simulation!$C$6,IF(D438=4,Simulation!$C$7,IF(D438=5,Simulation!$C$8)))))))","v":false},0,null,null,null,"",null,null,null,null,0,null,0,0,"Inlap",null,null,"FL"]
[1,428,428,null,{"$f":"IF(D439=\"Grid\",Simulation!$B$2,IF(D439=\"WU\",Simulation!$B$3,IF(D439=1,Simulation!$B$4,IF(D439=2,Simulation!$B$5,IF(D439=3,Simulation!$B$6,IF(D439=4,Simulation!$B$7,IF(D439=5,Simulation!$B$8)))))))","v":false},{"$f":"IF(D439=\"Grid\",Simulation!$C$2,IF(D439=\"WU\",Simulation!$C$3,IF(D439=1,Simulation!$C$4,IF(D439=2,Simulation!$C$5,IF(D439=3,Simulation!$C$6,IF(D439=4,Simulation!$C$7,IF(D439=5,Simulation!$C$8)))))))","v":false},0,null,null,null,"",null,null,null,null,0,null,0,0,"Inlap",null,null,"FL"]
[1,429,429,null,{"$f":"IF(D440=\"Grid\",Simulation!$B$2,IF(D440=\"WU\",Simulation!$B$3,IF(D440=1,Simulation!$B$4,IF(D440=2,Simulation!$B$5,IF(D440=3,Simulation!$B$6,IF(D440=4,Simulation!$B$7,IF(D440=5,Simulation!$B$8)))))))","v":false},{"$f":"IF(D440=\"Grid\",Simulation!$C$2,IF(D440=\"WU\",Simulation!$C$3,IF(D440=1,Simulation!$C$4,IF(D440=2,Simulation!$C$5,IF(D440=3,Simulation!$C$6,IF(D440=4,Simulation!$C$7,IF(D440=5,Simulation!$C$8)))))))","v":false},0,null,null,null,"",null,null,null,null,0,null,0,0,"Inlap",null,null,"FL"]
[1,430,430,null,{"$f":"IF(D441=\"Grid\",Simulation!$B$2,IF(D441=\"WU\",Simulation!$B$3,IF(D441=1,Simulation!$B$4,IF(D441=2,Simulation!$B$5,IF(D441=3,Simulation!$B$6,IF(D441=4,Simulation!$B$7,IF(D441=5,Simulation!$B$8)))))))","v":false},{"$f":"IF(D441=\"Grid\",Simulation!$C$2,IF(D441=\"WU\",Simulation!$C$3,IF(D441=1,Simulation!$C$4,IF(D441=2,Simulation!$C$5,IF(D441=3,Simulation!$C$6,IF(D441=4,Simulation!$C$7,IF(D441=5,Simulation!$C$8)))))))","v":false},0,null,null,null,"",null,null,null,null,0,null,0,0,"Inlap",null,null,"FL"]
[1,431,431,null,{"$f":"IF(D442=\"Grid\",Simulation!$B$2,IF(D442=\"WU\",Simulation!$B$3,IF(D442=1,Simulation!$B$4,IF(D442=2,Simulation!$B$5,IF(D442=3,Simulation!$B$6,IF(D442=4,Simulation!$B$7,IF(D442=5,Simulation!$B$8)))))))","v":false},{"$f":"IF(D442=\"Grid\",Simulation!$C$2,IF(D442=\"WU\",Simulation!$C$3,IF(D442=1,Simulation!$C$4,IF(D442=2,Simulation!$C$5,IF(D442=3,Simulation!$C$6,IF(D442=4,Simulation!$C$7,IF(D442=5,Simulation!$C$8)))))))","v":false},0,null,null,null,"",null,null,null,null,0,null,0,0,"Inlap",null,null,"FL"]
[1,432,432,null,{"$f":"IF(D443=\"Grid\",Simulation!$B$2,IF(D443=\"WU\",Simulation!$B$3,IF(D443=1,Simulation!$B$4,IF(D443=2,Simulation!$B$5,IF(D443=3,Simulation!$B$6,IF(D443=4,Simulation!$B$7,IF(D443=5,Simulation!$B$8)))))))","v":false},{"$f":"IF(D443=\"Grid\",Simulation!$C$2,IF(D443=\"WU\",Simulation!$C$3,IF(D443=1,Simulation!$C$4,IF(D443=2,Simulation!$C$5,IF(D443=3,Simulation!$C$6,IF(D443=4,Simulation!$C$7,IF(D443=5,Simulation!$C$8)))))))","v":false},0,null,null,null,"",null,null,null,null,0,null,0,0,"Inlap",null,null,"FL"]
[1,433,433,null,{"$f":"IF(D444=\"Grid\",Simulation!$B$2,IF(D444=\"WU\",Simulation!$B$3,IF(D444=1,Simulation!$B$4,IF(D444=2,Simulation!$B$5,IF(D444=3,Simulation!$B$6,IF(D444=4,Simulation!$B$7,IF(D444=5,Simulation!$B$8)))))))","v":false},{"$f":"IF(D444=\"Grid\",Simulation!$C$2,IF(D444=\"WU\",Simulation!$C$3,IF(D444=1,Simulation!$C$4,IF(D444=2,Simulation!$C$5,IF(D444=3,Simulation!$C$6,IF(D444=4,Simulation!$C$7,IF(D444=5,Simulation!$C$8)))))))","v":false},0,null,null,null,"",null,null,null,null,0,null,0,0,"Inlap",null,null,"FL"]
[1,434,434,null,{"$f":"IF(D445=\"Grid\",Simulation!$B$2,IF(D445=\"WU\",Simulation!$B$3,IF(D445=1,Simulation!$B$4,IF(D445=2,Simulation!$B$5,IF(D445=3,Simulation!$B$6,IF(D445=4,Simulation!$B$7,IF(D445=5,Simulation!$B$8)))))))","v":false},{"$f":"IF(D445=\"Grid\",Simulation!$C$2,IF(D445=\"WU\",Simulation!$C$3,IF(D445=1,Simulation!$C$4,IF(D445=2,Simulation!$C$5,IF(D445=3,Simulation!$C$6,IF(D445=4,Simulation!$C$7,IF(D445=5,Simulation!$C$8)))))))","v":false},0,null,null,null,"",null,null,null,null,0,null,0,0,"Inlap",null,null,"FL"]
[1,435,435,null,{"$f":"IF(D446=\"Grid\",Simulation!$B$2,IF(D446=\"WU\",Simulation!$B$3,IF(D446=1,Simulation!$B$4,IF(D446=2,Simulation!$B$5,IF(D446=3,Simulation!$B$6,IF(D446=4,Simulation!$B$7,IF(D446=5,Simulation!$B$8)))))))","v":false},{"$f":"IF(D446=\"Grid\",Simulation!$C$2,IF(D446=\"WU\",Simulation!$C$3,IF(D446=1,Simulation!$C$4,IF(D446=2,Simulation!$C$5,IF(D446=3,Simulation!$C$6,IF(D446=4,Simulation!$C$7,IF(D446=5,Simulation!$C$8)))))))","v":false},0,null,null,null,"",null,null,null,null,0,null,0,0,"Inlap",null,null,"FL"]
[1,436,436,null,{"$f":"IF(D447=\"Grid\",Simulation!$B$2,IF(D447=\"WU\",Simulation!$B$3,IF(D447=1,Simulation!$B$4,IF(D447=2,Simulation!$B$5,IF(D447=3,Simulation!$B$6,IF(D447=4,Simulation!$B$7,IF(D447=5,Simulation!$B$8)))))))","v":false},{"$f":"IF(D447=\"Grid\",Simulation!$C$2,IF(D447=\"WU\",Simulation!$C$3,IF(D447=1,Simulation!$C$4,IF(D447=2,Simulation!$C$5,IF(D447=3,Simulation!$C$6,IF(D447=4,Simulation!$C$7,IF(D447=5,Simulation!$C$8)))))))","v":false},0,null,null,null,"",null,null,null,null,0,null,0,0,"Inlap",null,null,"FL"]
[1,437,437,null,{"$f":"IF(D448=\"Grid\",Simulation!$B$2,IF(D448=\"WU\",Simulation!$B$3,IF(D448=1,Simulation!$B$4,IF(D448=2,Simulation!$B$5,IF(D448=3,Simulation!$B$6,IF(D448=4,Simulation!$B$7,IF(D448=5,Simulation!$B$8)))))))","v":false},{"$f":"IF(D448=\"Grid\",Simulation!$C$2,IF(D448=\"WU\",Simulation!$C$3,IF(D448=1,Simulation!$C$4,IF(D448=2,Simulation!$C$5,IF(D448=3,Simulation!$C$6,IF(D448=4,Simulation!$C$7,IF(D448=5,Simulation!$C$8)))))))","v":false},0,null,null,null,"",null,null,null,null,0,null,0,0,"Inlap",null,null,"FL"]
[1,438,438,null,{"$f":"IF(D449=\"Grid\",Simulation!$B$2,IF(D449=\"WU\",Simulation!$B$3,IF(D449=1,Simulation!$B$4,IF(D449=2,Simulation!$B$5,IF(D449=3,Simulation!$B$6,IF(D449=4,Simulation!$B$7,IF(D449=5,Simulation!$B$8)))))))","v":false},{"$f":"IF(D449=\"Grid\",Simulation!$C$2,IF(D449=\"WU\",Simulation!$C$3,IF(D449=1,Simulation!$C$4,IF(D449=2,Simulation!$C$5,IF(D449=3,Simulation!$C$6,IF(D449=4,Simulation!$C$7,IF(D449=5,Simulation!$C$8)))))))","v":false},0,null,null,null,"",null,null,null,null,0,null,0,0,"Inlap",null,null,"FL"]
[1,439,439,null,{"$f":"IF(D450=\"Grid\",Simulation!$B$2,IF(D450=\"WU\",Simulation!$B$3,IF(D450=1,Simulation!$B$4,IF(D450=2,Simulation!$B$5,IF(D450=3,Simulation!$B$6,IF(D450=4,Simulation!$B$7,IF(D450=5,Simulation!$B$8)))))))","v":false},{"$f":"IF(D450=\"Grid\",Simulation!$C$2,IF(D450=\"WU\",Simulation!$C$3,IF(D450=1,Simulation!$C$4,IF(D450=2,Simulation!$C$5,IF(D450=3,Simulation!$C$6,IF(D450=4,Simulation!$C$7,IF(D450=5,Simulation!$C$8)))))))","v":false},0,null,null,null,"",null,null,null,null,0,null,0,0,"Inlap",null,null,"FL"]
[1,440,440,null,{"$f":"IF(D451=\"Grid\",Simulation!$B$2,IF(D451=\"WU\",Simulation!$B$3,IF(D451=1,Simulation!$B$4,IF(D451=2,Simulation!$B$5,IF(D451=3,Simulation!$B$6,IF(D451=4,Simulation!$B$7,IF(D451=5,Simulation!$B$8)))))))","v":false},{"$f":"IF(D451=\"Grid\",Simulation!$C$2,IF(D451=\"WU\",Simulation!$C$3,IF(D451=1,Simulation!$C$4,IF(D451=2,Simulation!$C$5,IF(D451=3,Simulation!$C$6,IF(D451=4,Simulation!$C$7,IF(D451=5,Simulation!$C$8)))))))","v":false},0,null,null,null,"",null,null,null,null,0,null,0,0,"Inlap",null,null,"FL"]
[1,441,441,null,{"$f":"IF(D452=\"Grid\",Simulation!$B$2,IF(D452=\"WU\",Simulation!$B$3,IF(D452=1,Simulation!$B$4,IF(D452=2,Simulation!$B$5,IF(D452=3,Simulation!$B$6,IF(D452=4,Simulation!$B$7,IF(D452=5,Simulation!$B$8)))))))","v":false},{"$f":"IF(D452=\"Grid\",Simulation!$C$2,IF(D452=\"WU\",Simulation!$C$3,IF(D452=1,Simulation!$C$4,IF(D452=2,Simulation!$C$5,IF(D452=3,Simulation!$C$6,IF(D452=4,Simulation!$C$7,IF(D452=5,Simulation!$C$8)))))))","v":false},0,null,null,null,"",null,null,null,null,0,null,0,0,"Inlap",null,null,"FL"]
[1,442,442,null,{"$f":"IF(D453=\"Grid\",Simulation!$B$2,IF(D453=\"WU\",Simulation!$B$3,IF(D453=1,Simulation!$B$4,IF(D453=2,Simulation!$B$5,IF(D453=3,Simulation!$B$6,IF(D453=4,Simulation!$B$7,IF(D453=5,Simulation!$B$8)))))))","v":false},{"$f":"IF(D453=\"Grid\",Simulation!$C$2,IF(D453=\"WU\",Simulation!$C$3,IF(D453=1,Simulation!$C$4,IF(D453=2,Simulation!$C$5,IF(D453=3,Simulation!$C$6,IF(D453=4,Simulation!$C$7,IF(D453=5,Simulation!$C$8)))))))","v":false},0,null,null,null,"",null,null,null,null,0,null,0,0,"Inlap",null,null,"FL"]
[1,443,443,null,{"$f":"IF(D454=\"Grid\",Simulation!$B$2,IF(D454=\"WU\",Simulation!$B$3,IF(D454=1,Simulation!$B$4,IF(D454=2,Simulation!$B$5,IF(D454=3,Simulation!$B$6,IF(D454=4,Simulation!$B$7,IF(D454=5,Simulation!$B$8)))))))","v":false},{"$f":"IF(D454=\"Grid\",Simulation!$C$2,IF(D454=\"WU\",Simulation!$C$3,IF(D454=1,Simulation!$C$4,IF(D454=2,Simulation!$C$5,IF(D454=3,Simulation!$C$6,IF(D454=4,Simulation!$C$7,IF(D454=5,Simulation!$C$8)))))))","v":false},0,null,null,null,"",null,null,null,null,0,null,0,0,"Inlap",null,null,"FL"]
[1,444,444,null,{"$f":"IF(D455=\"Grid\",Simulation!$B$2,IF(D455=\"WU\",Simulation!$B$3,IF(D455=1,Simulation!$B$4,IF(D455=2,Simulation!$B$5,IF(D455=3,Simulation!$B$6,IF(D455=4,Simulation!$B$7,IF(D455=5,Simulation!$B$8)))))))","v":false},{"$f":"IF(D455=\"Grid\",Simulation!$C$2,IF(D455=\"WU\",Simulation!$C$3,IF(D455=1,Simulation!$C$4,IF(D455=2,Simulation!$C$5,IF(D455=3,Simulation!$C$6,IF(D455=4,Simulation!$C$7,IF(D455=5,Simulation!$C$8)))))))","v":false},0,null,null,null,"",null,null,null,null,0,null,0,0,"Inlap",null,null,"FL"]
[1,445,445,null,{"$f":"IF(D456=\"Grid\",Simulation!$B$2,IF(D456=\"WU\",Simulation!$B$3,IF(D456=1,Simulation!$B$4,IF(D456=2,Simulation!$B$5,IF(D456=3,Simulation!$B$6,IF(D456=4,Simulation!$B$7,IF(D456=5,Simulation!$B$8)))))))","v":false},{"$f":"IF(D456=\"Grid\",Simulation!$C$2,IF(D456=\"WU\",Simulation!$C$3,IF(D456=1,Simulation!$C$4,IF(D456=2,Simulation!$C$5,IF(D456=3,Simulation!$C$6,IF(D456=4,Simulation!$C$7,IF(D456=5,Simulation!$C$8)))))))","v":false},0,null,null,null,"",null,null,null,null,0,null,0,0,"Inlap",null,null,"FL"]
[1,446,446,null,{"$f":"IF(D457=\"Grid\",Simulation!$B$2,IF(D457=\"WU\",Simulation!$B$3,IF(D457=1,Simulation!$B$4,IF(D457=2,Simulation!$B$5,IF(D457=3,Simulation!$B$6,IF(D457=4,Simulation!$B$7,IF(D457=5,Simulation!$B$8)))))))","v":false},{"$f":"IF(D457=\"Grid\",Simulation!$C$2,IF(D457=\"WU\",Simulation!$C$3,IF(D457=1,Simulation!$C$4,IF(D457=2,Simulation!$C$5,IF(D457=3,Simulation!$C$6,IF(D457=4,Simulation!$C$7,IF(D457=5,Simulation!$C$8)))))))","v":false},0,null,null,null,"",null,null,null,null,0,null,0,0,"Inlap",null,null,"FL"]
[1,447,447,null,{"$f":"IF(D458=\"Grid\",Simulation!$B$2,IF(D458=\"WU\",Simulation!$B$3,IF(D458=1,Simulation!$B$4,IF(D458=2,Simulation!$B$5,IF(D458=3,Simulation!$B$6,IF(D458=4,Simulation!$B$7,IF(D458=5,Simulation!$B$8)))))))","v":false},{"$f":"IF(D458=\"Grid\",Simulation!$C$2,IF(D458=\"WU\",Simulation!$C$3,IF(D458=1,Simulation!$C$4,IF(D458=2,Simulation!$C$5,IF(D458=3,Simulation!$C$6,IF(D458=4,Simulation!$C$7,IF(D458=5,Simulation!$C$8)))))))","v":false},0,null,null,null,"",null,null,null,null,0,null,0,0,"Inlap",null,null,"FL"]
[1,448,448,null,{"$f":"IF(D459=\"Grid\",Simulation!$B$2,IF(D459=\"WU\",Simulation!$B$3,IF(D459=1,Simulation!$B$4,IF(D459=2,Simulation!$B$5,IF(D459=3,Simulation!$B$6,IF(D459=4,Simulation!$B$7,IF(D459=5,Simulation!$B$8)))))))","v":false},{"$f":"IF(D459=\"Grid\",Simulation!$C$2,IF(D459=\"WU\",Simulation!$C$3,IF(D459=1,Simulation!$C$4,IF(D459=2,Simulation!$C$5,IF(D459=3,Simulation!$C$6,IF(D459=4,Simulation!$C$7,IF(D459=5,Simulation!$C$8)))))))","v":false},0,null,null,null,"",null,null,null,null,0,null,0,0,"Inlap",null,null,"FL"]
[{"$f":"IF(O460>0,A459+1,A459)","v":1},449,449,null,{"$f":"IF(D460=\"Grid\",Simulation!$B$2,IF(D460=\"WU\",Simulation!$B$3,IF(D460=1,Simulation!$B$4,IF(D460=2,Simulation!$B$5,IF(D460=3,Simulation!$B$6,IF(D460=4,Simulation!$B$7,IF(D460=5,Simulation!$B$8)))))))","v":false},{"$f":"IF(D460=\"Grid\",Simulation!$C$2,IF(D460=\"WU\",Simulation!$C$3,IF(D460=1,Simulation!$C$4,IF(D460=2,Simulation!$C$5,IF(D460=3,Simulation!$C$6,IF(D460=4,Simulation!$C$7,IF(D460=5,Simulation!$C$8)))))))","v":false},{"$f":"G459+O459-P459","v":0},null,null,null,"",null,null,null,null,0,null,0,{"$f":"IF(O460>0,O460+S459-Q460,S459-P460)","v":0},{"$f":"IF(S460<=F460,\"Inlap\",IF(S460<=2*F460,\"Call: In this lap!\",IF(S460<=3*F460,\"Show in but don't call!\",\"\")))","v":"Inlap"},null,null,{"$f":"IF(J460=$Q$2,\"FL\",\"\")","v":"FL"}]
[1,450,450,null,{"$f":"IF(D461=\"Grid\",Simulation!$B$2,IF(D461=\"WU\",Simulation!$B$3,IF(D461=1,Simulation!$B$4,IF(D461=2,Simulation!$B$5,IF(D461=3,Simulation!$B$6,IF(D461=4,Simulation!$B$7,IF(D461=5,Simulation!$B$8)))))))","v":false},{"$f":"IF(D461=\"Grid\",Simulation!$C$2,IF(D461=\"WU\",Simulation!$C$3,IF(D461=1,Simulation!$C$4,IF(D461=2,Simulation!$C$5,IF(D461=3,Simulation!$C$6,IF(D461=4,Simulation!$C$7,IF(D461=5,Simulation!$C$8)))))))","v":false},0,null,null,null,{"$f":"IF(J461<>0,K460,\"\")","v":""},null,null,null,null,0,null,0,0,"Inlap",null,null,"FL"]
[1,451,{"$f":"IF(O462=\"\",C461+1,\"1\")","v":451},null,{"$f":"IF(D462=\"Grid\",Simulation!$B$2,IF(D462=\"WU\",Simulation!$B$3,IF(D462=1,Simulation!$B$4,IF(D462=2,Simulation!$B$5,IF(D462=3,Simulation!$B$6,IF(D462=4,Simulation!$B$7,IF(D462=5,Simulation!$B$8)))))))","v":false},{"$f":"IF(D462=\"Grid\",Simulation!$C$2,IF(D462=\"WU\",Simulation!$C$3,IF(D462=1,Simulation!$C$4,IF(D462=2,Simulation!$C$5,IF(D462=3,Simulation!$C$6,IF(D462=4,Simulation!$C$7,IF(D462=5,Simulation!$C$8)))))))","v":false},0,null,null,null,"",null,null,null,null,0,null,0,0,"Inlap",null,null,"FL"]
[1,452,452,null,{"$f":"IF(D463=\"Grid\",Simulation!$B$2,IF(D463=\"WU\",Simulation!$B$3,IF(D463=1,Simulation!$B$4,IF(D463=2,Simulation!$B$5,IF(D463=3,Simulation!$B$6,IF(D463=4,Simulation!$B$7,IF(D463=5,Simulation!$B$8)))))))","v":false},{"$f":"IF(D463=\"Grid\",Simulation!$C$2,IF(D463=\"WU\",Simulation!$C$3,IF(D463=1,Simulation!$C$4,IF(D463=2,Simulation!$C$5,IF(D463=3,Simulation!$C$6,IF(D463=4,Simulation!$C$7,IF(D463=5,Simulation!$C$8)))))))","v":false},0,null,null,null,"",null,null,null,null,0,null,0,0,"Inlap",null,null,"FL"]
[1,453,453,null,{"$f":"IF(D464=\"Grid\",Simulation!$B$2,IF(D464=\"WU\",Simulation!$B$3,IF(D464=1,Simulation!$B$4,IF(D464=2,Simulation!$B$5,IF(D464=3,Simulation!$B$6,IF(D464=4,Simulation!$B$7,IF(D464=5,Simulation!$B$8)))))))","v":false},{"$f":"IF(D464=\"Grid\",Simulation!$C$2,IF(D464=\"WU\",Simulation!$C$3,IF(D464=1,Simulation!$C$4,IF(D464=2,Simulation!$C$5,IF(D464=3,Simulation!$C$6,IF(D464=4,Simulation!$C$7,IF(D464=5,Simulation!$C$8)))))))","v":false},0,null,null,null,"",null,null,null,null,0,null,0,0,"Inlap",null,null,"FL"]
[1,454,454,null,{"$f":"IF(D465=\"Grid\",Simulation!$B$2,IF(D465=\"WU\",Simulation!$B$3,IF(D465=1,Simulation!$B$4,IF(D465=2,Simulation!$B$5,IF(D465=3,Simulation!$B$6,IF(D465=4,Simulation!$B$7,IF(D465=5,Simulation!$B$8)))))))","v":false},{"$f":"IF(D465=\"Grid\",Simulation!$C$2,IF(D465=\"WU\",Simulation!$C$3,IF(D465=1,Simulation!$C$4,IF(D465=2,Simulation!$C$5,IF(D465=3,Simulation!$C$6,IF(D465=4,Simulation!$C$7,IF(D465=5,Simulation!$C$8)))))))","v":false},0,null,null,null,"",null,null,null,null,0,null,0,0,"Inlap",null,null,"FL"]
[1,455,455,null,{"$f":"IF(D466=\"Grid\",Simulation!$B$2,IF(D466=\"WU\",Simulation!$B$3,IF(D466=1,Simulation!$B$4,IF(D466=2,Simulation!$B$5,IF(D466=3,Simulation!$B$6,IF(D466=4,Simulation!$B$7,IF(D466=5,Simulation!$B$8)))))))","v":false},{"$f":"IF(D466=\"Grid\",Simulation!$C$2,IF(D466=\"WU\",Simulation!$C$3,IF(D466=1,Simulation!$C$4,IF(D466=2,Simulation!$C$5,IF(D466=3,Simulation!$C$6,IF(D466=4,Simulation!$C$7,IF(D466=5,Simulation!$C$8)))))))","v":false},0,null,null,null,"",null,null,null,null,0,null,0,0,"Inlap",null,null,"FL"]
[1,456,456,null,{"$f":"IF(D467=\"Grid\",Simulation!$B$2,IF(D467=\"WU\",Simulation!$B$3,IF(D467=1,Simulation!$B$4,IF(D467=2,Simulation!$B$5,IF(D467=3,Simulation!$B$6,IF(D467=4,Simulation!$B$7,IF(D467=5,Simulation!$B$8)))))))","v":false},{"$f":"IF(D467=\"Grid\",Simulation!$C$2,IF(D467=\"WU\",Simulation!$C$3,IF(D467=1,Simulation!$C$4,IF(D467=2,Simulation!$C$5,IF(D467=3,Simulation!$C$6,IF(D467=4,Simulation!$C$7,IF(D467=5,Simulation!$C$8)))))))","v":false},0,null,null,null,"",null,null,null,null,0,null,0,0,"Inlap",null,null,"FL"]
[1,457,457,null,{"$f":"IF(D468=\"Grid\",Simulation!$B$2,IF(D468=\"WU\",Simulation!$B$3,IF(D468=1,Simulation!$B$4,IF(D468=2,Simulation!$B$5,IF(D468=3,Simulation!$B$6,IF(D468=4,Simulation!$B$7,IF(D468=5,Simulation!$B$8)))))))","v":false},{"$f":"IF(D468=\"Grid\",Simulation!$C$2,IF(D468=\"WU\",Simulation!$C$3,IF(D468=1,Simulation!$C$4,IF(D468=2,Simulation!$C$5,IF(D468=3,Simulation!$C$6,IF(D468=4,Simulation!$C$7,IF(D468=5,Simulation!$C$8)))))))","v":false},0,null,null,null,"",null,null,null,null,0,null,0,0,"Inlap",null,null,"FL"]
[1,458,458,null,{"$f":"IF(D469=\"Grid\",Simulation!$B$2,IF(D469=\"WU\",Simulation!$B$3,IF(D469=1,Simulation!$B$4,IF(D469=2,Simulation!$B$5,IF(D469=3,Simulation!$B$6,IF(D469=4,Simulation!$B$7,IF(D469=5,Simulation!$B$8)))))))","v":false},{"$f":"IF(D469=\"Grid\",Simulation!$C$2,IF(D469=\"WU\",Simulation!$C$3,IF(D469=1,Simulation!$C$4,IF(D469=2,Simulation!$C$5,IF(D469=3,Simulation!$C$6,IF(D469=4,Simulation!$C$7,IF(D469=5,Simulation!$C$8)))))))","v":false},0,null,null,null,"",null,null,null,null,0,null,0,0,"Inlap",null,null,"FL"]
[1,459,459,null,{"$f":"IF(D470=\"Grid\",Simulation!$B$2,IF(D470=\"WU\",Simulation!$B$3,IF(D470=1,Simulation!$B$4,IF(D470=2,Simulation!$B$5,IF(D470=3,Simulation!$B$6,IF(D470=4,Simulation!$B$7,IF(D470=5,Simulation!$B$8)))))))","v":false},{"$f":"IF(D470=\"Grid\",Simulation!$C$2,IF(D470=\"WU\",Simulation!$C$3,IF(D470=1,Simulation!$C$4,IF(D470=2,Simulation!$C$5,IF(D470=3,Simulation!$C$6,IF(D470=4,Simulation!$C$7,IF(D470=5,Simulation!$C$8)))))))","v":false},0,null,null,null,"",null,null,null,null,0,null,0,0,"Inlap",null,null,"FL"]
[1,460,460,null,{"$f":"IF(D471=\"Grid\",Simulation!$B$2,IF(D471=\"WU\",Simulation!$B$3,IF(D471=1,Simulation!$B$4,IF(D471=2,Simulation!$B$5,IF(D471=3,Simulation!$B$6,IF(D471=4,Simulation!$B$7,IF(D471=5,Simulation!$B$8)))))))","v":false},{"$f":"IF(D471=\"Grid\",Simulation!$C$2,IF(D471=\"WU\",Simulation!$C$3,IF(D471=1,Simulation!$C$4,IF(D471=2,Simulation!$C$5,IF(D471=3,Simulation!$C$6,IF(D471=4,Simulation!$C$7,IF(D471=5,Simulation!$C$8)))))))","v":false},0,null,null,null,"",null,null,null,null,0,null,0,0,"Inlap",null,null,"FL"]
[1,461,461,null,{"$f":"IF(D472=\"Grid\",Simulation!$B$2,IF(D472=\"WU\",Simulation!$B$3,IF(D472=1,Simulation!$B$4,IF(D472=2,Simulation!$B$5,IF(D472=3,Simulation!$B$6,IF(D472=4,Simulation!$B$7,IF(D472=5,Simulation!$B$8)))))))","v":false},{"$f":"IF(D472=\"Grid\",Simulation!$C$2,IF(D472=\"WU\",Simulation!$C$3,IF(D472=1,Simulation!$C$4,IF(D472=2,Simulation!$C$5,IF(D472=3,Simulation!$C$6,IF(D472=4,Simulation!$C$7,IF(D472=5,Simulation!$C$8)))))))","v":false},0,null,null,null,"",null,null,null,null,0,null,0,0,"Inlap",null,null,"FL"]
[1,462,462,null,{"$f":"IF(D473=\"Grid\",Simulation!$B$2,IF(D473=\"WU\",Simulation!$B$3,IF(D473=1,Simulation!$B$4,IF(D473=2,Simulation!$B$5,IF(D473=3,Simulation!$B$6,IF(D473=4,Simulation!$B$7,IF(D473=5,Simulation!$B$8)))))))","v":false},{"$f":"IF(D473=\"Grid\",Simulation!$C$2,IF(D473=\"WU\",Simulation!$C$3,IF(D473=1,Simulation!$C$4,IF(D473=2,Simulation!$C$5,IF(D473=3,Simulation!$C$6,IF(D473=4,Simulation!$C$7,IF(D473=5,Simulation!$C$8)))))))","v":false},0,null,null,null,"",null,null,null,null,0,null,0,0,"Inlap",null,null,"FL"]
[1,463,463,null,{"$f":"IF(D474=\"Grid\",Simulation!$B$2,IF(D474=\"WU\",Simulation!$B$3,IF(D474=1,Simulation!$B$4,IF(D474=2,Simulation!$B$5,IF(D474=3,Simulation!$B$6,IF(D474=4,Simulation!$B$7,IF(D474=5,Simulation!$B$8)))))))","v":false},{"$f":"IF(D474=\"Grid\",Simulation!$C$2,IF(D474=\"WU\",Simulation!$C$3,IF(D474=1,Simulation!$C$4,IF(D474=2,Simulation!$C$5,IF(D474=3,Simulation!$C$6,IF(D474=4,Simulation!$C$7,IF(D474=5,Simulation!$C$8)))))))","v":false},0,null,null,null,"",null,null,null,null,0,null,0,0,"Inlap",null,null,"FL"]
[1,464,464,null,{"$f":"IF(D475=\"Grid\",Simulation!$B$2,IF(D475=\"WU\",Simulation!$B$3,IF(D475=1,Simulation!$B$4,IF(D475=2,Simulation!$B$5,IF(D475=3,Simulation!$B$6,IF(D475=4,Simulation!$B$7,IF(D475=5,Simulation!$B$8)))))))","v":false},{"$f":"IF(D475=\"Grid\",Simulation!$C$2,IF(D475=\"WU\",Simulation!$C$3,IF(D475=1,Simulation!$C$4,IF(D475=2,Simulation!$C$5,IF(D475=3,Simulation!$C$6,IF(D475=4,Simulation!$C$7,IF(D475=5,Simulation!$C$8)))))))","v":false},0,null,null,null,"",null,null,null,null,0,null,0,0,"Inlap",null,null,"FL"]
[1,465,465,null,{"$f":"IF(D476=\"Grid\",Simulation!$B$2,IF(D476=\"WU\",Simulation!$B$3,IF(D476=1,Simulation!$B$4,IF(D476=2,Simulation!$B$5,IF(D476=3,Simulation!$B$6,IF(D476=4,Simulation!$B$7,IF(D476=5,Simulation!$B$8)))))))","v":false},{"$f":"IF(D476=\"Grid\",Simulation!$C$2,IF(D476=\"WU\",Simulation!$C$3,IF(D476=1,Simulation!$C$4,IF(D476=2,Simulation!$C$5,IF(D476=3,Simulation!$C$6,IF(D476=4,Simulation!$C$7,IF(D476=5,Simulation!$C$8)))))))","v":false},0,null,null,null,"",null,null,null,null,0,null,0,0,"Inlap",null,null,"FL"]
[1,466,466,null,{"$f":"IF(D477=\"Grid\",Simulation!$B$2,IF(D477=\"WU\",Simulation!$B$3,IF(D477=1,Simulation!$B$4,IF(D477=2,Simulation!$B$5,IF(D477=3,Simulation!$B$6,IF(D477=4,Simulation!$B$7,IF(D477=5,Simulation!$B$8)))))))","v":false},{"$f":"IF(D477=\"Grid\",Simulation!$C$2,IF(D477=\"WU\",Simulation!$C$3,IF(D477=1,Simulation!$C$4,IF(D477=2,Simulation!$C$5,IF(D477=3,Simulation!$C$6,IF(D477=4,Simulation!$C$7,IF(D477=5,Simulation!$C$8)))))))","v":false},0,null,null,null,"",null,null,null,null,0,null,0,0,"Inlap",null,null,"FL"]
[1,467,467,null,{"$f":"IF(D478=\"Grid\",Simulation!$B$2,IF(D478=\"WU\",Simulation!$B$3,IF(D478=1,Simulation!$B$4,IF(D478=2,Simulation!$B$5,IF(D478=3,Simulation!$B$6,IF(D478=4,Simulation!$B$7,IF(D478=5,Simulation!$B$8)))))))","v":false},{"$f":"IF(D478=\"Grid\",Simulation!$C$2,IF(D478=\"WU\",Simulation!$C$3,IF(D478=1,Simulation!$C$4,IF(D478=2,Simulation!$C$5,IF(D478=3,Simulation!$C$6,IF(D478=4,Simulation!$C$7,IF(D478=5,Simulation!$C$8)))))))","v":false},0,null,null,null,"",null,null,null,null,0,null,0,0,"Inlap",null,null,"FL"]
[1,468,468,null,{"$f":"IF(D479=\"Grid\",Simulation!$B$2,IF(D479=\"WU\",Simulation!$B$3,IF(D479=1,Simulation!$B$4,IF(D479=2,Simulation!$B$5,IF(D479=3,Simulation!$B$6,IF(D479=4,Simulation!$B$7,IF(D479=5,Simulation!$B$8)))))))","v":false},{"$f":"IF(D479=\"Grid\",Simulation!$C$2,IF(D479=\"WU\",Simulation!$C$3,IF(D479=1,Simulation!$C$4,IF(D479=2,Simulation!$C$5,IF(D479=3,Simulation!$C$6,IF(D479=4,Simulation!$C$7,IF(D479=5,Simulation!$C$8)))))))","v":false},0,null,null,null,"",null,null,null,null,0,null,0,0,"Inlap",null,null,"FL"]
[1,469,469,null,{"$f":"IF(D480=\"Grid\",Simulation!$B$2,IF(D480=\"WU\",Simulation!$B$3,IF(D480=1,Simulation!$B$4,IF(D480=2,Simulation!$B$5,IF(D480=3,Simulation!$B$6,IF(D480=4,Simulation!$B$7,IF(D480=5,Simulation!$B$8)))))))","v":false},{"$f":"IF(D480=\"Grid\",Simulation!$C$2,IF(D480=\"WU\",Simulation!$C$3,IF(D480=1,Simulation!$C$4,IF(D480=2,Simulation!$C$5,IF(D480=3,Simulation!$C$6,IF(D480=4,Simulation!$C$7,IF(D480=5,Simulation!$C$8)))))))","v":false},0,null,null,null,"",null,null,null,null,0,null,0,0,"Inlap",null,null,"FL"]
[1,470,470,null,{"$f":"IF(D481=\"Grid\",Simulation!$B$2,IF(D481=\"WU\",Simulation!$B$3,IF(D481=1,Simulation!$B$4,IF(D481=2,Simulation!$B$5,IF(D481=3,Simulation!$B$6,IF(D481=4,Simulation!$B$7,IF(D481=5,Simulation!$B$8)))))))","v":false},{"$f":"IF(D481=\"Grid\",Simulation!$C$2,IF(D481=\"WU\",Simulation!$C$3,IF(D481=1,Simulation!$C$4,IF(D481=2,Simulation!$C$5,IF(D481=3,Simulation!$C$6,IF(D481=4,Simulation!$C$7,IF(D481=5,Simulation!$C$8)))))))","v":false},0,null,null,null,"",null,null,null,null,0,null,0,0,"Inlap",null,null,"FL"]
[1,471,471,null,{"$f":"IF(D482=\"Grid\",Simulation!$B$2,IF(D482=\"WU\",Simulation!$B$3,IF(D482=1,Simulation!$B$4,IF(D482=2,Simulation!$B$5,IF(D482=3,Simulation!$B$6,IF(D482=4,Simulation!$B$7,IF(D482=5,Simulation!$B$8)))))))","v":false},{"$f":"IF(D482=\"Grid\",Simulation!$C$2,IF(D482=\"WU\",Simulation!$C$3,IF(D482=1,Simulation!$C$4,IF(D482=2,Simulation!$C$5,IF(D482=3,Simulation!$C$6,IF(D482=4,Simulation!$C$7,IF(D482=5,Simulation!$C$8)))))))","v":false},0,null,null,null,"",null,null,null,null,0,null,0,0,"Inlap",null,null,"FL"]
[1,472,472,null,{"$f":"IF(D483=\"Grid\",Simulation!$B$2,IF(D483=\"WU\",Simulation!$B$3,IF(D483=1,Simulation!$B$4,IF(D483=2,Simulation!$B$5,IF(D483=3,Simulation!$B$6,IF(D483=4,Simulation!$B$7,IF(D483=5,Simulation!$B$8)))))))","v":false},{"$f":"IF(D483=\"Grid\",Simulation!$C$2,IF(D483=\"WU\",Simulation!$C$3,IF(D483=1,Simulation!$C$4,IF(D483=2,Simulation!$C$5,IF(D483=3,Simulation!$C$6,IF(D483=4,Simulation!$C$7,IF(D483=5,Simulation!$C$8)))))))","v":false},0,null,null,null,"",null,null,null,null,0,null,0,0,"Inlap",null,null,"FL"]
[1,473,473,null,{"$f":"IF(D484=\"Grid\",Simulation!$B$2,IF(D484=\"WU\",Simulation!$B$3,IF(D484=1,Simulation!$B$4,IF(D484=2,Simulation!$B$5,IF(D484=3,Simulation!$B$6,IF(D484=4,Simulation!$B$7,IF(D484=5,Simulation!$B$8)))))))","v":false},{"$f":"IF(D484=\"Grid\",Simulation!$C$2,IF(D484=\"WU\",Simulation!$C$3,IF(D484=1,Simulation!$C$4,IF(D484=2,Simulation!$C$5,IF(D484=3,Simulation!$C$6,IF(D484=4,Simulation!$C$7,IF(D484=5,Simulation!$C$8)))))))","v":false},0,null,null,null,"",null,null,null,null,0,null,0,0,"Inlap",null,null,"FL"]
[1,474,474,null,{"$f":"IF(D485=\"Grid\",Simulation!$B$2,IF(D485=\"WU\",Simulation!$B$3,IF(D485=1,Simulation!$B$4,IF(D485=2,Simulation!$B$5,IF(D485=3,Simulation!$B$6,IF(D485=4,Simulation!$B$7,IF(D485=5,Simulation!$B$8)))))))","v":false},{"$f":"IF(D485=\"Grid\",Simulation!$C$2,IF(D485=\"WU\",Simulation!$C$3,IF(D485=1,Simulation!$C$4,IF(D485=2,Simulation!$C$5,IF(D485=3,Simulation!$C$6,IF(D485=4,Simulation!$C$7,IF(D485=5,Simulation!$C$8)))))))","v":false},0,null,null,null,"",null,null,null,null,0,null,0,0,"Inlap",null,null,"FL"]
[1,475,475,null,{"$f":"IF(D486=\"Grid\",Simulation!$B$2,IF(D486=\"WU\",Simulation!$B$3,IF(D486=1,Simulation!$B$4,IF(D486=2,Simulation!$B$5,IF(D486=3,Simulation!$B$6,IF(D486=4,Simulation!$B$7,IF(D486=5,Simulation!$B$8)))))))","v":false},{"$f":"IF(D486=\"Grid\",Simulation!$C$2,IF(D486=\"WU\",Simulation!$C$3,IF(D486=1,Simulation!$C$4,IF(D486=2,Simulation!$C$5,IF(D486=3,Simulation!$C$6,IF(D486=4,Simulation!$C$7,IF(D486=5,Simulation!$C$8)))))))","v":false},0,null,null,null,"",null,null,null,null,0,null,0,0,"Inlap",null,null,"FL"]
[1,476,476,null,{"$f":"IF(D487=\"Grid\",Simulation!$B$2,IF(D487=\"WU\",Simulation!$B$3,IF(D487=1,Simulation!$B$4,IF(D487=2,Simulation!$B$5,IF(D487=3,Simulation!$B$6,IF(D487=4,Simulation!$B$7,IF(D487=5,Simulation!$B$8)))))))","v":false},{"$f":"IF(D487=\"Grid\",Simulation!$C$2,IF(D487=\"WU\",Simulation!$C$3,IF(D487=1,Simulation!$C$4,IF(D487=2,Simulation!$C$5,IF(D487=3,Simulation!$C$6,IF(D487=4,Simulation!$C$7,IF(D487=5,Simulation!$C$8)))))))","v":false},0,null,null,null,"",null,null,null,null,0,null,0,0,"Inlap",null,null,"FL"]
[1,477,477,null,{"$f":"IF(D488=\"Grid\",Simulation!$B$2,IF(D488=\"WU\",Simulation!$B$3,IF(D488=1,Simulation!$B$4,IF(D488=2,Simulation!$B$5,IF(D488=3,Simulation!$B$6,IF(D488=4,Simulation!$B$7,IF(D488=5,Simulation!$B$8)))))))","v":false},{"$f":"IF(D488=\"Grid\",Simulation!$C$2,IF(D488=\"WU\",Simulation!$C$3,IF(D488=1,Simulation!$C$4,IF(D488=2,Simulation!$C$5,IF(D488=3,Simulation!$C$6,IF(D488=4,Simulation!$C$7,IF(D488=5,Simulation!$C$8)))))))","v":false},0,null,null,null,"",null,null,null,null,0,null,0,0,"Inlap",null,null,"FL"]
[1,478,478,null,{"$f":"IF(D489=\"Grid\",Simulation!$B$2,IF(D489=\"WU\",Simulation!$B$3,IF(D489=1,Simulation!$B$4,IF(D489=2,Simulation!$B$5,IF(D489=3,Simulation!$B$6,IF(D489=4,Simulation!$B$7,IF(D489=5,Simulation!$B$8)))))))","v":false},{"$f":"IF(D489=\"Grid\",Simulation!$C$2,IF(D489=\"WU\",Simulation!$C$3,IF(D489=1,Simulation!$C$4,IF(D489=2,Simulation!$C$5,IF(D489=3,Simulation!$C$6,IF(D489=4,Simulation!$C$7,IF(D489=5,Simulation!$C$8)))))))","v":false},0,null,null,null,"",null,null,null,null,0,null,0,0,"Inlap",null,null,"FL"]
[1,479,479,null,{"$f":"IF(D490=\"Grid\",Simulation!$B$2,IF(D490=\"WU\",Simulation!$B$3,IF(D490=1,Simulation!$B$4,IF(D490=2,Simulation!$B$5,IF(D490=3,Simulation!$B$6,IF(D490=4,Simulation!$B$7,IF(D490=5,Simulation!$B$8)))))))","v":false},{"$f":"IF(D490=\"Grid\",Simulation!$C$2,IF(D490=\"WU\",Simulation!$C$3,IF(D490=1,Simulation!$C$4,IF(D490=2,Simulation!$C$5,IF(D490=3,Simulation!$C$6,IF(D490=4,Simulation!$C$7,IF(D490=5,Simulation!$C$8)))))))","v":false},0,null,null,null,"",null,null,null,null,0,null,0,0,"Inlap",null,null,"FL"]
[1,480,480,null,{"$f":"IF(D491=\"Grid\",Simulation!$B$2,IF(D491=\"WU\",Simulation!$B$3,IF(D491=1,Simulation!$B$4,IF(D491=2,Simulation!$B$5,IF(D491=3,Simulation!$B$6,IF(D491=4,Simulation!$B$7,IF(D491=5,Simulation!$B$8)))))))","v":false},{"$f":"IF(D491=\"Grid\",Simulation!$C$2,IF(D491=\"WU\",Simulation!$C$3,IF(D491=1,Simulation!$C$4,IF(D491=2,Simulation!$C$5,IF(D491=3,Simulation!$C$6,IF(D491=4,Simulation!$C$7,IF(D491=5,Simulation!$C$8)))))))","v":false},0,null,null,null,"",null,null,null,null,0,null,0,0,"Inlap",null,null,"FL"]
[1,481,481,null,{"$f":"IF(D492=\"Grid\",Simulation!$B$2,IF(D492=\"WU\",Simulation!$B$3,IF(D492=1,Simulation!$B$4,IF(D492=2,Simulation!$B$5,IF(D492=3,Simulation!$B$6,IF(D492=4,Simulation!$B$7,IF(D492=5,Simulation!$B$8)))))))","v":false},{"$f":"IF(D492=\"Grid\",Simulation!$C$2,IF(D492=\"WU\",Simulation!$C$3,IF(D492=1,Simulation!$C$4,IF(D492=2,Simulation!$C$5,IF(D492=3,Simulation!$C$6,IF(D492=4,Simulation!$C$7,IF(D492=5,Simulation!$C$8)))))))","v":false},0,null,null,null,"",null,null,null,null,0,null,0,0,"Inlap",null,null,"FL"]
[1,482,482,null,{"$f":"IF(D493=\"Grid\",Simulation!$B$2,IF(D493=\"WU\",Simulation!$B$3,IF(D493=1,Simulation!$B$4,IF(D493=2,Simulation!$B$5,IF(D493=3,Simulation!$B$6,IF(D493=4,Simulation!$B$7,IF(D493=5,Simulation!$B$8)))))))","v":false},{"$f":"IF(D493=\"Grid\",Simulation!$C$2,IF(D493=\"WU\",Simulation!$C$3,IF(D493=1,Simulation!$C$4,IF(D493=2,Simulation!$C$5,IF(D493=3,Simulation!$C$6,IF(D493=4,Simulation!$C$7,IF(D493=5,Simulation!$C$8)))))))","v":false},0,null,null,null,"",null,null,null,null,0,null,0,0,"Inlap",null,null,"FL"]
[1,483,483,null,{"$f":"IF(D494=\"Grid\",Simulation!$B$2,IF(D494=\"WU\",Simulation!$B$3,IF(D494=1,Simulation!$B$4,IF(D494=2,Simulation!$B$5,IF(D494=3,Simulation!$B$6,IF(D494=4,Simulation!$B$7,IF(D494=5,Simulation!$B$8)))))))","v":false},{"$f":"IF(D494=\"Grid\",Simulation!$C$2,IF(D494=\"WU\",Simulation!$C$3,IF(D494=1,Simulation!$C$4,IF(D494=2,Simulation!$C$5,IF(D494=3,Simulation!$C$6,IF(D494=4,Simulation!$C$7,IF(D494=5,Simulation!$C$8)))))))","v":false},0,null,null,null,"",null,null,null,null,{"$f":"IF(O494>0,Q494,Q494-Q493)","v":0},null,{"$f":"IF(O494>0,Q494,Q494-Q493)","v":0},0,"Inlap",null,null,"FL"]
[1,484,484,null,{"$f":"IF(D495=\"Grid\",Simulation!$B$2,IF(D495=\"WU\",Simulation!$B$3,IF(D495=1,Simulation!$B$4,IF(D495=2,Simulation!$B$5,IF(D495=3,Simulation!$B$6,IF(D495=4,Simulation!$B$7,IF(D495=5,Simulation!$B$8)))))))","v":false},{"$f":"IF(D495=\"Grid\",Simulation!$C$2,IF(D495=\"WU\",Simulation!$C$3,IF(D495=1,Simulation!$C$4,IF(D495=2,Simulation!$C$5,IF(D495=3,Simulation!$C$6,IF(D495=4,Simulation!$C$7,IF(D495=5,Simulation!$C$8)))))))","v":false},0,null,null,null,"",null,null,null,null,0,null,0,0,"Inlap",null,null,"FL"]
[1,485,485,null,{"$f":"IF(D496=\"Grid\",Simulation!$B$2,IF(D496=\"WU\",Simulation!$B$3,IF(D496=1,Simulation!$B$4,IF(D496=2,Simulation!$B$5,IF(D496=3,Simulation!$B$6,IF(D496=4,Simulation!$B$7,IF(D496=5,Simulation!$B$8)))))))","v":false},{"$f":"IF(D496=\"Grid\",Simulation!$C$2,IF(D496=\"WU\",Simulation!$C$3,IF(D496=1,Simulation!$C$4,IF(D496=2,Simulation!$C$5,IF(D496=3,Simulation!$C$6,IF(D496=4,Simulation!$C$7,IF(D496=5,Simulation!$C$8)))))))","v":false},0,null,null,null,"",null,null,null,null,0,null,0,0,"Inlap",null,null,"FL"]
[1,486,486,null,{"$f":"IF(D497=\"Grid\",Simulation!$B$2,IF(D497=\"WU\",Simulation!$B$3,IF(D497=1,Simulation!$B$4,IF(D497=2,Simulation!$B$5,IF(D497=3,Simulation!$B$6,IF(D497=4,Simulation!$B$7,IF(D497=5,Simulation!$B$8)))))))","v":false},{"$f":"IF(D497=\"Grid\",Simulation!$C$2,IF(D497=\"WU\",Simulation!$C$3,IF(D497=1,Simulation!$C$4,IF(D497=2,Simulation!$C$5,IF(D497=3,Simulation!$C$6,IF(D497=4,Simulation!$C$7,IF(D497=5,Simulation!$C$8)))))))","v":false},0,null,null,null,"",null,null,null,null,0,null,0,0,"Inlap",null,null,"FL"]
[1,487,487,null,{"$f":"IF(D498=\"Grid\",Simulation!$B$2,IF(D498=\"WU\",Simulation!$B$3,IF(D498=1,Simulation!$B$4,IF(D498=2,Simulation!$B$5,IF(D498=3,Simulation!$B$6,IF(D498=4,Simulation!$B$7,IF(D498=5,Simulation!$B$8)))))))","v":false},{"$f":"IF(D498=\"Grid\",Simulation!$C$2,IF(D498=\"WU\",Simulation!$C$3,IF(D498=1,Simulation!$C$4,IF(D498=2,Simulation!$C$5,IF(D498=3,Simulation!$C$6,IF(D498=4,Simulation!$C$7,IF(D498=5,Simulation!$C$8)))))))","v":false},0,null,null,null,"",null,null,null,null,0,null,0,0,"Inlap",null,null,"FL"]
[1,488,488,null,{"$f":"IF(D499=\"Grid\",Simulation!$B$2,IF(D499=\"WU\",Simulation!$B$3,IF(D499=1,Simulation!$B$4,IF(D499=2,Simulation!$B$5,IF(D499=3,Simulation!$B$6,IF(D499=4,Simulation!$B$7,IF(D499=5,Simulation!$B$8)))))))","v":false},{"$f":"IF(D499=\"Grid\",Simulation!$C$2,IF(D499=\"WU\",Simulation!$C$3,IF(D499=1,Simulation!$C$4,IF(D499=2,Simulation!$C$5,IF(D499=3,Simulation!$C$6,IF(D499=4,Simulation!$C$7,IF(D499=5,Simulation!$C$8)))))))","v":false},0,null,null,null,"",null,null,null,null,0,null,0,0,"Inlap",null,null,"FL"]
[1,489,489,null,{"$f":"IF(D500=\"Grid\",Simulation!$B$2,IF(D500=\"WU\",Simulation!$B$3,IF(D500=1,Simulation!$B$4,IF(D500=2,Simulation!$B$5,IF(D500=3,Simulation!$B$6,IF(D500=4,Simulation!$B$7,IF(D500=5,Simulation!$B$8)))))))","v":false},{"$f":"IF(D500=\"Grid\",Simulation!$C$2,IF(D500=\"WU\",Simulation!$C$3,IF(D500=1,Simulation!$C$4,IF(D500=2,Simulation!$C$5,IF(D500=3,Simulation!$C$6,IF(D500=4,Simulation!$C$7,IF(D500=5,Simulation!$C$8)))))))","v":false},0,null,null,null,"",null,null,null,null,0,null,0,0,"Inlap",null,null,"FL"]
[1,490,490,null,{"$f":"IF(D501=\"Grid\",Simulation!$B$2,IF(D501=\"WU\",Simulation!$B$3,IF(D501=1,Simulation!$B$4,IF(D501=2,Simulation!$B$5,IF(D501=3,Simulation!$B$6,IF(D501=4,Simulation!$B$7,IF(D501=5,Simulation!$B$8)))))))","v":false},{"$f":"IF(D501=\"Grid\",Simulation!$C$2,IF(D501=\"WU\",Simulation!$C$3,IF(D501=1,Simulation!$C$4,IF(D501=2,Simulation!$C$5,IF(D501=3,Simulation!$C$6,IF(D501=4,Simulation!$C$7,IF(D501=5,Simulation!$C$8)))))))","v":false},0,null,null,null,"",null,null,null,null,0,null,0,0,"Inlap",null,null,"FL"]
[1,491,491,null,{"$f":"IF(D502=\"Grid\",Simulation!$B$2,IF(D502=\"WU\",Simulation!$B$3,IF(D502=1,Simulation!$B$4,IF(D502=2,Simulation!$B$5,IF(D502=3,Simulation!$B$6,IF(D502=4,Simulation!$B$7,IF(D502=5,Simulation!$B$8)))))))","v":false},{"$f":"IF(D502=\"Grid\",Simulation!$C$2,IF(D502=\"WU\",Simulation!$C$3,IF(D502=1,Simulation!$C$4,IF(D502=2,Simulation!$C$5,IF(D502=3,Simulation!$C$6,IF(D502=4,Simulation!$C$7,IF(D502=5,Simulation!$C$8)))))))","v":false},0,null,null,null,"",null,null,null,null,0,null,0,0,"Inlap",null,null,"FL"]
[1,492,492,null,{"$f":"IF(D503=\"Grid\",Simulation!$B$2,IF(D503=\"WU\",Simulation!$B$3,IF(D503=1,Simulation!$B$4,IF(D503=2,Simulation!$B$5,IF(D503=3,Simulation!$B$6,IF(D503=4,Simulation!$B$7,IF(D503=5,Simulation!$B$8)))))))","v":false},{"$f":"IF(D503=\"Grid\",Simulation!$C$2,IF(D503=\"WU\",Simulation!$C$3,IF(D503=1,Simulation!$C$4,IF(D503=2,Simulation!$C$5,IF(D503=3,Simulation!$C$6,IF(D503=4,Simulation!$C$7,IF(D503=5,Simulation!$C$8)))))))","v":false},0,null,null,null,"",null,null,null,null,0,null,0,0,"Inlap",null,null,"FL"]
[1,493,493,null,{"$f":"IF(D504=\"Grid\",Simulation!$B$2,IF(D504=\"WU\",Simulation!$B$3,IF(D504=1,Simulation!$B$4,IF(D504=2,Simulation!$B$5,IF(D504=3,Simulation!$B$6,IF(D504=4,Simulation!$B$7,IF(D504=5,Simulation!$B$8)))))))","v":false},{"$f":"IF(D504=\"Grid\",Simulation!$C$2,IF(D504=\"WU\",Simulation!$C$3,IF(D504=1,Simulation!$C$4,IF(D504=2,Simulation!$C$5,IF(D504=3,Simulation!$C$6,IF(D504=4,Simulation!$C$7,IF(D504=5,Simulation!$C$8)))))))","v":false},0,null,null,null,"",null,null,null,null,0,null,0,0,"Inlap",null,null,"FL"]
[1,494,494,null,{"$f":"IF(D505=\"Grid\",Simulation!$B$2,IF(D505=\"WU\",Simulation!$B$3,IF(D505=1,Simulation!$B$4,IF(D505=2,Simulation!$B$5,IF(D505=3,Simulation!$B$6,IF(D505=4,Simulation!$B$7,IF(D505=5,Simulation!$B$8)))))))","v":false},{"$f":"IF(D505=\"Grid\",Simulation!$C$2,IF(D505=\"WU\",Simulation!$C$3,IF(D505=1,Simulation!$C$4,IF(D505=2,Simulation!$C$5,IF(D505=3,Simulation!$C$6,IF(D505=4,Simulation!$C$7,IF(D505=5,Simulation!$C$8)))))))","v":false},0,null,null,null,"",null,null,null,null,0,null,0,0,"Inlap",null,null,"FL"]
[1,495,495,null,{"$f":"IF(D506=\"Grid\",Simulation!$B$2,IF(D506=\"WU\",Simulation!$B$3,IF(D506=1,Simulation!$B$4,IF(D506=2,Simulation!$B$5,IF(D506=3,Simulation!$B$6,IF(D506=4,Simulation!$B$7,IF(D506=5,Simulation!$B$8)))))))","v":false},{"$f":"IF(D506=\"Grid\",Simulation!$C$2,IF(D506=\"WU\",Simulation!$C$3,IF(D506=1,Simulation!$C$4,IF(D506=2,Simulation!$C$5,IF(D506=3,Simulation!$C$6,IF(D506=4,Simulation!$C$7,IF(D506=5,Simulation!$C$8)))))))","v":false},0,null,null,null,"",null,null,null,null,0,null,0,0,"Inlap",null,null,"FL"]
[1,496,496,null,{"$f":"IF(D507=\"Grid\",Simulation!$B$2,IF(D507=\"WU\",Simulation!$B$3,IF(D507=1,Simulation!$B$4,IF(D507=2,Simulation!$B$5,IF(D507=3,Simulation!$B$6,IF(D507=4,Simulation!$B$7,IF(D507=5,Simulation!$B$8)))))))","v":false},{"$f":"IF(D507=\"Grid\",Simulation!$C$2,IF(D507=\"WU\",Simulation!$C$3,IF(D507=1,Simulation!$C$4,IF(D507=2,Simulation!$C$5,IF(D507=3,Simulation!$C$6,IF(D507=4,Simulation!$C$7,IF(D507=5,Simulation!$C$8)))))))","v":false},0,null,null,null,"",null,null,null,null,0,null,0,0,"Inlap",null,null,"FL"]
[1,497,497,null,{"$f":"IF(D508=\"Grid\",Simulation!$B$2,IF(D508=\"WU\",Simulation!$B$3,IF(D508=1,Simulation!$B$4,IF(D508=2,Simulation!$B$5,IF(D508=3,Simulation!$B$6,IF(D508=4,Simulation!$B$7,IF(D508=5,Simulation!$B$8)))))))","v":false},{"$f":"IF(D508=\"Grid\",Simulation!$C$2,IF(D508=\"WU\",Simulation!$C$3,IF(D508=1,Simulation!$C$4,IF(D508=2,Simulation!$C$5,IF(D508=3,Simulation!$C$6,IF(D508=4,Simulation!$C$7,IF(D508=5,Simulation!$C$8)))))))","v":false},0,null,null,null,"",null,null,null,null,0,null,0,0,"Inlap",null,null,"FL"]
[1,498,498,null,{"$f":"IF(D509=\"Grid\",Simulation!$B$2,IF(D509=\"WU\",Simulation!$B$3,IF(D509=1,Simulation!$B$4,IF(D509=2,Simulation!$B$5,IF(D509=3,Simulation!$B$6,IF(D509=4,Simulation!$B$7,IF(D509=5,Simulation!$B$8)))))))","v":false},{"$f":"IF(D509=\"Grid\",Simulation!$C$2,IF(D509=\"WU\",Simulation!$C$3,IF(D509=1,Simulation!$C$4,IF(D509=2,Simulation!$C$5,IF(D509=3,Simulation!$C$6,IF(D509=4,Simulation!$C$7,IF(D509=5,Simulation!$C$8)))))))","v":false},0,null,null,null,"",null,null,null,null,0,null,0,0,"Inlap",null,null,"FL"]
[1,499,499,null,{"$f":"IF(D510=\"Grid\",Simulation!$B$2,IF(D510=\"WU\",Simulation!$B$3,IF(D510=1,Simulation!$B$4,IF(D510=2,Simulation!$B$5,IF(D510=3,Simulation!$B$6,IF(D510=4,Simulation!$B$7,IF(D510=5,Simulation!$B$8)))))))","v":false},{"$f":"IF(D510=\"Grid\",Simulation!$C$2,IF(D510=\"WU\",Simulation!$C$3,IF(D510=1,Simulation!$C$4,IF(D510=2,Simulation!$C$5,IF(D510=3,Simulation!$C$6,IF(D510=4,Simulation!$C$7,IF(D510=5,Simulation!$C$8)))))))","v":false},0,null,null,null,"",null,null,null,null,0,null,0,0,"Inlap",null,null,"FL"]
[1,500,500,null,{"$f":"IF(D511=\"Grid\",Simulation!$B$2,IF(D511=\"WU\",Simulation!$B$3,IF(D511=1,Simulation!$B$4,IF(D511=2,Simulation!$B$5,IF(D511=3,Simulation!$B$6,IF(D511=4,Simulation!$B$7,IF(D511=5,Simulation!$B$8)))))))","v":false},{"$f":"IF(D511=\"Grid\",Simulation!$C$2,IF(D511=\"WU\",Simulation!$C$3,IF(D511=1,Simulation!$C$4,IF(D511=2,Simulation!$C$5,IF(D511=3,Simulation!$C$6,IF(D511=4,Simulation!$C$7,IF(D511=5,Simulation!$C$8)))))))","v":false},0,null,null,null,"",null,null,null,null,0,null,0,0,"Inlap",null,null,"FL"]
[1,501,501,null,{"$f":"IF(D512=\"Grid\",Simulation!$B$2,IF(D512=\"WU\",Simulation!$B$3,IF(D512=1,Simulation!$B$4,IF(D512=2,Simulation!$B$5,IF(D512=3,Simulation!$B$6,IF(D512=4,Simulation!$B$7,IF(D512=5,Simulation!$B$8)))))))","v":false},{"$f":"IF(D512=\"Grid\",Simulation!$C$2,IF(D512=\"WU\",Simulation!$C$3,IF(D512=1,Simulation!$C$4,IF(D512=2,Simulation!$C$5,IF(D512=3,Simulation!$C$6,IF(D512=4,Simulation!$C$7,IF(D512=5,Simulation!$C$8)))))))","v":false},0,null,null,null,"",null,null,null,null,0,null,0,0,"Inlap",null,null,"FL"]

{"sheet":"Simulation","index":7,"n_rows":612,"n_cols":11,"rows_kept":612,"cut":false,"hidden":false,"merged":[]}
["ID","Driver","Th. Lap Cons","Laps / Stint","Tank Capcity","# of Compulsory Pit Stops","Race Duration [min]",720,null,"Max Race laps w/o pitstopps",{"$f":"H1/H2","v":345.59999999999997}]
["Grid","Grid",0.6,null,120,8,"Avg Laptime [m,ss Dez.]",{"$f":"H3+(H4/60)","v":2.0833333333333335},null,"Max Race laps with pitstopps",{"$f":"(H1-H9*H10)/H2","v":337.99999999999994}]
["WU","WU",10,null,"Flow Rate [l/s]","# of Laps between CPS","[mm]","02",null,"Pitspeed [km/h]",60]
[1,{"$f":"Data!G13","v":"DR1"},12,{"$f":"$E$2/C4","v":10},3,9,"[ss]","05",null,"Time Pit Entry to Stop",5]
[2,{"$f":"Data!G14","v":"DR2"},11.5,{"$f":"$E$2/C5","v":10.434782608695652},"# of Service 1. Iteration","Min time for CPS [sec]","Time Refuellung [ss Dez.]",{"$f":"E2/E4","v":40},null,"Time Stop to Pit Exit",20]
[3,{"$f":"Data!G15","v":"DR3"},11.5,10.434782608695652,{"$f":"COUNTIF(F11:F999,\"x\")","v":0},90,"Time Tyrechange  [ss Dez.]",35,null,"OK for # of CPS? [#]",{"$f":"H10-F2","v":2}]
[4,{"$f":"Data!G16","v":"DR4"},11.5,10.434782608695652,null,null,"Loss Pit in [ss Dez.]",10,null,"OK for time of CPS? [s Dez.]",{"$f":"(H5+H6+K4+K5)-F6","v":10}]
[5,{"$f":"Data!G17","v":"DR5"},11.5,{"$f":"$E$2/C8","v":10.434782608695652},null,null,"Loss Pit out  [ss Dez.]",10]
[null,null,null,null,null,null,"Time Loss for total Pitstop [m,ss Dez.]",{"$f":"(SUM(H5:H8))/60","v":1.5833333333333333}]
["Race Lap","Stint Lap","ID","Th. Lap Cons","Rest","Refuelled? \"x\"","# of Simulated Pitstops",10]
["Grid",null,"Grid",{"$f":"IF(C11=\"Grid\",$C$2,IF(C11=\"WU\",$C$3,IF(C11=1,$C$4,IF(C11=2,$C$5,IF(C11=3,$C$6,IF(C11=4,$C$7,IF(C11=5,$C$8)))))))","v":0.6},{"$f":"E2-D11","v":119.4}]
["WU","WU","WU",{"$f":"IF(C12=\"Grid\",$C$2,IF(C12=\"WU\",$C$3,IF(C12=1,$C$4,IF(C12=2,$C$5,IF(C12=3,$C$6,IF(C12=4,$C$7,IF(C12=5,$C$8)))))))","v":10},{"$f":"IF(F12=\"x\",$E$2-D12,E11-D12)","v":109.4}]
[1,1,null,false,{"$f":"IF(F13=\"x\",$E$2-D13,E12-D13)","v":109.4}]
[2,{"$f":"IF(F14=\"\",B13+1,\"1\")","v":2},null,false,109.4]
[3,{"$f":"IF(F15=\"\",B14+1,\"1\")","v":3},null,false,109.4]
[4,4,null,false,109.4]
[5,5,null,false,109.4]
[6,6,null,false,109.4]
[7,7,null,false,109.4]
[8,8,null,false,109.4]
[9,9,null,false,109.4]
[10,10,null,false,109.4]
[11,11,null,false,109.4]
[12,12,null,false,109.4]
[13,13,null,false,109.4]
[14,14,null,false,109.4]
[15,15,null,false,{"$f":"IF(F27=\"x\",$E$2-D27,E26-D27)","v":109.4}]
[16,16,null,false,109.4]
[17,17,null,false,109.4]
[18,18,null,false,109.4]
[19,19,null,false,109.4]
[20,20,null,false,109.4]
[21,21,null,false,109.4]
[22,22,null,false,109.4]
[23,23,null,false,109.4]
[24,24,null,false,109.4]
[25,25,null,false,109.4]
[26,26,null,false,109.4]
[27,27,null,false,109.4]
[28,28,null,false,109.4]
[29,29,null,false,{"$f":"IF(F41=\"x\",$E$2-D41,E40-D41)","v":109.4}]
[30,30,null,false,109.4]
[31,31,null,false,109.4]
[32,32,null,false,109.4]
[33,33,null,false,109.4]
[34,34,null,false,109.4]
[35,35,null,false,109.4]
[36,36,null,false,109.4]
[37,37,null,false,109.4]
[38,38,null,false,109.4]
[39,39,null,false,109.4]
[40,40,null,false,109.4]
[41,41,null,false,109.4]
[42,42,null,false,109.4]
[43,43,null,false,109.4]
[44,44,null,false,109.4]
[45,45,null,false,109.4]
[46,46,null,false,109.4]
[47,47,null,false,109.4]
[48,48,null,false,109.4]
[49,49,null,false,109.4]
[50,50,null,false,109.4]
[51,51,null,false,109.4]
[52,52,null,false,109.4]
[53,53,null,false,109.4]
[54,54,null,false,109.4]
[55,55,null,false,109.4]
[56,56,null,false,109.4]
[57,57,null,false,109.4]
[58,58,null,false,109.4]
[59,59,null,false,109.4]
[60,60,null,false,109.4]
[61,61,null,false,109.4]
[62,62,null,false,109.4]
[63,63,null,false,109.4]
[64,64,null,{"$f":"IF(C76=\"Grid\",$C$2,IF(C76=\"WU\",$C$3,IF(C76=1,$C$4,IF(C76=2,$C$5,IF(C76=3,$C$6,IF(C76=4,$C$7,IF(C76=5,$C$8)))))))","v":false},109.4]
[65,65,null,false,109.4]
[66,66,null,false,109.4]
[67,{"$f":"IF(F79=\"\",B78+1,\"1\")","v":67},null,false,109.4]
[68,68,null,false,109.4]
[69,69,null,false,109.4]
[70,70,null,false,109.4]
[71,71,null,false,109.4]
[72,72,null,false,109.4]
[73,73,null,false,109.4]
[74,74,null,false,109.4]
[75,75,null,false,109.4]
[76,76,null,false,109.4]
[77,77,null,false,109.4]
[78,78,null,false,109.4]
[79,79,null,false,109.4]
[80,80,null,false,109.4]
[81,81,null,false,109.4]
[82,82,null,false,109.4]
[83,83,null,false,109.4]
[84,84,null,false,109.4]
[85,85,null,false,109.4]
[86,86,null,false,109.4]
[87,87,null,false,109.4]
[88,88,null,false,109.4]
[89,89,null,false,109.4]
[90,90,null,false,109.4]
[91,91,null,false,109.4]
[92,92,null,false,109.4]
[93,93,null,false,{"$f":"IF(F105=\"x\",$E$2-D105,E104-D105)","v":109.4}]
[94,94,null,false,109.4]
[95,95,null,false,109.4]
[96,96,null,false,109.4]
[97,97,null,false,109.4]
[98,98,null,false,109.4]
[99,99,null,false,109.4]
[100,100,null,false,109.4]
[101,101,null,false,109.4]
[102,102,null,false,109.4]
[103,103,null,false,109.4]
[104,104,null,false,109.4]
[105,105,null,false,109.4]
[106,106,null,false,109.4]
[107,107,null,false,109.4]
[108,108,null,false,109.4]
[109,109,null,false,109.4]
[110,110,null,false,109.4]
[111,111,null,false,109.4]
[112,112,null,false,109.4]
[113,113,null,false,109.4]
[114,114,null,false,109.4]
[115,115,null,false,109.4]
[116,116,null,false,109.4]
[117,117,null,false,109.4]
[118,118,null,false,109.4]
[119,119,null,false,109.4]
[120,120,null,false,109.4]
[121,121,null,false,109.4]
[122,122,null,false,109.4]
[123,123,null,false,109.4]
[124,124,null,false,109.4]
[125,125,null,false,109.4]
[126,126,null,false,109.4]
[127,127,null,false,109.4]
[128,128,null,{"$f":"IF(C140=\"Grid\",$C$2,IF(C140=\"WU\",$C$3,IF(C140=1,$C$4,IF(C140=2,$C$5,IF(C140=3,$C$6,IF(C140=4,$C$7,IF(C140=5,$C$8)))))))","v":false},109.4]
[129,129,null,false,109.4]
[130,130,null,false,109.4]
[131,{"$f":"IF(F143=\"\",B142+1,\"1\")","v":131},null,false,109.4]
[132,132,null,false,109.4]
[133,133,null,false,109.4]
[134,134,null,false,109.4]
[135,135,null,false,109.4]
[136,136,null,false,109.4]
[137,137,null,false,109.4]
[138,138,null,false,109.4]
[139,139,null,false,109.4]
[140,140,null,false,109.4]
[141,141,null,false,109.4]
[142,142,null,false,109.4]
[143,143,null,false,109.4]
[144,144,null,false,109.4]
[145,145,null,false,109.4]
[146,146,null,false,109.4]
[147,147,null,false,109.4]
[148,148,null,false,109.4]
[149,149,null,false,109.4]
[150,150,null,false,109.4]
[151,151,null,false,109.4]
[152,152,null,false,109.4]
[153,153,null,false,109.4]
[154,154,null,false,109.4]
[155,155,null,false,109.4]
[156,156,null,false,109.4]
[157,157,null,false,{"$f":"IF(F169=\"x\",$E$2-D169,E168-D169)","v":109.4}]
[158,158,null,false,109.4]
[159,159,null,false,109.4]
[160,160,null,false,109.4]
[161,161,null,false,109.4]
[162,162,null,false,109.4]
[163,163,null,false,109.4]
[164,164,null,false,109.4]
[165,165,null,false,109.4]
[166,166,null,false,109.4]
[167,167,null,false,109.4]
[168,168,null,false,109.4]
[169,169,null,false,109.4]
[170,170,null,false,109.4]
[171,171,null,false,109.4]
[172,172,null,false,109.4]
[173,173,null,false,109.4]
[174,174,null,false,109.4]
[175,175,null,false,109.4]
[176,176,null,false,109.4]
[177,177,null,false,109.4]
[178,178,null,false,109.4]
[179,179,null,false,109.4]
[180,180,null,false,109.4]
[181,181,null,false,109.4]
[182,182,null,false,109.4]
[183,183,null,false,109.4]
[184,184,null,false,109.4]
[185,185,null,false,109.4]
[186,186,null,false,109.4]
[187,187,null,false,109.4]
[188,188,null,false,109.4]
[189,189,null,false,109.4]
[190,190,null,false,109.4]
[191,191,null,false,109.4]
[192,192,null,{"$f":"IF(C204=\"Grid\",$C$2,IF(C204=\"WU\",$C$3,IF(C204=1,$C$4,IF(C204=2,$C$5,IF(C204=3,$C$6,IF(C204=4,$C$7,IF(C204=5,$C$8)))))))","v":false},109.4]
[193,193,null,false,109.4]
[194,194,null,false,109.4]
[195,{"$f":"IF(F207=\"\",B206+1,\"1\")","v":195},null,false,109.4]
[196,196,null,false,109.4]
[197,197,null,false,109.4]
[198,198,null,false,109.4]
[199,199,null,false,109.4]
[200,200,null,false,109.4]
[201,201,null,false,{"$f":"IF(F213=\"x\",$E$2-D213,E212-D213)","v":109.4}]
[202,202,null,false,109.4]
[203,203,null,false,109.4]
[204,204,null,false,109.4]
[205,205,null,false,109.4]
[206,206,null,false,109.4]
[207,207,null,false,109.4]
[208,208,null,false,109.4]
[209,209,null,false,109.4]
[210,210,null,false,109.4]
[211,211,null,false,109.4]
[212,212,null,false,109.4]
[213,213,null,false,109.4]
[214,214,null,false,109.4]
[215,215,null,false,109.4]
[216,216,null,false,109.4]
[217,217,null,false,109.4]
[218,218,null,false,109.4]
[219,219,null,false,109.4]
[220,220,null,false,109.4]
[221,221,null,false,109.4]
[222,222,null,false,109.4]
[223,223,null,false,109.4]
[224,224,null,false,109.4]
[225,225,null,false,109.4]
[226,226,null,false,109.4]
[227,227,null,false,109.4]
[228,228,null,false,109.4]
[229,229,null,false,109.4]
[230,230,null,false,109.4]
[231,231,null,false,109.4]
[232,232,null,false,{"$f":"IF(F244=\"x\",$E$2-D244,E243-D244)","v":109.4}]
[233,233,null,false,109.4]
[234,234,null,false,109.4]
[235,235,null,false,109.4]
[236,236,null,false,109.4]
[237,237,null,false,109.4]
[238,238,null,false,109.4]
[239,239,null,false,109.4]
[240,240,null,false,109.4]
[241,241,null,false,109.4]
[242,242,null,false,109.4]
[243,243,null,false,109.4]
[244,244,null,false,109.4]
[245,245,null,false,109.4]
[246,246,null,false,109.4]
[247,247,null,false,109.4]
[248,248,null,false,109.4]
[249,249,null,false,109.4]
[250,250,null,false,109.4]
[251,251,null,false,109.4]
[252,252,null,false,109.4]
[253,253,null,false,109.4]
[254,254,null,false,109.4]
[255,255,null,false,109.4]
[256,256,null,{"$f":"IF(C268=\"Grid\",$C$2,IF(C268=\"WU\",$C$3,IF(C268=1,$C$4,IF(C268=2,$C$5,IF(C268=3,$C$6,IF(C268=4,$C$7,IF(C268=5,$C$8)))))))","v":false},109.4]
[257,257,null,false,109.4]
[258,258,null,false,109.4]
[259,{"$f":"IF(F271=\"\",B270+1,\"1\")","v":259},null,false,109.4]
[260,260,null,false,109.4]
[261,261,null,false,109.4]
[262,262,null,false,109.4]
[263,263,null,false,109.4]
[264,264,null,false,109.4]
[265,265,null,false,109.4]
[266,266,null,false,109.4]
[267,267,null,false,109.4]
[268,268,null,false,109.4]
[269,269,null,false,109.4]
[270,270,null,false,109.4]
[271,271,null,false,109.4]
[272,272,null,false,109.4]
[273,273,null,false,109.4]
[274,274,null,false,109.4]
[275,275,null,false,109.4]
[276,276,null,false,109.4]
[277,277,null,false,109.4]
[278,278,null,false,109.4]
[279,279,null,false,109.4]
[280,280,null,false,109.4]
[281,281,null,false,109.4]
[282,282,null,false,109.4]
[283,283,null,false,109.4]
[284,284,null,false,109.4]
[285,285,null,false,109.4]
[286,286,null,false,109.4]
[287,287,null,false,109.4]
[288,288,null,false,109.4]
[289,289,null,false,109.4]
[290,290,null,false,109.4]
[291,291,null,false,109.4]
[292,292,null,false,109.4]
[293,293,null,false,109.4]
[294,294,null,false,109.4]
[295,295,null,false,109.4]
[296,296,null,false,{"$f":"IF(F308=\"x\",$E$2-D308,E307-D308)","v":109.4}]
[297,297,null,false,109.4]
[298,298,null,false,109.4]
[299,299,null,false,109.4]
[300,300,null,false,109.4]
[301,301,null,false,109.4]
[302,302,null,false,109.4]
[303,303,null,false,109.4]
[304,304,null,false,109.4]
[305,305,null,false,109.4]
[306,306,null,false,109.4]
[307,307,null,false,109.4]
[308,308,null,false,109.4]
[309,309,null,false,109.4]
[310,310,null,false,109.4]
[311,311,null,false,109.4]
[312,312,null,false,109.4]
[313,313,null,false,109.4]
[314,314,null,false,109.4]
[315,315,null,false,109.4]
[316,316,null,false,109.4]
[317,317,null,false,109.4]
[318,318,null,false,109.4]
[319,319,null,false,109.4]
[320,320,null,{"$f":"IF(C332=\"Grid\",$C$2,IF(C332=\"WU\",$C$3,IF(C332=1,$C$4,IF(C332=2,$C$5,IF(C332=3,$C$6,IF(C332=4,$C$7,IF(C332=5,$C$8)))))))","v":false},109.4]
[321,321,null,false,109.4]
[322,322,null,false,109.4]
[323,{"$f":"IF(F335=\"\",B334+1,\"1\")","v":323},null,false,109.4]
[324,324,null,false,109.4]
[325,325,null,false,109.4]
[326,326,null,false,109.4]
[327,327,null,false,109.4]
[328,328,null,false,109.4]
[329,329,null,false,109.4]
[330,330,null,false,109.4]
[331,331,null,false,109.4]
[332,332,null,false,109.4]
[333,333,null,false,109.4]
[334,334,null,false,109.4]
[335,335,null,false,109.4]
[336,336,null,false,109.4]
[337,337,null,false,109.4]
[338,338,null,false,109.4]
[339,339,null,false,109.4]
[340,340,null,false,109.4]
[341,341,null,false,109.4]
[342,342,null,false,109.4]
[343,343,null,false,109.4]
[344,344,null,false,109.4]
[345,345,null,false,109.4]
[346,346,null,false,109.4]
[347,347,null,false,109.4]
[348,348,null,false,109.4]
[349,349,null,false,109.4]
[350,350,null,false,109.4]
[351,351,null,false,{"$f":"IF(F363=\"x\",$E$2-D363,E362-D363)","v":109.4}]
[352,352,null,false,109.4]
[353,353,null,false,109.4]
[354,354,null,false,109.4]
[355,355,null,false,109.4]
[356,356,null,false,109.4]
[357,357,null,false,109.4]
[358,358,null,false,109.4]
[359,359,null,false,109.4]
[360,360,null,false,109.4]
[361,{"$f":"IF(F373=\"\",B372+1,\"1\")","v":361},null,{"$f":"IF(C373=\"Grid\",$C$2,IF(C373=\"WU\",$C$3,IF(C373=1,$C$4,IF(C373=2,$C$5,IF(C373=3,$C$6,IF(C373=4,$C$7,IF(C373=5,$C$8)))))))","v":false},109.4]
[362,362,null,false,{"$f":"IF(F374=\"x\",$E$2-D374,E373-D374)","v":109.4}]
[363,363,null,false,109.4]
[364,364,null,false,109.4]
[365,365,null,false,109.4]
[366,366,null,false,109.4]
[367,367,null,false,109.4]
[368,368,null,false,109.4]
[369,369,null,false,109.4]
[370,370,null,false,109.4]
[371,371,null,false,109.4]
[372,372,null,false,109.4]
[373,373,null,false,109.4]
[374,374,null,false,109.4]
[375,375,null,false,109.4]
[376,376,null,false,109.4]
[377,377,null,false,109.4]
[378,378,null,false,109.4]
[379,379,null,false,109.4]
[380,380,null,false,109.4]
[381,381,null,false,109.4]
[382,382,null,false,109.4]
[383,383,null,false,109.4]
[384,384,null,false,109.4]
[385,385,null,false,109.4]
[386,386,null,false,109.4]
[387,387,null,false,109.4]
[388,388,null,false,109.4]
[389,389,null,false,109.4]
[390,390,null,false,109.4]
[391,391,null,false,109.4]
[392,392,null,false,109.4]
[393,393,null,false,109.4]
[394,394,null,false,109.4]
[395,395,null,false,109.4]
[396,396,null,false,109.4]
[397,397,null,false,109.4]
[398,398,null,false,109.4]
[399,399,null,false,109.4]
[400,400,null,false,109.4]
[401,401,null,false,109.4]
[402,402,null,false,109.4]
[403,403,null,false,109.4]
[404,404,null,false,109.4]
[405,405,null,false,109.4]
[406,406,null,false,109.4]
[407,407,null,false,109.4]
[408,408,null,false,109.4]
[409,409,null,false,109.4]
[410,410,null,false,109.4]
[411,411,null,false,109.4]
[412,412,null,false,109.4]
[413,413,null,false,109.4]
[414,414,null,false,109.4]
[415,415,null,false,109.4]
[416,416,null,false,109.4]
[417,417,null,false,109.4]
[418,418,null,false,109.4]
[419,419,null,false,109.4]
[420,420,null,false,109.4]
[421,421,null,false,109.4]
[422,422,null,false,109.4]
[423,423,null,false,109.4]
[424,424,null,false,109.4]
[425,{"$f":"IF(F437=\"\",B436+1,\"1\")","v":425},null,{"$f":"IF(C437=\"Grid\",$C$2,IF(C437=\"WU\",$C$3,IF(C437=1,$C$4,IF(C437=2,$C$5,IF(C437=3,$C$6,IF(C437=4,$C$7,IF(C437=5,$C$8)))))))","v":false},109.4]
[426,426,null,false,{"$f":"IF(F438=\"x\",$E$2-D438,E437-D438)","v":109.4}]
[427,427,null,false,109.4]
[428,428,null,false,109.4]
[429,429,null,false,109.4]
[430,430,null,false,109.4]
[431,431,null,false,109.4]
[432,432,null,false,109.4]
[433,433,null,false,109.4]
[434,434,null,false,109.4]
[435,435,null,false,109.4]
[436,436,null,false,109.4]
[437,437,null,false,109.4]
[438,438,null,false,109.4]
[439,439,null,false,109.4]
[440,440,null,false,109.4]
[441,441,null,false,109.4]
[442,442,null,false,109.4]
[443,443,null,false,109.4]
[444,444,null,false,109.4]
[445,445,null,false,109.4]
[446,446,null,false,109.4]
[447,447,null,false,109.4]
[448,448,null,false,109.4]
[449,449,null,false,109.4]
[450,450,null,false,109.4]
[451,451,null,false,109.4]
[452,452,null,false,109.4]
[453,453,null,false,109.4]
[454,454,null,false,109.4]
[455,455,null,false,109.4]
[456,456,null,false,109.4]
[457,457,null,false,109.4]
[458,458,null,false,109.4]
[459,459,null,false,109.4]
[460,460,null,false,109.4]
[461,461,null,false,109.4]
[462,462,null,false,109.4]
[463,463,null,false,109.4]
[464,464,null,false,109.4]
[465,465,null,false,109.4]
[466,466,null,false,109.4]
[467,467,null,false,109.4]
[468,468,null,false,109.4]
[469,469,null,false,109.4]
[470,470,null,false,109.4]
[471,471,null,false,109.4]
[472,472,null,false,109.4]
[473,473,null,false,109.4]
[474,474,null,false,109.4]
[475,475,null,false,109.4]
[476,476,null,false,109.4]
[477,477,null,false,109.4]
[478,478,null,false,109.4]
[479,479,null,false,109.4]
[480,480,null,false,109.4]
[481,481,null,false,109.4]
[482,482,null,false,109.4]
[483,483,null,false,109.4]
[484,484,null,false,109.4]
[485,485,null,false,109.4]
[486,486,null,false,109.4]
[487,487,null,false,109.4]
[488,488,null,false,109.4]
[489,{"$f":"IF(F501=\"\",B500+1,\"1\")","v":489},null,{"$f":"IF(C501=\"Grid\",$C$2,IF(C501=\"WU\",$C$3,IF(C501=1,$C$4,IF(C501=2,$C$5,IF(C501=3,$C$6,IF(C501=4,$C$7,IF(C501=5,$C$8)))))))","v":false},109.4]
[490,490,null,false,{"$f":"IF(F502=\"x\",$E$2-D502,E501-D502)","v":109.4}]
[491,491,null,false,109.4]
[492,492,null,false,109.4]
[493,493,null,false,109.4]
[494,494,null,false,109.4]
[495,495,null,false,109.4]
[496,496,null,false,109.4]
[497,497,null,false,109.4]
[498,498,null,false,109.4]
[499,499,null,false,109.4]
[500,500,null,false,109.4]
[501,501,null,false,109.4]
[502,502,null,false,109.4]
[503,503,null,false,109.4]
[504,504,null,false,109.4]
[505,505,null,false,109.4]
[506,506,null,false,109.4]
[507,507,null,false,109.4]
[508,508,null,false,109.4]
[509,509,null,false,109.4]
[510,510,null,false,109.4]
[511,511,null,false,109.4]
[512,512,null,false,109.4]
[513,513,null,false,109.4]
[514,514,null,false,109.4]
[515,515,null,false,109.4]
[516,516,null,false,109.4]
[517,517,null,false,109.4]
[518,518,null,false,109.4]
[519,519,null,false,109.4]
[520,520,null,false,109.4]
[521,521,null,false,109.4]
[522,522,null,false,109.4]
[523,523,null,false,109.4]
[524,524,null,false,109.4]
[525,525,null,false,109.4]
[526,526,null,false,109.4]
[527,527,null,false,109.4]
[528,528,null,false,109.4]
[529,529,null,false,109.4]
[530,530,null,false,109.4]
[531,531,null,false,109.4]
[532,532,null,false,109.4]
[533,533,null,false,109.4]
[534,534,null,false,109.4]
[535,535,null,false,109.4]
[536,536,null,false,109.4]
[537,537,null,false,109.4]
[538,538,null,false,109.4]
[539,539,null,false,109.4]
[540,540,null,false,109.4]
[541,541,null,false,109.4]
[542,542,null,false,109.4]
[543,543,null,false,109.4]
[544,544,null,false,109.4]
[545,545,null,false,109.4]
[546,546,null,false,109.4]
[547,547,null,false,109.4]
[548,548,null,false,109.4]
[549,549,null,false,109.4]
[550,550,null,false,109.4]
[551,551,null,false,109.4]
[552,552,null,false,109.4]
[553,{"$f":"IF(F565=\"\",B564+1,\"1\")","v":553},null,{"$f":"IF(C565=\"Grid\",$C$2,IF(C565=\"WU\",$C$3,IF(C565=1,$C$4,IF(C565=2,$C$5,IF(C565=3,$C$6,IF(C565=4,$C$7,IF(C565=5,$C$8)))))))","v":false},109.4]
[554,554,null,false,{"$f":"IF(F566=\"x\",$E$2-D566,E565-D566)","v":109.4}]
[555,555,null,false,109.4]
[556,556,null,false,109.4]
[557,557,null,false,109.4]
[558,558,null,false,109.4]
[559,559,null,false,109.4]
[560,560,null,false,109.4]
[561,561,null,false,109.4]
[562,562,null,false,109.4]
[563,563,null,false,109.4]
[564,564,null,false,109.4]
[565,565,null,false,109.4]
[566,566,null,false,109.4]
[567,567,null,false,109.4]
[568,568,null,false,109.4]
[569,569,null,false,109.4]
[570,570,null,false,109.4]
[571,571,null,false,109.4]
[572,572,null,false,109.4]
[573,573,null,false,109.4]
[574,574,null,false,109.4]
[575,575,null,false,109.4]
[576,576,null,false,109.4]
[577,577,null,false,109.4]
[578,578,null,false,109.4]
[579,579,null,false,109.4]
[580,580,null,false,109.4]
[581,581,null,false,109.4]
[582,582,null,false,109.4]
[583,583,null,false,109.4]
[584,584,null,false,109.4]
[585,585,null,false,109.4]
[586,586,null,false,109.4]
[587,587,null,false,109.4]
[588,588,null,false,109.4]
[589,589,null,false,109.4]
[590,590,null,false,109.4]
[591,591,null,false,109.4]
[592,592,null,false,109.4]
[593,593,null,false,109.4]
[594,594,null,false,109.4]
[595,595,null,false,109.4]
[596,596,null,false,109.4]
[597,597,null,false,109.4]
[598,598,null,false,109.4]
[599,599,null,false,109.4]
[600,600,null,false,109.4]

{"sheet":"Setup","index":8,"n_rows":101,"n_cols":16,"rows_kept":101,"cut":false,"hidden":false,"merged":[[95,1,95,16],[96,0,97,0],[98,0,99,0],[100,0,101,16],[92,13,92,14],[92,15,92,16],[94,1,94,2],[94,3,94,4],[94,5,94,6],[94,7,94,8],[94,9,94,10],[94,11,94,12],[94,13,94,14],[94,15,94,16],[92,1,92,2],[92,3,92,4],[92,5,92,6],[92,7,92,8],[92,9,92,10],[92,11,92,12],[88,13,88,14],[88,15,88,16],[91,1,91,2],[91,3,91,4],[91,5,91,6],[91,7,91,8],[91,9,91,10],[91,11,91,12],[91,13,91,14],[91,15,91,16],[88,1,88,2],[88,3,88,4],[88,5,88,6],[88,7,88,8],[88,9,88,10],[88,11,88,12],[86,13,86,14],[86,15,86,16],[87,1,87,2],[87,3,87,4],[87,5,87,6],[87,7,87,8],[87,9,87,10],[87,11,87,12],[87,13,87,14],[87,15,87,16],[86,1,86,2],[86,3,86,4],[86,5,86,6],[86,7,86,8],[86,9,86,10],[86,11,86,12],[82,1,82,16],[83,1,83,2],[83,3,83,4],[83,5,83,6],[83,7,83,8],[83,9,83,10],[83,11,83,12],[83,13,83,14],[83,15,83,16],[81,1,81,2],[81,3,81,4],[81,5,81,6],[81,7,81,8],[81,9,81,10],[81,11,81,12],[81,13,81,14],[81,15,81,16],[80,1,80,2],[80,3,80,4],[80,5,80,6],[80,7,80,8],[80,9,80,10],[80,11,80,12],[79,1,79,2],[79,3,79,4],[79,5,79,6],[79,7,79,8],[79,9,79,10],[79,11,79,12],[79,13,79,14],[79,15,79,16],[80,13,80,14],[80,15,80,16],[76,13,76,14],[76,15,76,16],[77,1,77,16],[78,1,78,2],[78,3,78,4],[78,5,78,6],[78,7,78,8],[78,9,78,10],[78,11,78,12],[78,13,78,14],[76,1,76,2],[76,3,76,4],[76,5,76,6],[76,7,76,8],[76,9,76,10],[76,11,76,12],[78,15,78,16],[67,1,67,16],[70,1,70,16],[71,1,71,2],[71,3,71,4],[71,5,71,6],[71,7,71,8],[71,9,71,10],[71,11,71,12],[71,13,71,14],[71,15,71,16],[66,1,66,2],[66,3,66,4],[66,5,66,6],[66,7,66,8],[66,9,66,10],[66,11,66,12],[66,13,66,14],[66,15,66,16],[57,1,57,2],[57,3,57,4],[57,5,57,6],[57,7,57,8],[57,9,57,10],[57,11,57,12],[56,1,56,2],[56,3,56,4],[56,5,56,6],[56,7,56,8],[56,9,56,10],[56,11,56,12],[56,13,56,14],[56,15,56,16],[57,13,57,14],[57,15,57,16],[53,13,53,14],[53,15,53,16],[54,1,54,16],[55,1,55,2],[55,3,55,4],[55,5,55,6],[55,7,55,8],[55,9,55,10],[55,11,55,12],[55,13,55,14],[53,1,53,2],[53,3,53,4],[53,5,53,6],[53,7,53,8],[53,9,53,10],[53,11,53,12],[55,15,55,16],[51,13,51,14],[51,15,51,16],[52,1,52,2],[52,3,52,4],[52,5,52,6],[52,7,52,8],[52,9,52,10],[52,11,52,12],[52,13,52,14],[52,15,52,16],[51,1,51,2],[51,3,51,4],[51,5,51,6],[51,7,51,8],[51,9,51,10],[51,11,51,12],[49,13,49,14],[49,15,49,16],[50,1,50,2],[50,3,50,4],[50,5,50,6],[50,7,50,8],[50,9,50,10],[50,11,50,12],[50,13,50,14],[50,15,50,16],[49,1,49,2],[49,3,49,4],[49,5,49,6],[49,7,49,8],[49,9,49,10],[49,11,49,12],[47,13,47,14],[47,15,47,16],[48,1,48,2],[48,3,48,4],[48,5,48,6],[48,7,48,8],[48,9,48,10],[48,11,48,12],[48,13,48,14],[48,15,48,16],[47,1,47,2],[47,3,47,4],[47,5,47,6],[47,7,47,8],[47,9,47,10],[47,11,47,12],[45,13,45,14],[45,15,45,16],[46,1,46,2],[46,3,46,4],[46,5,46,6],[46,7,46,8],[46,9,46,10],[46,11,46,12],[46,13,46,14],[46,15,46,16],[45,1,45,2],[45,3,45,4],[45,5,45,6],[45,7,45,8],[45,9,45,10],[45,11,45,12],[43,13,43,14],[43,15,43,16],[44,1,44,2],[44,3,44,4],[44,5,44,6],[44,7,44,8],[44,9,44,10],[44,11,44,12],[44,13,44,14],[44,15,44,16],[43,1,43,2],[43,3,43,4],[43,5,43,6],[43,7,43,8],[43,9,43,10],[43,11,43,12],[38,13,38,14],[38,15,38,16],[42,1,42,2],[42,3,42,4],[42,5,42,6],[42,7,42,8],[42,9,42,10],[42,11,42,12],[42,13,42,14],[42,15,42,16],[38,1,38,2],[38,3,38,4],[38,5,38,6],[38,7,38,8],[38,9,38,10],[38,11,38,12],[33,1,33,16],[36,1,36,16],[37,1,37,2],[37,3,37,4],[37,5,37,6],[37,7,37,8],[37,9,37,10],[37,11,37,12],[37,13,37,14],[37,15,37,16],[31,13,31,14],[31,15,31,16],[32,1,32,2],[32,3,32,4],[32,5,32,6],[32,7,32,8],[32,9,32,10],[32,11,32,12],[32,13,32,14],[32,15,32,16],[31,1,31,2],[31,3,31,4],[31,5,31,6],[31,7,31,8],[31,9,31,10],[31,11,31,12],[29,13,29,14],[29,15,29,16],[30,1,30,2],[30,3,30,4],[30,5,30,6],[30,7,30,8],[30,9,30,10],[30,11,30,12],[30,13,30,14],[30,15,30,16],[29,1,29,2],[29,3,29,4],[29,5,29,6],[29,7,29,8],[29,9,29,10],[29,11,29,12],[27,13,27,14],[27,15,27,16],[28,1,28,2],[28,3,28,4],[28,5,28,6],[28,7,28,8],[28,9,28,10],[28,11,28,12],[28,13,28,14],[28,15,28,16],[27,1,27,2],[27,3,27,4],[27,5,27,6],[27,7,27,8],[27,9,27,10],[27,11,27,12],[25,13,25,14],[25,15,25,16],[26,1,26,2],[26,3,26,4],[26,5,26,6],[26,7,26,8],[26,9,26,10],[26,11,26,12],[26,13,26,14],[26,15,26,16],[25,1,25,2],[25,3,25,4],[25,5,25,6],[25,7,25,8],[25,9,25,10],[25,11,25,12],[24,1,24,2],[24,3,24,4],[24,5,24,6],[24,7,24,8],[24,9,24,10],[24,11,24,12],[24,13,24,14],[24,15,24,16],[23,1,23,2],[23,3,23,4],[23,5,23,6],[23,7,23,8],[23,9,23,10],[23,11,23,12],[22,1,22,2],[22,3,22,4],[22,5,22,6],[22,7,22,8],[22,9,22,10],[22,11,22,12],[22,13,22,14],[22,15,22,16],[23,13,23,14],[23,15,23,16],[14,0,15,0],[20,1,20,16],[21,1,21,2],[21,3,21,4],[21,5,21,6],[21,7,21,8],[21,9,21,10],[21,11,21,12],[21,13,21,14],[21,15,21,16],[12,9,12,10],[12,11,12,12],[12,13,12,14],[12,15,12,16],[13,1,13,2],[13,3,13,4],[13,5,13,6],[13,7,13,8],[13,9,13,10],[13,11,13,12],[13,15,13,16],[10,0,11,0],[12,0,13,0],[12,1,12,2],[12,3,12,4],[12,5,12,6],[12,7,12,8],[8,1,8,2],[8,3,8,4],[8,5,8,6],[8,7,8,8],[0,17,5,17],[6,1,6,3],[6,5,6,6],[6,8,6,9],[6,10,6,12],[6,13,6,14],[6,15,6,16],[6,17,7,17],[8,13,8,14],[8,15,8,16],[8,9,8,10],[8,11,8,12],[9,13,9,14],[9,15,9,16],[7,1,7,3],[7,4,7,6],[7,8,7,9],[7,10,7,12],[7,13,7,14],[7,15,7,16],[0,0,5,3],[0,4,5,16],[9,1,9,2],[9,3,9,4]]}
[null,null,null,null,"Event Setup / Setdown"]
[]
[]
[]
[]
[]
["Event:",{"$f":"Data!C8","v":0},null,null,"Chassis",{"$f":"Data!C13","v":0},null,null,"Driver:",null,{"$f":"Data!G13&\" - \"&Data!G14&\" - \"&Data!G15&\" - \"&Data!G16","v":"DR1 - DR2 - DR3 - DR4"},null,null,"Assistant:",null,{"$f":"Data!F9","v":"Data Eng. 1"}]
[null,null,null,null,"Tracklength",null,null,{"$f":"Data!C17","v":3200},"Engineer:",null,{"$f":"Data!F8","v":"Engineer 1"},null,null,"No. 1 Mechanic",null,{"$f":"Data!F11","v":"Mechanic 1"}]
[null,"Setup",null,"Setdown",null,"Setup",null,"Setdown",null,"Setup",null,"Setdown",null,"Setup",null,"Setdown"]
["Höhen / Sturz / Spur"]
["Höhe FIA Messpkt [mm]"]
[]
["Höhe Achsmitte VA/HA [mm] (VA am Splitterende -10mm)"]
[]
["Splitterhöhe (X-Label) [mm] "]
[]
["Sturz VA (li. / re.) [°']"]
["Sturz HA (li. / re.) [°']"]
["Spur VA [mm] (- = out)"]
["Spur HA [mm] (- = out)"]
["Federn "]
["Feder VA"]
["Helper"]
["Bump Rubber VA"]
["Bump Rubber Height VA"]
["Packers VA / Gap"]
["Ausfederweg am Rad"]
["Feder HA "]
["Helper"]
["Bump Rubber HA"]
["Bump Rubber Height HA"]
["Packers HA"]
["Ausfederweg am Rad"]
["Stabi"]
["Stabi VA [Index/Pos]"]
["Stabi HA [Index/Pos]"]
["Dämpfer"]
["Kennlinie VA 42A412019B"]
["Kennlinie HA 42A512019B"]
["Clicks"]
["Front"]
["Rear "]
["Kinematik VA"]
["Bumpsteer ","Std."]
["Ackermann","Std."]
["Nachlauf [°]","Std."]
["KPI spacers / angle","Std."]
["Anti Dive [%]","Std."]
["Rz  [mm]","Std."]
["Kinematik HA"]
["Bumpsteer","Std."]
["Anti Lift [%]","Std."]
["Anti Squat [%]","Std."]
["Rz  [mm]","Std."]
["Aerodynamik"]
["Heckflügelpos. ( ° )"]
["Gurney [mm]"]
["Diveplates on / off"]
["Bremse"]
["knock off springs"]
["Bremsbalance VA / HA (Bar)"]
["Mastercyl. Ø"]
["Kühlung [Bremse]"]
["Main brake blanking "]
["Disc ducts blanking"]
["Calliper ducts blanking "]
["Water Spray"]
["Kühlung"]
["Cooling blanking "]
["Gearbox "]
["Antrieb"]
["Getriebe "]
["Ramps beschl./bremse"]
["Frictionfaces"]
["pre load [Nm] [cold/hot]"]
["Dropgear"]
["Kupplungsgeberzyl. Ø "]
["Motor"]
["Motornummer"]
["Programmstand"]
["Lenkung Servopumpe","Std."]
["Übersetzung Lenkgetriebe","Std."]
["Gewichte"]
["Leergewicht offizielle Waage"]
["Radlasten VL / VR"]
["Radlasten HL / HR"]
["Radlast VL/ VR Delta [KG]"]
["Radlast RL/ RR Delta [KG]"]
["Fahrzeuggew. with Fuel +Driver"]
["Achslasten V / H"]
["Achslasten in %"]
["Crossweight [VL+HR] in %"]
["Fahrergewicht"]
["Krafstoffgewicht [ltr/kg]"]
["Fahrzeugleergewicht (berechnet)"]
["Längen"]
["Gewindelänge Dämpfer [mm]"]
[]
["Spurstange [mm]"]
[]
["1350kg leer (Fzg.+50kg+75kg Fahrer)"]

{"sheet":"Messbericht","index":9,"n_rows":47,"n_cols":7,"rows_kept":47,"cut":false,"hidden":false,"merged":[[46,1,46,2],[47,1,47,2],[40,3,40,4],[41,3,41,4],[42,3,42,4],[43,3,43,4],[44,3,44,4],[45,3,45,4],[46,3,46,4],[47,3,47,4],[40,1,40,2],[41,1,41,2],[42,1,42,2],[43,1,43,2],[44,1,44,2],[45,1,45,2],[43,6,43,8],[44,6,44,8],[45,6,45,8],[46,6,46,8],[47,6,47,8],[38,3,38,4],[40,6,40,8],[41,6,41,8],[42,6,42,8],[34,3,34,4],[35,3,35,4],[37,3,37,4],[31,1,31,2],[31,3,31,4],[32,3,32,4],[31,6,31,7],[12,6,12,7],[12,3,12,4],[13,3,13,4],[9,1,9,2],[9,3,9,4],[10,3,10,4],[0,2,0,8],[1,3,2,4],[1,7,1,8],[3,3,4,4],[5,7,5,8],[6,3,6,4],[6,6,6,7],[9,6,9,7],[7,6,7,7],[10,6,10,7],[7,3,7,4]]}
[]
[null,null,null,"Setup"]
[]
[]
[]
[]
[null,null,null,"Ride Height FA ",null,null,"Min. Empty Weight [kg]"]
[]
[]
[null,"Damper Setting FA",null,"Spring Rate FA",null,null,"Full Weight [kg]"]
[]
[]
[null,null,null,"Setting Antirollbar FA",null,null,"Aerodynamik [°]"]
[null,null,null,null,null,null,"Flicks"]
[]
[]
[null,null,"Camber [°]",null,null,"Camber [°]"]
[null,"Free Length",null,null,null,null,"Free Length"]
[]
[null,null,"Toe [']",null,null,"Toe [']"]
[]
[]
[]
[null,null,"Camber [°]",null,null,"Camber [°]"]
[null,"Free Length",null,null,null,null,"Free Length"]
[]
[null,null,"Toe [']",null,null,"Toe [']"]
[]
[]
[]
[]
[null,"Damper Setting RA",null,"Spring Rate RA",null,null,"Aerodynamik [°]"]
[null,null,null,null,null,null,"Main Wing"]
[]
[null,null,null,"Setting Antirollbar RA"]
[]
[]
[null,null,null,"Ride Height RA"]
[]
[]
[null,"Car",null,null,null,null,"Comment:"]
[null,"Modell"]
[null,"Start- / VIN- No."]
[null,"#1 Mechanic"]
[null,"Event"]
[null,"Session"]
[null,"Date"]

{"sheet":"IBN","index":10,"n_rows":69,"n_cols":9,"rows_kept":69,"cut":false,"hidden":false,"merged":[[7,0,7,4],[7,8,7,12],[8,0,8,4],[8,8,8,12],[9,0,9,4],[9,8,9,12],[3,0,3,4],[3,8,3,12],[4,0,4,12],[5,0,5,4],[5,8,5,12],[6,0,6,4],[6,8,6,12],[13,0,13,4],[13,8,13,12],[14,0,14,12],[15,0,15,4],[15,8,15,12],[16,0,16,4],[16,8,16,12],[10,0,10,4],[10,8,10,12],[11,0,11,4],[11,8,11,12],[12,0,12,4],[12,8,12,12],[20,0,20,4],[20,8,20,12],[21,0,21,4],[21,8,21,12],[22,0,22,4],[22,8,22,12],[17,0,17,4],[17,8,17,12],[18,0,18,4],[18,8,18,12],[19,0,19,4],[19,8,19,12],[26,0,26,4],[26,8,26,12],[27,0,27,4],[27,8,27,12],[28,0,28,4],[28,8,28,12],[23,0,23,4],[23,8,23,12],[24,0,24,4],[24,8,24,12],[25,0,25,4],[25,8,25,12],[32,0,32,4],[32,8,32,12],[33,0,33,4],[33,8,33,12],[34,0,34,4],[34,8,34,12],[29,0,29,4],[29,8,29,12],[30,0,30,4],[30,8,30,12],[31,0,31,4],[31,8,31,12],[38,0,38,4],[38,8,38,12],[39,0,39,4],[39,8,39,12],[40,0,40,4],[40,8,40,12],[35,0,35,4],[35,8,35,12],[36,0,36,4],[36,8,36,12],[37,0,37,4],[37,8,37,12],[44,0,44,12],[45,0,45,4],[45,8,45,12],[46,0,46,4],[46,8,46,12],[47,0,47,4],[47,8,47,12],[41,0,41,4],[41,8,41,12],[42,0,42,4],[42,8,42,12],[43,0,43,4],[43,8,43,12],[52,0,52,4],[52,8,52,12],[53,0,53,4],[53,8,53,12],[48,0,48,4],[48,8,48,12],[49,0,49,4],[49,8,49,12],[50,0,50,4],[50,8,50,12],[68,0,68,4],[68,8,68,12],[63,0,63,4],[63,8,63,12],[64,0,64,4],[64,8,64,12],[65,0,65,4],[65,8,65,12],[60,0,60,4],[60,8,60,12],[61,0,61,4],[61,8,61,12],[62,0,62,4],[62,8,62,12],[0,0,0,1],[1,0,1,1],[2,0,2,1],[0,2,0,4],[1,2,1,4],[2,2,2,4],[66,0,66,4],[66,8,66,12],[67,0,67,4],[67,8,67,12],[57,0,57,4],[57,8,57,12],[58,0,58,4],[58,8,58,12],[59,0,59,4],[59,8,59,12],[54,0,54,4],[54,8,54,12],[55,0,55,4],[55,8,55,12],[56,0,56,4],[56,8,56,12],[51,0,51,4],[51,8,51,12]]}
["Inbetriebnahme durch"]
["für Event"]
["Datum"]
["Prüfpunkt",null,null,null,null,"i.o.","n.i.o.","n.v.","Bemerkung/ Fehlerbeschreibung"]
["Kalibrierung"]
["Lenkwinkel ( 180° links/ rechts & mitte)"]
["Gaspedal (gedrückt & ungedrückt) - Differenz Potentiometer immer gleich"]
["Drosselklappe (automatische Kal.) - beide Sensoren identisch"]
["Kupplungspaddle (gezogen & nicht gezogen) - beide Sensoren Identisch"]
["Pitspeed auf Strecke/ Kunde anpassen"]
["Getriebepotentiometer - im Leerlauf auf 1,2V einstellen, Potentiometerspannung beim Durchschalten d. Gänge prüfen"]
["Nockenwellensensoren - Dezimalzahl 15 (Kalibrierung aller Sens.)"]
["Federwegpotentiometer - Gewicht anpassen (Leergewicht + 40l + Kraftstoff + 70kg) u. Nullage einstellen"]
["Scheinwerfer mittels Schablone einstellen"]
["Funktionsprüfung - vor Motorstart"]
["Displayanzeige - Alle Seiten durchschalten"]
["Display - Dimmung möglich (MiKo Dimmer)"]
["Verstellung Displayseiten"]
["ABS-Verstellung in Display sichtbar"]
["ASR-Verstellung in Display sichtbar"]
["WASH am Lenkrad drücken - Spannung Spritzwassersystem prüfen"]
["DRINK am Lenkrad drücken - Spannung Trinksystem prüfen"]
["Tagfahrlicht - aktiv"]
["Blinker (vorne/ hinten, links/rechts) - aktivierbar"]
["Warnblinker - aktivierbar"]
["Rainlight - aktivierbar"]
["Wischermotor - aktivierbar"]
["Wischermotor - Wischwinkel richtig"]
["Wischermotor - Geschwindigkeitsintervalle möglich"]
["Pitspeed - blaue Lichter am Display aktiv"]
["Gearbox Emergency - Anzeige im Display aktivierbar"]
["Verschiedene Mappings (MAP) - Anzeige im Display aktivierbar"]
["Feuerlöscher - 3 LED dürfen kein Fehler anzeigen"]
["Bremsbalance einstellen (Front: 70, Rear: 30)"]
["Kupplung - Spannung & prozentuale Öffnung"]
["Kupplung - entlüften"]
["Kupplung - Druck beim Öffnen ca. 22-28bar"]
["Fahrpedal - Spannung & prozentuale Öffnung (Spannungsdifferenz zwischen a & b immer gleich)"]
["Drosselklappe - Verhalten analog zu Fahrpedal, Nullstellung (6 - 8 %)"]
["Gierratensensor - keine Beschleunigungen/ Drehungen"]
["Lenkung - Winkel in Nulllage & bei 180° Einschlag links/ rechts, in Nullage Spannung zwischen 2,2 - 2,4 V"]
["Federungspotentiometer - Spannung & Nulllage (optional)"]
["RDK - physikalischer Druck stimmt mit RaceCon überein (optional)"]
["Batteriespannung bei eingeschalteter Zündung > 12,2 V (ohne externe Spannungsversorgung)"]
["Funktionsprüfung - bei Motorstart"]
["Öl für Lenkung nachfüllen"]
["Fernlicht \"High Beam\" (evtl. Zusatzscheinwerfer) - aktivierbar"]
["Flashfunktion (mit/ ohne High Beam) - aktivierbar"]
["Bremslicht - aktivierbar"]
["Radgeschwindigkeiten - Vorderachse 0 km/h, Hinterachse gleich"]
["Getriebe - Potentiometerspannung aller Gänge prüfen"]
["Getriebe - Öldruck zwischen 0,4 - 4,2 bar"]
["Getriebe - Ölemperatur 50°C erreichen, jedoch unter 138°C"]
["Kompressor - Zieldruck ca. 6bar (zwischen 5,5 - 6,4 bar), ca. 0,25 bar Druckverlust bei Schaltvorgang,"]
["Kompressor - Temperatur zwischen 20 - 40°C"]
["Kompressor - Stromaufnahme über PowerBox"]
["Lenkung - Servoöl zwischen 50 - 100 °C"]
["Saugrohr (HFM) - Temperatur zwischen 20 - 60°C"]
["Saugrohr - Druck zwischen 0,25 - 1 bar"]
["Motor - Kühlwassertemperatur zwischen 60 - 105°C"]
["Motor - Öltemperatur zwischen 60 - 110°C"]
["Motor - Öldruck zwischen 3 - 8 bar"]
["Kraftstoff - Zieldruck 6 bar "]
["Kraftstoffpumpe 2 ansteuern"]
["Rail - Druck zwischen 30 - 200 bar (Rail 1 gleich Rail 2)"]
["Frontkühler - aktiv ab 100°C Wassertemperatur, Stromaufnahme unter 15A"]
["Tunnellüfter - aktiv ab 80°C Wassertemperatur"]
["Batteriespannung bei laufendem Motor zwischen 13,2 - 14,2 V (ohne externe Spannungsversorgung)"]
["Fuel Reset - Anzeige im Display aktivierbar"]

{"sheet":"Testprogramm","index":11,"n_rows":33,"n_cols":19,"rows_kept":33,"cut":false,"hidden":false,"merged":[[5,0,5,1],[5,2,5,3],[5,7,5,9],[5,11,5,12],[2,0,3,2]]}
[]
[]
["Testprogramm"]
[]
[]
["Session:",null,null,null,"Wetter:",null,"Car:",null,null,null,null,"Vorgaben"]
[null,"Fahrer","Reifen","Sprit in","Änderung [F/S]","Beschreibung der Änderung","Runde [G/N]","Dauer [min]","Verbrauch [l]","Rest [l]",null,"Fahrerwechsel \"F\"",2]
[1,null,null,null,null,null,null,{"$f":"IF(G8=\"N\",$M$9,IF(G8=\"G\",$M$8,IF(E8=\"F\",$M$7,IF(E8=\"S\",$M$13,IF(G8=\"\",\"-\")))))","v":"-"},{"$f":"IF(G8=\"G\",$M$10,IF(G8=\"N\",$M$11,\"0\"))","v":"0"},{"$f":"D8-I8","v":0},null,"Runde \"G\"",2.5,null,null,null,null,3,2]
[2,null,null,null,null,null,null,{"$f":"IF(G9=\"N\",$M$9,IF(G9=\"G\",$M$8,IF(E9=\"F\",$M$7,IF(E9=\"S\",$M$13,IF(G9=\"\",\"-\")))))","v":"-"},"0",{"$f":"IF(I9>0,J8+D9-I9,0)","v":0},null,"Runde \"N\"",2.2000000000000002,null,null,null,null,3,2]
[3,null,null,null,null,null,null,"-","0",{"$f":"IF(I10>0,J9+D10-I10,0)","v":0},null,"Verbrauch \"G\"",3.5,null,null,null,null,10,13]
[4,null,null,null,null,null,null,"-","0",0,null,"Verbrauch \"N\"",3.5,null,null,null,null,3,2]
[5,null,null,null,null,null,null,"-","0",0,null,"Sprit Start",48.4,null,null,null,null,5,2]
[6,null,null,null,null,null,null,"-","0",0,null,"Setup \"S\"",5,null,null,null,null,3,13]
[7,null,null,null,null,null,null,"-","0",0,null,null,"´",null,null,null,null,10,2]
[8,null,null,null,null,null,null,"-","0",0,null,null,null,null,null,null,null,3,2]
[9,null,null,null,null,null,null,"-","0",0,null,null,"1,2 l Abstarten",null,null,null,null,5,13]
[10,null,null,null,null,null,null,"-","0",0,null,null,null,null,null,null,null,3,2]
[11,null,null,null,null,null,null,"-","0",0,null,null,null,null,null,null,null,10,13]
[12,null,null,null,null,null,null,"-","0",0,null,null,null,null,null,null,null,3]
[13,null,null,null,null,null,null,"-","0",0]
[14,null,null,null,null,null,null,"-","0",0,null,null,null,null,null,null,null,8]
[16,null,null,null,null,null,null,"-","0",0,null,null,null,null,null,null,null,3,2]
[17,null,null,null,null,null,null,{"$f":"IF(G23=\"N\",$M$9,IF(G23=\"G\",$M$8,IF(E23=\"F\",$M$7,IF(E23=\"S\",$M$13,IF(G23=\"\",\"-\")))))","v":"-"},{"$f":"IF(G23=\"G\",$M$10,IF(G23=\"N\",$M$11,\"0\"))","v":"0"},{"$f":"IF(I23>0,J22+D23-I23,0)","v":0},null,null,null,null,null,null,null,10,13]
[18,null,null,null,null,null,null,"-","0",{"$f":"IF(I24>0,J23+D24-I24,0)","v":0},null,null,null,null,null,null,null,3,2]
[19,null,null,null,null,null,null,"-","0",0]
[20,null,null,null,null,null,null,"-","0",0]
[21,null,null,null,null,null,null,"-","0",0]
[22,null,null,null,null,null,null,"-","0",0]
[23,null,null,null,null,null,null,"-","0",0]
[24,null,null,null,null,null,null,"-","0",0]
[25,null,null,null,null,null,null,"-","0",0]
[26,null,null,null,null,null,null,"-","0",0]
["Summen",null,null,{"$f":"SUM(D8:D22)","v":0},null,null,null,{"$f":"SUM(H8:H32)","v":0},{"$f":"SUM(I8:I32)","v":0}]

{"sheet":"Joblist","index":12,"n_rows":30,"n_cols":12,"rows_kept":30,"cut":false,"hidden":false,"merged":[[29,1,29,9],[3,5,3,6],[4,5,4,6],[25,1,25,9],[26,1,26,9],[27,1,27,9],[28,1,28,9],[20,1,20,9],[21,1,21,9],[22,1,22,9],[23,1,23,9],[24,1,24,9],[14,1,14,9],[15,1,15,9],[16,1,16,9],[17,1,17,9],[19,1,19,9],[6,1,6,9],[5,1,5,9],[7,1,7,9],[8,1,8,9],[18,1,18,9],[9,1,9,9],[10,1,10,9],[11,1,11,9],[12,1,12,9],[13,1,13,9],[0,9,2,11],[0,0,2,8],[3,7,3,9],[4,8,4,9],[3,0,3,1],[3,10,4,11],[4,0,4,1],[4,2,4,4],[3,2,3,4]]}
[{"$f":"\"To-Do Liste - \"&Data!C8","v":"To-Do Liste - "}]
[]
[]
["FZG",null,{"$f":"Data!C11&\" - \"&Data!C12&\" - \"&Data!C13","v":" -  - "},null,null,"#1 Mechaniker",null,{"$f":"Data!F11","v":"Mechanic 1"},null,null,{"$f":"Data!C13","v":0}]
["Session",null,"Vor 1. Training",null,null,"Datum",null,"2011-02-02"]
["Pos","To-Do",null,null,null,null,null,null,null,null,"Mechaniker","i.O."]
[1]
[2]
[3]
[4]
[5]
[6]
[7]
[8]
[9]
[10]
[11]
[12]
[13]
[14]
[15]
[16]
[17]
[18]
[19]
[20]
[21]
[22]
[23]
[24]

{"sheet":"Competitors","index":13,"n_rows":102,"n_cols":19,"rows_kept":102,"cut":false,"hidden":false,"merged":[[0,16,0,18],[0,1,0,3],[0,4,0,6],[0,7,0,9],[0,10,0,12],[0,13,0,15]]}
[]
["Lap","Lap Time","Pit stop","Position","Lap Time","Pit stop","Position","Lap Time","Pit stop","Position","Lap Time","Pit stop","Position","Lap Time","Pit stop","Position","Lap Time","Pit stop","Position"]
[1]
[2]
[3]
[4]
[5]
[6]
[7]
[8]
[9]
[10]
[11]
[12]
[13]
[14]
[15]
[16]
[17]
[18]
[19]
[20]
[21]
[22]
[23]
[24]
[25]
[26]
[27]
[28]
[29]
[30]
[31]
[32]
[33]
[34]
[35]
[36]
[37]
[38]
[39]
[40]
[41]
[42]
[43]
[44]
[45]
[46]
[47]
[48]
[49]
[50]
[51]
[52]
[53]
[54]
[55]
[56]
[57]
[58]
[59]
[60]
[61]
[62]
[63]
[64]
[65]
[66]
[67]
[68]
[69]
[70]
[71]
[72]
[73]
[74]
[75]
[76]
[77]
[78]
[79]
[80]
[81]
[82]
[83]
[84]
[85]
[86]
[87]
[88]
[89]
[90]
[91]
[92]
[93]
[94]
[95]
[96]
[97]
[98]
[99]
[100]

{"sheet":"DropDowns","index":14,"n_rows":5,"n_cols":6,"rows_kept":5,"cut":false,"hidden":false,"merged":[]}
[]
["FZG","Fahrgestell","Lapstatus","Engineer","Data Engineer","#1 Mechanic"]
[null,null,"out","Engineer 1","Data Eng. 1","Mechanic 1"]
[null,null,"in","Engineer 2","Data Eng. 2","Mechanic 2"]
[null,null,"out/in",null,"Data Eng. 3","Mechanic 3"]